{"text_format":"1","workbook":"xlsx","n_sheets":26,"sheets":["Εισαγωγή","Γενικά Στοιχεία Οργανισμού","Γενικό Πλαίσιο Απογραφής","Παραμετροποίηση","Υπολογισμός Αν. Απ.","Σύνοψη - Πίνακες","Σύνοψη - Διαγράμματα","Διαγράμματα Αναφοράς","Στοιχεία Αναφοράς","Αναφορά","ΔΑ 1","ΔΑ 2","ΔΑ 3","ΔΑ 4","Πίνακας Εκπομπών","Διάγραμμα 1","Διάγραμμα 2","Διάγραμμα 3","ΔΑ 5","ΔΑ 6","ΔΑ 7","ΔΑ 8","Πίνακας Ενέργειας","Διάγραμμα 4","Διάγραμμα 5","Διάγραμμα 6"],"not_rendered":{"charts":28,"images":2,"macros":1,"external_links":0,"defined_names":10,"comments":0,"pivot_tables":14},"unopened":[],"bounds":{"document_bytes":16777216,"sheet_cells":100000,"rows_first":2000,"rows_last":500,"rows_between":2000,"halvings":0,"cell_chars":16384,"cell_head_chars":4096},"cells_cut":0,"cells_raw":0,"read":"whole","date_system":"1900"}

{"sheet":"Εισαγωγή","index":0,"n_rows":30,"n_cols":6,"rows_kept":30,"cut":false,"hidden":false,"merged":[[29,5,29,8],[23,5,23,14],[3,5,3,14],[5,5,11,14],[14,5,14,14],[17,5,17,14],[20,5,20,14],[26,5,26,14]]}
[]
[]
[]
[null,null,null,null,null,"Εργαλείο Υπολογισμού Ανθρακικού Αποτυπώματος Οργανισμών"]
[]
[null,null,null,null,null,"Σκοπός του εργαλείου είναι να διευκολύνει και να επιταχύνει τον υπολογισμό του ανθρακικού αποτυπώματος και την ανάλυση των σχετικών δεδομένων των οργανισμών. Παράλληλα, παρέχει συνοπτική και κατανοητή οπτικοποίηση όλων των απαραίτητων στοιχείων μέσω αυτοματοποιημένων αναφορών. Το εργαλείο, το οποίο αναπτύχθηκε στο Εθνικό Μετσόβιο Πολυτεχνείο στο πλαίσιο της Διπλωματικής Εργασίας του φοιτητή Δ. Χάνουζα, ευθυγραμμίζεται με το GHG Protocol του WRI, διατηρώντας τις πέντε βασικές αρχές του: σχετικότητα, πληρότητα, συνέπεια, ακρίβεια και διαφάνεια."]
[]
[]
[]
[]
[]
[]
[]
[null,null,null,null,null,"Βήμα 1."]
[null,null,null,null,null,"Ενεργοποίηση μακροεντολών."]
[]
[null,null,null,null,null,"Βήμα 2."]
[null,null,null,null,null,"Συμπλήρωση των γενικών στοιχείων του οργανισμού και της απογραφής εκπομπών στα αντίστοιχα φύλλα."]
[]
[null,null,null,null,null,"Βήμα 3."]
[null,null,null,null,null,"Αλλαγή παραμέτρων στο φύλλο παραμετροποίησης, αν κρίνεται απαραίτητο."]
[]
[null,null,null,null,null,"Βήμα 4."]
[null,null,null,null,null,"Εισαγωγή δεδομένων κατανάλωσης στο φύλλο υπολογισμού του ανθρακικού αποτυπώματος."]
[]
[null,null,null,null,null,"Βήμα 5."]
[null,null,null,null,null,"Προβολή αναλυτικών αποτελεσμάτων στα φύλλα της σύνοψης. Για την ορθή απεικόνιση των διαγραμμάτων θα πρέπει να γίνεται ανανέωση των δεδομένων με το πάτημα του σχετικού κουμπιού. "]
[]
[null,null,null,null,null,"Βήμα 6."]
[null,null,null,null,null,"Λήψη της αυτοματοποιημένης αναφοράς.\n(Διάρκεια: περίπου 20 δευτερόλεπτα)"]

{"sheet":"Γενικά Στοιχεία Οργανισμού","index":1,"n_rows":24,"n_cols":6,"rows_kept":24,"cut":false,"hidden":false,"merged":[[2,2,2,5],[5,3,5,5],[6,3,6,5],[7,3,7,5],[8,3,8,5]]}
[]
[]
[null,null,"Γενικά Στοιχεία Οργανισμού"]
[]
[]
[null,null,"Επωνυμία","Εθνικό Μετσόβιο Πολυτεχνείο"]
[null,null,"Έδρα","Ηρώων Πολυτεχνείου 9, 15772 Ζωγράφου"]
[null,null,"Τομέας Δραστηριότητας","Τριτοβάθμια εκπαίδευση, Έρευνα &Ανάπτυξη"]
[null,null,"Πλήθος Διοικητικών Υπαλλήλων",500]
[]
[null,null,"Εγκαταστάσεις"]
[null,null,"Κτίριο","Πλήθος Φοιτητών","Πλήθος ΔΕΠ","Επιφάνεια (m2)"]
[null,null,"Βιβλιοθήκη","-","-",8433.4]
[null,null,"Γυμναστήριο","-","-",3113.37]
[null,null,"Διοίκηση","-","-",7022.12]
[null,null,"Σχολή Αγρονόμων και Τοπογράφων Μηχανικών",471,54,14341.83]
[null,null,"Σχολή Εφαρμοσμένων Μαθηματικών και Φυσικών Επιστημών",476,95,24982.47]
[null,null,"Σχολή Ηλεκτρολόγων Μηχανικών και Μηχανικών Υπολογιστών",765,58,15367.35]
[null,null,"Σχολή Μηχανικών Μεταλλείων Μεταλλουργών",1243,90,23734.9]
[null,null,"Σχολή Μηχανολόγων Μηχανικών",500,132,35254.83]
[null,null,"Σχολή Ναυπηγών Μηχανολόγων Μηχανικών",627,30,7913.11]
[null,null,"Σχολή Πολιτικών Μηχανικών",476,75,19694.650000000001]
[null,null,"Σχολή Χημικών Μηχανικών",627,117,30849.17]
[null,null,"Σχολή Αρχιτεκτόνων Μηχανικών",608,99,26036]

{"sheet":"Γενικό Πλαίσιο Απογραφής","index":2,"n_rows":33,"n_cols":6,"rows_kept":33,"cut":false,"hidden":false,"merged":[[27,3,27,7],[28,3,28,7],[31,3,31,7],[32,3,32,7],[16,4,16,5],[17,4,17,5],[18,4,18,5],[19,4,19,5],[20,4,20,5],[21,4,21,5],[22,4,22,5],[23,4,23,5],[24,4,24,5],[14,2,16,3],[17,2,17,3],[18,2,24,3],[14,4,14,5],[15,4,15,5],[5,2,5,4],[6,2,6,4],[7,2,7,4],[8,2,8,4],[11,2,11,5]]}
[]
[]
[null,null,"Γενικό Πλαίσιο Απογραφής"]
[]
[]
[null,null,"Έτος Αναφοράς",null,null,2024]
[null,null,"Έτος Βάσης",null,null,2023]
[null,null,"Εκπομπές Έτους Βάσης (tn CO2e)"]
[null,null,"Στόχος (tn CO2e)"]
[]
[null,null,"Οργανωσιακά Όρια"]
[null,null,"Λειτουργικός Έλεγχος"]
[]
[null,null,"Λειτουργικά Όρια"]
[null,null,"Scope 1",null,"Σταθερή Καύση"]
[null,null,null,null,"Κινητή Καύση"]
[null,null,null,null,"Ανεξέλεγκτες Εκπομπές Ανθρωπογενών Συστημάτων"]
[null,null,"Scope 2",null,"Εισαγόμενη Ηλεκτρική Ενέργεια"]
[null,null,"Scope 3",null,"Μετακίνηση Φοιτητών"]
[null,null,null,null,"Μετακίνηση Υπαλλήλων"]
[null,null,null,null,"Επαγγελματικά Ταξίδια"]
[null,null,null,null,"Διάθεση Αποβλήτων"]
[null,null,null,null,"Διαχείριση Λυμάτων"]
[null,null,null,null,"Προμήθεια Χαρτιών"]
[null,null,null,null,"Προμήθεια Τροφίμων"]
[]
[null,null,"Υλοποιημένες Δράσεις Μείωσης Εκπομπών"]
[null,null,"1.","Εγκατάσταση Φωτοβολταϊκού Συστήματος"]
[null,null,"2.","Εγκατάσταση Μετρητών Ενέργειας - Καταγραφή & Παρακολούθηση Καταναλώσεων"]
[]
[null,null,"Υποψήφιες Δράσεις Μείωσης Εκπομπών"]
[null,null,"1."]
[null,null,"2."]

{"sheet":"Παραμετροποίηση","index":3,"n_rows":101,"n_cols":25,"rows_kept":101,"cut":false,"hidden":false,"merged":[[47,10,47,11],[48,10,48,11],[50,10,50,11],[51,10,51,11],[52,10,52,11],[49,10,49,11],[53,10,53,11],[54,10,54,11],[55,10,55,11],[56,10,56,11],[57,10,57,11],[65,10,65,11],[66,10,66,11],[67,10,67,11],[58,10,58,11],[59,10,59,11],[60,10,60,11],[61,10,61,11],[62,10,62,11],[87,5,92,5],[7,4,16,4],[78,10,78,11],[79,10,79,11],[73,10,73,11],[74,10,74,11],[75,10,75,11],[76,10,76,11],[77,10,77,11],[68,10,68,11],[69,10,69,11],[70,10,70,11],[71,10,71,11],[72,10,72,11],[63,10,63,11],[64,10,64,11]]}
[]
[]
[null,null,"Παραμετροποίηση"]
[]
[]
[null,null,"Δυναμικό Υπερθέρμανσης του Πλανήτη (GWP-100)"]
[null,null,"Αέριο Θερμοκηπίου (GHG)","GWP\n(tn CO2e/tn GHG)","Πηγή"]
[null,null,"CO2",1,"AR6 - IPCC"]
[null,null,"CH4",27.9]
[null,null,"N2O",273]
[null,null,"CFC-11 ",6230]
[null,null,"CFC-12",12500]
[null,null,"Propane",0.02]
[null,null,"HFC-32",771]
[null,null,"HFC-125",3740]
[null,null,"HFC-134a",1530]
[null,null,"HFC-143a",5810]
[]
[null,null,"Σταθερή Καύση"]
[null,null,"Καύσιμο","Σύστημα","NCV\n(TJ/ktn)","Πηγή","Πυκνότητα (kg/lt)","Πηγή","EF CO2\n(tn CO2/TJ)","Πηγή","EF CH4\n(tn CH4/TJ)","Πηγή","EF N2O \n(tn N2O/TJ)","Πηγή","EF CO2\n(tn CO2/lt ή tn CO2/kWh)","EF CH4\n(tn CH4/lt ή tn CH4/kWh)","EF N2O \n(tn N2O/lt ή tn N2O/kWh)","EF CO2e\n(tn CO2e/lt ή tn CO2e/kWh) "]
[null,null,"Πετρέλαιο Θέρμανσης","Όλα",42.8,"NIR GR 2024",0.83250000000000002,"ΚΥΑ 355/2000/2001 (ΦΕΚ 410Β)",73.78,"NIR GR 2024",3.0000000000000001E-3,"IPCC Guidelines for National Greenhouse Gas Inventories 2006 / 2019",5.9999999999999995E-4,"IPCC Guidelines for National Greenhouse Gas Inventories 2006 / 2019",{"$f":"E21*G21*10^-6*I21","v":2.62885518E-3},{"$f":"E21*G21*10^-6*K21","v":1.06893E-7},{"$f":"E21*G21*10^-6*M21","v":2.1378599999999997E-8},{"$f":"O21*$D$8+P21*$D$9+Q21*$D$10","v":2.6376738524999999E-3}]
[null,null,"Φυσικό Αέριο","Όλα","-","-","-","-",55.78,"NIR GR 2024",1E-3,"IPCC Guidelines for National Greenhouse Gas Inventories 2006 / 2019",1E-4,"IPCC Guidelines for National Greenhouse Gas Inventories 2006 / 2019",{"$f":"I22*0.0000036","v":2.0080799999999999E-4},{"$f":"K22*0.0000036","v":3.6E-9},{"$f":"M22*0.0000036","v":3.6E-10},{"$f":"O22*$D$8+P22*$D$9+Q22*$D$10","v":2.0100671999999999E-4}]
[]
[null,null,"Κινητή Καύση"]
[null,null,"Καύσιμο","Τύπος Οχήματος","NCV\n(TJ/ktn)","Πηγή","Πυκνότητα (kg/lt)","Πηγή","EF CO2\n(tn CO2/TJ)","Πηγή","EF CH4\n(tn CH4/TJ)","Πηγή","EF N2O \n(tn N2O/TJ)","Πηγή","EF CO2\n(tn CO2/lt ή tn CO2/kg)","EF CH4\n(tn CH4/lt ή tn CH4/kg)","EF N2O \n(tn N2O/lt ή tn N2O/kg)","EF CO2e\n(tn CO2e/lt ή tn CO2e/kg) "]
[null,null,"Πετρέλαιο Κίνησης","Επιβατικό",42.8,"NIR GR 2024",0.83250000000000002,"ΚΥΑ 355/2000/2001 (ΦΕΚ 410Β)",73.23,"NIR GR 2024",3.0000000000000001E-5,"NIR GR 2024",2.9399999999999999E-3,"NIR GR 2024",{"$f":"E26*G26*10^-6*I26","v":2.6092581300000001E-3},{"$f":"E26*G26*10^-6*K26","v":1.0689299999999999E-9},{"$f":"E26*G26*10^-6*M26","v":1.0475513999999999E-7},{"$f":"O26*$D$8+P26*$D$9+Q26*$D$10","v":2.6378861063670002E-3}]
[null,null,"Βενζίνη","Επιβατικό",42.79,"NIR GR 2024",0.74750000000000005,"ΚΥΑ 355/2000/2001 (ΦΕΚ 410Β)",73.260000000000005,"NIR GR 2024",9.3399999999999993E-3,"NIR GR 2024",1.3600000000000001E-3,"NIR GR 2024",{"$f":"E27*G27*10^-6*I27","v":2.3432595615000005E-3},{"$f":"E27*G27*10^-6*K27","v":2.9874480349999999E-7},{"$f":"E27*G27*10^-6*M27","v":4.3500314000000007E-8},{"$f":"O27*$D$8+P27*$D$9+Q27*$D$10","v":2.3634701272396506E-3}]
[null,null,"Πετρέλαιο Κίνησης","Επιβατικό (Διεθνείς Μεταφορές)",43,"IPCC Guidelines for National Greenhouse Gas Inventories 2006 / 2019",0.83250000000000002,"ΚΥΑ 355/2000/2001 (ΦΕΚ 410Β)",74.099999999999994,"IPCC Guidelines for National Greenhouse Gas Inventories 2006 / 2019",3.8999999999999998E-3,"IPCC Guidelines for National Greenhouse Gas Inventories 2006 / 2019",3.8999999999999998E-3,"IPCC Guidelines for National Greenhouse Gas Inventories 2006 / 2019",2.6525947499999995E-3,1.3961024999999997E-7,1.3961024999999997E-7,{"$f":"O28*$D$8+P28*$D$9+Q28*$D$10","v":2.6946034742249994E-3}]
[null,null,"Βενζίνη","Επιβατικό (Διεθνείς Μεταφορές)",44.3,"IPCC Guidelines for National Greenhouse Gas Inventories 2006 / 2019",0.74750000000000005,"ΚΥΑ 355/2000/2001 (ΦΕΚ 410Β)",69.3,"IPCC Guidelines for National Greenhouse Gas Inventories 2006 / 2019",2.5000000000000001E-2,"IPCC Guidelines for National Greenhouse Gas Inventories 2006 / 2019",8.0000000000000002E-3,"IPCC Guidelines for National Greenhouse Gas Inventories 2006 / 2019",{"$f":"E29*G29*10^-6*I29","v":2.2948175249999998E-3},{"$f":"E29*G29*10^-6*K29","v":8.2785625000000006E-7},{"$f":"E29*G29*10^-6*M29","v":2.6491400000000001E-7},{"$f":"O29*$D$8+P29*$D$9+Q29*$D$10","v":2.3902362363749999E-3}]
[null,null,"Βενζίνη","Μοτοσυκλέτα",42.79,"NIR GR 2024",0.74750000000000005,"ΚΥΑ 355/2000/2001 (ΦΕΚ 410Β)",73.260000000000005,"NIR GR 2024",9.3619999999999995E-2,"NIR GR 2024",1.5399999999999999E-3,"NIR GR 2024",2.3432595615000005E-3,2.9944848504999999E-6,4.9257708499999998E-8,{"$f":"O30*$D$8+P30*$D$9+Q30*$D$10","v":2.4402530432494503E-3}]
[null,null,"Πετρέλαιο Κίνησης","Λεωφορείο",42.8,"NIR GR 2024",0.83250000000000002,"ΚΥΑ 355/2000/2001 (ΦΕΚ 410Β)",73.23,"NIR GR 2024",5.7200000000000003E-3,"NIR GR 2024",1.66E-3,"NIR GR 2024",{"$f":"E31*G31*10^-6*I31","v":2.6092581300000001E-3},{"$f":"E31*G31*10^-6*K31","v":2.0380931999999999E-7},{"$f":"E31*G31*10^-6*M31","v":5.9147459999999995E-8},{"$f":"O31*$D$8+P31*$D$9+Q31*$D$10","v":2.631091666608E-3}]
[null,null,"Φυσικό Αέριο Κίνησης","Λεωφορείο",48,"NIR GR 2024","-","-",55.82,"NIR GR 2024",0.10222000000000001,"NIR GR 2024",3.3300000000000001E-3,"NIR GR 2024",{"$f":"E32*10^-6*I32","v":2.67936E-3},{"$f":"E32*10^-6*K32","v":4.9065600000000003E-6},{"$f":"E32*10^-6*M32","v":1.5984000000000001E-7},2.8598893439999999E-3]
[null,null,"Πετρέλαιο Κίνησης","Τρένο",42.8,"NIR GR 2024",0.83250000000000002,"ΚΥΑ 355/2000/2001 (ΦΕΚ 410Β)",73.23,"NIR GR 2024",4.15E-3,"IPCC Guidelines for National Greenhouse Gas Inventories 2006 / 2019",2.86E-2,"IPCC Guidelines for National Greenhouse Gas Inventories 2006 / 2019",2.6092581300000001E-3,1.4786864999999999E-7,1.0190466E-6,2.8915833871349999E-3]
[null,null,"Πετρέλαιο Κίνησης","Τρένο (Διεθνείς Μεταφορές)",43,"IPCC Guidelines for National Greenhouse Gas Inventories 2006 / 2019",0.83250000000000002,"ΚΥΑ 355/2000/2001 (ΦΕΚ 410Β)",74.099999999999994,"IPCC Guidelines for National Greenhouse Gas Inventories 2006 / 2019",4.15E-3,"IPCC Guidelines for National Greenhouse Gas Inventories 2006 / 2019",2.86E-2,"IPCC Guidelines for National Greenhouse Gas Inventories 2006 / 2019",{"$f":"E34*G34*10^-6*I34","v":2.6525947499999995E-3},{"$f":"E34*G34*10^-6*K34","v":1.4855962499999999E-7},{"$f":"E34*G34*10^-6*M34","v":1.0238085E-6},2.9362392840374995E-3]
[null,null,"Κηροζίνη","Αεροσκάφος",71.430000000000007,"NIR GR 2024","-","-",73.23,"NIR GR 2024",5.0000000000000001E-4,"IPCC Guidelines for National Greenhouse Gas Inventories 2006 / 2019",2E-3,"IPCC Guidelines for National Greenhouse Gas Inventories 2006 / 2019",{"$f":"E35*10^-6*I35","v":5.2308188999999998E-3},{"$f":"E35*10^-6*K35","v":3.5714999999999999E-8},{"$f":"E35*10^-6*M35","v":1.4286E-7},5.2708161284999999E-3]
[null,null,"Κηροζίνη","Αεροσκάφος (Διεθνείς Μεταφορές)",71.5,"IPCC Guidelines for National Greenhouse Gas Inventories 2006 / 2019","-","-",74.099999999999994,"IPCC Guidelines for National Greenhouse Gas Inventories 2006 / 2019",5.0000000000000001E-4,"IPCC Guidelines for National Greenhouse Gas Inventories 2006 / 2019",2E-3,"IPCC Guidelines for National Greenhouse Gas Inventories 2006 / 2019",{"$f":"E36*10^-6*I36","v":5.2981499999999997E-3},{"$f":"E36*10^-6*K36","v":3.5749999999999999E-8},{"$f":"E36*10^-6*M36","v":1.43E-7},5.3381864249999996E-3]
[]
[null,null,"Ανεξέλεγκτες Εκπομπές Ανθρωπογενών Συστημάτων"]
[null,null,"Ψυκτικό Υγρό","EF CO2e\n(tn CO2e/tn R)"]
[null,null,"R-11 ",{"$f":"D11","v":6230}]
[null,null,"R-12",{"$f":"D12","v":12500}]
[null,null,"R-134a",{"$f":"D16","v":1530}]
[null,null,"R-290",{"$f":"D13","v":0.02}]
[null,null,"R-404a ",{"$f":"D17*0.52+D15*0.44+D16*0.04","v":4728}]
[null,null,"R-410a",{"$f":"D14*0.5+D15*0.5","v":2255.5}]
[]
[null,null,"Ηλεκτρική Ενέργεια"]
[null,null,"Τοποθεσία","EF CO2\n(g CO2/kWh)","Πηγή","EF CH4\n(g CH4/kWh)","Πηγή","EF N2O \n(g N2O/kWh)","Πηγή","EF CO2e\n(g CO2e/kWh) ","Πηγή"]
[null,null,"Ελλάδα",271.61799999999999,"Υπολειπόμενο Ενεργειακό Μείγμα - ΔΑΠΕΕΠ 2023 - ΔΕΗ",6.1255739999999999E-3,"NIR GR 2024, Υπολειπόμενο Ενεργειακό Μείγμα - ΔΑΠΕΕΠ 2022",2.4885150000000002E-3,"NIR GR 2024, Υπολειπόμενο Ενεργειακό Μείγμα - ΔΑΠΕΕΠ 2022",{"$f":"D49*D8+F49*D9+H49*D10","v":272.46826810959999},"-"]
[null,null,"Ελλάδα",498.73500000000001,"Υπολειπόμενο Ενεργειακό Μείγμα - ΔΑΠΕΕΠ 2023",6.1255739999999999E-3,"NIR GR 2024, Υπολειπόμενο Ενεργειακό Μείγμα - ΔΑΠΕΕΠ 2022",2.4885150000000002E-3,"NIR GR 2024, Υπολειπόμενο Ενεργειακό Μείγμα - ΔΑΠΕΕΠ 2022",{"$f":"D50*D8+F50*D9+H50*D10","v":499.58526810960001},"-"]
[null,null,"Κόσμος","-","-","-","-","-","-",470,"ΙΕΑ, CO2 emissions intensity of electricity generation 2022"]
[null,null,"Προηγμένες Οικονομίες","-","-","-","-","-","-",320,"ΙΕΑ, CO2 emissions intensity of electricity generation 2022"]
[null,null,"Αναπτυσσόμενες χώρες","-","-","-","-","-","-",550,"ΙΕΑ, CO2 emissions intensity of electricity generation 2022"]
[null,null,"Μ.Ο. Ευρώπης","-","-","-","-","-","-",258,"ΕΕΑ, Greenhouse gas emission intensity of electricity generation 2022"]
[null,null,"Σουηδία","-","-","-","-","-","-",8,"ΕΕΑ, Greenhouse gas emission intensity of electricity generation 2022"]
[null,null,"Λουξεμβούργο","-","-","-","-","-","-",62,"ΕΕΑ, Greenhouse gas emission intensity of electricity generation 2022"]
[null,null,"Φινλανδία","-","-","-","-","-","-",62,"ΕΕΑ, Greenhouse gas emission intensity of electricity generation 2022"]
[null,null,"Λετονία","-","-","-","-","-","-",66,"ΕΕΑ, Greenhouse gas emission intensity of electricity generation 2022"]
[null,null,"Γαλλία","-","-","-","-","-","-",74,"ΕΕΑ, Greenhouse gas emission intensity of electricity generation 2022"]
[null,null,"Αυστρία","-","-","-","-","-","-",80,"ΕΕΑ, Greenhouse gas emission intensity of electricity generation 2022"]
[null,null,"Σλοβακία","-","-","-","-","-","-",95,"ΕΕΑ, Greenhouse gas emission intensity of electricity generation 2022"]
[null,null,"Λιθουανία","-","-","-","-","-","-",110,"ΕΕΑ, Greenhouse gas emission intensity of electricity generation 2022"]
[null,null,"Δανία","-","-","-","-","-","-",117,"ΕΕΑ, Greenhouse gas emission intensity of electricity generation 2022"]
[null,null,"Βέλγιο","-","-","-","-","-","-",154,"ΕΕΑ, Greenhouse gas emission intensity of electricity generation 2022"]
[null,null,"Κροατία","-","-","-","-","-","-",170,"ΕΕΑ, Greenhouse gas emission intensity of electricity generation 2022"]
[null,null,"Πορτογαλία","-","-","-","-","-","-",171,"ΕΕΑ, Greenhouse gas emission intensity of electricity generation 2022"]
[null,null,"Ισπανία","-","-","-","-","-","-",178,"ΕΕΑ, Greenhouse gas emission intensity of electricity generation 2022"]
[null,null,"Ουγγαρία","-","-","-","-","-","-",181,"ΕΕΑ, Greenhouse gas emission intensity of electricity generation 2022"]
[null,null,"Σλοβενία","-","-","-","-","-","-",202,"ΕΕΑ, Greenhouse gas emission intensity of electricity generation 2022"]
[null,null,"Ρουμανία","-","-","-","-","-","-",250,"ΕΕΑ, Greenhouse gas emission intensity of electricity generation 2022"]
[null,null,"Ιταλία","-","-","-","-","-","-",297,"ΕΕΑ, Greenhouse gas emission intensity of electricity generation 2022"]
[null,null,"Ιρλανδία","-","-","-","-","-","-",305,"ΕΕΑ, Greenhouse gas emission intensity of electricity generation 2022"]
[null,null,"Ολλανδία","-","-","-","-","-","-",310,"ΕΕΑ, Greenhouse gas emission intensity of electricity generation 2022"]
[null,null,"Μάλτα","-","-","-","-","-","-",348,"ΕΕΑ, Greenhouse gas emission intensity of electricity generation 2022"]
[null,null,"Γερμανία","-","-","-","-","-","-",368,"ΕΕΑ, Greenhouse gas emission intensity of electricity generation 2022"]
[null,null,"Τσεχία","-","-","-","-","-","-",407,"ΕΕΑ, Greenhouse gas emission intensity of electricity generation 2022"]
[null,null,"Βουλγαρία","-","-","-","-","-","-",455,"ΕΕΑ, Greenhouse gas emission intensity of electricity generation 2022"]
[null,null,"Κύπρος","-","-","-","-","-","-",591,"ΕΕΑ, Greenhouse gas emission intensity of electricity generation 2022"]
[null,null,"Πολωνία","-","-","-","-","-","-",681,"ΕΕΑ, Greenhouse gas emission intensity of electricity generation 2022"]
[null,null,"Εσθονία","-","-","-","-","-","-",693,"ΕΕΑ, Greenhouse gas emission intensity of electricity generation 2022"]
[]
[null,null,"Τελική Διάθεση Στερεών Αποβλήτων"]
[null,null,"MCF","Πηγή","DOC\n(tn C/tn αποβλήτων)","DOCf","Πηγή","F","tn CH4/tn C","Δυναμικό Παραγωγής CH4 (tn CH4/tn αποβλήτων)","OX","Πηγή","EF CH4\n(tn CH4/tn αποβλήτων)","EF CO2e\n(tn CO2e/tn αποβλήτων)"]
[null,null,1,"ΧΥΤΑ, IPCC Guidelines for National Greenhouse Gas Inventories 2006 / 2019",{"$f":"(D88*E88+D89*E89+D90*E90+D91*E91+D92*E92)/100","v":0.16786000000000001},0.5,"IPCC Guidelines for National Greenhouse Gas Inventories 2006 / 2019",0.5,{"$f":"16/12","v":1.3333333333333333},{"$f":"C84*E84*F84*H84*I84","v":5.5953333333333334E-2},0.1,"ΧΥΤΑ, IPCC Guidelines for National Greenhouse Gas Inventories 2006 / 2019",{"$f":"J84*(1-K84)","v":5.0358E-2},{"$f":"M84*D9","v":1.4049882}]
[]
[null,null,"Σύσταση Αποβλήτων"]
[null,null,"Κατηγορία Αποβλήτου","Περιεκτικότητα σε άνθρακα\n(tn C/tn αποβλήτων)","Κλάσμα μάζας αποβλήτου στα ΑΣΑ (%)","Πηγή"]
[null,null,"Χαρτί",0.4,17.100000000000001,"NIR GR 2024"]
[null,null,"Ύφασμα",0.24,2.5]
[null,null,"Τρόφιμα",0.15,43.2]
[null,null,"Πράσινα",0.2,5.3]
[null,null,"Ξύλο / Άχυρο",0.43,4.2]
[null,null,"Αφυδατωμένη ιλύς",0.45,0.83]
[]
[null,null,"Διαχείριση Λυμάτων"]
[null,null,"EF CH4\n(tn CH4/tn BOD)","Πηγή","FBOD\n(gr BOD/person/day)","Πηγή","Βιοαποδομίσημο Φορτίο Παραγόμενων Λυμάτων (tn BOD/person/yr)","Οργανικό Φορτίο Παραγόμενης Ιλύος\n(tn BOD/person/yr)","Πηγή","EF CH4\n(tn CH4/person/yr)","Κατανάλωση Πρωτεΐνης\n(kg/person/yr)","Πηγή","FNPR","Πηγή","FNON-CON","Πηγή","EF N2O εισροής\n(tn N2O/tn N)","Πηγή","tn N2O-Ν /tn Ν2Ο","Κλάσμα απομάκρυνσης αζώτου λόγω βιολογικής επεξεργασίας","Πηγή","EF N2O εκροής\n(tn N2O/tn N)","Πηγή","EF N2O\n(tn N2O/person/yr)","EF CO2e\n(tn CO2e/person/yr)"]
[null,null,{"$f":"0.6*0.03","v":1.7999999999999999E-2},"Μονάδα Ενεργού Ιλύος, IPCC Guidelines for National Greenhouse Gas Inventories 2006 / 2019",57,"GR, IPCC Guidelines for National Greenhouse Gas Inventories 2006 / 2019",{"$f":"E97*10^-6*365","v":2.0804999999999997E-2},{"$f":"0.0513*E97*10^-6*365","v":1.0672964999999999E-3},"NIR GR 2024",{"$f":"C97*(G97-H97)","v":3.5527866299999995E-4},39.700000000000003,"NIR GR 2024",0.16,"IPCC Guidelines for National Greenhouse Gas Inventories 2006 / 2019",1.4,"IPCC Guidelines for National Greenhouse Gas Inventories 2006 / 2019",1.6E-2,"Μονάδα Ενεργού Ιλύος, IPCC Guidelines for National Greenhouse Gas Inventories 2006 / 2019",{"$f":"44/28","v":1.5714285714285714},0.8,"Μονάδα Ενεργού Ιλύος, IPCC Guidelines for National Greenhouse Gas Inventories 2006 / 2019",5.0000000000000001E-3,"Υδάτινος Αποδέκτης, IPCC Guidelines for National Greenhouse Gas Inventories 2006 / 2019",{"$f":"(K97*M97*O97*10^-3)*(Q97+(1-T97)*V97)*S97","v":2.3756479999999998E-4},{"$f":"J97*D9+X97*D10","v":7.4767465097699992E-2}]
[]
[null,null,"Προμήθεια Χαρτιών"]
[null,null,"EF CO2e\n(tn CO2e/tn paper)","Πηγή"]
[null,null,0.95,"DEFRA, GHG Conversion Factors for Company Reporting, 2024"]

{"sheet":"Υπολογισμός Αν. Απ.","index":4,"n_rows":76,"n_cols":17,"rows_kept":76,"cut":false,"hidden":false,"merged":[[62,14,63,14],[62,15,63,15],[62,16,63,16],[62,11,63,11],[62,12,63,12],[62,13,63,13],[60,14,61,14],[60,15,61,15],[60,16,61,16],[60,11,61,11],[60,12,61,12],[60,13,61,13],[5,2,23,2],[24,2,27,2],[60,4,61,4],[60,9,61,9],[60,10,61,10],[28,2,75,2],[60,8,61,8],[60,7,61,7],[62,4,63,4],[62,7,63,7],[62,9,63,9],[62,10,63,10],[62,8,63,8],[60,6,61,6],[62,6,63,6]]}
[]
[]
[null,null,"Υπολογισμός Ανθρακικού Αποτυπώματος"]
[]
[]
[null,null,"|   SCOPE 1   |   SCOPE 1   |",null,"Σταθερή Καύση"]
[null,null,null,null,"Καύσιμο","Σύστημα","Μονάδες","Κατανάλωση","Πηγή","EF CO2\n(tn CO2/lt ή tn CO2/kWh)","EF CH4\n(tn CH4/lt ή tn CH4/kWh)","EF N2O \n(tn N2O/lt ή tn N2O/kWh)","EF CO2e\n(tn CO2e/lt ή tn CO2e/kWh) ","CO2\n(tn)","CH4\n(tn)","N2O \n(tn)","CO2e\n(tn) "]
[null,null,null,null,"Πετρέλαιο Θέρμανσης","Όλα","lt",0,null,{"$f":"Παραμετροποίηση!O21","v":2.62885518E-3},{"$f":"Παραμετροποίηση!P21","v":1.06893E-7},{"$f":"Παραμετροποίηση!Q21","v":2.1378599999999997E-8},{"$f":"Παραμετροποίηση!R21","v":2.6376738524999999E-3},{"$f":"$H$8*J8","v":0},{"$f":"$H$8*K8","v":0},0,0]
[null,null,null,null,"Φυσικό Αέριο","Όλα","kWh",2750296.8499999996,null,{"$f":"Παραμετροποίηση!O22","v":2.0080799999999999E-4},{"$f":"Παραμετροποίηση!P22","v":3.6E-9},{"$f":"Παραμετροποίηση!Q22","v":3.6E-10},{"$f":"Παραμετροποίηση!R22","v":2.0100671999999999E-4},{"$f":"$H$9*J9","v":552.28160985479985},{"$f":"$H$9*K9","v":9.9010686599999981E-3},{"$f":"$H$9*L9","v":9.9010686599999994E-4},{"$f":"$H$9*M9","v":552.82814884483184}]
[]
[null,null,null,null,"Κινητή Καύση"]
[null,null,null,null,"Καύσιμο","Τύπος Οχήματος","Μονάδες","Κατανάλωση","Πηγή","EF CO2\n(tn CO2/lt)","EF CH4\n(tn CH4/lt)","EF N2O \n(tn N2O/lt)","EF CO2e\n(tn CO2e/lt) ","CO2\n(tn)","CH4\n(tn)","N2O \n(tn)","CO2e\n(tn) "]
[null,null,null,null,"Πετρέλαιο Κίνησης","Επιβατικό","lt",12500,null,{"$f":"Παραμετροποίηση!O26","v":2.6092581300000001E-3},{"$f":"Παραμετροποίηση!P26","v":1.0689299999999999E-9},{"$f":"Παραμετροποίηση!Q26","v":1.0475513999999999E-7},{"$f":"Παραμετροποίηση!R26","v":2.6378861063670002E-3},{"$f":"$H$13*J13","v":32.615726625000001},{"$f":"$H$13*K13","v":1.3361624999999999E-5},1.30943925E-3,32.973576329587502]
[null,null,null,null,"Βενζίνη","Επιβατικό","lt",5500,null,{"$f":"Παραμετροποίηση!O27","v":2.3432595615000005E-3},{"$f":"Παραμετροποίηση!P27","v":2.9874480349999999E-7},{"$f":"Παραμετροποίηση!Q27","v":4.3500314000000007E-8},{"$f":"Παραμετροποίηση!R27","v":2.3634701272396506E-3},{"$f":"$H$14*J14","v":12.887927588250003},{"$f":"$H$14*K14","v":1.6430964192499999E-3},2.3925172700000003E-4,12.999085699818078]
[]
[null,null,null,null,"Ανεξέλεγκτες Εκπομπές Ανθρωπογενών Συστημάτων"]
[null,null,null,null,"Ψυκτικό Υγρό","Διαρροή\n(tn)","Πηγή","EF CO2e\n(tn CO2e/tn R)","CO2e\n(tn)"]
[null,null,null,null,"R-11 ",null,null,{"$f":"Παραμετροποίηση!D40","v":6230},{"$f":"F18*H18","v":0}]
[null,null,null,null,"R-12",null,null,{"$f":"Παραμετροποίηση!D41","v":12500},0]
[null,null,null,null,"R-134a",null,null,{"$f":"Παραμετροποίηση!D42","v":1530},0]
[null,null,null,null,"R-290",null,null,{"$f":"Παραμετροποίηση!D43","v":0.02},0]
[null,null,null,null,"R-404a ",null,null,{"$f":"Παραμετροποίηση!D44","v":4728},0]
[null,null,null,null,"R-410a",null,null,{"$f":"Παραμετροποίηση!D45","v":2255.5},0]
[]
[null,null,"SCOPE 2",null,"Εισαγόμενη Ηλεκτρική Ενέργεια"]
[null,null,null,null,"Κατανάλωση\n(kWh)","Πηγή","EF CO2\n(g CO2/kWh)","EF CH4\n(g CH4/kWh)","EF N2O \n(g N2O/kWh)","EF CO2e\n(g CO2e/kWh) ","CO2\n(tn)","CH4\n(tn)","N2O \n(tn)","CO2e\n(tn) "]
[null,null,null,null,11266091.65,null,{"$f":"Παραμετροποίηση!D49","v":271.61799999999999},{"$f":"Παραμετροποίηση!F49","v":6.1255739999999999E-3},{"$f":"Παραμετροποίηση!H49","v":2.4885150000000002E-3},{"$f":"Παραμετροποίηση!J49","v":272.46826810959999},{"$f":"$E$27*G27*10^-6","v":3060.0732817897001},{"$f":"$E$27*H27*10^-6","v":6.9011278092857092E-2},{"$f":"$E$27*I27*10^-6","v":2.8035838062399752E-2},{"$f":"$E$27*J27*10^-6","v":3069.6524802395256}]
[]
[null,null,"|   SCOPE 3   |   SCOPE 3   |   SCOPE 3   |   SCOPE 3   |   SCOPE 3   |",null,"Μετακίνηση Φοιτητών"]
[null,null,null,null,"Καύσιμο","Τύπος Οχήματος","Μονάδες","Κατανάλωση","Πηγή","EF CO2\n(tn CO2/lt ή tn CO2/kWh ή tn CO2/kg)","EF CH4\n(tn CH4/lt ή tn CH4/kWh ή tn CH4/kg)","EF N2O \n(tn N2O/lt ή tn N2O/kWh ή tn N2O/kg)","EF CO2e\n(tn CO2e/lt ή tn CO2e/kWh ή tn CO2e/kg) ","CO2\n(tn)","CH4\n(tn)","N2O \n(tn)","CO2e\n(tn) "]
[null,null,null,null,"Πετρέλαιο Κίνησης","Επιβατικό","lt",16045,null,{"$f":"Παραμετροποίηση!O26","v":2.6092581300000001E-3},{"$f":"Παραμετροποίηση!P26","v":1.0689299999999999E-9},{"$f":"Παραμετροποίηση!Q26","v":1.0475513999999999E-7},{"$f":"Παραμετροποίηση!R26","v":2.6378861063670002E-3},{"$f":"$H31*J31","v":41.86554669585},{"$f":"$H31*K31","v":1.7150981849999999E-5},{"$f":"$H31*L31","v":1.6807962212999998E-3},42.324882576658517]
[null,null,null,null,"Βενζίνη","Επιβατικό","lt",160790,null,{"$f":"Παραμετροποίηση!O27","v":2.3432595615000005E-3},{"$f":"Παραμετροποίηση!P27","v":2.9874480349999999E-7},{"$f":"Παραμετροποίηση!Q27","v":4.3500314000000007E-8},{"$f":"Παραμετροποίηση!R27","v":2.3634701272396506E-3},{"$f":"$H32*J32","v":376.77270489358506},{"$f":"$H32*K32","v":4.8035176954765002E-2},{"$f":"$H32*L32","v":6.9944154880600008E-3},{"$f":"$H32*M32","v":380.02236175886344}]
[null,null,null,null,"Βενζίνη","Μοτοσυκλέτα","lt",37009,null,{"$f":"Παραμετροποίηση!O30","v":2.3432595615000005E-3},{"$f":"Παραμετροποίηση!P30","v":2.9944848504999999E-6},{"$f":"Παραμετροποίηση!Q30","v":4.9257708499999998E-8},{"$f":"Παραμετροποίηση!R30","v":2.4402530432494503E-3},86.72169311155352,0.11082288983215449,{"$f":"$H33*L33","v":1.8229785338764999E-3},{"$f":"$H33*M33","v":90.311324877618901}]
[null,null,null,null,"Πετρέλαιο Κίνησης","Λεωφορείο","lt",8223,null,{"$f":"Παραμετροποίηση!O29","v":2.2948175249999998E-3},{"$f":"Παραμετροποίηση!P29","v":8.2785625000000006E-7},{"$f":"Παραμετροποίηση!Q29","v":2.6491400000000001E-7},{"$f":"Παραμετροποίηση!R29","v":2.3902362363749999E-3},{"$f":"$H34*J34","v":18.870284508074999},{"$f":"$H34*K34","v":6.8074619437500008E-3},{"$f":"$H34*L34","v":2.1783878220000001E-3},{"$f":"$H34*M34","v":19.654912571711623}]
[null,null,null,null,"Φυσικό Αέριο Κίνησης","Λεωφορείο","kg",1453,null,{"$f":"Παραμετροποίηση!O32","v":2.67936E-3},{"$f":"Παραμετροποίηση!P32","v":4.9065600000000003E-6},{"$f":"Παραμετροποίηση!Q32","v":1.5984000000000001E-7},{"$f":"Παραμετροποίηση!R32","v":2.8598893439999999E-3},3.89311008,7.1292316800000005E-3,2.3224752000000002E-4,4.1554192168319997]
[null,null,null,null,"Ηλεκτρική Ενέργεια","Επιβατικό","kWh",3808,null,{"$f":"Παραμετροποίηση!$D$50","v":498.73500000000001},{"$f":"Παραμετροποίηση!$F$50","v":6.1255739999999999E-3},{"$f":"Παραμετροποίηση!$H$50","v":2.4885150000000002E-3},{"$f":"Παραμετροποίηση!$J$50","v":499.58526810960001},{"$f":"$H36*J36*10^-6","v":1.8991828800000001},{"$f":"$H36*K36*10^-6","v":2.3326185792E-5},{"$f":"$H36*L36*10^-6","v":9.4762651199999999E-6},{"$f":"$H36*M36*10^-6","v":1.9024207009613567}]
[null,null,null,null,"Ηλεκτρική Ενέργεια","Λεωφορείο / Τρόλεϊ","kWh",{"$f":"5627+1359","v":6986},null,{"$f":"Παραμετροποίηση!$D$50","v":498.73500000000001},{"$f":"Παραμετροποίηση!$F$50","v":6.1255739999999999E-3},{"$f":"Παραμετροποίηση!$H$50","v":2.4885150000000002E-3},{"$f":"Παραμετροποίηση!$J$50","v":499.58526810960001},{"$f":"$H37*J37*10^-6","v":3.4841627099999997},4.2793259964000002E-5,1.7384765789999997E-5,3.4901026830136654]
[null,null,null,null,"Ηλεκτρική Ενέργεια","Αστικές / Περιφερειακές Σιδηροδρομικές Αμαξοστοιχίες","kWh",572008,null,{"$f":"Παραμετροποίηση!$D$50","v":498.73500000000001},{"$f":"Παραμετροποίηση!$F$50","v":6.1255739999999999E-3},{"$f":"Παραμετροποίηση!$H$50","v":2.4885150000000002E-3},{"$f":"Παραμετροποίηση!$J$50","v":499.58526810960001},285.28040987999998,3.5038773325919998E-3,1.4234504881200001E-3,285.76677004083609]
[]
[null,null,null,null,"Μετακίνηση Υπαλλήλων"]
[null,null,null,null,"Καύσιμο","Τύπος Οχήματος","Μονάδες","Κατανάλωση","Πηγή","EF CO2\n(tn CO2/lt ή tn CO2/kWh ή tn CO2/kg)","EF CH4\n(tn CH4/lt ή tn CH4/kWh ή tn CH4/kg)","EF N2O \n(tn N2O/lt ή tn N2O/kWh ή tn N2O/kg)","EF CO2e\n(tn CO2e/lt ή tn CO2e/kWh ή tn CO2e/kg) ","CO2\n(tn)","CH4\n(tn)","N2O \n(tn)","CO2e\n(tn) "]
[null,null,null,null,"Πετρέλαιο Κίνησης","Επιβατικό","lt",23972,null,{"$f":"Παραμετροποίηση!O26","v":2.6092581300000001E-3},{"$f":"Παραμετροποίηση!P26","v":1.0689299999999999E-9},{"$f":"Παραμετροποίηση!Q26","v":1.0475513999999999E-7},{"$f":"Παραμετροποίηση!R26","v":2.6378861063670002E-3},{"$f":"$H42*J42","v":62.549135892359999},{"$f":"$H42*K42","v":2.5624389959999998E-5},{"$f":"$H42*L42","v":2.5111902160799998E-3},{"$f":"$H42*M42","v":63.23540574182973}]
[null,null,null,null,"Βενζίνη","Επιβατικό","lt",239119,null,{"$f":"Παραμετροποίηση!O27","v":2.3432595615000005E-3},{"$f":"Παραμετροποίηση!P27","v":2.9874480349999999E-7},{"$f":"Παραμετροποίηση!Q27","v":4.3500314000000007E-8},{"$f":"Παραμετροποίηση!R27","v":2.3634701272396506E-3},{"$f":"$H43*J43","v":560.3178830863186},{"$f":"$H43*K43","v":7.1435558668116503E-2},1.0401751583366002E-2,565.15061335541805]
[null,null,null,null,"Βενζίνη","Μοτοσυκλέτα","lt",30508,null,{"$f":"Παραμετροποίηση!O30","v":2.3432595615000005E-3},{"$f":"Παραμετροποίηση!P30","v":2.9944848504999999E-6},{"$f":"Παραμετροποίηση!Q30","v":4.9257708499999998E-8},{"$f":"Παραμετροποίηση!R30","v":2.4402530432494503E-3},71.488162702242008,9.1355743819053994E-2,{"$f":"$H44*L44","v":1.502754170918E-3},{"$f":"$H44*M44","v":74.447239843454227}]
[null,null,null,null,"Πετρέλαιο Κίνησης","Λεωφορείο","lt",1255,null,{"$f":"Παραμετροποίηση!O29","v":2.2948175249999998E-3},{"$f":"Παραμετροποίηση!P29","v":8.2785625000000006E-7},{"$f":"Παραμετροποίηση!Q29","v":2.6491400000000001E-7},{"$f":"Παραμετροποίηση!R29","v":2.3902362363749999E-3},{"$f":"$H45*J45","v":2.8799959938749997},{"$f":"$H45*K45","v":1.03895959375E-3},{"$f":"$H45*L45","v":3.3246707000000002E-4},{"$f":"$H45*M45","v":2.9997464766506248}]
[null,null,null,null,"Φυσικό Αέριο Κίνησης","Λεωφορείο","kg",220,null,{"$f":"Παραμετροποίηση!O32","v":2.67936E-3},{"$f":"Παραμετροποίηση!P32","v":4.9065600000000003E-6},{"$f":"Παραμετροποίηση!Q32","v":1.5984000000000001E-7},{"$f":"Παραμετροποίηση!R32","v":2.8598893439999999E-3},0.58945919999999996,1.0794432000000001E-3,{"$f":"$H46*L46","v":3.5164799999999999E-5},{"$f":"$H46*M46","v":0.62917565568}]
[null,null,null,null,"Ηλεκτρική Ενέργεια","Επιβατικό","kWh",5584,null,{"$f":"Παραμετροποίηση!$D$50","v":498.73500000000001},{"$f":"Παραμετροποίηση!$F$50","v":6.1255739999999999E-3},{"$f":"Παραμετροποίηση!$H$50","v":2.4885150000000002E-3},{"$f":"Παραμετροποίηση!$J$50","v":499.58526810960001},{"$f":"$H47*J47*10^-6","v":2.78493624},{"$f":"$H47*K47*10^-6","v":3.4205205216000004E-5},1.389586776E-5,2.7896841371240066]
[null,null,null,null,"Ηλεκτρική Ενέργεια","Λεωφορείο / Τρόλεϊ","kWh",{"$f":"858+210","v":1068},null,{"$f":"Παραμετροποίηση!$D$50","v":498.73500000000001},{"$f":"Παραμετροποίηση!$F$50","v":6.1255739999999999E-3},{"$f":"Παραμετροποίηση!$H$50","v":2.4885150000000002E-3},{"$f":"Παραμετροποίηση!$J$50","v":499.58526810960001},{"$f":"$H48*J48*10^-6","v":0.53264897999999994},{"$f":"$H48*K48*10^-6","v":6.5421130319999994E-6},{"$f":"$H48*L48*10^-6","v":2.6577340200000001E-6},{"$f":"$H48*M48*10^-6","v":0.53355706634105271}]
[null,null,null,null,"Ηλεκτρική Ενέργεια","Αστικές / Περιφερειακές Σιδηροδρομικές Αμαξοστοιχίες","kWh",87300,null,{"$f":"Παραμετροποίηση!$D$50","v":498.73500000000001},{"$f":"Παραμετροποίηση!$F$50","v":6.1255739999999999E-3},{"$f":"Παραμετροποίηση!$H$50","v":2.4885150000000002E-3},{"$f":"Παραμετροποίηση!$J$50","v":499.58526810960001},43.539565499999995,{"$f":"$H49*K49*10^-6","v":5.3476261020000005E-4},2.172473595E-4,43.613793905968073]
[]
[null,null,null,null,"Επαγγελματικά Ταξίδια"]
[null,null,null,null,"Καύσιμο","Τύπος Οχήματος","Μονάδες","Κατανάλωση","Πηγή","EF CO2\n(tn CO2/lt ή tn CO2/kWh ή tn CO2/kg)","EF CH4\n(tn CH4/lt ή tn CH4/kWh ή tn CH4/kg)","EF N2O \n(tn N2O/lt ή tn N2O/kWh ή tn N2O/kg)","EF CO2e\n(tn CO2e/lt ή tn CO2e/kWh ή tn CO2e/kg) ","CO2\n(tn)","CH4\n(tn)","N2O \n(tn)","CO2e\n(tn) "]
[null,null,null,null,"Πετρέλαιο Κίνησης","Επιβατικό","lt",981.62,null,{"$f":"Παραμετροποίηση!O26","v":2.6092581300000001E-3},{"$f":"Παραμετροποίηση!P26","v":1.0689299999999999E-9},{"$f":"Παραμετροποίηση!Q26","v":1.0475513999999999E-7},{"$f":"Παραμετροποίηση!R26","v":2.6378861063670002E-3},{"$f":"$H53*J53","v":2.5612999655705999},{"$f":"$H53*K53","v":1.0492830665999999E-6},{"$f":"$H53*L53","v":1.028297405268E-4},{"$f":"$H53*M53","v":2.5894017597319747}]
[null,null,null,null,"Βενζίνη","Επιβατικό","lt",9798.99,null,{"$f":"Παραμετροποίηση!O27","v":2.3432595615000005E-3},{"$f":"Παραμετροποίηση!P27","v":2.9874480349999999E-7},{"$f":"Παραμετροποίηση!Q27","v":4.3500314000000007E-8},{"$f":"Παραμετροποίηση!R27","v":2.3634701272396506E-3},{"$f":"$H54*J54","v":22.961577010542889},{"$f":"$H54*K54","v":2.9273973420484651E-3},{"$f":"$H54*L54","v":4.2625914188286007E-4},{"$f":"$H54*M54","v":23.159620142120062}]
[null,null,null,null,"Πετρέλαιο Κίνησης","Επιβατικό (Διεθνείς Μεταφορές)","lt",0,null,{"$f":"Παραμετροποίηση!O28","v":2.6525947499999995E-3},{"$f":"Παραμετροποίηση!P28","v":1.3961024999999997E-7},{"$f":"Παραμετροποίηση!Q28","v":1.3961024999999997E-7},{"$f":"Παραμετροποίηση!R28","v":2.6946034742249994E-3},{"$f":"$H55*J55","v":0},{"$f":"$H55*K55","v":0},{"$f":"$H55*L55","v":0},{"$f":"$H55*M55","v":0}]
[null,null,null,null,"Βενζίνη","Επιβατικό (Διεθνείς Μεταφορές)","lt",0,null,{"$f":"Παραμετροποίηση!O29","v":2.2948175249999998E-3},{"$f":"Παραμετροποίηση!P29","v":8.2785625000000006E-7},{"$f":"Παραμετροποίηση!Q29","v":2.6491400000000001E-7},{"$f":"Παραμετροποίηση!R29","v":2.3902362363749999E-3},0,{"$f":"$H56*K56","v":0},0,0]
[null,null,null,null,"Πετρέλαιο Κίνησης","Τρένο","lt",0,null,{"$f":"Παραμετροποίηση!O33","v":2.6092581300000001E-3},{"$f":"Παραμετροποίηση!P33","v":1.4786864999999999E-7},{"$f":"Παραμετροποίηση!Q33","v":1.0190466E-6},{"$f":"Παραμετροποίηση!R33","v":2.8915833871349999E-3},{"$f":"$H57*J57","v":0},{"$f":"$H57*K57","v":0},0,0]
[null,null,null,null,"Πετρέλαιο Κίνησης","Τρένο (Διεθνείς Μεταφορές)","lt",0,null,{"$f":"Παραμετροποίηση!O34","v":2.6525947499999995E-3},{"$f":"Παραμετροποίηση!P34","v":1.4855962499999999E-7},{"$f":"Παραμετροποίηση!Q34","v":1.0238085E-6},{"$f":"Παραμετροποίηση!R34","v":2.9362392840374995E-3},0,0,{"$f":"$H58*L58","v":0},{"$f":"$H58*M58","v":0}]
[null,null,null,null,"Κηροζίνη","Αεροσκάφος","kg",{"$f":"0.1*91144.5","v":9114.4500000000007},null,{"$f":"Παραμετροποίηση!O35","v":5.2308188999999998E-3},{"$f":"Παραμετροποίηση!P35","v":3.5714999999999999E-8},{"$f":"Παραμετροποίηση!Q35","v":1.4286E-7},{"$f":"Παραμετροποίηση!R35","v":5.2708161284999999E-3},47.676037323105,3.2552258175000002E-4,{"$f":"$H59*L59","v":1.3020903270000001E-3},{"$f":"$H59*M59","v":48.040590062406828}]
[null,null,null,null,"Κηροζίνη","Αεροσκάφος (Διεθνείς Μεταφορές)","kg",{"$f":"0.9*91144.5","v":82030.05},null,{"$f":"Παραμετροποίηση!O36","v":5.2981499999999997E-3},{"$f":"Παραμετροποίηση!P36","v":3.5749999999999999E-8},{"$f":"Παραμετροποίηση!Q36","v":1.43E-7},{"$f":"Παραμετροποίηση!R36","v":5.3381864249999996E-3},{"$f":"$H60*J60","v":434.6075094075},2.9325742875000002E-3,1.1730297150000001E-2,437.89169935207121]
[null,null,null,null,"Ηλεκτρική Ενέργεια","Επιβατικό","kWh",238.04,null,{"$f":"_xlfn.XLOOKUP(F62,Παραμετροποίηση!$C$50:$C$80,Παραμετροποίηση!D$50:D$80)","v":498.73500000000001},{"$f":"_xlfn.XLOOKUP(F62,Παραμετροποίηση!$C$50:$C$80,Παραμετροποίηση!F$50:F$80)","v":6.1255739999999999E-3},{"$f":"_xlfn.XLOOKUP(F62,Παραμετροποίηση!$C$50:$C$80,Παραμετροποίηση!H$50:H$80)","v":2.4885150000000002E-3},{"$f":"_xlfn.XLOOKUP(F62,Παραμετροποίηση!$C$50:$C$80,Παραμετροποίηση!J$50:J$80)","v":499.58526810960001},{"$f":"IF(F62=\"Ελλάδα\",$H$61*J61*10^-6,\"-\")","v":0.1187188794},{"$f":"IF(F62=\"Ελλάδα\",$H$61*K61*10^-6,\"-\")","v":1.4581316349599999E-6},{"$f":"IF(F62=\"Ελλάδα\",$H$61*L61*10^-6,\"-\")","v":5.9236611059999994E-7},{"$f":"$H61*M61*10^-6","v":0.11892127722080917}]
[null,null,null,null,null,"Ελλάδα"]
[null,null,null,null,"Ηλεκτρική Ενέργεια","Τρένο","kWh",0,null,{"$f":"_xlfn.XLOOKUP(F64,Παραμετροποίηση!$C$50:$C$80,Παραμετροποίηση!D$50:D$80)","v":498.73500000000001},{"$f":"_xlfn.XLOOKUP(F64,Παραμετροποίηση!$C$50:$C$80,Παραμετροποίηση!F$50:F$80)","v":6.1255739999999999E-3},{"$f":"_xlfn.XLOOKUP(F64,Παραμετροποίηση!$C$50:$C$80,Παραμετροποίηση!H$50:H$80)","v":2.4885150000000002E-3},{"$f":"_xlfn.XLOOKUP(F64,Παραμετροποίηση!$C$50:$C$80,Παραμετροποίηση!J$50:J$80)","v":499.58526810960001},{"$f":"IF(F64=\"Ελλάδα\",$H$63*J63*10^-6,\"-\")","v":0},{"$f":"IF(F64=\"Ελλάδα\",$H$63*K63*10^-6,\"-\")","v":0},{"$f":"IF(F64=\"Ελλάδα\",$H$63*L63*10^-6,\"-\")","v":0},{"$f":"$H63*M63*10^-6","v":0}]
[null,null,null,null,null,"Ελλάδα"]
[]
[null,null,null,null,"Τελική Διάθεση Στερεών Αποβλήτων"]
[null,null,null,null,"Στερεά Απόβλητα\n(tn)","Πηγή","EF CH4\n(tn CH4/tn αποβλήτων)","EF CO2e\n(tn CO2e/tn αποβλήτων)","CH4\n(tn)","CO2e\n(tn)"]
[null,null,null,null,58.62,null,{"$f":"Παραμετροποίηση!M84","v":5.0358E-2},{"$f":"Παραμετροποίηση!N84","v":1.4049882},{"$f":"G68*E68","v":2.95198596},{"$f":"E68*H68","v":82.360408284000002}]
[]
[null,null,null,null,"Διαχείριση Λυμάτων"]
[null,null,null,null,"Πλήθος Ατόμων που Παράγουν Λύματα","Πηγή","EF CH4\n(tn CH4/person)","EF N2O\n(tn N2O/person)","EF CO2e\n(tn CO2e/person)","CH4\n(tn)","N2O\n(tn)","CO2e\n(tn)"]
[null,null,null,null,200,null,{"$f":"Παραμετροποίηση!J97","v":3.5527866299999995E-4},{"$f":"Παραμετροποίηση!X97","v":2.3756479999999998E-4},{"$f":"Παραμετροποίηση!Y97","v":7.4767465097699992E-2},{"$f":"$E$72*G72","v":7.1055732599999991E-2},{"$f":"$E$72*H72","v":4.7512959999999993E-2},{"$f":"$E$72*I72","v":14.953493019539998}]
[]
[null,null,null,null,"Προμήθεια Χαρτιών"]
[null,null,null,null,"Χαρτί\n(tn)","Πηγή","EF CO2e\n(tn CO2e/tn paper)","EF CO2e\n(tn CO2e/tn paper)"]
[null,null,null,null,17.8,null,{"$f":"Παραμετροποίηση!C101","v":0.95},{"$f":"E76*G76","v":16.91}]

{"sheet":"Σύνοψη - Πίνακες","index":5,"n_rows":248,"n_cols":29,"rows_kept":248,"cut":false,"hidden":false,"merged":[[195,21,195,22],[195,23,195,24],[195,25,195,26],[195,27,195,28],[173,3,173,4],[173,5,173,6],[173,7,173,8],[173,9,173,10],[173,11,173,12],[173,13,173,14],[173,15,173,16],[173,17,173,18],[173,19,173,20],[173,21,173,22],[173,23,173,24],[173,25,173,26],[173,27,173,28],[195,3,195,4],[195,5,195,6],[195,7,195,8],[195,9,195,10],[195,11,195,12],[195,13,195,14],[195,15,195,16],[195,17,195,18],[195,19,195,20],[193,21,193,22],[193,23,193,24],[193,25,193,26],[193,27,193,28],[194,3,194,4],[194,5,194,6],[194,7,194,8],[194,9,194,10],[194,11,194,12],[194,13,194,14],[194,15,194,16],[194,17,194,18],[194,19,194,20],[194,21,194,22],[194,23,194,24],[194,25,194,26],[194,27,194,28],[193,3,193,4],[193,5,193,6],[193,7,193,8],[193,9,193,10],[193,11,193,12],[193,13,193,14],[193,15,193,16],[193,17,193,18],[193,19,193,20],[190,21,190,22],[190,23,190,24],[190,25,190,26],[190,27,190,28],[191,3,191,4],[191,5,191,6],[191,7,191,8],[191,9,191,10],[191,11,191,12],[191,13,191,14],[191,15,191,16],[191,17,191,18],[191,19,191,20],[191,21,191,22],[191,23,191,24],[191,25,191,26],[191,27,191,28],[190,3,190,4],[190,5,190,6],[190,7,190,8],[190,9,190,10],[190,11,190,12],[190,13,190,14],[190,15,190,16],[190,17,190,18],[190,19,190,20],[188,21,188,22],[188,23,188,24],[188,25,188,26],[188,27,188,28],[189,3,189,4],[189,5,189,6],[189,7,189,8],[189,9,189,10],[189,11,189,12],[189,13,189,14],[189,15,189,16],[189,17,189,18],[189,19,189,20],[189,21,189,22],[189,23,189,24],[189,25,189,26],[189,27,189,28],[188,3,188,4],[188,5,188,6],[188,7,188,8],[188,9,188,10],[188,11,188,12],[188,13,188,14],[188,15,188,16],[188,17,188,18],[188,19,188,20],[185,21,185,22],[185,23,185,24],[185,25,185,26],[185,27,185,28],[186,3,186,4],[186,5,186,6],[186,7,186,8],[186,9,186,10],[186,11,186,12],[186,13,186,14],[186,15,186,16],[186,17,186,18],[186,19,186,20],[186,21,186,22],[186,23,186,24],[186,25,186,26],[186,27,186,28],[185,3,185,4],[185,5,185,6],[185,7,185,8],[185,9,185,10],[185,11,185,12],[185,13,185,14],[185,15,185,16],[185,17,185,18],[185,19,185,20],[182,21,182,22],[182,23,182,24],[182,25,182,26],[182,27,182,28],[184,3,184,4],[184,5,184,6],[184,7,184,8],[184,9,184,10],[184,11,184,12],[184,13,184,14],[184,15,184,16],[184,17,184,18],[184,19,184,20],[184,21,184,22],[184,23,184,24],[184,25,184,26],[184,27,184,28],[182,3,182,4],[182,5,182,6],[182,7,182,8],[182,9,182,10],[182,11,182,12],[182,13,182,14],[182,15,182,16],[182,17,182,18],[182,19,182,20],[181,3,181,4],[181,5,181,6],[181,7,181,8],[181,9,181,10],[181,11,181,12],[181,13,181,14],[181,15,181,16],[181,17,181,18],[181,19,181,20],[181,21,181,22],[181,23,181,24],[181,25,181,26],[181,27,181,28],[180,3,180,4],[180,5,180,6],[180,7,180,8],[180,9,180,10],[180,11,180,12],[180,13,180,14],[180,15,180,16],[180,17,180,18],[180,19,180,20],[179,17,179,18],[179,19,179,20],[179,21,179,22],[179,23,179,24],[179,25,179,26],[179,27,179,28],[177,5,177,6],[177,7,177,8],[177,9,177,10],[177,11,177,12],[177,13,177,14],[177,15,177,16],[177,17,177,18],[177,19,177,20],[177,21,177,22],[180,21,180,22],[180,23,180,24],[180,25,180,26],[180,27,180,28],[192,21,192,22],[192,23,192,24],[192,25,192,26],[192,27,192,28],[175,3,175,4],[175,5,175,6],[175,7,175,8],[175,9,175,10],[175,11,175,12],[175,13,175,14],[175,15,175,16],[175,17,175,18],[175,19,175,20],[175,21,175,22],[175,23,175,24],[175,25,175,26],[175,27,175,28],[176,3,176,4],[176,5,176,6],[176,7,176,8],[176,9,176,10],[176,11,176,12],[176,13,176,14],[176,15,176,16],[192,3,192,4],[192,5,192,6],[192,7,192,8],[192,9,192,10],[192,11,192,12],[192,13,192,14],[192,15,192,16],[192,17,192,18],[174,27,174,28],[183,3,183,4],[183,5,183,6],[183,7,183,8],[183,9,183,10],[183,11,183,12],[183,13,183,14],[183,15,183,16],[183,17,183,18],[183,19,183,20],[183,21,183,22],[183,23,183,24],[183,25,183,26],[183,27,183,28],[176,17,176,18],[176,19,176,20],[176,21,176,22],[176,23,176,24],[176,25,176,26],[176,27,176,28],[177,3,177,4],[174,3,174,4],[174,5,174,6],[174,7,174,8],[174,9,174,10],[174,11,174,12],[174,13,174,14],[174,15,174,16],[177,23,177,24],[177,25,177,26],[177,27,177,28],[179,3,179,4],[174,17,174,18],[174,19,174,20],[199,21,199,22],[199,23,199,24],[199,25,199,26],[199,27,199,28],[199,3,199,4],[199,5,199,6],[199,7,199,8],[199,9,199,10],[199,11,199,12],[199,13,199,14],[199,15,199,16],[199,17,199,18],[199,19,199,20],[198,21,198,22],[198,23,198,24],[198,25,198,26],[198,27,198,28],[198,3,198,4],[198,5,198,6],[198,7,198,8],[198,9,198,10],[198,11,198,12],[198,13,198,14],[198,15,198,16],[198,17,198,18],[198,19,198,20],[192,19,192,20],[174,21,174,22],[174,23,174,24],[174,25,174,26],[196,21,196,22],[196,23,196,24],[196,25,196,26],[196,27,196,28],[197,3,197,4],[197,5,197,6],[197,7,197,8],[197,9,197,10],[197,11,197,12],[197,13,197,14],[197,15,197,16],[197,17,197,18],[197,19,197,20],[197,21,197,22],[197,23,197,24],[197,25,197,26],[197,27,197,28],[196,3,196,4],[196,5,196,6],[196,7,196,8],[196,9,196,10],[196,11,196,12],[196,13,196,14],[196,15,196,16],[196,17,196,18],[196,19,196,20],[171,21,171,22],[171,23,171,24],[171,25,171,26],[171,27,171,28],[172,3,172,4],[172,5,172,6],[172,7,172,8],[172,9,172,10],[172,11,172,12],[172,13,172,14],[172,15,172,16],[172,17,172,18],[172,19,172,20],[172,21,172,22],[172,23,172,24],[172,25,172,26],[172,27,172,28],[171,3,171,4],[171,5,171,6],[171,7,171,8],[171,9,171,10],[171,11,171,12],[171,13,171,14],[171,15,171,16],[171,17,171,18],[171,19,171,20],[170,21,170,22],[170,23,170,24],[170,25,170,26],[170,27,170,28],[170,3,170,4],[170,5,170,6],[170,7,170,8],[170,9,170,10],[170,11,170,12],[170,13,170,14],[170,15,170,16],[170,17,170,18],[170,19,170,20],[168,21,168,22],[168,23,168,24],[168,25,168,26],[168,27,168,28],[169,3,169,4],[169,5,169,6],[169,7,169,8],[169,9,169,10],[169,11,169,12],[169,13,169,14],[169,15,169,16],[169,17,169,18],[169,19,169,20],[169,21,169,22],[169,23,169,24],[169,25,169,26],[169,27,169,28],[168,3,168,4],[168,5,168,6],[167,3,167,4],[167,5,167,6],[167,7,167,8],[167,9,167,10],[167,11,167,12],[167,13,167,14],[167,15,167,16],[167,17,167,18],[167,19,167,20],[165,3,165,4],[165,5,165,6],[165,7,165,8],[165,9,165,10],[165,11,165,12],[165,13,165,14],[165,15,165,16],[165,17,165,18],[165,19,165,20],[166,7,166,8],[166,9,166,10],[166,11,166,12],[166,13,166,14],[166,15,166,16],[166,17,166,18],[164,21,164,22],[164,23,164,24],[164,25,164,26],[164,27,164,28],[166,19,166,20],[166,21,166,22],[166,23,166,24],[166,25,166,26],[166,27,166,28],[168,7,168,8],[168,9,168,10],[168,11,168,12],[168,13,168,14],[168,15,168,16],[168,17,168,18],[168,19,168,20],[167,21,167,22],[167,23,167,24],[167,25,167,26],[167,27,167,28],[164,3,164,4],[164,5,164,6],[164,7,164,8],[164,9,164,10],[164,11,164,12],[164,13,164,14],[164,15,164,16],[164,17,164,18],[164,19,164,20],[163,3,163,4],[163,5,163,6],[163,7,163,8],[163,9,163,10],[163,11,163,12],[163,13,163,14],[163,15,163,16],[163,17,163,18],[163,19,163,20],[163,21,163,22],[163,23,163,24],[163,25,163,26],[163,27,163,28],[165,21,165,22],[165,23,165,24],[165,25,165,26],[165,27,165,28],[166,3,166,4],[166,5,166,6],[23,2,25,2],[22,3,22,4],[23,3,25,3],[23,5,25,5],[23,7,25,7],[23,9,25,9],[23,11,25,11],[122,11,124,11],[122,13,124,13],[23,13,25,13],[23,15,25,15],[23,17,25,17],[26,3,28,3],[29,3,31,3],[32,3,34,3],[26,5,28,5],[29,5,31,5],[32,5,34,5],[26,7,28,7],[26,15,28,15],[26,17,28,17],[29,11,31,11],[44,3,46,3],[44,2,46,2],[152,2,154,2],[22,17,22,18],[22,19,22,20],[22,21,22,22],[22,23,22,24],[22,25,22,26],[22,27,22,28],[29,27,31,27],[32,27,34,27],[22,5,22,6],[22,7,22,8],[22,9,22,10],[22,11,22,12],[22,13,22,14],[22,15,22,16],[23,19,25,19],[23,21,25,21],[23,23,25,23],[23,25,25,25],[23,27,25,27],[26,27,28,27],[32,23,34,23],[32,25,34,25],[26,23,28,23],[125,2,127,2],[32,11,34,11],[32,13,34,13],[26,11,28,11],[26,13,28,13],[41,19,43,19],[44,5,46,5],[44,7,46,7],[44,9,46,9],[44,11,46,11],[44,13,46,13],[47,19,49,19],[47,21,49,21],[47,23,49,23],[47,25,49,25],[47,17,49,17],[44,15,46,15],[44,17,46,17],[29,13,31,13],[29,15,31,15],[29,17,31,17],[29,7,31,7],[32,7,34,7],[44,19,46,19],[44,21,46,21],[44,23,46,23],[44,25,46,25],[41,21,43,21],[41,23,43,23],[29,9,31,9],[32,9,34,9],[47,11,49,11],[47,13,49,13],[47,15,49,15],[41,27,43,27],[38,27,40,27],[41,2,43,2],[41,3,43,3],[41,5,43,5],[41,7,43,7],[41,9,43,9],[41,11,43,11],[41,13,43,13],[41,15,43,15],[41,17,43,17],[38,15,40,15],[38,17,40,17],[38,19,40,19],[38,21,40,21],[38,23,40,23],[38,25,40,25],[38,3,40,3],[38,5,40,5],[38,7,40,7],[38,9,40,9],[38,11,40,11],[38,13,40,13],[38,2,40,2],[41,25,43,25],[35,2,37,2],[35,3,37,3],[35,5,37,5],[6,3,6,5],[7,3,7,5],[8,3,8,5],[35,19,37,19],[35,21,37,21],[35,23,37,23],[35,25,37,25],[26,25,28,25],[29,19,31,19],[29,21,31,21],[29,23,31,23],[29,25,31,25],[26,19,28,19],[26,21,28,21],[32,19,34,19],[32,21,34,21],[32,15,34,15],[32,17,34,17],[11,2,11,5],[12,2,12,5],[13,2,13,5],[14,2,14,5],[15,2,15,5],[11,6,11,7],[12,6,12,7],[13,6,13,7],[26,2,28,2],[29,2,31,2],[32,2,34,2],[14,6,14,7],[15,6,15,7],[26,9,28,9],[47,27,49,27],[35,7,37,7],[35,9,37,9],[35,11,37,11],[35,13,37,13],[35,15,37,15],[35,17,37,17],[35,27,37,27],[50,27,52,27],[53,2,55,2],[53,3,55,3],[53,5,55,5],[53,7,55,7],[53,9,55,9],[53,11,55,11],[53,13,55,13],[50,11,52,11],[50,13,52,13],[50,15,52,15],[50,17,52,17],[50,19,52,19],[50,21,52,21],[53,27,55,27],[44,27,46,27],[47,2,49,2],[47,3,49,3],[47,5,49,5],[47,7,49,7],[47,9,49,9],[53,15,55,15],[53,17,55,17],[53,19,55,19],[53,21,55,21],[53,23,55,23],[53,25,55,25],[56,19,58,19],[56,21,58,21],[56,23,58,23],[56,25,58,25],[50,2,52,2],[50,3,52,3],[50,5,52,5],[50,7,52,7],[50,9,52,9],[50,23,52,23],[50,25,52,25],[56,27,58,27],[59,2,61,2],[59,3,61,3],[59,5,61,5],[59,7,61,7],[59,9,61,9],[59,23,61,23],[59,25,61,25],[59,27,61,27],[62,2,64,2],[62,3,64,3],[62,5,64,5],[62,7,64,7],[62,9,64,9],[62,11,64,11],[62,13,64,13],[59,11,61,11],[59,13,61,13],[59,15,61,15],[59,17,61,17],[59,19,61,19],[59,21,61,21],[62,27,64,27],[56,2,58,2],[56,3,58,3],[56,5,58,5],[56,7,58,7],[56,9,58,9],[56,11,58,11],[56,13,58,13],[56,15,58,15],[56,17,58,17],[65,2,67,2],[65,3,67,3],[65,5,67,5],[65,7,67,7],[65,9,67,9],[65,11,67,11],[65,13,67,13],[65,15,67,15],[65,17,67,17],[62,15,64,15],[62,17,64,17],[62,19,64,19],[62,21,64,21],[62,23,64,23],[62,25,64,25],[65,19,67,19],[65,21,67,21],[65,23,67,23],[65,25,67,25],[65,27,67,27],[68,2,70,2],[68,3,70,3],[68,5,70,5],[68,7,70,7],[68,9,70,9],[68,23,70,23],[68,25,70,25],[68,27,70,27],[95,2,97,2],[95,3,97,3],[95,5,97,5],[95,7,97,7],[95,9,97,9],[95,11,97,11],[95,13,97,13],[68,11,70,11],[68,13,70,13],[68,15,70,15],[68,17,70,17],[68,19,70,19],[68,21,70,21],[95,27,97,27],[74,11,76,11],[74,13,76,13],[71,11,73,11],[71,13,73,13],[71,15,73,15],[71,17,73,17],[71,19,73,19],[71,21,73,21],[77,23,79,23],[107,2,109,2],[107,3,109,3],[107,5,109,5],[107,7,109,7],[107,9,109,9],[104,27,106,27],[98,2,100,2],[98,3,100,3],[98,5,100,5],[98,7,100,7],[98,9,100,9],[98,11,100,11],[98,13,100,13],[98,15,100,15],[98,17,100,17],[95,15,97,15],[95,17,97,17],[95,19,97,19],[95,21,97,21],[95,23,97,23],[95,25,97,25],[98,19,100,19],[98,21,100,21],[98,23,100,23],[98,25,100,25],[104,15,106,15],[104,17,106,17],[104,19,106,19],[104,21,106,21],[104,23,106,23],[104,25,106,25],[101,2,103,2],[101,3,103,3],[101,5,103,5],[101,7,103,7],[101,9,103,9],[101,23,103,23],[101,25,103,25],[101,27,103,27],[104,2,106,2],[104,3,106,3],[104,5,106,5],[104,7,106,7],[104,9,106,9],[104,11,106,11],[104,13,106,13],[101,11,103,11],[101,13,103,13],[101,15,103,15],[101,17,103,17],[101,19,103,19],[101,21,103,21],[119,2,121,2],[119,3,121,3],[119,5,121,5],[119,7,121,7],[119,9,121,9],[119,11,121,11],[119,13,121,13],[119,15,121,15],[119,17,121,17],[116,15,118,15],[116,17,118,17],[116,19,118,19],[116,21,118,21],[116,23,118,23],[116,25,118,25],[122,15,124,15],[110,2,112,2],[110,3,112,3],[110,5,112,5],[110,7,112,7],[110,9,112,9],[110,23,112,23],[110,25,112,25],[116,2,118,2],[116,3,118,3],[116,5,118,5],[116,7,118,7],[116,9,118,9],[116,11,118,11],[116,13,118,13],[110,11,112,11],[110,13,112,13],[125,3,127,3],[125,5,127,5],[125,7,127,7],[125,9,127,9],[125,11,127,11],[125,13,127,13],[131,25,133,25],[137,19,139,19],[137,21,139,21],[137,23,139,23],[137,25,139,25],[143,25,145,25],[125,15,127,15],[146,23,148,23],[146,25,148,25],[137,5,139,5],[137,7,139,7],[137,9,139,9],[137,11,139,11],[140,19,142,19],[140,21,142,21],[140,23,142,23],[128,9,130,9],[128,11,130,11],[128,13,130,13],[155,27,157,27],[71,2,73,2],[71,3,73,3],[71,5,73,5],[71,7,73,7],[71,9,73,9],[152,27,154,27],[155,2,157,2],[155,3,157,3],[155,5,157,5],[155,7,157,7],[155,9,157,9],[155,11,157,11],[155,13,157,13],[155,15,157,15],[155,17,157,17],[152,15,154,15],[152,17,154,17],[152,19,154,19],[152,21,154,21],[71,23,73,23],[71,25,73,25],[71,27,73,27],[74,2,76,2],[74,3,76,3],[74,5,76,5],[74,7,76,7],[74,9,76,9],[152,23,154,23],[152,25,154,25],[152,3,154,3],[152,5,154,5],[77,25,79,25],[77,27,79,27],[80,2,82,2],[80,3,82,3],[80,5,82,5],[80,7,82,7],[80,9,82,9],[74,27,76,27],[77,2,79,2],[77,3,79,3],[77,5,79,5],[77,7,79,7],[77,9,79,9],[77,11,79,11],[77,13,79,13],[77,15,79,15],[77,17,79,17],[74,15,76,15],[74,17,76,17],[74,19,76,19],[74,21,76,21],[74,23,76,23],[74,25,76,25],[80,25,82,25],[80,27,82,27],[77,19,79,19],[77,21,79,21],[80,21,82,21],[80,23,82,23],[122,2,124,2],[92,23,94,23],[89,25,91,25],[89,27,91,27],[92,2,94,2],[92,3,94,3],[92,5,94,5],[92,7,94,7],[92,9,94,9],[83,27,85,27],[89,2,91,2],[89,3,91,3],[89,5,91,5],[89,7,91,7],[89,9,91,9],[89,11,91,11],[89,13,91,13],[89,15,91,15],[89,17,91,17],[83,15,85,15],[83,17,85,17],[83,19,85,19],[83,21,85,21],[83,23,85,23],[83,25,85,25],[92,25,94,25],[92,27,94,27],[89,19,91,19],[89,21,91,21],[89,23,91,23],[122,9,124,9],[116,27,118,27],[92,19,94,19],[92,21,94,21],[125,27,127,27],[122,17,124,17],[122,19,124,19],[122,21,124,21],[122,23,124,23],[122,25,124,25],[122,27,124,27],[119,19,121,19],[119,21,121,21],[107,11,109,11],[107,13,109,13],[107,15,109,15],[107,17,109,17],[119,23,121,23],[119,25,121,25],[119,27,121,27],[125,21,127,21],[125,23,127,23],[125,25,127,25],[110,27,112,27],[110,15,112,15],[110,17,112,17],[110,19,112,19],[110,21,112,21],[107,25,109,25],[98,27,100,27],[107,27,109,27],[131,27,133,27],[134,2,136,2],[134,3,136,3],[134,5,136,5],[134,7,136,7],[134,9,136,9],[128,27,130,27],[131,2,133,2],[131,3,133,3],[131,5,133,5],[131,7,133,7],[131,9,133,9],[131,11,133,11],[131,13,133,13],[131,15,133,15],[131,17,133,17],[128,15,130,15],[128,17,130,17],[128,19,130,19],[128,21,130,21],[128,23,130,23],[128,25,130,25],[134,25,136,25],[134,27,136,27],[134,23,136,23],[131,19,133,19],[131,21,133,21],[131,23,133,23],[128,2,130,2],[128,3,130,3],[128,5,130,5],[128,7,130,7],[158,25,160,25],[158,27,160,27],[146,19,148,19],[146,21,148,21],[137,13,139,13],[134,11,136,11],[134,13,136,13],[134,15,136,15],[134,17,136,17],[134,19,136,19],[134,21,136,21],[140,25,142,25],[140,27,142,27],[143,2,145,2],[143,3,145,3],[143,5,145,5],[143,7,145,7]],"merged_total":1567,"flags":["merged_cut"]}
[]
[]
[null,null,"Σύνοψη"]
[]
[]
[null,null,"Στοιχεία Έκθεσης"]
[null,null,"Οργανισμός",{"$f":"'Γενικά Στοιχεία Οργανισμού'!D6","v":"Εθνικό Μετσόβιο Πολυτεχνείο"}]
[null,null,"Έτος Αναφοράς",{"$f":"'Γενικό Πλαίσιο Απογραφής'!F6","v":2024}]
[null,null,"Έτος Βάσης",{"$f":"'Γενικό Πλαίσιο Απογραφής'!F7","v":2023}]
[]
[null,null,"Σύνοψη Βασικών Μεγεθών"]
[null,null,"Συνολικές Εκπομπές Αερίων του Θερμοκηπίου (tn CO2e)",null,null,null,{"$f":"D159","v":5875.5048356198149}]
[null,null,"Συνολική Κατανάλωση Τελικής Ενέργειας (kWh)",null,null,null,{"$f":"D200","v":21456874.346524931}]
[null,null,"Σύνολο Παραγόμενων Στερεών Αποβλήτων (tn)",null,null,null,{"$f":"'Υπολογισμός Αν. Απ.'!E68","v":58.62}]
[null,null,"Βιοαποδομίσημο Φορτίο Παραγόμενων Λυμάτων (tn BOD)",null,null,null,{"$f":"Παραμετροποίηση!G97*'Υπολογισμός Αν. Απ.'!E72","v":4.1609999999999996}]
[null,null,"Επίτευξη Στόχου Μείωσης Εκπομπών (%)",null,null,null,{"$f":"('Γενικό Πλαίσιο Απογραφής'!F8-G12)/('Γενικό Πλαίσιο Απογραφής'!F8-'Γενικό Πλαίσιο Απογραφής'!F9)","v":{"$error":"#DIV/0!"}}]
[]
[null,null,"Συγκεντρωτικός Πίνακας Εκπομπών (tn)"]
[null,null,"ΑτΘ Πίνακα ανά Θέση","CO2e","CO2"]
[null,null,null,null,"CH4"]
[null,null,null,null,"N2O"]
[]
[null,null,"Κατηγορία","Ε.Μ.Π.",null,"Βιβλιοθήκη",null,"Γυμναστήριο",null,"Διοίκηση",null,"Σχολή Αγρονόμων και Τοπογράφων Μηχανικών",null,"Σχολή Εφαρμοσμένων Μαθηματικών και Φυσικών Επιστημών",null,"Σχολή Ηλεκτρολόγων Μηχανικών και Μηχανικών Υπολογιστών",null,"Σχολή Μηχανικών Μεταλλείων Μεταλλουργών",null,"Σχολή Μηχανολόγων Μηχανικών",null,"Σχολή Ναυπηγών Μηχανολόγων Μηχανικών",null,"Σχολή Πολιτικών Μηχανικών",null,"Σχολή Χημικών Μηχανικών",null,"Σχολή Αρχιτεκτόνων Μηχανικών"]
[null,null,"SCOPE 1",{"$f":"D27+D36+D45","v":598.80081087423741},{"$f":"E27+E36+E45","v":597.78526406804986},{"$f":"F27+F36+F45","v":25.341399717264451},25.281050096945339,11.772058964249039,11.725124315302219,21.741769786997974,21.68497884600929,40.41152149953615,40.336273200204843,67.551682361442175,67.449602656840057,43.027226735978871,42.949392488552959,64.369613380019246,64.270679544112397,93.752503254866724,93.624520798715096,24.014340978801251,23.955303320154396,54.064496871772008,53.975750917904733,82.515367039106692,82.398493881732705,70.238830284202834,70.134094001575789]
[null,null,null,null,{"$f":"E28+E37+E46","v":1.1557526704249997E-2},null,5.2328519280859197E-4,null,2.8026034910756789E-4,null,4.5881636435868072E-4,null,7.9318879810187811E-4,null,1.2792649805442448E-3,null,8.400356838736265E-4,null,{"$f":"S28+S37+S46","v":1.2222746056298013E-3},null,1.7485177260063288E-3,null,4.9951777120961483E-4,null,1.0377115252029876E-3,null,1.5472623133677057E-3,null,1.3273913940389695E-3]
[null,null,null,null,2.5387978430000003E-3,null,1.6758228366210921E-4,null,1.432797992920068E-4,null,1.6113540081711807E-4,null,1.9457264419143783E-4,null,2.431802624356745E-4,null,1.9925733276861268E-4,null,2.3748122494423018E-4,null,2.9010553698188292E-4,null,1.6520554150221151E-4,null,2.1902491690154878E-4,null,2.6997999571802062E-4,null,2.4799290378514698E-4]
[null,null,"Σταθερή Καύση",{"$f":"SUM(D30:D35)","v":552.82814884483184},{"$f":"E30+E33","v":552.28160985479985},{"$f":"SUM(F30:F35)","v":21.510344548147319},{"$f":"G30+G33","v":21.489078912507839},{"$f":"SUM(H30:H35)","v":7.9410037951319072},{"$f":"I30+I33","v":7.933153130864719},{"$f":"SUM(J30:J35)","v":17.910714617880842},{"$f":"K30+K33","v":17.89300766157179},{"$f":"SUM(L30:L35)","v":36.580466330419014},{"$f":"M30+M33","v":36.544302015767343},{"$f":"SUM(N30:N35)","v":63.720627192325047},{"$f":"O30+O33","v":63.657631472402556},{"$f":"SUM(P30:P35)","v":39.196171566861736},{"$f":"Q30+Q33","v":39.157421304115459},{"$f":"SUM(R30:R35)","v":60.538558210902117},{"$f":"S30+S33","v":60.478708359674904},{"$f":"SUM(T30:T35)","v":89.921448085749589},{"$f":"U30+U33","v":89.832549614277596},{"$f":"SUM(V30:V35)","v":20.183285809684119},{"$f":"W30+W33","v":20.163332135716896},{"$f":"SUM(X30:X35)","v":50.233441702654879},{"$f":"Y30+Y33","v":50.183779733467233},{"$f":"SUM(Z30:Z35)","v":78.684311869989557},{"$f":"AA30+AA33","v":78.606522697295205},{"$f":"SUM(AB30:AB35)","v":66.407775115085698},{"$f":"AC30+AC33","v":66.342122817138289}]
[null,null,null,null,{"$f":"E31+E34","v":9.9010686599999981E-3},null,3.8524702245442527E-4,null,{"$f":"I31+I34","v":1.4222217875340122E-4},null,{"$f":"K31+K34","v":3.2077819400451403E-4},null,{"$f":"M31+M34","v":6.5515062774771141E-4},null,{"$f":"O31+O34","v":1.1412268101900782E-3},null,{"$f":"Q31+Q34","v":7.0199751351945981E-4},null,{"$f":"S31+S34","v":1.0842364352756347E-3},null,{"$f":"U31+U34","v":1.6104795556521622E-3},null,{"$f":"W31+W34","v":3.6147960085544819E-4},null,{"$f":"Y31+Y34","v":8.9967335484882093E-4},null,{"$f":"AA31+AA34","v":1.4092241430135391E-3},null,{"$f":"AC31+AC34","v":1.1893532236848029E-3}]
[null,null,null,null,9.9010686599999994E-4,null,3.8524702245442521E-5,null,{"$f":"I32+I35","v":1.4222217875340123E-5},null,{"$f":"K32+K35","v":3.2077819400451406E-5},null,{"$f":"M32+M35","v":6.5515062774771152E-5},null,{"$f":"O32+O35","v":1.1412268101900783E-4},null,{"$f":"Q32+Q35","v":7.0199751351945989E-5},null,{"$f":"S32+S35","v":1.0842364352756349E-4},null,{"$f":"U32+U35","v":1.6104795556521625E-4},null,{"$f":"W32+W35","v":3.6147960085544823E-5},null,{"$f":"Y32+Y35","v":8.9967335484882104E-5},null,{"$f":"AA32+AA35","v":1.4092241430135394E-4},null,{"$f":"AC32+AC35","v":1.1893532236848028E-4}]
[null,null,"Πετρέλαιο Θέρμανσης",{"$f":"'Υπολογισμός Αν. Απ.'!Q8","v":0},{"$f":"'Υπολογισμός Αν. Απ.'!N8","v":0},{"$f":"D30*'Γενικά Στοιχεία Οργανισμού'!$F$13/SUM('Γενικά Στοιχεία Οργανισμού'!$F$13:$F$24)","v":0},{"$f":"E30*'Γενικά Στοιχεία Οργανισμού'!$F$13/SUM('Γενικά Στοιχεία Οργανισμού'!$F$13:$F$24)","v":0},{"$f":"D30*'Γενικά Στοιχεία Οργανισμού'!$F$14/SUM('Γενικά Στοιχεία Οργανισμού'!$F$13:$F$24)","v":0},{"$f":"E30*'Γενικά Στοιχεία Οργανισμού'!$F$14/SUM('Γενικά Στοιχεία Οργανισμού'!$F$13:$F$24)","v":0},{"$f":"D30*'Γενικά Στοιχεία Οργανισμού'!$F$15/SUM('Γενικά Στοιχεία Οργανισμού'!$F$13:$F$24)","v":0},{"$f":"E30*'Γενικά Στοιχεία Οργανισμού'!$F$15/SUM('Γενικά Στοιχεία Οργανισμού'!$F$13:$F$24)","v":0},{"$f":"D30*'Γενικά Στοιχεία Οργανισμού'!$F$16/SUM('Γενικά Στοιχεία Οργανισμού'!$F$13:$F$24)","v":0},{"$f":"E30*'Γενικά Στοιχεία Οργανισμού'!$F$16/SUM('Γενικά Στοιχεία Οργανισμού'!$F$13:$F$24)","v":0},{"$f":"D30*'Γενικά Στοιχεία Οργανισμού'!$F$17/SUM('Γενικά Στοιχεία Οργανισμού'!$F$13:$F$24)","v":0},{"$f":"E30*'Γενικά Στοιχεία Οργανισμού'!$F$17/SUM('Γενικά Στοιχεία Οργανισμού'!$F$13:$F$24)","v":0},{"$f":"D30*'Γενικά Στοιχεία Οργανισμού'!$F$18/SUM('Γενικά Στοιχεία Οργανισμού'!$F$13:$F$24)","v":0},{"$f":"E30*'Γενικά Στοιχεία Οργανισμού'!$F$18/SUM('Γενικά Στοιχεία Οργανισμού'!$F$13:$F$24)","v":0},{"$f":"D30*'Γενικά Στοιχεία Οργανισμού'!$F$19/SUM('Γενικά Στοιχεία Οργανισμού'!$F$13:$F$24)","v":0},{"$f":"E30*'Γενικά Στοιχεία Οργανισμού'!$F$19/SUM('Γενικά Στοιχεία Οργανισμού'!$F$13:$F$24)","v":0},{"$f":"D30*'Γενικά Στοιχεία Οργανισμού'!$F$20/SUM('Γενικά Στοιχεία Οργανισμού'!$F$13:$F$24)","v":0},{"$f":"E30*'Γενικά Στοιχεία Οργανισμού'!$F$20/SUM('Γενικά Στοιχεία Οργανισμού'!$F$13:$F$24)","v":0},{"$f":"D30*'Γενικά Στοιχεία Οργανισμού'!$F$21/SUM('Γενικά Στοιχεία Οργανισμού'!$F$13:$F$24)","v":0},{"$f":"E30*'Γενικά Στοιχεία Οργανισμού'!$F$21/SUM('Γενικά Στοιχεία Οργανισμού'!$F$13:$F$24)","v":0},{"$f":"D30*'Γενικά Στοιχεία Οργανισμού'!$F$22/SUM('Γενικά Στοιχεία Οργανισμού'!$F$13:$F$24)","v":0},{"$f":"E30*'Γενικά Στοιχεία Οργανισμού'!$F$22/SUM('Γενικά Στοιχεία Οργανισμού'!$F$13:$F$24)","v":0},{"$f":"D30*'Γενικά Στοιχεία Οργανισμού'!$F$23/SUM('Γενικά Στοιχεία Οργανισμού'!$F$13:$F$24)","v":0},{"$f":"E30*'Γενικά Στοιχεία Οργανισμού'!$F$23/SUM('Γενικά Στοιχεία Οργανισμού'!$F$13:$F$24)","v":0},{"$f":"D30*'Γενικά Στοιχεία Οργανισμού'!$F$24/SUM('Γενικά Στοιχεία Οργανισμού'!$F$13:$F$24)","v":0},{"$f":"E30*'Γενικά Στοιχεία Οργανισμού'!$F$24/SUM('Γενικά Στοιχεία Οργανισμού'!$F$13:$F$24)","v":0}]
[null,null,null,null,{"$f":"'Υπολογισμός Αν. Απ.'!O8","v":0},null,{"$f":"E31*'Γενικά Στοιχεία Οργανισμού'!$F$13/SUM('Γενικά Στοιχεία Οργανισμού'!$F$13:$F$24)","v":0},null,{"$f":"E31*'Γενικά Στοιχεία Οργανισμού'!$F$14/SUM('Γενικά Στοιχεία Οργανισμού'!$F$13:$F$24)","v":0},null,{"$f":"E31*'Γενικά Στοιχεία Οργανισμού'!$F$15/SUM('Γενικά Στοιχεία Οργανισμού'!$F$13:$F$24)","v":0},null,{"$f":"E31*'Γενικά Στοιχεία Οργανισμού'!$F$16/SUM('Γενικά Στοιχεία Οργανισμού'!$F$13:$F$24)","v":0},null,{"$f":"E31*'Γενικά Στοιχεία Οργανισμού'!$F$17/SUM('Γενικά Στοιχεία Οργανισμού'!$F$13:$F$24)","v":0},null,{"$f":"E31*'Γενικά Στοιχεία Οργανισμού'!$F$18/SUM('Γενικά Στοιχεία Οργανισμού'!$F$13:$F$24)","v":0},null,{"$f":"E31*'Γενικά Στοιχεία Οργανισμού'!$F$19/SUM('Γενικά Στοιχεία Οργανισμού'!$F$13:$F$24)","v":0},null,{"$f":"E31*'Γενικά Στοιχεία Οργανισμού'!$F$20/SUM('Γενικά Στοιχεία Οργανισμού'!$F$13:$F$24)","v":0},null,{"$f":"E31*'Γενικά Στοιχεία Οργανισμού'!$F$21/SUM('Γενικά Στοιχεία Οργανισμού'!$F$13:$F$24)","v":0},null,{"$f":"E31*'Γενικά Στοιχεία Οργανισμού'!$F$22/SUM('Γενικά Στοιχεία Οργανισμού'!$F$13:$F$24)","v":0},null,{"$f":"E31*'Γενικά Στοιχεία Οργανισμού'!$F$23/SUM('Γενικά Στοιχεία Οργανισμού'!$F$13:$F$24)","v":0},null,{"$f":"E31*'Γενικά Στοιχεία Οργανισμού'!$F$24/SUM('Γενικά Στοιχεία Οργανισμού'!$F$13:$F$24)","v":0}]
[null,null,null,null,{"$f":"'Υπολογισμός Αν. Απ.'!P8","v":0},null,{"$f":"E32*'Γενικά Στοιχεία Οργανισμού'!$F$13/SUM('Γενικά Στοιχεία Οργανισμού'!$F$13:$F$24)","v":0},null,{"$f":"E32*'Γενικά Στοιχεία Οργανισμού'!$F$14/SUM('Γενικά Στοιχεία Οργανισμού'!$F$13:$F$24)","v":0},null,{"$f":"E32*'Γενικά Στοιχεία Οργανισμού'!$F$15/SUM('Γενικά Στοιχεία Οργανισμού'!$F$13:$F$24)","v":0},null,{"$f":"E32*'Γενικά Στοιχεία Οργανισμού'!$F$16/SUM('Γενικά Στοιχεία Οργανισμού'!$F$13:$F$24)","v":0},null,{"$f":"E32*'Γενικά Στοιχεία Οργανισμού'!$F$17/SUM('Γενικά Στοιχεία Οργανισμού'!$F$13:$F$24)","v":0},null,{"$f":"E32*'Γενικά Στοιχεία Οργανισμού'!$F$18/SUM('Γενικά Στοιχεία Οργανισμού'!$F$13:$F$24)","v":0},null,{"$f":"E32*'Γενικά Στοιχεία Οργανισμού'!$F$19/SUM('Γενικά Στοιχεία Οργανισμού'!$F$13:$F$24)","v":0},null,{"$f":"E32*'Γενικά Στοιχεία Οργανισμού'!$F$20/SUM('Γενικά Στοιχεία Οργανισμού'!$F$13:$F$24)","v":0},null,{"$f":"E32*'Γενικά Στοιχεία Οργανισμού'!$F$21/SUM('Γενικά Στοιχεία Οργανισμού'!$F$13:$F$24)","v":0},null,{"$f":"E32*'Γενικά Στοιχεία Οργανισμού'!$F$22/SUM('Γενικά Στοιχεία Οργανισμού'!$F$13:$F$24)","v":0},null,{"$f":"E32*'Γενικά Στοιχεία Οργανισμού'!$F$23/SUM('Γενικά Στοιχεία Οργανισμού'!$F$13:$F$24)","v":0},null,{"$f":"E32*'Γενικά Στοιχεία Οργανισμού'!$F$24/SUM('Γενικά Στοιχεία Οργανισμού'!$F$13:$F$24)","v":0}]
[null,null,"Φυσικό Αέριο",{"$f":"'Υπολογισμός Αν. Απ.'!Q9","v":552.82814884483184},{"$f":"'Υπολογισμός Αν. Απ.'!N9","v":552.28160985479985},{"$f":"D33*'Γενικά Στοιχεία Οργανισμού'!$F$13/SUM('Γενικά Στοιχεία Οργανισμού'!$F$13:$F$24)","v":21.510344548147319},{"$f":"E33*'Γενικά Στοιχεία Οργανισμού'!$F$13/SUM('Γενικά Στοιχεία Οργανισμού'!$F$13:$F$24)","v":21.489078912507839},{"$f":"D33*'Γενικά Στοιχεία Οργανισμού'!$F$14/SUM('Γενικά Στοιχεία Οργανισμού'!$F$13:$F$24)","v":7.9410037951319072},{"$f":"E33*'Γενικά Στοιχεία Οργανισμού'!$F$14/SUM('Γενικά Στοιχεία Οργανισμού'!$F$13:$F$24)","v":7.933153130864719},{"$f":"D33*'Γενικά Στοιχεία Οργανισμού'!$F$15/SUM('Γενικά Στοιχεία Οργανισμού'!$F$13:$F$24)","v":17.910714617880842},{"$f":"E33*'Γενικά Στοιχεία Οργανισμού'!$F$15/SUM('Γενικά Στοιχεία Οργανισμού'!$F$13:$F$24)","v":17.89300766157179},{"$f":"D33*'Γενικά Στοιχεία Οργανισμού'!$F$16/SUM('Γενικά Στοιχεία Οργανισμού'!$F$13:$F$24)","v":36.580466330419014},{"$f":"E33*'Γενικά Στοιχεία Οργανισμού'!$F$16/SUM('Γενικά Στοιχεία Οργανισμού'!$F$13:$F$24)","v":36.544302015767343},{"$f":"D33*'Γενικά Στοιχεία Οργανισμού'!$F$17/SUM('Γενικά Στοιχεία Οργανισμού'!$F$13:$F$24)","v":63.720627192325047},{"$f":"E33*'Γενικά Στοιχεία Οργανισμού'!$F$17/SUM('Γενικά Στοιχεία Οργανισμού'!$F$13:$F$24)","v":63.657631472402556},{"$f":"D33*'Γενικά Στοιχεία Οργανισμού'!$F$18/SUM('Γενικά Στοιχεία Οργανισμού'!$F$13:$F$24)","v":39.196171566861736},{"$f":"E33*'Γενικά Στοιχεία Οργανισμού'!$F$18/SUM('Γενικά Στοιχεία Οργανισμού'!$F$13:$F$24)","v":39.157421304115459},{"$f":"D33*'Γενικά Στοιχεία Οργανισμού'!$F$19/SUM('Γενικά Στοιχεία Οργανισμού'!$F$13:$F$24)","v":60.538558210902117},{"$f":"E33*'Γενικά Στοιχεία Οργανισμού'!$F$19/SUM('Γενικά Στοιχεία Οργανισμού'!$F$13:$F$24)","v":60.478708359674904},{"$f":"D33*'Γενικά Στοιχεία Οργανισμού'!$F$20/SUM('Γενικά Στοιχεία Οργανισμού'!$F$13:$F$24)","v":89.921448085749589},{"$f":"E33*'Γενικά Στοιχεία Οργανισμού'!$F$20/SUM('Γενικά Στοιχεία Οργανισμού'!$F$13:$F$24)","v":89.832549614277596},{"$f":"D33*'Γενικά Στοιχεία Οργανισμού'!$F$21/SUM('Γενικά Στοιχεία Οργανισμού'!$F$13:$F$24)","v":20.183285809684119},{"$f":"E33*'Γενικά Στοιχεία Οργανισμού'!$F$21/SUM('Γενικά Στοιχεία Οργανισμού'!$F$13:$F$24)","v":20.163332135716896},{"$f":"D33*'Γενικά Στοιχεία Οργανισμού'!$F$22/SUM('Γενικά Στοιχεία Οργανισμού'!$F$13:$F$24)","v":50.233441702654879},{"$f":"E33*'Γενικά Στοιχεία Οργανισμού'!$F$22/SUM('Γενικά Στοιχεία Οργανισμού'!$F$13:$F$24)","v":50.183779733467233},{"$f":"D33*'Γενικά Στοιχεία Οργανισμού'!$F$23/SUM('Γενικά Στοιχεία Οργανισμού'!$F$13:$F$24)","v":78.684311869989557},{"$f":"E33*'Γενικά Στοιχεία Οργανισμού'!$F$23/SUM('Γενικά Στοιχεία Οργανισμού'!$F$13:$F$24)","v":78.606522697295205},{"$f":"D33*'Γενικά Στοιχεία Οργανισμού'!$F$24/SUM('Γενικά Στοιχεία Οργανισμού'!$F$13:$F$24)","v":66.407775115085698},{"$f":"E33*'Γενικά Στοιχεία Οργανισμού'!$F$24/SUM('Γενικά Στοιχεία Οργανισμού'!$F$13:$F$24)","v":66.342122817138289}]
[null,null,null,null,{"$f":"'Υπολογισμός Αν. Απ.'!O9","v":9.9010686599999981E-3},null,{"$f":"E34*'Γενικά Στοιχεία Οργανισμού'!$F$13/SUM('Γενικά Στοιχεία Οργανισμού'!$F$13:$F$24)","v":3.8524702245442527E-4},null,{"$f":"E34*'Γενικά Στοιχεία Οργανισμού'!$F$14/SUM('Γενικά Στοιχεία Οργανισμού'!$F$13:$F$24)","v":1.4222217875340122E-4},null,{"$f":"E34*'Γενικά Στοιχεία Οργανισμού'!$F$15/SUM('Γενικά Στοιχεία Οργανισμού'!$F$13:$F$24)","v":3.2077819400451403E-4},null,{"$f":"E34*'Γενικά Στοιχεία Οργανισμού'!$F$16/SUM('Γενικά Στοιχεία Οργανισμού'!$F$13:$F$24)","v":6.5515062774771141E-4},null,{"$f":"E34*'Γενικά Στοιχεία Οργανισμού'!$F$17/SUM('Γενικά Στοιχεία Οργανισμού'!$F$13:$F$24)","v":1.1412268101900782E-3},null,{"$f":"E34*'Γενικά Στοιχεία Οργανισμού'!$F$18/SUM('Γενικά Στοιχεία Οργανισμού'!$F$13:$F$24)","v":7.0199751351945981E-4},null,{"$f":"E34*'Γενικά Στοιχεία Οργανισμού'!$F$19/SUM('Γενικά Στοιχεία Οργανισμού'!$F$13:$F$24)","v":1.0842364352756347E-3},null,{"$f":"E34*'Γενικά Στοιχεία Οργανισμού'!$F$20/SUM('Γενικά Στοιχεία Οργανισμού'!$F$13:$F$24)","v":1.6104795556521622E-3},null,{"$f":"E34*'Γενικά Στοιχεία Οργανισμού'!$F$21/SUM('Γενικά Στοιχεία Οργανισμού'!$F$13:$F$24)","v":3.6147960085544819E-4},null,{"$f":"E34*'Γενικά Στοιχεία Οργανισμού'!$F$22/SUM('Γενικά Στοιχεία Οργανισμού'!$F$13:$F$24)","v":8.9967335484882093E-4},null,{"$f":"E34*'Γενικά Στοιχεία Οργανισμού'!$F$23/SUM('Γενικά Στοιχεία Οργανισμού'!$F$13:$F$24)","v":1.4092241430135391E-3},null,{"$f":"E34*'Γενικά Στοιχεία Οργανισμού'!$F$24/SUM('Γενικά Στοιχεία Οργανισμού'!$F$13:$F$24)","v":1.1893532236848029E-3}]
[null,null,null,null,{"$f":"'Υπολογισμός Αν. Απ.'!P9","v":9.9010686599999994E-4},null,{"$f":"E35*'Γενικά Στοιχεία Οργανισμού'!$F$13/SUM('Γενικά Στοιχεία Οργανισμού'!$F$13:$F$24)","v":3.8524702245442521E-5},null,{"$f":"E35*'Γενικά Στοιχεία Οργανισμού'!$F$14/SUM('Γενικά Στοιχεία Οργανισμού'!$F$13:$F$24)","v":1.4222217875340123E-5},null,{"$f":"E35*'Γενικά Στοιχεία Οργανισμού'!$F$15/SUM('Γενικά Στοιχεία Οργανισμού'!$F$13:$F$24)","v":3.2077819400451406E-5},null,{"$f":"E35*'Γενικά Στοιχεία Οργανισμού'!$F$16/SUM('Γενικά Στοιχεία Οργανισμού'!$F$13:$F$24)","v":6.5515062774771152E-5},null,{"$f":"E35*'Γενικά Στοιχεία Οργανισμού'!$F$17/SUM('Γενικά Στοιχεία Οργανισμού'!$F$13:$F$24)","v":1.1412268101900783E-4},null,{"$f":"E35*'Γενικά Στοιχεία Οργανισμού'!$F$18/SUM('Γενικά Στοιχεία Οργανισμού'!$F$13:$F$24)","v":7.0199751351945989E-5},null,{"$f":"E35*'Γενικά Στοιχεία Οργανισμού'!$F$19/SUM('Γενικά Στοιχεία Οργανισμού'!$F$13:$F$24)","v":1.0842364352756349E-4},null,{"$f":"E35*'Γενικά Στοιχεία Οργανισμού'!$F$20/SUM('Γενικά Στοιχεία Οργανισμού'!$F$13:$F$24)","v":1.6104795556521625E-4},null,{"$f":"E35*'Γενικά Στοιχεία Οργανισμού'!$F$21/SUM('Γενικά Στοιχεία Οργανισμού'!$F$13:$F$24)","v":3.6147960085544823E-5},null,{"$f":"E35*'Γενικά Στοιχεία Οργανισμού'!$F$22/SUM('Γενικά Στοιχεία Οργανισμού'!$F$13:$F$24)","v":8.9967335484882104E-5},null,{"$f":"E35*'Γενικά Στοιχεία Οργανισμού'!$F$23/SUM('Γενικά Στοιχεία Οργανισμού'!$F$13:$F$24)","v":1.4092241430135394E-4},null,{"$f":"E35*'Γενικά Στοιχεία Οργανισμού'!$F$24/SUM('Γενικά Στοιχεία Οργανισμού'!$F$13:$F$24)","v":1.1893532236848028E-4}]
[null,null,"Κινητή Καύση",{"$f":"SUM(D39:D44)","v":45.972662029405583},{"$f":"E39+E42","v":45.503654213250002},{"$f":"SUM(F39:F44)","v":3.831055169117132},{"$f":"G39+G42","v":3.7919711844375001},{"$f":"SUM(H39:H44)","v":3.831055169117132},{"$f":"I39+I42","v":3.7919711844375001},{"$f":"SUM(J39:J44)","v":3.831055169117132},{"$f":"K39+K42","v":3.7919711844375001},{"$f":"SUM(L39:L44)","v":3.831055169117132},{"$f":"M39+M42","v":3.7919711844375001},{"$f":"SUM(N39:N44)","v":3.831055169117132},{"$f":"O39+O42","v":3.7919711844375001},{"$f":"SUM(P39:P44)","v":3.831055169117132},{"$f":"Q39+Q42","v":3.7919711844375001},{"$f":"SUM(R39:R44)","v":3.831055169117132},{"$f":"S39+S42","v":3.7919711844375001},{"$f":"SUM(T39:T44)","v":3.831055169117132},{"$f":"U39+U42","v":3.7919711844375001},{"$f":"SUM(V39:V44)","v":3.831055169117132},{"$f":"W39+W42","v":3.7919711844375001},{"$f":"SUM(X39:X44)","v":3.831055169117132},{"$f":"Y39+Y42","v":3.7919711844375001},{"$f":"SUM(Z39:Z44)","v":3.831055169117132},{"$f":"AA39+AA42","v":3.7919711844375001},{"$f":"SUM(AB39:AB44)","v":3.831055169117132},{"$f":"AC39+AC42","v":3.7919711844375001}]
[null,null,null,null,{"$f":"E40+E43","v":1.6564580442499999E-3},null,1.3803817035416667E-4,null,1.3803817035416667E-4,null,1.3803817035416667E-4,null,1.3803817035416667E-4,null,1.3803817035416667E-4,null,1.3803817035416667E-4,null,1.3803817035416667E-4,null,1.3803817035416667E-4,null,1.3803817035416667E-4,null,1.3803817035416667E-4,null,1.3803817035416667E-4,null,1.3803817035416667E-4]
[null,null,null,null,1.5486909770000001E-3,null,{"$f":"G41+G44","v":1.2905758141666668E-4},null,1.2905758141666668E-4,null,1.2905758141666668E-4,null,1.2905758141666668E-4,null,1.2905758141666668E-4,null,1.2905758141666668E-4,null,1.2905758141666668E-4,null,1.2905758141666668E-4,null,1.2905758141666668E-4,null,1.2905758141666668E-4,null,1.2905758141666668E-4,null,1.2905758141666668E-4]
[null,null,"Πετρέλαιο Κίνησης (Επιβατικό)",{"$f":"'Υπολογισμός Αν. Απ.'!Q13","v":32.973576329587502},{"$f":"'Υπολογισμός Αν. Απ.'!N13","v":32.615726625000001},{"$f":"$D$39/12","v":2.7477980274656253},{"$f":"$E$39/12","v":2.7179772187500002},{"$f":"$D$39/12","v":2.7477980274656253},{"$f":"$E$39/12","v":2.7179772187500002},{"$f":"$D$39/12","v":2.7477980274656253},{"$f":"$E$39/12","v":2.7179772187500002},{"$f":"$D$39/12","v":2.7477980274656253},{"$f":"$E$39/12","v":2.7179772187500002},{"$f":"$D$39/12","v":2.7477980274656253},{"$f":"$E$39/12","v":2.7179772187500002},{"$f":"$D$39/12","v":2.7477980274656253},{"$f":"$E$39/12","v":2.7179772187500002},{"$f":"$D$39/12","v":2.7477980274656253},{"$f":"$E$39/12","v":2.7179772187500002},{"$f":"$D$39/12","v":2.7477980274656253},{"$f":"$E$39/12","v":2.7179772187500002},{"$f":"$D$39/12","v":2.7477980274656253},{"$f":"$E$39/12","v":2.7179772187500002},{"$f":"$D$39/12","v":2.7477980274656253},{"$f":"$E$39/12","v":2.7179772187500002},{"$f":"$D$39/12","v":2.7477980274656253},{"$f":"$E$39/12","v":2.7179772187500002},{"$f":"$D$39/12","v":2.7477980274656253},{"$f":"$E$39/12","v":2.7179772187500002}]
[null,null,null,null,{"$f":"'Υπολογισμός Αν. Απ.'!O13","v":1.3361624999999999E-5},null,{"$f":"$E$40/12","v":1.1134687499999999E-6},null,{"$f":"$E$40/12","v":1.1134687499999999E-6},null,{"$f":"$E$40/12","v":1.1134687499999999E-6},null,{"$f":"$E$40/12","v":1.1134687499999999E-6},null,{"$f":"$E$40/12","v":1.1134687499999999E-6},null,{"$f":"$E$40/12","v":1.1134687499999999E-6},null,{"$f":"$E$40/12","v":1.1134687499999999E-6},null,{"$f":"$E$40/12","v":1.1134687499999999E-6},null,{"$f":"$E$40/12","v":1.1134687499999999E-6},null,{"$f":"$E$40/12","v":1.1134687499999999E-6},null,{"$f":"$E$40/12","v":1.1134687499999999E-6},null,{"$f":"$E$40/12","v":1.1134687499999999E-6}]
[null,null,null,null,{"$f":"'Υπολογισμός Αν. Απ.'!P13","v":1.30943925E-3},null,{"$f":"$E$41/12","v":1.091199375E-4},null,{"$f":"$E$41/12","v":1.091199375E-4},null,{"$f":"$E$41/12","v":1.091199375E-4},null,{"$f":"$E$41/12","v":1.091199375E-4},null,{"$f":"$E$41/12","v":1.091199375E-4},null,{"$f":"$E$41/12","v":1.091199375E-4},null,{"$f":"$E$41/12","v":1.091199375E-4},null,{"$f":"$E$41/12","v":1.091199375E-4},null,{"$f":"$E$41/12","v":1.091199375E-4},null,{"$f":"$E$41/12","v":1.091199375E-4},null,{"$f":"$E$41/12","v":1.091199375E-4},null,{"$f":"$E$41/12","v":1.091199375E-4}]
[null,null,"Βενζίνη\n(Επιβατικό)",{"$f":"'Υπολογισμός Αν. Απ.'!Q14","v":12.999085699818078},{"$f":"'Υπολογισμός Αν. Απ.'!N14","v":12.887927588250003},{"$f":"$D$42/12","v":1.0832571416515064},{"$f":"$E$42/12","v":1.0739939656875002},{"$f":"$D$42/12","v":1.0832571416515064},{"$f":"$E$42/12","v":1.0739939656875002},{"$f":"$D$42/12","v":1.0832571416515064},{"$f":"$E$42/12","v":1.0739939656875002},{"$f":"$D$42/12","v":1.0832571416515064},{"$f":"$E$42/12","v":1.0739939656875002},{"$f":"$D$42/12","v":1.0832571416515064},{"$f":"$E$42/12","v":1.0739939656875002},{"$f":"$D$42/12","v":1.0832571416515064},{"$f":"$E$42/12","v":1.0739939656875002},{"$f":"$D$42/12","v":1.0832571416515064},{"$f":"$E$42/12","v":1.0739939656875002},{"$f":"$D$42/12","v":1.0832571416515064},{"$f":"$E$42/12","v":1.0739939656875002},{"$f":"$D$42/12","v":1.0832571416515064},{"$f":"$E$42/12","v":1.0739939656875002},{"$f":"$D$42/12","v":1.0832571416515064},{"$f":"$E$42/12","v":1.0739939656875002},{"$f":"$D$42/12","v":1.0832571416515064},{"$f":"$E$42/12","v":1.0739939656875002},{"$f":"$D$42/12","v":1.0832571416515064},{"$f":"$E$42/12","v":1.0739939656875002}]
[null,null,null,null,{"$f":"'Υπολογισμός Αν. Απ.'!O14","v":1.6430964192499999E-3},null,{"$f":"$E$43/12","v":1.3692470160416666E-4},null,{"$f":"$E$43/12","v":1.3692470160416666E-4},null,{"$f":"$E$43/12","v":1.3692470160416666E-4},null,{"$f":"$E$43/12","v":1.3692470160416666E-4},null,{"$f":"$E$43/12","v":1.3692470160416666E-4},null,{"$f":"$E$43/12","v":1.3692470160416666E-4},null,{"$f":"$E$43/12","v":1.3692470160416666E-4},null,{"$f":"$E$43/12","v":1.3692470160416666E-4},null,{"$f":"$E$43/12","v":1.3692470160416666E-4},null,{"$f":"$E$43/12","v":1.3692470160416666E-4},null,{"$f":"$E$43/12","v":1.3692470160416666E-4},null,{"$f":"$E$43/12","v":1.3692470160416666E-4}]
[null,null,null,null,{"$f":"'Υπολογισμός Αν. Απ.'!P14","v":2.3925172700000003E-4},null,{"$f":"$E$44/12","v":1.993764391666667E-5},null,{"$f":"$E$44/12","v":1.993764391666667E-5},null,{"$f":"$E$44/12","v":1.993764391666667E-5},null,{"$f":"$E$44/12","v":1.993764391666667E-5},null,{"$f":"$E$44/12","v":1.993764391666667E-5},null,{"$f":"$E$44/12","v":1.993764391666667E-5},null,{"$f":"$E$44/12","v":1.993764391666667E-5},null,{"$f":"$E$44/12","v":1.993764391666667E-5},null,{"$f":"$E$44/12","v":1.993764391666667E-5},null,{"$f":"$E$44/12","v":1.993764391666667E-5},null,{"$f":"$E$44/12","v":1.993764391666667E-5},null,{"$f":"$E$44/12","v":1.993764391666667E-5}]
[null,null,"Ανεξέλεγκτες Εκπομπές Ανθρωπογενών Συστημάτων",{"$f":"SUM(D48:D65)","v":0},0,{"$f":"SUM(F48:F65)","v":0},0,{"$f":"SUM(H48:H65)","v":0},0,{"$f":"SUM(J48:J65)","v":0},0,{"$f":"SUM(L48:L65)","v":0},0,{"$f":"SUM(N48:N65)","v":0},0,{"$f":"SUM(P48:P65)","v":0},0,{"$f":"SUM(R48:R65)","v":0},0,{"$f":"SUM(T48:T65)","v":0},0,{"$f":"SUM(V48:V65)","v":0},0,{"$f":"SUM(X48:X65)","v":0},0,{"$f":"SUM(Z48:Z65)","v":0},0,{"$f":"SUM(AB48:AB65)","v":0},0]
[null,null,null,null,0,null,0,null,0,null,0,null,0,null,0,null,0,null,0,null,0,null,0,null,0,null,0,null,0]
[null,null,null,null,0,null,0,null,0,null,0,null,0,null,0,null,0,null,0,null,0,null,0,null,0,null,0,null,0]
[null,null,"R-11",{"$f":"'Υπολογισμός Αν. Απ.'!I18","v":0},0,{"$f":"D48*'Γενικά Στοιχεία Οργανισμού'!$F$13/SUM('Γενικά Στοιχεία Οργανισμού'!$F$13:$F$24)","v":0},{"$f":"E48*'Γενικά Στοιχεία Οργανισμού'!$F$13/SUM('Γενικά Στοιχεία Οργανισμού'!$F$13:$F$24)","v":0},{"$f":"D48*'Γενικά Στοιχεία Οργανισμού'!$F$14/SUM('Γενικά Στοιχεία Οργανισμού'!$F$13:$F$24)","v":0},{"$f":"E48*'Γενικά Στοιχεία Οργανισμού'!$F$14/SUM('Γενικά Στοιχεία Οργανισμού'!$F$13:$F$24)","v":0},{"$f":"D48*'Γενικά Στοιχεία Οργανισμού'!$F$15/SUM('Γενικά Στοιχεία Οργανισμού'!$F$13:$F$24)","v":0},{"$f":"E48*'Γενικά Στοιχεία Οργανισμού'!$F$15/SUM('Γενικά Στοιχεία Οργανισμού'!$F$13:$F$24)","v":0},{"$f":"D48*'Γενικά Στοιχεία Οργανισμού'!$F$16/SUM('Γενικά Στοιχεία Οργανισμού'!$F$13:$F$24)","v":0},{"$f":"E48*'Γενικά Στοιχεία Οργανισμού'!$F$16/SUM('Γενικά Στοιχεία Οργανισμού'!$F$13:$F$24)","v":0},{"$f":"D48*'Γενικά Στοιχεία Οργανισμού'!$F$17/SUM('Γενικά Στοιχεία Οργανισμού'!$F$13:$F$24)","v":0},{"$f":"E48*'Γενικά Στοιχεία Οργανισμού'!$F$17/SUM('Γενικά Στοιχεία Οργανισμού'!$F$13:$F$24)","v":0},{"$f":"D48*'Γενικά Στοιχεία Οργανισμού'!$F$18/SUM('Γενικά Στοιχεία Οργανισμού'!$F$13:$F$24)","v":0},{"$f":"E48*'Γενικά Στοιχεία Οργανισμού'!$F$18/SUM('Γενικά Στοιχεία Οργανισμού'!$F$13:$F$24)","v":0},{"$f":"D48*'Γενικά Στοιχεία Οργανισμού'!$F$19/SUM('Γενικά Στοιχεία Οργανισμού'!$F$13:$F$24)","v":0},{"$f":"E48*'Γενικά Στοιχεία Οργανισμού'!$F$19/SUM('Γενικά Στοιχεία Οργανισμού'!$F$13:$F$24)","v":0},{"$f":"D48*'Γενικά Στοιχεία Οργανισμού'!$F$20/SUM('Γενικά Στοιχεία Οργανισμού'!$F$13:$F$24)","v":0},{"$f":"E48*'Γενικά Στοιχεία Οργανισμού'!$F$20/SUM('Γενικά Στοιχεία Οργανισμού'!$F$13:$F$24)","v":0},{"$f":"D48*'Γενικά Στοιχεία Οργανισμού'!$F$21/SUM('Γενικά Στοιχεία Οργανισμού'!$F$13:$F$24)","v":0},{"$f":"E48*'Γενικά Στοιχεία Οργανισμού'!$F$21/SUM('Γενικά Στοιχεία Οργανισμού'!$F$13:$F$24)","v":0},{"$f":"D48*'Γενικά Στοιχεία Οργανισμού'!$F$22/SUM('Γενικά Στοιχεία Οργανισμού'!$F$13:$F$24)","v":0},{"$f":"E48*'Γενικά Στοιχεία Οργανισμού'!$F$22/SUM('Γενικά Στοιχεία Οργανισμού'!$F$13:$F$24)","v":0},{"$f":"D48*'Γενικά Στοιχεία Οργανισμού'!$F$23/SUM('Γενικά Στοιχεία Οργανισμού'!$F$13:$F$24)","v":0},{"$f":"E48*'Γενικά Στοιχεία Οργανισμού'!$F$23/SUM('Γενικά Στοιχεία Οργανισμού'!$F$13:$F$24)","v":0},{"$f":"D48*'Γενικά Στοιχεία Οργανισμού'!$F$24/SUM('Γενικά Στοιχεία Οργανισμού'!$F$13:$F$24)","v":0},{"$f":"E48*'Γενικά Στοιχεία Οργανισμού'!$F$24/SUM('Γενικά Στοιχεία Οργανισμού'!$F$13:$F$24)","v":0}]
[null,null,null,null,0,null,{"$f":"E49*'Γενικά Στοιχεία Οργανισμού'!$F$13/SUM('Γενικά Στοιχεία Οργανισμού'!$F$13:$F$24)","v":0},null,{"$f":"E49*'Γενικά Στοιχεία Οργανισμού'!$F$14/SUM('Γενικά Στοιχεία Οργανισμού'!$F$13:$F$24)","v":0},null,{"$f":"E49*'Γενικά Στοιχεία Οργανισμού'!$F$15/SUM('Γενικά Στοιχεία Οργανισμού'!$F$13:$F$24)","v":0},null,{"$f":"E49*'Γενικά Στοιχεία Οργανισμού'!$F$16/SUM('Γενικά Στοιχεία Οργανισμού'!$F$13:$F$24)","v":0},null,{"$f":"E49*'Γενικά Στοιχεία Οργανισμού'!$F$17/SUM('Γενικά Στοιχεία Οργανισμού'!$F$13:$F$24)","v":0},null,{"$f":"E49*'Γενικά Στοιχεία Οργανισμού'!$F$18/SUM('Γενικά Στοιχεία Οργανισμού'!$F$13:$F$24)","v":0},null,{"$f":"E49*'Γενικά Στοιχεία Οργανισμού'!$F$19/SUM('Γενικά Στοιχεία Οργανισμού'!$F$13:$F$24)","v":0},null,{"$f":"E49*'Γενικά Στοιχεία Οργανισμού'!$F$20/SUM('Γενικά Στοιχεία Οργανισμού'!$F$13:$F$24)","v":0},null,{"$f":"E49*'Γενικά Στοιχεία Οργανισμού'!$F$21/SUM('Γενικά Στοιχεία Οργανισμού'!$F$13:$F$24)","v":0},null,{"$f":"E49*'Γενικά Στοιχεία Οργανισμού'!$F$22/SUM('Γενικά Στοιχεία Οργανισμού'!$F$13:$F$24)","v":0},null,{"$f":"E49*'Γενικά Στοιχεία Οργανισμού'!$F$23/SUM('Γενικά Στοιχεία Οργανισμού'!$F$13:$F$24)","v":0},null,{"$f":"E49*'Γενικά Στοιχεία Οργανισμού'!$F$24/SUM('Γενικά Στοιχεία Οργανισμού'!$F$13:$F$24)","v":0}]
[null,null,null,null,0,null,{"$f":"E50*'Γενικά Στοιχεία Οργανισμού'!$F$13/SUM('Γενικά Στοιχεία Οργανισμού'!$F$13:$F$24)","v":0},null,{"$f":"E50*'Γενικά Στοιχεία Οργανισμού'!$F$14/SUM('Γενικά Στοιχεία Οργανισμού'!$F$13:$F$24)","v":0},null,{"$f":"E50*'Γενικά Στοιχεία Οργανισμού'!$F$15/SUM('Γενικά Στοιχεία Οργανισμού'!$F$13:$F$24)","v":0},null,{"$f":"E50*'Γενικά Στοιχεία Οργανισμού'!$F$16/SUM('Γενικά Στοιχεία Οργανισμού'!$F$13:$F$24)","v":0},null,{"$f":"E50*'Γενικά Στοιχεία Οργανισμού'!$F$17/SUM('Γενικά Στοιχεία Οργανισμού'!$F$13:$F$24)","v":0},null,{"$f":"E50*'Γενικά Στοιχεία Οργανισμού'!$F$18/SUM('Γενικά Στοιχεία Οργανισμού'!$F$13:$F$24)","v":0},null,{"$f":"E50*'Γενικά Στοιχεία Οργανισμού'!$F$19/SUM('Γενικά Στοιχεία Οργανισμού'!$F$13:$F$24)","v":0},null,{"$f":"E50*'Γενικά Στοιχεία Οργανισμού'!$F$20/SUM('Γενικά Στοιχεία Οργανισμού'!$F$13:$F$24)","v":0},null,{"$f":"E50*'Γενικά Στοιχεία Οργανισμού'!$F$21/SUM('Γενικά Στοιχεία Οργανισμού'!$F$13:$F$24)","v":0},null,{"$f":"E50*'Γενικά Στοιχεία Οργανισμού'!$F$22/SUM('Γενικά Στοιχεία Οργανισμού'!$F$13:$F$24)","v":0},null,{"$f":"E50*'Γενικά Στοιχεία Οργανισμού'!$F$23/SUM('Γενικά Στοιχεία Οργανισμού'!$F$13:$F$24)","v":0},null,{"$f":"E50*'Γενικά Στοιχεία Οργανισμού'!$F$24/SUM('Γενικά Στοιχεία Οργανισμού'!$F$13:$F$24)","v":0}]
[null,null,"R-12",{"$f":"'Υπολογισμός Αν. Απ.'!I19","v":0},0,{"$f":"D51*'Γενικά Στοιχεία Οργανισμού'!$F$13/SUM('Γενικά Στοιχεία Οργανισμού'!$F$13:$F$24)","v":0},{"$f":"E51*'Γενικά Στοιχεία Οργανισμού'!$F$13/SUM('Γενικά Στοιχεία Οργανισμού'!$F$13:$F$24)","v":0},{"$f":"D51*'Γενικά Στοιχεία Οργανισμού'!$F$14/SUM('Γενικά Στοιχεία Οργανισμού'!$F$13:$F$24)","v":0},{"$f":"E51*'Γενικά Στοιχεία Οργανισμού'!$F$14/SUM('Γενικά Στοιχεία Οργανισμού'!$F$13:$F$24)","v":0},{"$f":"D51*'Γενικά Στοιχεία Οργανισμού'!$F$15/SUM('Γενικά Στοιχεία Οργανισμού'!$F$13:$F$24)","v":0},{"$f":"E51*'Γενικά Στοιχεία Οργανισμού'!$F$15/SUM('Γενικά Στοιχεία Οργανισμού'!$F$13:$F$24)","v":0},{"$f":"D51*'Γενικά Στοιχεία Οργανισμού'!$F$16/SUM('Γενικά Στοιχεία Οργανισμού'!$F$13:$F$24)","v":0},{"$f":"E51*'Γενικά Στοιχεία Οργανισμού'!$F$16/SUM('Γενικά Στοιχεία Οργανισμού'!$F$13:$F$24)","v":0},{"$f":"D51*'Γενικά Στοιχεία Οργανισμού'!$F$17/SUM('Γενικά Στοιχεία Οργανισμού'!$F$13:$F$24)","v":0},{"$f":"E51*'Γενικά Στοιχεία Οργανισμού'!$F$17/SUM('Γενικά Στοιχεία Οργανισμού'!$F$13:$F$24)","v":0},{"$f":"D51*'Γενικά Στοιχεία Οργανισμού'!$F$18/SUM('Γενικά Στοιχεία Οργανισμού'!$F$13:$F$24)","v":0},{"$f":"E51*'Γενικά Στοιχεία Οργανισμού'!$F$18/SUM('Γενικά Στοιχεία Οργανισμού'!$F$13:$F$24)","v":0},{"$f":"D51*'Γενικά Στοιχεία Οργανισμού'!$F$19/SUM('Γενικά Στοιχεία Οργανισμού'!$F$13:$F$24)","v":0},{"$f":"E51*'Γενικά Στοιχεία Οργανισμού'!$F$19/SUM('Γενικά Στοιχεία Οργανισμού'!$F$13:$F$24)","v":0},{"$f":"D51*'Γενικά Στοιχεία Οργανισμού'!$F$20/SUM('Γενικά Στοιχεία Οργανισμού'!$F$13:$F$24)","v":0},{"$f":"E51*'Γενικά Στοιχεία Οργανισμού'!$F$20/SUM('Γενικά Στοιχεία Οργανισμού'!$F$13:$F$24)","v":0},{"$f":"D51*'Γενικά Στοιχεία Οργανισμού'!$F$21/SUM('Γενικά Στοιχεία Οργανισμού'!$F$13:$F$24)","v":0},{"$f":"E51*'Γενικά Στοιχεία Οργανισμού'!$F$21/SUM('Γενικά Στοιχεία Οργανισμού'!$F$13:$F$24)","v":0},{"$f":"D51*'Γενικά Στοιχεία Οργανισμού'!$F$22/SUM('Γενικά Στοιχεία Οργανισμού'!$F$13:$F$24)","v":0},{"$f":"E51*'Γενικά Στοιχεία Οργανισμού'!$F$22/SUM('Γενικά Στοιχεία Οργανισμού'!$F$13:$F$24)","v":0},{"$f":"D51*'Γενικά Στοιχεία Οργανισμού'!$F$23/SUM('Γενικά Στοιχεία Οργανισμού'!$F$13:$F$24)","v":0},{"$f":"E51*'Γενικά Στοιχεία Οργανισμού'!$F$23/SUM('Γενικά Στοιχεία Οργανισμού'!$F$13:$F$24)","v":0},{"$f":"D51*'Γενικά Στοιχεία Οργανισμού'!$F$24/SUM('Γενικά Στοιχεία Οργανισμού'!$F$13:$F$24)","v":0},{"$f":"E51*'Γενικά Στοιχεία Οργανισμού'!$F$24/SUM('Γενικά Στοιχεία Οργανισμού'!$F$13:$F$24)","v":0}]
[null,null,null,null,0,null,{"$f":"E52*'Γενικά Στοιχεία Οργανισμού'!$F$13/SUM('Γενικά Στοιχεία Οργανισμού'!$F$13:$F$24)","v":0},null,{"$f":"E52*'Γενικά Στοιχεία Οργανισμού'!$F$14/SUM('Γενικά Στοιχεία Οργανισμού'!$F$13:$F$24)","v":0},null,{"$f":"E52*'Γενικά Στοιχεία Οργανισμού'!$F$15/SUM('Γενικά Στοιχεία Οργανισμού'!$F$13:$F$24)","v":0},null,{"$f":"E52*'Γενικά Στοιχεία Οργανισμού'!$F$16/SUM('Γενικά Στοιχεία Οργανισμού'!$F$13:$F$24)","v":0},null,{"$f":"E52*'Γενικά Στοιχεία Οργανισμού'!$F$17/SUM('Γενικά Στοιχεία Οργανισμού'!$F$13:$F$24)","v":0},null,{"$f":"E52*'Γενικά Στοιχεία Οργανισμού'!$F$18/SUM('Γενικά Στοιχεία Οργανισμού'!$F$13:$F$24)","v":0},null,{"$f":"E52*'Γενικά Στοιχεία Οργανισμού'!$F$19/SUM('Γενικά Στοιχεία Οργανισμού'!$F$13:$F$24)","v":0},null,{"$f":"E52*'Γενικά Στοιχεία Οργανισμού'!$F$20/SUM('Γενικά Στοιχεία Οργανισμού'!$F$13:$F$24)","v":0},null,{"$f":"E52*'Γενικά Στοιχεία Οργανισμού'!$F$21/SUM('Γενικά Στοιχεία Οργανισμού'!$F$13:$F$24)","v":0},null,{"$f":"E52*'Γενικά Στοιχεία Οργανισμού'!$F$22/SUM('Γενικά Στοιχεία Οργανισμού'!$F$13:$F$24)","v":0},null,{"$f":"E52*'Γενικά Στοιχεία Οργανισμού'!$F$23/SUM('Γενικά Στοιχεία Οργανισμού'!$F$13:$F$24)","v":0},null,{"$f":"E52*'Γενικά Στοιχεία Οργανισμού'!$F$24/SUM('Γενικά Στοιχεία Οργανισμού'!$F$13:$F$24)","v":0}]
[null,null,null,null,0,null,{"$f":"E53*'Γενικά Στοιχεία Οργανισμού'!$F$13/SUM('Γενικά Στοιχεία Οργανισμού'!$F$13:$F$24)","v":0},null,{"$f":"E53*'Γενικά Στοιχεία Οργανισμού'!$F$14/SUM('Γενικά Στοιχεία Οργανισμού'!$F$13:$F$24)","v":0},null,{"$f":"E53*'Γενικά Στοιχεία Οργανισμού'!$F$15/SUM('Γενικά Στοιχεία Οργανισμού'!$F$13:$F$24)","v":0},null,{"$f":"E53*'Γενικά Στοιχεία Οργανισμού'!$F$16/SUM('Γενικά Στοιχεία Οργανισμού'!$F$13:$F$24)","v":0},null,{"$f":"E53*'Γενικά Στοιχεία Οργανισμού'!$F$17/SUM('Γενικά Στοιχεία Οργανισμού'!$F$13:$F$24)","v":0},null,{"$f":"E53*'Γενικά Στοιχεία Οργανισμού'!$F$18/SUM('Γενικά Στοιχεία Οργανισμού'!$F$13:$F$24)","v":0},null,{"$f":"E53*'Γενικά Στοιχεία Οργανισμού'!$F$19/SUM('Γενικά Στοιχεία Οργανισμού'!$F$13:$F$24)","v":0},null,{"$f":"E53*'Γενικά Στοιχεία Οργανισμού'!$F$20/SUM('Γενικά Στοιχεία Οργανισμού'!$F$13:$F$24)","v":0},null,{"$f":"E53*'Γενικά Στοιχεία Οργανισμού'!$F$21/SUM('Γενικά Στοιχεία Οργανισμού'!$F$13:$F$24)","v":0},null,{"$f":"E53*'Γενικά Στοιχεία Οργανισμού'!$F$22/SUM('Γενικά Στοιχεία Οργανισμού'!$F$13:$F$24)","v":0},null,{"$f":"E53*'Γενικά Στοιχεία Οργανισμού'!$F$23/SUM('Γενικά Στοιχεία Οργανισμού'!$F$13:$F$24)","v":0},null,{"$f":"E53*'Γενικά Στοιχεία Οργανισμού'!$F$24/SUM('Γενικά Στοιχεία Οργανισμού'!$F$13:$F$24)","v":0}]
[null,null,"R-134a",{"$f":"'Υπολογισμός Αν. Απ.'!I20","v":0},0,{"$f":"D54*'Γενικά Στοιχεία Οργανισμού'!$F$13/SUM('Γενικά Στοιχεία Οργανισμού'!$F$13:$F$24)","v":0},{"$f":"E54*'Γενικά Στοιχεία Οργανισμού'!$F$13/SUM('Γενικά Στοιχεία Οργανισμού'!$F$13:$F$24)","v":0},{"$f":"D54*'Γενικά Στοιχεία Οργανισμού'!$F$14/SUM('Γενικά Στοιχεία Οργανισμού'!$F$13:$F$24)","v":0},{"$f":"E54*'Γενικά Στοιχεία Οργανισμού'!$F$14/SUM('Γενικά Στοιχεία Οργανισμού'!$F$13:$F$24)","v":0},{"$f":"D54*'Γενικά Στοιχεία Οργανισμού'!$F$15/SUM('Γενικά Στοιχεία Οργανισμού'!$F$13:$F$24)","v":0},{"$f":"E54*'Γενικά Στοιχεία Οργανισμού'!$F$15/SUM('Γενικά Στοιχεία Οργανισμού'!$F$13:$F$24)","v":0},{"$f":"D54*'Γενικά Στοιχεία Οργανισμού'!$F$16/SUM('Γενικά Στοιχεία Οργανισμού'!$F$13:$F$24)","v":0},{"$f":"E54*'Γενικά Στοιχεία Οργανισμού'!$F$16/SUM('Γενικά Στοιχεία Οργανισμού'!$F$13:$F$24)","v":0},{"$f":"D54*'Γενικά Στοιχεία Οργανισμού'!$F$17/SUM('Γενικά Στοιχεία Οργανισμού'!$F$13:$F$24)","v":0},{"$f":"E54*'Γενικά Στοιχεία Οργανισμού'!$F$17/SUM('Γενικά Στοιχεία Οργανισμού'!$F$13:$F$24)","v":0},{"$f":"D54*'Γενικά Στοιχεία Οργανισμού'!$F$18/SUM('Γενικά Στοιχεία Οργανισμού'!$F$13:$F$24)","v":0},{"$f":"E54*'Γενικά Στοιχεία Οργανισμού'!$F$18/SUM('Γενικά Στοιχεία Οργανισμού'!$F$13:$F$24)","v":0},{"$f":"D54*'Γενικά Στοιχεία Οργανισμού'!$F$19/SUM('Γενικά Στοιχεία Οργανισμού'!$F$13:$F$24)","v":0},{"$f":"E54*'Γενικά Στοιχεία Οργανισμού'!$F$19/SUM('Γενικά Στοιχεία Οργανισμού'!$F$13:$F$24)","v":0},{"$f":"D54*'Γενικά Στοιχεία Οργανισμού'!$F$20/SUM('Γενικά Στοιχεία Οργανισμού'!$F$13:$F$24)","v":0},{"$f":"E54*'Γενικά Στοιχεία Οργανισμού'!$F$20/SUM('Γενικά Στοιχεία Οργανισμού'!$F$13:$F$24)","v":0},{"$f":"D54*'Γενικά Στοιχεία Οργανισμού'!$F$21/SUM('Γενικά Στοιχεία Οργανισμού'!$F$13:$F$24)","v":0},{"$f":"E54*'Γενικά Στοιχεία Οργανισμού'!$F$21/SUM('Γενικά Στοιχεία Οργανισμού'!$F$13:$F$24)","v":0},{"$f":"D54*'Γενικά Στοιχεία Οργανισμού'!$F$22/SUM('Γενικά Στοιχεία Οργανισμού'!$F$13:$F$24)","v":0},{"$f":"E54*'Γενικά Στοιχεία Οργανισμού'!$F$22/SUM('Γενικά Στοιχεία Οργανισμού'!$F$13:$F$24)","v":0},{"$f":"D54*'Γενικά Στοιχεία Οργανισμού'!$F$23/SUM('Γενικά Στοιχεία Οργανισμού'!$F$13:$F$24)","v":0},{"$f":"E54*'Γενικά Στοιχεία Οργανισμού'!$F$23/SUM('Γενικά Στοιχεία Οργανισμού'!$F$13:$F$24)","v":0},{"$f":"D54*'Γενικά Στοιχεία Οργανισμού'!$F$24/SUM('Γενικά Στοιχεία Οργανισμού'!$F$13:$F$24)","v":0},{"$f":"E54*'Γενικά Στοιχεία Οργανισμού'!$F$24/SUM('Γενικά Στοιχεία Οργανισμού'!$F$13:$F$24)","v":0}]
[null,null,null,null,0,null,{"$f":"E55*'Γενικά Στοιχεία Οργανισμού'!$F$13/SUM('Γενικά Στοιχεία Οργανισμού'!$F$13:$F$24)","v":0},null,{"$f":"E55*'Γενικά Στοιχεία Οργανισμού'!$F$14/SUM('Γενικά Στοιχεία Οργανισμού'!$F$13:$F$24)","v":0},null,{"$f":"E55*'Γενικά Στοιχεία Οργανισμού'!$F$15/SUM('Γενικά Στοιχεία Οργανισμού'!$F$13:$F$24)","v":0},null,{"$f":"E55*'Γενικά Στοιχεία Οργανισμού'!$F$16/SUM('Γενικά Στοιχεία Οργανισμού'!$F$13:$F$24)","v":0},null,{"$f":"E55*'Γενικά Στοιχεία Οργανισμού'!$F$17/SUM('Γενικά Στοιχεία Οργανισμού'!$F$13:$F$24)","v":0},null,{"$f":"E55*'Γενικά Στοιχεία Οργανισμού'!$F$18/SUM('Γενικά Στοιχεία Οργανισμού'!$F$13:$F$24)","v":0},null,{"$f":"E55*'Γενικά Στοιχεία Οργανισμού'!$F$19/SUM('Γενικά Στοιχεία Οργανισμού'!$F$13:$F$24)","v":0},null,{"$f":"E55*'Γενικά Στοιχεία Οργανισμού'!$F$20/SUM('Γενικά Στοιχεία Οργανισμού'!$F$13:$F$24)","v":0},null,{"$f":"E55*'Γενικά Στοιχεία Οργανισμού'!$F$21/SUM('Γενικά Στοιχεία Οργανισμού'!$F$13:$F$24)","v":0},null,{"$f":"E55*'Γενικά Στοιχεία Οργανισμού'!$F$22/SUM('Γενικά Στοιχεία Οργανισμού'!$F$13:$F$24)","v":0},null,{"$f":"E55*'Γενικά Στοιχεία Οργανισμού'!$F$23/SUM('Γενικά Στοιχεία Οργανισμού'!$F$13:$F$24)","v":0},null,{"$f":"E55*'Γενικά Στοιχεία Οργανισμού'!$F$24/SUM('Γενικά Στοιχεία Οργανισμού'!$F$13:$F$24)","v":0}]
[null,null,null,null,0,null,{"$f":"E56*'Γενικά Στοιχεία Οργανισμού'!$F$13/SUM('Γενικά Στοιχεία Οργανισμού'!$F$13:$F$24)","v":0},null,{"$f":"E56*'Γενικά Στοιχεία Οργανισμού'!$F$14/SUM('Γενικά Στοιχεία Οργανισμού'!$F$13:$F$24)","v":0},null,{"$f":"E56*'Γενικά Στοιχεία Οργανισμού'!$F$15/SUM('Γενικά Στοιχεία Οργανισμού'!$F$13:$F$24)","v":0},null,{"$f":"E56*'Γενικά Στοιχεία Οργανισμού'!$F$16/SUM('Γενικά Στοιχεία Οργανισμού'!$F$13:$F$24)","v":0},null,{"$f":"E56*'Γενικά Στοιχεία Οργανισμού'!$F$17/SUM('Γενικά Στοιχεία Οργανισμού'!$F$13:$F$24)","v":0},null,{"$f":"E56*'Γενικά Στοιχεία Οργανισμού'!$F$18/SUM('Γενικά Στοιχεία Οργανισμού'!$F$13:$F$24)","v":0},null,{"$f":"E56*'Γενικά Στοιχεία Οργανισμού'!$F$19/SUM('Γενικά Στοιχεία Οργανισμού'!$F$13:$F$24)","v":0},null,{"$f":"E56*'Γενικά Στοιχεία Οργανισμού'!$F$20/SUM('Γενικά Στοιχεία Οργανισμού'!$F$13:$F$24)","v":0},null,{"$f":"E56*'Γενικά Στοιχεία Οργανισμού'!$F$21/SUM('Γενικά Στοιχεία Οργανισμού'!$F$13:$F$24)","v":0},null,{"$f":"E56*'Γενικά Στοιχεία Οργανισμού'!$F$22/SUM('Γενικά Στοιχεία Οργανισμού'!$F$13:$F$24)","v":0},null,{"$f":"E56*'Γενικά Στοιχεία Οργανισμού'!$F$23/SUM('Γενικά Στοιχεία Οργανισμού'!$F$13:$F$24)","v":0},null,{"$f":"E56*'Γενικά Στοιχεία Οργανισμού'!$F$24/SUM('Γενικά Στοιχεία Οργανισμού'!$F$13:$F$24)","v":0}]
[null,null,"R-290",{"$f":"'Υπολογισμός Αν. Απ.'!I21","v":0},0,{"$f":"D57*'Γενικά Στοιχεία Οργανισμού'!$F$13/SUM('Γενικά Στοιχεία Οργανισμού'!$F$13:$F$24)","v":0},{"$f":"E57*'Γενικά Στοιχεία Οργανισμού'!$F$13/SUM('Γενικά Στοιχεία Οργανισμού'!$F$13:$F$24)","v":0},{"$f":"D57*'Γενικά Στοιχεία Οργανισμού'!$F$14/SUM('Γενικά Στοιχεία Οργανισμού'!$F$13:$F$24)","v":0},{"$f":"E57*'Γενικά Στοιχεία Οργανισμού'!$F$14/SUM('Γενικά Στοιχεία Οργανισμού'!$F$13:$F$24)","v":0},{"$f":"D57*'Γενικά Στοιχεία Οργανισμού'!$F$15/SUM('Γενικά Στοιχεία Οργανισμού'!$F$13:$F$24)","v":0},{"$f":"E57*'Γενικά Στοιχεία Οργανισμού'!$F$15/SUM('Γενικά Στοιχεία Οργανισμού'!$F$13:$F$24)","v":0},{"$f":"D57*'Γενικά Στοιχεία Οργανισμού'!$F$16/SUM('Γενικά Στοιχεία Οργανισμού'!$F$13:$F$24)","v":0},{"$f":"E57*'Γενικά Στοιχεία Οργανισμού'!$F$16/SUM('Γενικά Στοιχεία Οργανισμού'!$F$13:$F$24)","v":0},{"$f":"D57*'Γενικά Στοιχεία Οργανισμού'!$F$17/SUM('Γενικά Στοιχεία Οργανισμού'!$F$13:$F$24)","v":0},{"$f":"E57*'Γενικά Στοιχεία Οργανισμού'!$F$17/SUM('Γενικά Στοιχεία Οργανισμού'!$F$13:$F$24)","v":0},{"$f":"D57*'Γενικά Στοιχεία Οργανισμού'!$F$18/SUM('Γενικά Στοιχεία Οργανισμού'!$F$13:$F$24)","v":0},{"$f":"E57*'Γενικά Στοιχεία Οργανισμού'!$F$18/SUM('Γενικά Στοιχεία Οργανισμού'!$F$13:$F$24)","v":0},{"$f":"D57*'Γενικά Στοιχεία Οργανισμού'!$F$19/SUM('Γενικά Στοιχεία Οργανισμού'!$F$13:$F$24)","v":0},{"$f":"E57*'Γενικά Στοιχεία Οργανισμού'!$F$19/SUM('Γενικά Στοιχεία Οργανισμού'!$F$13:$F$24)","v":0},{"$f":"D57*'Γενικά Στοιχεία Οργανισμού'!$F$20/SUM('Γενικά Στοιχεία Οργανισμού'!$F$13:$F$24)","v":0},{"$f":"E57*'Γενικά Στοιχεία Οργανισμού'!$F$20/SUM('Γενικά Στοιχεία Οργανισμού'!$F$13:$F$24)","v":0},{"$f":"D57*'Γενικά Στοιχεία Οργανισμού'!$F$21/SUM('Γενικά Στοιχεία Οργανισμού'!$F$13:$F$24)","v":0},{"$f":"E57*'Γενικά Στοιχεία Οργανισμού'!$F$21/SUM('Γενικά Στοιχεία Οργανισμού'!$F$13:$F$24)","v":0},{"$f":"D57*'Γενικά Στοιχεία Οργανισμού'!$F$22/SUM('Γενικά Στοιχεία Οργανισμού'!$F$13:$F$24)","v":0},{"$f":"E57*'Γενικά Στοιχεία Οργανισμού'!$F$22/SUM('Γενικά Στοιχεία Οργανισμού'!$F$13:$F$24)","v":0},{"$f":"D57*'Γενικά Στοιχεία Οργανισμού'!$F$23/SUM('Γενικά Στοιχεία Οργανισμού'!$F$13:$F$24)","v":0},{"$f":"E57*'Γενικά Στοιχεία Οργανισμού'!$F$23/SUM('Γενικά Στοιχεία Οργανισμού'!$F$13:$F$24)","v":0},{"$f":"D57*'Γενικά Στοιχεία Οργανισμού'!$F$24/SUM('Γενικά Στοιχεία Οργανισμού'!$F$13:$F$24)","v":0},{"$f":"E57*'Γενικά Στοιχεία Οργανισμού'!$F$24/SUM('Γενικά Στοιχεία Οργανισμού'!$F$13:$F$24)","v":0}]
[null,null,null,null,0,null,{"$f":"E58*'Γενικά Στοιχεία Οργανισμού'!$F$13/SUM('Γενικά Στοιχεία Οργανισμού'!$F$13:$F$24)","v":0},null,{"$f":"E58*'Γενικά Στοιχεία Οργανισμού'!$F$14/SUM('Γενικά Στοιχεία Οργανισμού'!$F$13:$F$24)","v":0},null,{"$f":"E58*'Γενικά Στοιχεία Οργανισμού'!$F$15/SUM('Γενικά Στοιχεία Οργανισμού'!$F$13:$F$24)","v":0},null,{"$f":"E58*'Γενικά Στοιχεία Οργανισμού'!$F$16/SUM('Γενικά Στοιχεία Οργανισμού'!$F$13:$F$24)","v":0},null,{"$f":"E58*'Γενικά Στοιχεία Οργανισμού'!$F$17/SUM('Γενικά Στοιχεία Οργανισμού'!$F$13:$F$24)","v":0},null,{"$f":"E58*'Γενικά Στοιχεία Οργανισμού'!$F$18/SUM('Γενικά Στοιχεία Οργανισμού'!$F$13:$F$24)","v":0},null,{"$f":"E58*'Γενικά Στοιχεία Οργανισμού'!$F$19/SUM('Γενικά Στοιχεία Οργανισμού'!$F$13:$F$24)","v":0},null,{"$f":"E58*'Γενικά Στοιχεία Οργανισμού'!$F$20/SUM('Γενικά Στοιχεία Οργανισμού'!$F$13:$F$24)","v":0},null,{"$f":"E58*'Γενικά Στοιχεία Οργανισμού'!$F$21/SUM('Γενικά Στοιχεία Οργανισμού'!$F$13:$F$24)","v":0},null,{"$f":"E58*'Γενικά Στοιχεία Οργανισμού'!$F$22/SUM('Γενικά Στοιχεία Οργανισμού'!$F$13:$F$24)","v":0},null,{"$f":"E58*'Γενικά Στοιχεία Οργανισμού'!$F$23/SUM('Γενικά Στοιχεία Οργανισμού'!$F$13:$F$24)","v":0},null,{"$f":"E58*'Γενικά Στοιχεία Οργανισμού'!$F$24/SUM('Γενικά Στοιχεία Οργανισμού'!$F$13:$F$24)","v":0}]
[null,null,null,null,0,null,{"$f":"E59*'Γενικά Στοιχεία Οργανισμού'!$F$13/SUM('Γενικά Στοιχεία Οργανισμού'!$F$13:$F$24)","v":0},null,{"$f":"E59*'Γενικά Στοιχεία Οργανισμού'!$F$14/SUM('Γενικά Στοιχεία Οργανισμού'!$F$13:$F$24)","v":0},null,{"$f":"E59*'Γενικά Στοιχεία Οργανισμού'!$F$15/SUM('Γενικά Στοιχεία Οργανισμού'!$F$13:$F$24)","v":0},null,{"$f":"E59*'Γενικά Στοιχεία Οργανισμού'!$F$16/SUM('Γενικά Στοιχεία Οργανισμού'!$F$13:$F$24)","v":0},null,{"$f":"E59*'Γενικά Στοιχεία Οργανισμού'!$F$17/SUM('Γενικά Στοιχεία Οργανισμού'!$F$13:$F$24)","v":0},null,{"$f":"E59*'Γενικά Στοιχεία Οργανισμού'!$F$18/SUM('Γενικά Στοιχεία Οργανισμού'!$F$13:$F$24)","v":0},null,{"$f":"E59*'Γενικά Στοιχεία Οργανισμού'!$F$19/SUM('Γενικά Στοιχεία Οργανισμού'!$F$13:$F$24)","v":0},null,{"$f":"E59*'Γενικά Στοιχεία Οργανισμού'!$F$20/SUM('Γενικά Στοιχεία Οργανισμού'!$F$13:$F$24)","v":0},null,{"$f":"E59*'Γενικά Στοιχεία Οργανισμού'!$F$21/SUM('Γενικά Στοιχεία Οργανισμού'!$F$13:$F$24)","v":0},null,{"$f":"E59*'Γενικά Στοιχεία Οργανισμού'!$F$22/SUM('Γενικά Στοιχεία Οργανισμού'!$F$13:$F$24)","v":0},null,{"$f":"E59*'Γενικά Στοιχεία Οργανισμού'!$F$23/SUM('Γενικά Στοιχεία Οργανισμού'!$F$13:$F$24)","v":0},null,{"$f":"E59*'Γενικά Στοιχεία Οργανισμού'!$F$24/SUM('Γενικά Στοιχεία Οργανισμού'!$F$13:$F$24)","v":0}]
[null,null,"R-404a",{"$f":"'Υπολογισμός Αν. Απ.'!I22","v":0},0,{"$f":"D60*'Γενικά Στοιχεία Οργανισμού'!$F$13/SUM('Γενικά Στοιχεία Οργανισμού'!$F$13:$F$24)","v":0},{"$f":"E60*'Γενικά Στοιχεία Οργανισμού'!$F$13/SUM('Γενικά Στοιχεία Οργανισμού'!$F$13:$F$24)","v":0},{"$f":"D60*'Γενικά Στοιχεία Οργανισμού'!$F$14/SUM('Γενικά Στοιχεία Οργανισμού'!$F$13:$F$24)","v":0},{"$f":"E60*'Γενικά Στοιχεία Οργανισμού'!$F$14/SUM('Γενικά Στοιχεία Οργανισμού'!$F$13:$F$24)","v":0},{"$f":"D60*'Γενικά Στοιχεία Οργανισμού'!$F$15/SUM('Γενικά Στοιχεία Οργανισμού'!$F$13:$F$24)","v":0},{"$f":"E60*'Γενικά Στοιχεία Οργανισμού'!$F$15/SUM('Γενικά Στοιχεία Οργανισμού'!$F$13:$F$24)","v":0},{"$f":"D60*'Γενικά Στοιχεία Οργανισμού'!$F$16/SUM('Γενικά Στοιχεία Οργανισμού'!$F$13:$F$24)","v":0},{"$f":"E60*'Γενικά Στοιχεία Οργανισμού'!$F$16/SUM('Γενικά Στοιχεία Οργανισμού'!$F$13:$F$24)","v":0},{"$f":"D60*'Γενικά Στοιχεία Οργανισμού'!$F$17/SUM('Γενικά Στοιχεία Οργανισμού'!$F$13:$F$24)","v":0},{"$f":"E60*'Γενικά Στοιχεία Οργανισμού'!$F$17/SUM('Γενικά Στοιχεία Οργανισμού'!$F$13:$F$24)","v":0},{"$f":"D60*'Γενικά Στοιχεία Οργανισμού'!$F$18/SUM('Γενικά Στοιχεία Οργανισμού'!$F$13:$F$24)","v":0},{"$f":"E60*'Γενικά Στοιχεία Οργανισμού'!$F$18/SUM('Γενικά Στοιχεία Οργανισμού'!$F$13:$F$24)","v":0},{"$f":"D60*'Γενικά Στοιχεία Οργανισμού'!$F$19/SUM('Γενικά Στοιχεία Οργανισμού'!$F$13:$F$24)","v":0},{"$f":"E60*'Γενικά Στοιχεία Οργανισμού'!$F$19/SUM('Γενικά Στοιχεία Οργανισμού'!$F$13:$F$24)","v":0},{"$f":"D60*'Γενικά Στοιχεία Οργανισμού'!$F$20/SUM('Γενικά Στοιχεία Οργανισμού'!$F$13:$F$24)","v":0},{"$f":"E60*'Γενικά Στοιχεία Οργανισμού'!$F$20/SUM('Γενικά Στοιχεία Οργανισμού'!$F$13:$F$24)","v":0},{"$f":"D60*'Γενικά Στοιχεία Οργανισμού'!$F$21/SUM('Γενικά Στοιχεία Οργανισμού'!$F$13:$F$24)","v":0},{"$f":"E60*'Γενικά Στοιχεία Οργανισμού'!$F$21/SUM('Γενικά Στοιχεία Οργανισμού'!$F$13:$F$24)","v":0},{"$f":"D60*'Γενικά Στοιχεία Οργανισμού'!$F$22/SUM('Γενικά Στοιχεία Οργανισμού'!$F$13:$F$24)","v":0},{"$f":"E60*'Γενικά Στοιχεία Οργανισμού'!$F$22/SUM('Γενικά Στοιχεία Οργανισμού'!$F$13:$F$24)","v":0},{"$f":"D60*'Γενικά Στοιχεία Οργανισμού'!$F$23/SUM('Γενικά Στοιχεία Οργανισμού'!$F$13:$F$24)","v":0},{"$f":"E60*'Γενικά Στοιχεία Οργανισμού'!$F$23/SUM('Γενικά Στοιχεία Οργανισμού'!$F$13:$F$24)","v":0},{"$f":"D60*'Γενικά Στοιχεία Οργανισμού'!$F$24/SUM('Γενικά Στοιχεία Οργανισμού'!$F$13:$F$24)","v":0},{"$f":"E60*'Γενικά Στοιχεία Οργανισμού'!$F$24/SUM('Γενικά Στοιχεία Οργανισμού'!$F$13:$F$24)","v":0}]
[null,null,null,null,0,null,{"$f":"E61*'Γενικά Στοιχεία Οργανισμού'!$F$13/SUM('Γενικά Στοιχεία Οργανισμού'!$F$13:$F$24)","v":0},null,{"$f":"E61*'Γενικά Στοιχεία Οργανισμού'!$F$14/SUM('Γενικά Στοιχεία Οργανισμού'!$F$13:$F$24)","v":0},null,{"$f":"E61*'Γενικά Στοιχεία Οργανισμού'!$F$15/SUM('Γενικά Στοιχεία Οργανισμού'!$F$13:$F$24)","v":0},null,{"$f":"E61*'Γενικά Στοιχεία Οργανισμού'!$F$16/SUM('Γενικά Στοιχεία Οργανισμού'!$F$13:$F$24)","v":0},null,{"$f":"E61*'Γενικά Στοιχεία Οργανισμού'!$F$17/SUM('Γενικά Στοιχεία Οργανισμού'!$F$13:$F$24)","v":0},null,{"$f":"E61*'Γενικά Στοιχεία Οργανισμού'!$F$18/SUM('Γενικά Στοιχεία Οργανισμού'!$F$13:$F$24)","v":0},null,{"$f":"E61*'Γενικά Στοιχεία Οργανισμού'!$F$19/SUM('Γενικά Στοιχεία Οργανισμού'!$F$13:$F$24)","v":0},null,{"$f":"E61*'Γενικά Στοιχεία Οργανισμού'!$F$20/SUM('Γενικά Στοιχεία Οργανισμού'!$F$13:$F$24)","v":0},null,{"$f":"E61*'Γενικά Στοιχεία Οργανισμού'!$F$21/SUM('Γενικά Στοιχεία Οργανισμού'!$F$13:$F$24)","v":0},null,{"$f":"E61*'Γενικά Στοιχεία Οργανισμού'!$F$22/SUM('Γενικά Στοιχεία Οργανισμού'!$F$13:$F$24)","v":0},null,{"$f":"E61*'Γενικά Στοιχεία Οργανισμού'!$F$23/SUM('Γενικά Στοιχεία Οργανισμού'!$F$13:$F$24)","v":0},null,{"$f":"E61*'Γενικά Στοιχεία Οργανισμού'!$F$24/SUM('Γενικά Στοιχεία Οργανισμού'!$F$13:$F$24)","v":0}]
[null,null,null,null,0,null,{"$f":"E62*'Γενικά Στοιχεία Οργανισμού'!$F$13/SUM('Γενικά Στοιχεία Οργανισμού'!$F$13:$F$24)","v":0},null,{"$f":"E62*'Γενικά Στοιχεία Οργανισμού'!$F$14/SUM('Γενικά Στοιχεία Οργανισμού'!$F$13:$F$24)","v":0},null,{"$f":"E62*'Γενικά Στοιχεία Οργανισμού'!$F$15/SUM('Γενικά Στοιχεία Οργανισμού'!$F$13:$F$24)","v":0},null,{"$f":"E62*'Γενικά Στοιχεία Οργανισμού'!$F$16/SUM('Γενικά Στοιχεία Οργανισμού'!$F$13:$F$24)","v":0},null,{"$f":"E62*'Γενικά Στοιχεία Οργανισμού'!$F$17/SUM('Γενικά Στοιχεία Οργανισμού'!$F$13:$F$24)","v":0},null,{"$f":"E62*'Γενικά Στοιχεία Οργανισμού'!$F$18/SUM('Γενικά Στοιχεία Οργανισμού'!$F$13:$F$24)","v":0},null,{"$f":"E62*'Γενικά Στοιχεία Οργανισμού'!$F$19/SUM('Γενικά Στοιχεία Οργανισμού'!$F$13:$F$24)","v":0},null,{"$f":"E62*'Γενικά Στοιχεία Οργανισμού'!$F$20/SUM('Γενικά Στοιχεία Οργανισμού'!$F$13:$F$24)","v":0},null,{"$f":"E62*'Γενικά Στοιχεία Οργανισμού'!$F$21/SUM('Γενικά Στοιχεία Οργανισμού'!$F$13:$F$24)","v":0},null,{"$f":"E62*'Γενικά Στοιχεία Οργανισμού'!$F$22/SUM('Γενικά Στοιχεία Οργανισμού'!$F$13:$F$24)","v":0},null,{"$f":"E62*'Γενικά Στοιχεία Οργανισμού'!$F$23/SUM('Γενικά Στοιχεία Οργανισμού'!$F$13:$F$24)","v":0},null,{"$f":"E62*'Γενικά Στοιχεία Οργανισμού'!$F$24/SUM('Γενικά Στοιχεία Οργανισμού'!$F$13:$F$24)","v":0}]
[null,null,"R-410a",{"$f":"'Υπολογισμός Αν. Απ.'!I23","v":0},0,{"$f":"D63*'Γενικά Στοιχεία Οργανισμού'!$F$13/SUM('Γενικά Στοιχεία Οργανισμού'!$F$13:$F$24)","v":0},{"$f":"E63*'Γενικά Στοιχεία Οργανισμού'!$F$13/SUM('Γενικά Στοιχεία Οργανισμού'!$F$13:$F$24)","v":0},{"$f":"D63*'Γενικά Στοιχεία Οργανισμού'!$F$14/SUM('Γενικά Στοιχεία Οργανισμού'!$F$13:$F$24)","v":0},{"$f":"E63*'Γενικά Στοιχεία Οργανισμού'!$F$14/SUM('Γενικά Στοιχεία Οργανισμού'!$F$13:$F$24)","v":0},{"$f":"D63*'Γενικά Στοιχεία Οργανισμού'!$F$15/SUM('Γενικά Στοιχεία Οργανισμού'!$F$13:$F$24)","v":0},{"$f":"E63*'Γενικά Στοιχεία Οργανισμού'!$F$15/SUM('Γενικά Στοιχεία Οργανισμού'!$F$13:$F$24)","v":0},{"$f":"D63*'Γενικά Στοιχεία Οργανισμού'!$F$16/SUM('Γενικά Στοιχεία Οργανισμού'!$F$13:$F$24)","v":0},{"$f":"E63*'Γενικά Στοιχεία Οργανισμού'!$F$16/SUM('Γενικά Στοιχεία Οργανισμού'!$F$13:$F$24)","v":0},{"$f":"D63*'Γενικά Στοιχεία Οργανισμού'!$F$17/SUM('Γενικά Στοιχεία Οργανισμού'!$F$13:$F$24)","v":0},{"$f":"E63*'Γενικά Στοιχεία Οργανισμού'!$F$17/SUM('Γενικά Στοιχεία Οργανισμού'!$F$13:$F$24)","v":0},{"$f":"D63*'Γενικά Στοιχεία Οργανισμού'!$F$18/SUM('Γενικά Στοιχεία Οργανισμού'!$F$13:$F$24)","v":0},{"$f":"E63*'Γενικά Στοιχεία Οργανισμού'!$F$18/SUM('Γενικά Στοιχεία Οργανισμού'!$F$13:$F$24)","v":0},{"$f":"D63*'Γενικά Στοιχεία Οργανισμού'!$F$19/SUM('Γενικά Στοιχεία Οργανισμού'!$F$13:$F$24)","v":0},{"$f":"E63*'Γενικά Στοιχεία Οργανισμού'!$F$19/SUM('Γενικά Στοιχεία Οργανισμού'!$F$13:$F$24)","v":0},{"$f":"D63*'Γενικά Στοιχεία Οργανισμού'!$F$20/SUM('Γενικά Στοιχεία Οργανισμού'!$F$13:$F$24)","v":0},{"$f":"E63*'Γενικά Στοιχεία Οργανισμού'!$F$20/SUM('Γενικά Στοιχεία Οργανισμού'!$F$13:$F$24)","v":0},{"$f":"D63*'Γενικά Στοιχεία Οργανισμού'!$F$21/SUM('Γενικά Στοιχεία Οργανισμού'!$F$13:$F$24)","v":0},{"$f":"E63*'Γενικά Στοιχεία Οργανισμού'!$F$21/SUM('Γενικά Στοιχεία Οργανισμού'!$F$13:$F$24)","v":0},{"$f":"D63*'Γενικά Στοιχεία Οργανισμού'!$F$22/SUM('Γενικά Στοιχεία Οργανισμού'!$F$13:$F$24)","v":0},{"$f":"E63*'Γενικά Στοιχεία Οργανισμού'!$F$22/SUM('Γενικά Στοιχεία Οργανισμού'!$F$13:$F$24)","v":0},{"$f":"D63*'Γενικά Στοιχεία Οργανισμού'!$F$23/SUM('Γενικά Στοιχεία Οργανισμού'!$F$13:$F$24)","v":0},{"$f":"E63*'Γενικά Στοιχεία Οργανισμού'!$F$23/SUM('Γενικά Στοιχεία Οργανισμού'!$F$13:$F$24)","v":0},{"$f":"D63*'Γενικά Στοιχεία Οργανισμού'!$F$24/SUM('Γενικά Στοιχεία Οργανισμού'!$F$13:$F$24)","v":0},{"$f":"E63*'Γενικά Στοιχεία Οργανισμού'!$F$24/SUM('Γενικά Στοιχεία Οργανισμού'!$F$13:$F$24)","v":0}]
[null,null,null,null,0,null,{"$f":"E64*'Γενικά Στοιχεία Οργανισμού'!$F$13/SUM('Γενικά Στοιχεία Οργανισμού'!$F$13:$F$24)","v":0},null,{"$f":"E64*'Γενικά Στοιχεία Οργανισμού'!$F$14/SUM('Γενικά Στοιχεία Οργανισμού'!$F$13:$F$24)","v":0},null,{"$f":"E64*'Γενικά Στοιχεία Οργανισμού'!$F$15/SUM('Γενικά Στοιχεία Οργανισμού'!$F$13:$F$24)","v":0},null,{"$f":"E64*'Γενικά Στοιχεία Οργανισμού'!$F$16/SUM('Γενικά Στοιχεία Οργανισμού'!$F$13:$F$24)","v":0},null,{"$f":"E64*'Γενικά Στοιχεία Οργανισμού'!$F$17/SUM('Γενικά Στοιχεία Οργανισμού'!$F$13:$F$24)","v":0},null,{"$f":"E64*'Γενικά Στοιχεία Οργανισμού'!$F$18/SUM('Γενικά Στοιχεία Οργανισμού'!$F$13:$F$24)","v":0},null,{"$f":"E64*'Γενικά Στοιχεία Οργανισμού'!$F$19/SUM('Γενικά Στοιχεία Οργανισμού'!$F$13:$F$24)","v":0},null,{"$f":"E64*'Γενικά Στοιχεία Οργανισμού'!$F$20/SUM('Γενικά Στοιχεία Οργανισμού'!$F$13:$F$24)","v":0},null,{"$f":"E64*'Γενικά Στοιχεία Οργανισμού'!$F$21/SUM('Γενικά Στοιχεία Οργανισμού'!$F$13:$F$24)","v":0},null,{"$f":"E64*'Γενικά Στοιχεία Οργανισμού'!$F$22/SUM('Γενικά Στοιχεία Οργανισμού'!$F$13:$F$24)","v":0},null,{"$f":"E64*'Γενικά Στοιχεία Οργανισμού'!$F$23/SUM('Γενικά Στοιχεία Οργανισμού'!$F$13:$F$24)","v":0},null,{"$f":"E64*'Γενικά Στοιχεία Οργανισμού'!$F$24/SUM('Γενικά Στοιχεία Οργανισμού'!$F$13:$F$24)","v":0}]
[null,null,null,null,0,null,{"$f":"E65*'Γενικά Στοιχεία Οργανισμού'!$F$13/SUM('Γενικά Στοιχεία Οργανισμού'!$F$13:$F$24)","v":0},null,{"$f":"E65*'Γενικά Στοιχεία Οργανισμού'!$F$14/SUM('Γενικά Στοιχεία Οργανισμού'!$F$13:$F$24)","v":0},null,{"$f":"E65*'Γενικά Στοιχεία Οργανισμού'!$F$15/SUM('Γενικά Στοιχεία Οργανισμού'!$F$13:$F$24)","v":0},null,{"$f":"E65*'Γενικά Στοιχεία Οργανισμού'!$F$16/SUM('Γενικά Στοιχεία Οργανισμού'!$F$13:$F$24)","v":0},null,{"$f":"E65*'Γενικά Στοιχεία Οργανισμού'!$F$17/SUM('Γενικά Στοιχεία Οργανισμού'!$F$13:$F$24)","v":0},null,{"$f":"E65*'Γενικά Στοιχεία Οργανισμού'!$F$18/SUM('Γενικά Στοιχεία Οργανισμού'!$F$13:$F$24)","v":0},null,{"$f":"E65*'Γενικά Στοιχεία Οργανισμού'!$F$19/SUM('Γενικά Στοιχεία Οργανισμού'!$F$13:$F$24)","v":0},null,{"$f":"E65*'Γενικά Στοιχεία Οργανισμού'!$F$20/SUM('Γενικά Στοιχεία Οργανισμού'!$F$13:$F$24)","v":0},null,{"$f":"E65*'Γενικά Στοιχεία Οργανισμού'!$F$21/SUM('Γενικά Στοιχεία Οργανισμού'!$F$13:$F$24)","v":0},null,{"$f":"E65*'Γενικά Στοιχεία Οργανισμού'!$F$22/SUM('Γενικά Στοιχεία Οργανισμού'!$F$13:$F$24)","v":0},null,{"$f":"E65*'Γενικά Στοιχεία Οργανισμού'!$F$23/SUM('Γενικά Στοιχεία Οργανισμού'!$F$13:$F$24)","v":0},null,{"$f":"E65*'Γενικά Στοιχεία Οργανισμού'!$F$24/SUM('Γενικά Στοιχεία Οργανισμού'!$F$13:$F$24)","v":0}]
[null,null,"SCOPE 2",{"$f":"D69","v":3069.6524802395256},{"$f":"E69","v":3060.0732817897001},{"$f":"F69","v":119.43907456774659},119.06635139946837,44.093489172455378,43.955890442355738,99.451646347103733,99.141296213773202,203.11794801716334,202.48409544091797,353.817333129757,352.71320604343174,217.64200234290567,216.96282580911856,336.14846810989741,335.0994787192879,499.30090701771883,497.74278195135059,112.07040284497133,111.72067445189927,278.92792585857075,278.05749965488894,436.90520027309168,435.54178808095639,368.73808255814384,367.58739358225137]
[null,null,null,null,{"$f":"E70","v":6.9011278092857092E-2},null,{"$f":"G70","v":2.6852040233248421E-3},null,{"$f":"I70","v":9.9130050158878556E-4},null,{"$f":"K70","v":2.235850887692964E-3},null,{"$f":"M70","v":4.5664547653189603E-3},null,{"$f":"O70","v":7.9544464814419076E-3},null,{"$f":"Q70","v":4.8929814840800879E-3},null,{"$f":"S70","v":7.5572187935130323E-3},null,{"$f":"U70","v":1.1225177432308839E-2},null,{"$f":"W70","v":2.5195431034946807E-3},null,{"$f":"Y70","v":6.2707986598494808E-3},null,{"$f":"AA70","v":9.8224103446097697E-3},null,{"$f":"AC70","v":8.2898916156337408E-3}]
[null,null,null,null,{"$f":"E71","v":2.8035838062399752E-2},null,{"$f":"G71","v":1.0908643810529791E-3},null,{"$f":"I71","v":4.0271591979971463E-4},null,{"$f":"K71","v":9.0831462843927069E-4},null,{"$f":"M71","v":1.855122667739826E-3},null,{"$f":"O71","v":3.2314946135277136E-3},null,{"$f":"Q71","v":1.9877741772208715E-3},null,{"$f":"S71","v":3.070120828829933E-3},null,{"$f":"U71","v":4.5602293626625092E-3},null,{"$f":"W71","v":1.0235646171596437E-3},null,{"$f":"Y71","v":2.5475125313995611E-3},null,{"$f":"AA71","v":3.9903551044712842E-3},null,3.3677692300964454E-3]
[null,null,"Εισαγόμενη Ηλεκτρική Ενέργεια",{"$f":"'Υπολογισμός Αν. Απ.'!N27","v":3069.6524802395256},{"$f":"'Υπολογισμός Αν. Απ.'!K27","v":3060.0732817897001},{"$f":"D69*'Γενικά Στοιχεία Οργανισμού'!$F$13/SUM('Γενικά Στοιχεία Οργανισμού'!$F$13:$F$24)","v":119.43907456774659},{"$f":"E69*'Γενικά Στοιχεία Οργανισμού'!$F$13/SUM('Γενικά Στοιχεία Οργανισμού'!$F$13:$F$24)","v":119.06635139946837},{"$f":"D69*'Γενικά Στοιχεία Οργανισμού'!$F$14/SUM('Γενικά Στοιχεία Οργανισμού'!$F$13:$F$24)","v":44.093489172455378},{"$f":"E69*'Γενικά Στοιχεία Οργανισμού'!$F$14/SUM('Γενικά Στοιχεία Οργανισμού'!$F$13:$F$24)","v":43.955890442355738},{"$f":"D69*'Γενικά Στοιχεία Οργανισμού'!$F$15/SUM('Γενικά Στοιχεία Οργανισμού'!$F$13:$F$24)","v":99.451646347103733},{"$f":"E69*'Γενικά Στοιχεία Οργανισμού'!$F$15/SUM('Γενικά Στοιχεία Οργανισμού'!$F$13:$F$24)","v":99.141296213773202},{"$f":"D69*'Γενικά Στοιχεία Οργανισμού'!$F$16/SUM('Γενικά Στοιχεία Οργανισμού'!$F$13:$F$24)","v":203.11794801716334},{"$f":"E69*'Γενικά Στοιχεία Οργανισμού'!$F$16/SUM('Γενικά Στοιχεία Οργανισμού'!$F$13:$F$24)","v":202.48409544091797},{"$f":"D69*'Γενικά Στοιχεία Οργανισμού'!$F$17/SUM('Γενικά Στοιχεία Οργανισμού'!$F$13:$F$24)","v":353.817333129757},{"$f":"E69*'Γενικά Στοιχεία Οργανισμού'!$F$17/SUM('Γενικά Στοιχεία Οργανισμού'!$F$13:$F$24)","v":352.71320604343174},{"$f":"D69*'Γενικά Στοιχεία Οργανισμού'!$F$18/SUM('Γενικά Στοιχεία Οργανισμού'!$F$13:$F$24)","v":217.64200234290567},{"$f":"E69*'Γενικά Στοιχεία Οργανισμού'!$F$18/SUM('Γενικά Στοιχεία Οργανισμού'!$F$13:$F$24)","v":216.96282580911856},{"$f":"D69*'Γενικά Στοιχεία Οργανισμού'!$F$19/SUM('Γενικά Στοιχεία Οργανισμού'!$F$13:$F$24)","v":336.14846810989741},{"$f":"E69*'Γενικά Στοιχεία Οργανισμού'!$F$19/SUM('Γενικά Στοιχεία Οργανισμού'!$F$13:$F$24)","v":335.0994787192879},{"$f":"D69*'Γενικά Στοιχεία Οργανισμού'!$F$20/SUM('Γενικά Στοιχεία Οργανισμού'!$F$13:$F$24)","v":499.30090701771883},{"$f":"E69*'Γενικά Στοιχεία Οργανισμού'!$F$20/SUM('Γενικά Στοιχεία Οργανισμού'!$F$13:$F$24)","v":497.74278195135059},{"$f":"D69*'Γενικά Στοιχεία Οργανισμού'!$F$21/SUM('Γενικά Στοιχεία Οργανισμού'!$F$13:$F$24)","v":112.07040284497133},{"$f":"E69*'Γενικά Στοιχεία Οργανισμού'!$F$21/SUM('Γενικά Στοιχεία Οργανισμού'!$F$13:$F$24)","v":111.72067445189927},{"$f":"D69*'Γενικά Στοιχεία Οργανισμού'!$F$22/SUM('Γενικά Στοιχεία Οργανισμού'!$F$13:$F$24)","v":278.92792585857075},{"$f":"E69*'Γενικά Στοιχεία Οργανισμού'!$F$22/SUM('Γενικά Στοιχεία Οργανισμού'!$F$13:$F$24)","v":278.05749965488894},{"$f":"D69*'Γενικά Στοιχεία Οργανισμού'!$F$23/SUM('Γενικά Στοιχεία Οργανισμού'!$F$13:$F$24)","v":436.90520027309168},{"$f":"E69*'Γενικά Στοιχεία Οργανισμού'!$F$23/SUM('Γενικά Στοιχεία Οργανισμού'!$F$13:$F$24)","v":435.54178808095639},{"$f":"D69*'Γενικά Στοιχεία Οργανισμού'!$F$24/SUM('Γενικά Στοιχεία Οργανισμού'!$F$13:$F$24)","v":368.73808255814384},{"$f":"E69*'Γενικά Στοιχεία Οργανισμού'!$F$24/SUM('Γενικά Στοιχεία Οργανισμού'!$F$13:$F$24)","v":367.58739358225137}]
[null,null,null,null,{"$f":"'Υπολογισμός Αν. Απ.'!L27","v":6.9011278092857092E-2},null,{"$f":"E70*'Γενικά Στοιχεία Οργανισμού'!$F$13/SUM('Γενικά Στοιχεία Οργανισμού'!$F$13:$F$24)","v":2.6852040233248421E-3},null,{"$f":"E70*'Γενικά Στοιχεία Οργανισμού'!$F$14/SUM('Γενικά Στοιχεία Οργανισμού'!$F$13:$F$24)","v":9.9130050158878556E-4},null,{"$f":"E70*'Γενικά Στοιχεία Οργανισμού'!$F$15/SUM('Γενικά Στοιχεία Οργανισμού'!$F$13:$F$24)","v":2.235850887692964E-3},null,{"$f":"E70*'Γενικά Στοιχεία Οργανισμού'!$F$16/SUM('Γενικά Στοιχεία Οργανισμού'!$F$13:$F$24)","v":4.5664547653189603E-3},null,{"$f":"E70*'Γενικά Στοιχεία Οργανισμού'!$F$17/SUM('Γενικά Στοιχεία Οργανισμού'!$F$13:$F$24)","v":7.9544464814419076E-3},null,{"$f":"E70*'Γενικά Στοιχεία Οργανισμού'!$F$18/SUM('Γενικά Στοιχεία Οργανισμού'!$F$13:$F$24)","v":4.8929814840800879E-3},null,{"$f":"E70*'Γενικά Στοιχεία Οργανισμού'!$F$19/SUM('Γενικά Στοιχεία Οργανισμού'!$F$13:$F$24)","v":7.5572187935130323E-3},null,{"$f":"E70*'Γενικά Στοιχεία Οργανισμού'!$F$20/SUM('Γενικά Στοιχεία Οργανισμού'!$F$13:$F$24)","v":1.1225177432308839E-2},null,{"$f":"E70*'Γενικά Στοιχεία Οργανισμού'!$F$21/SUM('Γενικά Στοιχεία Οργανισμού'!$F$13:$F$24)","v":2.5195431034946807E-3},null,{"$f":"E70*'Γενικά Στοιχεία Οργανισμού'!$F$22/SUM('Γενικά Στοιχεία Οργανισμού'!$F$13:$F$24)","v":6.2707986598494808E-3},null,{"$f":"E70*'Γενικά Στοιχεία Οργανισμού'!$F$23/SUM('Γενικά Στοιχεία Οργανισμού'!$F$13:$F$24)","v":9.8224103446097697E-3},null,{"$f":"E70*'Γενικά Στοιχεία Οργανισμού'!$F$24/SUM('Γενικά Στοιχεία Οργανισμού'!$F$13:$F$24)","v":8.2898916156337408E-3}]
[null,null,null,null,{"$f":"'Υπολογισμός Αν. Απ.'!M27","v":2.8035838062399752E-2},null,{"$f":"E71*'Γενικά Στοιχεία Οργανισμού'!$F$13/SUM('Γενικά Στοιχεία Οργανισμού'!$F$13:$F$24)","v":1.0908643810529791E-3},null,{"$f":"E71*'Γενικά Στοιχεία Οργανισμού'!$F$14/SUM('Γενικά Στοιχεία Οργανισμού'!$F$13:$F$24)","v":4.0271591979971463E-4},null,{"$f":"E71*'Γενικά Στοιχεία Οργανισμού'!$F$15/SUM('Γενικά Στοιχεία Οργανισμού'!$F$13:$F$24)","v":9.0831462843927069E-4},null,{"$f":"E71*'Γενικά Στοιχεία Οργανισμού'!$F$16/SUM('Γενικά Στοιχεία Οργανισμού'!$F$13:$F$24)","v":1.855122667739826E-3},null,{"$f":"E71*'Γενικά Στοιχεία Οργανισμού'!$F$17/SUM('Γενικά Στοιχεία Οργανισμού'!$F$13:$F$24)","v":3.2314946135277136E-3},null,{"$f":"E71*'Γενικά Στοιχεία Οργανισμού'!$F$18/SUM('Γενικά Στοιχεία Οργανισμού'!$F$13:$F$24)","v":1.9877741772208715E-3},null,{"$f":"E71*'Γενικά Στοιχεία Οργανισμού'!$F$19/SUM('Γενικά Στοιχεία Οργανισμού'!$F$13:$F$24)","v":3.070120828829933E-3},null,{"$f":"E71*'Γενικά Στοιχεία Οργανισμού'!$F$20/SUM('Γενικά Στοιχεία Οργανισμού'!$F$13:$F$24)","v":4.5602293626625092E-3},null,{"$f":"E71*'Γενικά Στοιχεία Οργανισμού'!$F$21/SUM('Γενικά Στοιχεία Οργανισμού'!$F$13:$F$24)","v":1.0235646171596437E-3},null,{"$f":"E71*'Γενικά Στοιχεία Οργανισμού'!$F$22/SUM('Γενικά Στοιχεία Οργανισμού'!$F$13:$F$24)","v":2.5475125313995611E-3},null,{"$f":"E71*'Γενικά Στοιχεία Οργανισμού'!$F$23/SUM('Γενικά Στοιχεία Οργανισμού'!$F$13:$F$24)","v":3.9903551044712842E-3},null,{"$f":"E71*'Γενικά Στοιχεία Οργανισμού'!$F$24/SUM('Γενικά Στοιχεία Οργανισμού'!$F$13:$F$24)","v":3.3677692300964454E-3}]
[null,null,"SCOPE 3",{"$f":"D75+D102+D129+D150+D153+D156","v":2207.0515445060523},{"$f":"E75+E102+E129+E150+E153","v":2069.1034881461023},{"$f":"F75+F102+F129+F150+F153+F156","v":0},{"$f":"G75+G102+G129+G150+G153","v":0},{"$f":"H75+H102+H129+H150+H153+H156","v":0},{"$f":"I75+I102+I129+I150+I153","v":0},{"$f":"J75+J102+J129+J150+J153+J156","v":513.12723146866313},{"$f":"K75+K102+K129+K150+K153","v":500.12655735481559},{"$f":"L75+L102+L129+L150+L153+L156","v":130.56256447660627},{"$f":"M75+M102+M129+M150+M153","v":119.05092309302812},{"$f":"N75+N102+N129+N150+N153+N156","v":173.43671320521065},{"$f":"O75+O102+O129+O150+O153","v":160.75171751479294},{"$f":"P75+P102+P129+P150+P153+P156","v":181.5732683209867},{"$f":"Q75+Q102+Q129+Q150+Q153","v":163.64843860965888},{"$f":"R75+R102+R129+R150+R153+R156","v":290.67503666041534},{"$f":"S75+S102+S129+S150+S153","v":261.66037658521304},{"$f":"T75+T102+T129+T150+T153+T156","v":215.23716392512688},{"$f":"U75+U102+U129+U150+U153","v":201.07508300866496},{"$f":"V75+V102+V129+V150+V153+V156","v":130.82118870913916},{"$f":"W75+W102+W129+W150+W153","v":116.58584996249898},{"$f":"X75+X102+X129+X150+X153+X156","v":152.91162394646409},{"$f":"Y75+Y102+Y129+Y150+Y153","v":140.7466552206003},{"$f":"Z75+Z102+Z129+Z150+Z153+Z156","v":220.10532698468651},{"$f":"AA75+AA102+AA129+AA150+AA153","v":203.6078709422369},{"$f":"AB75+AB102+AB129+AB150+AB153+AB156","v":198.60142680875347},{"$f":"AC75+AC102+AC129+AC150+AC153","v":182.97973134651781}]
[null,null,null,null,{"$f":"E76+E103+E130+E151+E154","v":3.3711629256024462},null,{"$f":"G76+G103+G130+G151+G154","v":0},null,{"$f":"I76+I103+I130+I151+I154","v":0},null,{"$f":"K76+K103+K130+K151+K154","v":0.27826451880101138},null,{"$f":"M76+M103+M130+M151+M154","v":0.24703080944170464},null,{"$f":"O76+O103+O130+O151+O154","v":0.27215187834231741},null,{"$f":"Q76+Q103+Q130+Q151+Q154","v":0.3846955730971901},null,{"$f":"S76+S103+S130+S151+S154","v":0.62270747341415211},null,{"$f":"U76+U103+U130+U151+U154","v":0.30379966885645571},null,{"$f":"W76+W103+W130+W151+W154","v":0.3055395173378686},null,{"$f":"Y76+Y103+Y130+Y151+Y154","v":0.26102129759027698},null,{"$f":"AA76+AA103+AA130+AA151+AA154","v":0.35395754360924458},null,{"$f":"AC76+AC103+AC130+AC151+AC154","v":0.33518718316847451}]
[null,null,null,null,{"$f":"E77+E104+E131+E152+E155","v":9.0153992361430749E-2},null,{"$f":"G77+G104+G131+G152+G155","v":0},null,0,null,1.1312758102865705E-2,null,6.0751762994056321E-3,null,7.0543447401070335E-3,null,9.195188208693663E-3,null,1.4844734338346183E-2,null,8.1387957657978807E-3,null,7.1396589299801754E-3,null,6.6018344159924055E-3,null,9.1080788398788075E-3,null,8.5050348983632708E-3]
[null,null,"Μετακίνηση Φοιτητών",{"$f":"SUM(D78:D101)","v":827.62819442649561},{"$f":"E78+E81+E84+E90+E93+E96+E99+E87","v":818.78709475906351},{"$f":"SUM(F78:F101)","v":0},{"$f":"G78+G81+G84+G90+G93+G96+G99","v":0},{"$f":"SUM(H78:H101)","v":0},{"$f":"I78+I81+I84+I90+I93+I96+I99","v":0},{"$f":"SUM(J78:J101)","v":0},{"$f":"K78+K81+K84+K90+K93+K96+K99","v":0},{"$f":"SUM(L78:L101)","v":67.290329634883378},{"$f":"M78+M81+M84+M90+M93+M96+M99","v":65.037254898708028},{"$f":"SUM(N78:N101)","v":68.004664344383201},{"$f":"O78+O81+O84+O90+O93+O96+O99","v":65.727671617377965},{"$f":"SUM(P78:P101)","v":109.29321055347302},{"$f":"Q78+Q81+Q84+Q90+Q93+Q96+Q99","v":105.63375795650029},{"$f":"SUM(R78:R101)","v":177.58360878165615},{"$f":"S78+S81+S84+S90+S93+S96+S99","v":171.63759626134623},{"$f":"SUM(T78:T101)","v":71.43347094998235},{"$f":"U78+U81+U84+U90+U93+U96+U99","v":69.041671866993667},{"$f":"SUM(V78:V101)","v":89.577572571277869},{"$f":"W78+W81+W84+W90+W93+W96+W99","v":86.578256521210051},{"$f":"SUM(X78:X101)","v":68.004664344383201},{"$f":"Y78+Y81+Y84+Y90+Y93+Y96+Y99","v":65.727671617377965},{"$f":"SUM(Z78:Z101)","v":89.577572571277869},{"$f":"AA78+AA81+AA84+AA90+AA93+AA96+AA99","v":86.578256521210051},{"$f":"SUM(AB78:AB101)","v":86.863100675178543},{"$f":"AC78+AC81+AC84+AC90+AC93+AC96+AC99","v":83.954672990264299}]
[null,null,null,null,{"$f":"E79+E82+E85+E91+E94+E97+E100+E88","v":0.17638190817086755},null,{"$f":"G79+G82+G85+G91+G94+G97+G100","v":0},null,{"$f":"I79+I82+I85+I91+I94+I97+I100","v":0},null,{"$f":"K79+K82+K85+K91+K94+K97+K100","v":0},null,{"$f":"M79+M82+M85+M91+M94+M97+M100","v":1.3787254302256576E-2},null,{"$f":"O79+O82+O85+O91+O94+O97+O100","v":1.3933615812896242E-2},null,{"$f":"Q79+Q82+Q85+Q91+Q94+Q97+Q100","v":2.2393311127868958E-2},null,{"$f":"S79+S82+S85+S91+S94+S97+S100","v":3.6385471545021066E-2},null,{"$f":"U79+U82+U85+U91+U94+U97+U100","v":1.4636151063966639E-2},null,{"$f":"W79+W82+W85+W91+W94+W97+W100","v":1.8353733434214169E-2},null,{"$f":"Y79+Y82+Y85+Y91+Y94+Y97+Y100","v":1.3933615812896242E-2},null,{"$f":"AA79+AA82+AA85+AA91+AA94+AA97+AA100","v":1.8353733434214169E-2},null,{"$f":"AC79+AC82+AC85+AC91+AC94+AC97+AC100","v":1.7797559693783434E-2}]
[null,null,null,null,{"$f":"E80+E83+E86+E92+E95+E98+E101+E89","v":1.4359137104266499E-2},null,{"$f":"G80+G83+G86+G92+G95+G98+G101","v":0},null,0,null,0,null,9.9035610425470769E-4,null,1.0008694386947788E-3,null,1.6085401693308945E-3,null,2.6136149418017019E-3,null,1.0513334440071208E-3,null,1.3183721387849297E-3,null,1.0008694386947788E-3,null,1.3183721387849297E-3,null,1.2784214679126588E-3]
[null,null,"Πετρέλαιο Κίνησης (Επιβατικό)",{"$f":"'Υπολογισμός Αν. Απ.'!Q31","v":42.324882576658517},{"$f":"'Υπολογισμός Αν. Απ.'!N31","v":41.86554669585},0,0,0,0,0,0,{"$f":"D78*'Γενικά Στοιχεία Οργανισμού'!$D$16/SUM('Γενικά Στοιχεία Οργανισμού'!$D$13:$D$24)","v":3.4412255642337581},{"$f":"E78*'Γενικά Στοιχεία Οργανισμού'!$D$16/SUM('Γενικά Στοιχεία Οργανισμού'!$D$13:$D$24)","v":3.4038792497402643},{"$f":"D78*'Γενικά Στοιχεία Οργανισμού'!$D$17/SUM('Γενικά Στοιχεία Οργανισμού'!$D$13:$D$24)","v":3.4777566211789148},{"$f":"E78*'Γενικά Στοιχεία Οργανισμού'!$D$17/SUM('Γενικά Στοιχεία Οργανισμού'!$D$13:$D$24)","v":3.4400138489944068},{"$f":"D78*'Γενικά Στοιχεία Οργανισμού'!$D$18/SUM('Γενικά Στοιχεία Οργανισμού'!$D$13:$D$24)","v":5.58925171260897},{"$f":"E78*'Γενικά Στοιχεία Οργανισμού'!$D$18/SUM('Γενικά Στοιχεία Οργανισμού'!$D$13:$D$24)","v":5.5285936858838678},{"$f":"D78*'Γενικά Στοιχεία Οργανισμού'!$D$19/SUM('Γενικά Στοιχεία Οργανισμού'!$D$13:$D$24)","v":9.0816207565659486},{"$f":"E78*'Γενικά Στοιχεία Οργανισμού'!$D$19/SUM('Γενικά Στοιχεία Οργανισμού'!$D$13:$D$24)","v":8.9830613745799326},{"$f":"D78*'Γενικά Στοιχεία Οργανισμού'!$D$20/SUM('Γενικά Στοιχεία Οργανισμού'!$D$13:$D$24)","v":3.6531056945156668},{"$f":"E78*'Γενικά Στοιχεία Οργανισμού'!$D$20/SUM('Γενικά Στοιχεία Οργανισμού'!$D$13:$D$24)","v":3.613459925414293},{"$f":"D78*'Γενικά Στοιχεία Οργανισμού'!$D$21/SUM('Γενικά Στοιχεία Οργανισμού'!$D$13:$D$24)","v":4.5809945409226467},{"$f":"E78*'Γενικά Στοιχεία Οργανισμού'!$D$21/SUM('Γενικά Στοιχεία Οργανισμού'!$D$13:$D$24)","v":4.531278746469523},{"$f":"D78*'Γενικά Στοιχεία Οργανισμού'!$D$22/SUM('Γενικά Στοιχεία Οργανισμού'!$D$13:$D$24)","v":3.4777566211789148},{"$f":"E78*'Γενικά Στοιχεία Οργανισμού'!$D$22/SUM('Γενικά Στοιχεία Οργανισμού'!$D$13:$D$24)","v":3.4400138489944068},{"$f":"D78*'Γενικά Στοιχεία Οργανισμού'!$D$23/SUM('Γενικά Στοιχεία Οργανισμού'!$D$13:$D$24)","v":4.5809945409226467},{"$f":"E78*'Γενικά Στοιχεία Οργανισμού'!$D$23/SUM('Γενικά Στοιχεία Οργανισμού'!$D$13:$D$24)","v":4.531278746469523},{"$f":"D78*'Γενικά Στοιχεία Οργανισμού'!$D$24/SUM('Γενικά Στοιχεία Οργανισμού'!$D$13:$D$24)","v":4.4421765245310514},{"$f":"E78*'Γενικά Στοιχεία Οργανισμού'!$D$24/SUM('Γενικά Στοιχεία Οργανισμού'!$D$13:$D$24)","v":4.3939672693037801}]
[null,null,null,null,{"$f":"'Υπολογισμός Αν. Απ.'!O31","v":1.7150981849999999E-5},null,0,null,0,null,0,null,{"$f":"E79*'Γενικά Στοιχεία Οργανισμού'!$D$16/SUM('Γενικά Στοιχεία Οργανισμού'!$D$13:$D$24)","v":1.3944609790005177E-6},null,{"$f":"E79*'Γενικά Στοιχεία Οργανισμού'!$D$17/SUM('Γενικά Στοιχεία Οργανισμού'!$D$13:$D$24)","v":1.4092641741066805E-6},null,{"$f":"E79*'Γενικά Στοιχεία Οργανισμού'!$D$18/SUM('Γενικά Στοιχεία Οργανισμού'!$D$13:$D$24)","v":2.2648888512428791E-6},null,{"$f":"E79*'Γενικά Στοιχεία Οργανισμού'!$D$19/SUM('Γενικά Στοιχεία Οργανισμού'!$D$13:$D$24)","v":3.6800743033920244E-6},null,{"$f":"E79*'Γενικά Στοιχεία Οργανισμού'!$D$20/SUM('Γενικά Στοιχεία Οργανισμού'!$D$13:$D$24)","v":1.480319510616261E-6},null,{"$f":"E79*'Γενικά Στοιχεία Οργανισμού'!$D$21/SUM('Γενικά Στοιχεία Οργανισμού'!$D$13:$D$24)","v":1.8563206663127914E-6},null,{"$f":"E79*'Γενικά Στοιχεία Οργανισμού'!$D$22/SUM('Γενικά Στοιχεία Οργανισμού'!$D$13:$D$24)","v":1.4092641741066805E-6},null,{"$f":"E79*'Γενικά Στοιχεία Οργανισμού'!$D$23/SUM('Γενικά Στοιχεία Οργανισμού'!$D$13:$D$24)","v":1.8563206663127914E-6},null,{"$f":"E79*'Γενικά Στοιχεία Οργανισμού'!$D$24/SUM('Γενικά Στοιχεία Οργανισμού'!$D$13:$D$24)","v":1.8000685249093734E-6}]
[null,null,null,null,{"$f":"'Υπολογισμός Αν. Απ.'!P31","v":1.6807962212999998E-3},null,0,null,0,null,0,null,{"$f":"E80*'Γενικά Στοιχεία Οργανισμού'!$D$16/SUM('Γενικά Στοιχεία Οργανισμού'!$D$13:$D$24)","v":1.3665717594205074E-4},null,{"$f":"E80*'Γενικά Στοιχεία Οργανισμού'!$D$17/SUM('Γενικά Στοιχεία Οργανισμού'!$D$13:$D$24)","v":1.3810788906245468E-4},null,{"$f":"E80*'Γενικά Στοιχεία Οργανισμού'!$D$18/SUM('Γενικά Στοιχεία Οργανισμού'!$D$13:$D$24)","v":2.2195910742180215E-4},null,{"$f":"E80*'Γενικά Στοιχεία Οργανισμού'!$D$19/SUM('Γενικά Στοιχεία Οργανισμού'!$D$13:$D$24)","v":3.6064728173241839E-4},null,{"$f":"E80*'Γενικά Στοιχεία Οργανισμού'!$D$20/SUM('Γενικά Στοιχεία Οργανισμού'!$D$13:$D$24)","v":1.4507131204039356E-4},null,{"$f":"E80*'Γενικά Στοιχεία Οργανισμού'!$D$21/SUM('Γενικά Στοιχεία Οργανισμού'!$D$13:$D$24)","v":1.819194252986535E-4},null,{"$f":"E80*'Γενικά Στοιχεία Οργανισμού'!$D$22/SUM('Γενικά Στοιχεία Οργανισμού'!$D$13:$D$24)","v":1.3810788906245468E-4},null,{"$f":"E80*'Γενικά Στοιχεία Οργανισμού'!$D$23/SUM('Γενικά Στοιχεία Οργανισμού'!$D$13:$D$24)","v":1.819194252986535E-4},null,{"$f":"E80*'Γενικά Στοιχεία Οργανισμού'!$D$24/SUM('Γενικά Στοιχεία Οργανισμού'!$D$13:$D$24)","v":1.7640671544111858E-4}]
[null,null,"Βενζίνη\n(Επιβατικό)",{"$f":"'Υπολογισμός Αν. Απ.'!Q32","v":380.02236175886344},{"$f":"'Υπολογισμός Αν. Απ.'!N32","v":376.77270489358506},0,0,0,0,0,0,{"$f":"D81*'Γενικά Στοιχεία Οργανισμού'!$D$16/SUM('Γενικά Στοιχεία Οργανισμού'!$D$13:$D$24)","v":30.897726978840787},{"$f":"E81*'Γενικά Στοιχεία Οργανισμού'!$D$16/SUM('Γενικά Στοιχεία Οργανισμού'!$D$13:$D$24)","v":30.633513551679368},{"$f":"D81*'Γενικά Στοιχεία Οργανισμού'!$D$17/SUM('Γενικά Στοιχεία Οργανισμού'!$D$13:$D$24)","v":31.225728326811495},{"$f":"E81*'Γενικά Στοιχεία Οργανισμού'!$D$17/SUM('Γενικά Στοιχεία Οργανισμού'!$D$13:$D$24)","v":30.958710086198256},{"$f":"D81*'Γενικά Στοιχεία Οργανισμού'!$D$18/SUM('Γενικά Στοιχεία Οργανισμού'!$D$13:$D$24)","v":50.184206239518481},{"$f":"E81*'Γενικά Στοιχεία Οργανισμού'!$D$18/SUM('Γενικά Στοιχεία Οργανισμού'!$D$13:$D$24)","v":49.755069781390048},{"$f":"D81*'Γενικά Στοιχεία Οργανισμού'!$D$19/SUM('Γενικά Στοιχεία Οργανισμού'!$D$13:$D$24)","v":81.541135105518265},{"$f":"E81*'Γενικά Στοιχεία Οργανισμού'!$D$19/SUM('Γενικά Στοιχεία Οργανισμού'!$D$13:$D$24)","v":80.84385848139587},{"$f":"D81*'Γενικά Στοιχεία Οργανισμού'!$D$20/SUM('Γενικά Στοιχεία Οργανισμού'!$D$13:$D$24)","v":32.800134797070896},{"$f":"E81*'Γενικά Στοιχεία Οργανισμού'!$D$20/SUM('Γενικά Στοιχεία Οργανισμού'!$D$13:$D$24)","v":32.519653451888921},{"$f":"D81*'Γενικά Στοιχεία Οργανισμού'!$D$21/SUM('Γενικά Στοιχεία Οργανισμού'!$D$13:$D$24)","v":41.131369035526909},{"$f":"E81*'Γενικά Στοιχεία Οργανισμού'!$D$21/SUM('Γενικά Στοιχεία Οργανισμού'!$D$13:$D$24)","v":40.779645428668708},{"$f":"D81*'Γενικά Στοιχεία Οργανισμού'!$D$22/SUM('Γενικά Στοιχεία Οργανισμού'!$D$13:$D$24)","v":31.225728326811495},{"$f":"E81*'Γενικά Στοιχεία Οργανισμού'!$D$22/SUM('Γενικά Στοιχεία Οργανισμού'!$D$13:$D$24)","v":30.958710086198256},{"$f":"D81*'Γενικά Στοιχεία Οργανισμού'!$D$23/SUM('Γενικά Στοιχεία Οργανισμού'!$D$13:$D$24)","v":41.131369035526909},{"$f":"E81*'Γενικά Στοιχεία Οργανισμού'!$D$23/SUM('Γενικά Στοιχεία Οργανισμού'!$D$13:$D$24)","v":40.779645428668708},{"$f":"D81*'Γενικά Στοιχεία Οργανισμού'!$D$24/SUM('Γενικά Στοιχεία Οργανισμού'!$D$13:$D$24)","v":39.884963913238217},{"$f":"E81*'Γενικά Στοιχεία Οργανισμού'!$D$24/SUM('Γενικά Στοιχεία Οργανισμού'!$D$13:$D$24)","v":39.543898597496934}]
[null,null,null,null,{"$f":"'Υπολογισμός Αν. Απ.'!O32","v":4.8035176954765002E-2},null,0,null,0,null,0,null,{"$f":"E82*'Γενικά Στοιχεία Οργανισμού'!$D$16/SUM('Γενικά Στοιχεία Οργανισμού'!$D$13:$D$24)","v":3.9055011817183357E-3},null,{"$f":"E82*'Γενικά Στοιχεία Οργανισμού'!$D$17/SUM('Γενικά Στοιχεία Οργανισμού'!$D$13:$D$24)","v":3.9469608545603559E-3},null,{"$f":"E82*'Γενικά Στοιχεία Οργανισμού'!$D$18/SUM('Γενικά Στοιχεία Οργανισμού'!$D$13:$D$24)","v":6.3433299448291437E-3},null,{"$f":"E82*'Γενικά Στοιχεία Οργανισμού'!$D$19/SUM('Γενικά Στοιχεία Οργανισμού'!$D$13:$D$24)","v":1.0306874668526308E-2},null,{"$f":"E82*'Γενικά Στοιχεία Οργανισμού'!$D$20/SUM('Γενικά Στοιχεία Οργανισμού'!$D$13:$D$24)","v":4.1459672842020538E-3},null,{"$f":"E82*'Γενικά Στοιχεία Οργανισμού'!$D$21/SUM('Γενικά Στοιχεία Οργανισμού'!$D$13:$D$24)","v":5.1990429743893765E-3},null,{"$f":"E82*'Γενικά Στοιχεία Οργανισμού'!$D$22/SUM('Γενικά Στοιχεία Οργανισμού'!$D$13:$D$24)","v":3.9469608545603559E-3},null,{"$f":"E82*'Γενικά Στοιχεία Οργανισμού'!$D$23/SUM('Γενικά Στοιχεία Οργανισμού'!$D$13:$D$24)","v":5.1990429743893765E-3},null,{"$f":"E82*'Γενικά Στοιχεία Οργανισμού'!$D$24/SUM('Γενικά Στοιχεία Οργανισμού'!$D$13:$D$24)","v":5.0414962175896983E-3}]
[null,null,null,null,{"$f":"'Υπολογισμός Αν. Απ.'!P32","v":6.9944154880600008E-3},null,0,null,0,null,0,null,{"$f":"E83*'Γενικά Στοιχεία Οργανισμού'!$D$16/SUM('Γενικά Στοιχεία Οργανισμού'!$D$13:$D$24)","v":5.686811142544899E-4},null,{"$f":"E83*'Γενικά Στοιχεία Οργανισμού'!$D$17/SUM('Γενικά Στοιχεία Οργανισμού'!$D$13:$D$24)","v":5.747180687582531E-4},null,{"$f":"E83*'Γενικά Στοιχεία Οργανισμού'!$D$18/SUM('Γενικά Στοιχεία Οργανισμού'!$D$13:$D$24)","v":9.2365403907576388E-4},null,{"$f":"E83*'Γενικά Στοιχεία Οργανισμού'!$D$19/SUM('Γενικά Στοιχεία Οργανισμού'!$D$13:$D$24)","v":1.5007868896355224E-3},null,{"$f":"E83*'Γενικά Στοιχεία Οργανισμού'!$D$20/SUM('Γενικά Στοιχεία Οργανισμού'!$D$13:$D$24)","v":6.0369545037631633E-4},null,{"$f":"E83*'Γενικά Στοιχεία Οργανισμού'!$D$21/SUM('Γενικά Στοιχεία Οργανισμού'!$D$13:$D$24)","v":7.5703409477190068E-4},null,{"$f":"E83*'Γενικά Στοιχεία Οργανισμού'!$D$22/SUM('Γενικά Στοιχεία Οργανισμού'!$D$13:$D$24)","v":5.747180687582531E-4},null,{"$f":"E83*'Γενικά Στοιχεία Οργανισμού'!$D$23/SUM('Γενικά Στοιχεία Οργανισμού'!$D$13:$D$24)","v":7.5703409477190068E-4},null,{"$f":"E83*'Γενικά Στοιχεία Οργανισμού'!$D$24/SUM('Γενικά Στοιχεία Οργανισμού'!$D$13:$D$24)","v":7.3409366765760065E-4}]
[null,null,"Βενζίνη\n(Μοτοσυκλέτα)",{"$f":"'Υπολογισμός Αν. Απ.'!Q33","v":90.311324877618901},{"$f":"'Υπολογισμός Αν. Απ.'!N33","v":86.72169311155352},0,0,0,0,0,0,{"$f":"D84*'Γενικά Στοιχεία Οργανισμού'!$D$16/SUM('Γενικά Στοιχεία Οργανισμού'!$D$13:$D$24)","v":7.342764373788798},{"$f":"E84*'Γενικά Στοιχεία Οργανισμού'!$D$16/SUM('Γενικά Στοιχεία Οργανισμού'!$D$13:$D$24)","v":7.0509092793961168},{"$f":"D84*'Γενικά Στοιχεία Οργανισμού'!$D$17/SUM('Γενικά Στοιχεία Οργανισμού'!$D$13:$D$24)","v":7.4207130401772128},{"$f":"E84*'Γενικά Στοιχεία Οργανισμού'!$D$17/SUM('Γενικά Στοιχεία Οργανισμού'!$D$13:$D$24)","v":7.1257596963748453},{"$f":"D84*'Γενικά Στοιχεία Οργανισμού'!$D$18/SUM('Γενικά Στοιχεία Οργανισμού'!$D$13:$D$24)","v":11.926145957427666},{"$f":"E84*'Γενικά Στοιχεία Οργανισμού'!$D$18/SUM('Γενικά Στοιχεία Οργανισμού'!$D$13:$D$24)","v":11.452113797745286},{"$f":"D84*'Γενικά Στοιχεία Οργανισμού'!$D$19/SUM('Γενικά Στοιχεία Οργανισμού'!$D$13:$D$24)","v":19.378038464160245},{"$f":"E84*'Γενικά Στοιχεία Οργανισμού'!$D$19/SUM('Γενικά Στοιχεία Οργανισμού'!$D$13:$D$24)","v":18.607813660911621},{"$f":"D84*'Γενικά Στοιχεία Οργανισμού'!$D$20/SUM('Γενικά Στοιχεία Οργανισμού'!$D$13:$D$24)","v":7.7948666388416106},{"$f":"E84*'Γενικά Στοιχεία Οργανισμού'!$D$20/SUM('Γενικά Στοιχεία Οργανισμού'!$D$13:$D$24)","v":7.4850416978727363},{"$f":"D84*'Γενικά Στοιχεία Οργανισμού'!$D$21/SUM('Γενικά Στοιχεία Οργανισμού'!$D$13:$D$24)","v":9.7747627651073792},{"$f":"E84*'Γενικά Στοιχεία Οργανισμού'!$D$21/SUM('Γενικά Στοιχεία Οργανισμού'!$D$13:$D$24)","v":9.3862422891324115},{"$f":"D84*'Γενικά Στοιχεία Οργανισμού'!$D$22/SUM('Γενικά Στοιχεία Οργανισμού'!$D$13:$D$24)","v":7.4207130401772128},{"$f":"E84*'Γενικά Στοιχεία Οργανισμού'!$D$22/SUM('Γενικά Στοιχεία Οργανισμού'!$D$13:$D$24)","v":7.1257596963748453},{"$f":"D84*'Γενικά Στοιχεία Οργανισμού'!$D$23/SUM('Γενικά Στοιχεία Οργανισμού'!$D$13:$D$24)","v":9.7747627651073792},{"$f":"E84*'Γενικά Στοιχεία Οργανισμού'!$D$23/SUM('Γενικά Στοιχεία Οργανισμού'!$D$13:$D$24)","v":9.3862422891324115},{"$f":"D84*'Γενικά Στοιχεία Οργανισμού'!$D$24/SUM('Γενικά Στοιχεία Οργανισμού'!$D$13:$D$24)","v":9.4785578328313989},{"$f":"E84*'Γενικά Στοιχεία Οργανισμού'!$D$24/SUM('Γενικά Στοιχεία Οργανισμού'!$D$13:$D$24)","v":9.1018107046132464}]
[null,null,null,null,{"$f":"'Υπολογισμός Αν. Απ.'!O33","v":0.11082288983215449},null,0,null,0,null,0,null,{"$f":"E85*'Γενικά Στοιχεία Οργανισμού'!$D$16/SUM('Γενικά Στοιχεία Οργανισμού'!$D$13:$D$24)","v":9.0104576404185684E-3},null,{"$f":"E85*'Γενικά Στοιχεία Οργανισμού'!$D$17/SUM('Γενικά Στοιχεία Οργανισμού'!$D$13:$D$24)","v":9.1061100569835209E-3},null,{"$f":"E85*'Γενικά Στοιχεία Οργανισμού'!$D$18/SUM('Γενικά Στοιχεία Οργανισμού'!$D$13:$D$24)","v":1.4634819734437803E-2},null,{"$f":"E85*'Γενικά Στοιχεία Οργανισμού'!$D$19/SUM('Γενικά Στοιχεία Οργανισμού'!$D$13:$D$24)","v":2.3779190758047304E-2},null,{"$f":"E85*'Γενικά Στοιχεία Οργανισμού'!$D$20/SUM('Γενικά Στοιχεία Οργανισμού'!$D$13:$D$24)","v":9.5652416564952943E-3},null,{"$f":"E85*'Γενικά Στοιχεία Οργανισμού'!$D$21/SUM('Γενικά Στοιχεία Οργανισμού'!$D$13:$D$24)","v":1.1994813037245101E-2},null,{"$f":"E85*'Γενικά Στοιχεία Οργανισμού'!$D$22/SUM('Γενικά Στοιχεία Οργανισμού'!$D$13:$D$24)","v":9.1061100569835209E-3},null,{"$f":"E85*'Γενικά Στοιχεία Οργανισμού'!$D$23/SUM('Γενικά Στοιχεία Οργανισμού'!$D$13:$D$24)","v":1.1994813037245101E-2},null,{"$f":"E85*'Γενικά Στοιχεία Οργανισμού'!$D$24/SUM('Γενικά Στοιχεία Οργανισμού'!$D$13:$D$24)","v":1.163133385429828E-2}]
[null,null,null,null,{"$f":"'Υπολογισμός Αν. Απ.'!P33","v":1.8229785338764999E-3},null,0,null,0,null,0,null,{"$f":"E86*'Γενικά Στοιχεία Οργανισμού'!$D$16/SUM('Γενικά Στοιχεία Οργανισμού'!$D$13:$D$24)","v":1.482173121794979E-4},null,{"$f":"E86*'Γενικά Στοιχεία Οργανισμού'!$D$17/SUM('Γενικά Στοιχεία Οργανισμού'!$D$13:$D$24)","v":1.4979074436823994E-4},null,{"$f":"E86*'Γενικά Στοιχεία Οργανισμού'!$D$18/SUM('Γενικά Στοιχεία Οργανισμού'!$D$13:$D$24)","v":2.4073512487752849E-4},null,{"$f":"E86*'Γενικά Στοιχεία Οργανισμού'!$D$19/SUM('Γενικά Στοιχεία Οργανισμού'!$D$13:$D$24)","v":3.9115524212126522E-4},null,{"$f":"E86*'Γενικά Στοιχεία Οργανισμού'!$D$20/SUM('Γενικά Στοιχεία Οργανισμού'!$D$13:$D$24)","v":1.5734321887420161E-4},null,{"$f":"E86*'Γενικά Στοιχεία Οργανισμού'!$D$21/SUM('Γενικά Στοιχεία Οργανισμού'!$D$13:$D$24)","v":1.9730839646824884E-4},null,{"$f":"E86*'Γενικά Στοιχεία Οργανισμού'!$D$22/SUM('Γενικά Στοιχεία Οργανισμού'!$D$13:$D$24)","v":1.4979074436823994E-4},null,{"$f":"E86*'Γενικά Στοιχεία Οργανισμού'!$D$23/SUM('Γενικά Στοιχεία Οργανισμού'!$D$13:$D$24)","v":1.9730839646824884E-4},null,{"$f":"E86*'Γενικά Στοιχεία Οργανισμού'!$D$24/SUM('Γενικά Στοιχεία Οργανισμού'!$D$13:$D$24)","v":1.9132935415102918E-4}]
[null,null,"Πετρέλαιο Κινησης\n(Λεωφορείο)",{"$f":"'Υπολογισμός Αν. Απ.'!Q34","v":19.654912571711623},{"$f":"'Υπολογισμός Αν. Απ.'!N34","v":18.870284508074999},0,0,0,0,0,0,{"$f":"D87*'Γενικά Στοιχεία Οργανισμού'!$D$16/SUM('Γενικά Στοιχεία Οργανισμού'!$D$13:$D$24)","v":1.5980431246808517},{"$f":"E87*'Γενικά Στοιχεία Οργανισμού'!$D$16/SUM('Γενικά Στοιχεία Οργανισμού'!$D$13:$D$24)","v":1.5342489216819135},{"$f":"D87*'Γενικά Στοιχεία Οργανισμού'!$D$17/SUM('Γενικά Στοιχεία Οργανισμού'!$D$13:$D$24)","v":1.6150074890617525},{"$f":"E87*'Γενικά Στοιχεία Οργανισμού'!$D$17/SUM('Γενικά Στοιχεία Οργανισμού'!$D$13:$D$24)","v":1.5505360652241842},{"$f":"D87*'Γενικά Στοιχεία Οργανισμού'!$D$18/SUM('Γενικά Στοιχεία Οργανισμού'!$D$13:$D$24)","v":2.5955477502778166},{"$f":"E87*'Γενικά Στοιχεία Οργανισμού'!$D$18/SUM('Γενικά Στοιχεία Οργανισμού'!$D$13:$D$24)","v":2.4919329619674389},{"$f":"D87*'Γενικά Στοιχεία Οργανισμού'!$D$19/SUM('Γενικά Στοιχεία Οργανισμού'!$D$13:$D$24)","v":4.217340985091929},{"$f":"E87*'Γενικά Στοιχεία Οργανισμού'!$D$19/SUM('Γενικά Στοιχεία Οργανισμού'!$D$13:$D$24)","v":4.0489838846085311},{"$f":"D87*'Γενικά Στοιχεία Οργανισμού'!$D$20/SUM('Γενικά Στοιχεία Οργανισμού'!$D$13:$D$24)","v":1.696436438090076},{"$f":"E87*'Γενικά Στοιχεία Οργανισμού'!$D$20/SUM('Γενικά Στοιχεία Οργανισμού'!$D$13:$D$24)","v":1.6287143542270841},{"$f":"D87*'Γενικά Στοιχεία Οργανισμού'!$D$21/SUM('Γενικά Στοιχεία Οργανισμού'!$D$13:$D$24)","v":2.1273312933649557},{"$f":"E87*'Γενικά Στοιχεία Οργανισμού'!$D$21/SUM('Γενικά Στοιχεία Οργανισμού'!$D$13:$D$24)","v":2.0424078002007637},{"$f":"D87*'Γενικά Στοιχεία Οργανισμού'!$D$22/SUM('Γενικά Στοιχεία Οργανισμού'!$D$13:$D$24)","v":1.6150074890617525},{"$f":"E87*'Γενικά Στοιχεία Οργανισμού'!$D$22/SUM('Γενικά Στοιχεία Οργανισμού'!$D$13:$D$24)","v":1.5505360652241842},{"$f":"D87*'Γενικά Στοιχεία Οργανισμού'!$D$23/SUM('Γενικά Στοιχεία Οργανισμού'!$D$13:$D$24)","v":2.1273312933649557},{"$f":"E87*'Γενικά Στοιχεία Οργανισμού'!$D$23/SUM('Γενικά Στοιχεία Οργανισμού'!$D$13:$D$24)","v":2.0424078002007637},{"$f":"D87*'Γενικά Στοιχεία Οργανισμού'!$D$24/SUM('Γενικά Στοιχεία Οργανισμού'!$D$13:$D$24)","v":2.0628667087175327},{"$f":"E87*'Γενικά Στοιχεία Οργανισμού'!$D$24/SUM('Γενικά Στοιχεία Οργανισμού'!$D$13:$D$24)","v":1.9805166547401345}]
[null,null,null,null,{"$f":"'Υπολογισμός Αν. Απ.'!O34","v":6.8074619437500008E-3},null,0,null,0,null,0,null,{"$f":"E88*'Γενικά Στοιχεία Οργανισμού'!$D$16/SUM('Γενικά Στοιχεία Οργανισμού'!$D$13:$D$24)","v":5.5348085197760237E-4},null,{"$f":"E88*'Γενικά Στοιχεία Οργανισμού'!$D$17/SUM('Γενικά Στοιχεία Οργανισμού'!$D$13:$D$24)","v":5.593564448860695E-4},null,{"$f":"E88*'Γενικά Στοιχεία Οργανισμού'!$D$18/SUM('Γενικά Στοιχεία Οργανισμού'!$D$13:$D$24)","v":8.9896571499546881E-4},null,{"$f":"E88*'Γενικά Στοιχεία Οργανισμού'!$D$19/SUM('Γενικά Στοιχεία Οργανισμού'!$D$13:$D$24)","v":1.460672397044925E-3},null,{"$f":"E88*'Γενικά Στοιχεία Οργανισμού'!$D$20/SUM('Γενικά Στοιχεία Οργανισμού'!$D$13:$D$24)","v":5.875592908467116E-4},null,{"$f":"E88*'Γενικά Στοιχεία Οργανισμού'!$D$21/SUM('Γενικά Στοιχεία Οργανισμού'!$D$13:$D$24)","v":7.3679935072177639E-4},null,{"$f":"E88*'Γενικά Στοιχεία Οργανισμού'!$D$22/SUM('Γενικά Στοιχεία Οργανισμού'!$D$13:$D$24)","v":5.593564448860695E-4},null,{"$f":"E88*'Γενικά Στοιχεία Οργανισμού'!$D$23/SUM('Γενικά Στοιχεία Οργανισμού'!$D$13:$D$24)","v":7.3679935072177639E-4},null,{"$f":"E88*'Γενικά Στοιχεία Οργανισμού'!$D$24/SUM('Γενικά Στοιχεία Οργανισμού'!$D$13:$D$24)","v":7.1447209766960131E-4}]
[null,null,null,null,{"$f":"'Υπολογισμός Αν. Απ.'!P34","v":2.1783878220000001E-3},null,0,null,0,null,0,null,{"$f":"E89*'Γενικά Στοιχεία Οργανισμού'!$D$16/SUM('Γενικά Στοιχεία Οργανισμού'!$D$13:$D$24)","v":1.7711387263283273E-4},null,{"$f":"E89*'Γενικά Στοιχεία Οργανισμού'!$D$17/SUM('Γενικά Στοιχεία Οργανισμού'!$D$13:$D$24)","v":1.789940623635422E-4},null,{"$f":"E89*'Γενικά Στοιχεία Οργανισμού'!$D$18/SUM('Γενικά Στοιχεία Οργανισμού'!$D$13:$D$24)","v":2.8766902879855002E-4},null,{"$f":"E89*'Γενικά Στοιχεία Οργανισμού'!$D$19/SUM('Γενικά Στοιχεία Οργανισμού'!$D$13:$D$24)","v":4.6741516705437597E-4},null,{"$f":"E89*'Γενικά Στοιχεία Οργανισμού'!$D$20/SUM('Γενικά Στοιχεία Οργανισμού'!$D$13:$D$24)","v":1.8801897307094769E-4},null,{"$f":"E89*'Γενικά Στοιχεία Οργανισμού'!$D$21/SUM('Γενικά Στοιχεία Οργανισμού'!$D$13:$D$24)","v":2.3577579223096843E-4},null,{"$f":"E89*'Γενικά Στοιχεία Οργανισμού'!$D$22/SUM('Γενικά Στοιχεία Οργανισμού'!$D$13:$D$24)","v":1.789940623635422E-4},null,{"$f":"E89*'Γενικά Στοιχεία Οργανισμού'!$D$23/SUM('Γενικά Στοιχεία Οργανισμού'!$D$13:$D$24)","v":2.3577579223096843E-4},null,{"$f":"E89*'Γενικά Στοιχεία Οργανισμού'!$D$24/SUM('Γενικά Στοιχεία Οργανισμού'!$D$13:$D$24)","v":2.2863107125427239E-4}]
[null,null,"Φυσικό Αέριο Κινησης\n(Λεωφορείο)",{"$f":"'Υπολογισμός Αν. Απ.'!Q35","v":4.1554192168319997},{"$f":"'Υπολογισμός Αν. Απ.'!N35","v":3.89311008},0,0,0,0,0,0,{"$f":"D90*'Γενικά Στοιχεία Οργανισμού'!$D$16/SUM('Γενικά Στοιχεία Οργανισμού'!$D$13:$D$24)","v":0.33785645626236355},{"$f":"E90*'Γενικά Στοιχεία Οργανισμού'!$D$16/SUM('Γενικά Στοιχεία Οργανισμού'!$D$13:$D$24)","v":0.31652940577938893},{"$f":"D90*'Γενικά Στοιχεία Οργανισμού'!$D$17/SUM('Γενικά Στοιχεία Οργανισμού'!$D$13:$D$24)","v":0.34144304284688964},{"$f":"E90*'Γενικά Στοιχεία Οργανισμού'!$D$17/SUM('Γενικά Στοιχεία Οργανισμού'!$D$13:$D$24)","v":0.31988959055411703},{"$f":"D90*'Γενικά Στοιχεία Οργανισμού'!$D$18/SUM('Γενικά Στοιχεία Οργανισμού'!$D$13:$D$24)","v":0.54874774743250121},{"$f":"E90*'Γενικά Στοιχεία Οργανισμού'!$D$18/SUM('Γενικά Στοιχεία Οργανισμού'!$D$13:$D$24)","v":0.51410827053340236},{"$f":"D90*'Γενικά Στοιχεία Οργανισμού'!$D$19/SUM('Γενικά Στοιχεία Οργανισμού'!$D$13:$D$24)","v":0.89162542491320129},{"$f":"E90*'Γενικά Στοιχεία Οργανισμού'!$D$19/SUM('Γενικά Στοιχεία Οργανισμού'!$D$13:$D$24)","v":0.83534193499741061},{"$f":"D90*'Γενικά Στοιχεία Οργανισμού'!$D$20/SUM('Γενικά Στοιχεία Οργανισμού'!$D$13:$D$24)","v":0.35865865845261519},{"$f":"E90*'Γενικά Στοιχεία Οργανισμού'!$D$20/SUM('Γενικά Στοιχεία Οργανισμού'!$D$13:$D$24)","v":0.33601847747281199},{"$f":"D90*'Γενικά Στοιχεία Οργανισμού'!$D$21/SUM('Γενικά Στοιχεία Οργανισμού'!$D$13:$D$24)","v":0.44975795769957944},{"$f":"E90*'Γενικά Στοιχεία Οργανισμού'!$D$21/SUM('Γενικά Στοιχεία Οργανισμού'!$D$13:$D$24)","v":0.42136717075090629},{"$f":"D90*'Γενικά Στοιχεία Οργανισμού'!$D$22/SUM('Γενικά Στοιχεία Οργανισμού'!$D$13:$D$24)","v":0.34144304284688964},{"$f":"E90*'Γενικά Στοιχεία Οργανισμού'!$D$22/SUM('Γενικά Στοιχεία Οργανισμού'!$D$13:$D$24)","v":0.31988959055411703},{"$f":"D90*'Γενικά Στοιχεία Οργανισμού'!$D$23/SUM('Γενικά Στοιχεία Οργανισμού'!$D$13:$D$24)","v":0.44975795769957944},{"$f":"E90*'Γενικά Στοιχεία Οργανισμού'!$D$23/SUM('Γενικά Στοιχεία Οργανισμού'!$D$13:$D$24)","v":0.42136717075090629},{"$f":"D90*'Γενικά Στοιχεία Οργανισμού'!$D$24/SUM('Γενικά Στοιχεία Οργανισμού'!$D$13:$D$24)","v":0.4361289286783801},{"$f":"E90*'Γενικά Στοιχεία Οργανισμού'!$D$24/SUM('Γενικά Στοιχεία Οργανισμού'!$D$13:$D$24)","v":0.40859846860693944}]
[null,null,null,null,{"$f":"'Υπολογισμός Αν. Απ.'!O35","v":7.1292316800000005E-3},null,0,null,0,null,0,null,{"$f":"E91*'Γενικά Στοιχεία Οργανισμού'!$D$16/SUM('Γενικά Στοιχεία Οργανισμού'!$D$13:$D$24)","v":5.796423478819265E-4},null,{"$f":"E91*'Γενικά Στοιχεία Οργανισμού'!$D$17/SUM('Γενικά Στοιχεία Οργανισμού'!$D$13:$D$24)","v":5.8579566367685139E-4},null,{"$f":"E91*'Γενικά Στοιχεία Οργανισμού'!$D$18/SUM('Γενικά Στοιχεία Οργανισμού'!$D$13:$D$24)","v":9.414573166235113E-4},null,{"$f":"E91*'Γενικά Στοιχεία Οργανισμού'!$D$19/SUM('Γενικά Στοιχεία Οργανισμού'!$D$13:$D$24)","v":1.5297143066183327E-3},null,{"$f":"E91*'Γενικά Στοιχεία Οργανισμού'!$D$20/SUM('Γενικά Στοιχεία Οργανισμού'!$D$13:$D$24)","v":6.1533157949249099E-4},null,{"$f":"E91*'Γενικά Στοιχεία Οργανισμού'!$D$21/SUM('Γενικά Στοιχεία Οργανισμού'!$D$13:$D$24)","v":7.7162580068358374E-4},null,{"$f":"E91*'Γενικά Στοιχεία Οργανισμού'!$D$22/SUM('Γενικά Στοιχεία Οργανισμού'!$D$13:$D$24)","v":5.8579566367685139E-4},null,{"$f":"E91*'Γενικά Στοιχεία Οργανισμού'!$D$23/SUM('Γενικά Στοιχεία Οργανισμού'!$D$13:$D$24)","v":7.7162580068358374E-4},null,{"$f":"E91*'Γενικά Στοιχεία Οργανισμού'!$D$24/SUM('Γενικά Στοιχεία Οργανισμού'!$D$13:$D$24)","v":7.4824320066286891E-4}]
[null,null,null,null,{"$f":"'Υπολογισμός Αν. Απ.'!P35","v":2.3224752000000002E-4},null,0,null,0,null,0,null,{"$f":"E92*'Γενικά Στοιχεία Οργανισμού'!$D$16/SUM('Γενικά Στοιχεία Οργανισμού'!$D$13:$D$24)","v":1.8882890025893321E-5},null,{"$f":"E92*'Γενικά Στοιχεία Οργανισμού'!$D$17/SUM('Γενικά Στοιχεία Οργανισμού'!$D$13:$D$24)","v":1.9083345334023825E-5},null,{"$f":"E92*'Γενικά Στοιχεία Οργανισμού'!$D$18/SUM('Γενικά Στοιχεία Οργανισμού'!$D$13:$D$24)","v":3.0669662143966861E-5},null,{"$f":"E92*'Γενικά Στοιχεία Οργανισμού'!$D$19/SUM('Γενικά Στοιχεία Οργανισμού'!$D$13:$D$24)","v":4.9833189601242877E-5},null,{"$f":"E92*'Γενικά Στοιχεία Οργανισμού'!$D$20/SUM('Γενικά Στοιχεία Οργανισμού'!$D$13:$D$24)","v":2.0045530813050235E-5},null,{"$f":"E92*'Γενικά Στοιχεία Οργανισμού'!$D$21/SUM('Γενικά Στοιχεία Οργανισμού'!$D$13:$D$24)","v":2.5137095639564993E-5},null,{"$f":"E92*'Γενικά Στοιχεία Οργανισμού'!$D$22/SUM('Γενικά Στοιχεία Οργανισμού'!$D$13:$D$24)","v":1.9083345334023825E-5},null,{"$f":"E92*'Γενικά Στοιχεία Οργανισμού'!$D$23/SUM('Γενικά Στοιχεία Οργανισμού'!$D$13:$D$24)","v":2.5137095639564993E-5},null,{"$f":"E92*'Γενικά Στοιχεία Οργανισμού'!$D$24/SUM('Γενικά Στοιχεία Οργανισμού'!$D$13:$D$24)","v":2.4375365468669084E-5}]
[null,null,"Ηλεκτρική Ενέργεια (Επιβατικό)",{"$f":"'Υπολογισμός Αν. Απ.'!Q36","v":1.9024207009613567},{"$f":"'Υπολογισμός Αν. Απ.'!N36","v":1.8991828800000001},0,0,0,0,0,0,{"$f":"D93*'Γενικά Στοιχεία Οργανισμού'!$D$16/SUM('Γενικά Στοιχεία Οργανισμού'!$D$13:$D$24)","v":0.15467635942565147},{"$f":"E93*'Γενικά Στοιχεία Οργανισμού'!$D$16/SUM('Γενικά Στοιχεία Οργανισμού'!$D$13:$D$24)","v":0.15441310831693422},{"$f":"D93*'Γενικά Στοιχεία Οργανισμού'!$D$17/SUM('Γενικά Στοιχεία Οργανισμού'!$D$13:$D$24)","v":0.15631835899492591},{"$f":"E93*'Γενικά Στοιχεία Οργανισμού'!$D$17/SUM('Γενικά Στοιχεία Οργανισμού'!$D$13:$D$24)","v":0.15605231328845159},{"$f":"D93*'Γενικά Στοιχεία Οργανισμού'!$D$18/SUM('Γενικά Στοιχεία Οργανισμού'!$D$13:$D$24)","v":0.25122593409898808},{"$f":"E93*'Γενικά Στοιχεία Οργανισμού'!$D$18/SUM('Γενικά Στοιχεία Οργανισμού'!$D$13:$D$24)","v":0.25079836064215433},{"$f":"D93*'Γενικά Στοιχεία Οργανισμού'!$D$19/SUM('Γενικά Στοιχεία Οργανισμού'!$D$13:$D$24)","v":0.40820109292162376},{"$f":"E93*'Γενικά Στοιχεία Οργανισμού'!$D$19/SUM('Γενικά Στοιχεία Οργανισμού'!$D$13:$D$24)","v":0.40750635591921286},{"$f":"D93*'Γενικά Στοιχεία Οργανισμού'!$D$20/SUM('Γενικά Στοιχεία Οργανισμού'!$D$13:$D$24)","v":0.16419995692744319},{"$f":"E93*'Γενικά Στοιχεία Οργανισμού'!$D$20/SUM('Γενικά Στοιχεία Οργανισμού'!$D$13:$D$24)","v":0.16392049715173485},{"$f":"D93*'Γενικά Στοιχεία Οργανισμού'!$D$21/SUM('Γενικά Στοιχεία Οργανισμού'!$D$13:$D$24)","v":0.20590674598701375},{"$f":"E93*'Γενικά Στοιχεία Οργανισμού'!$D$21/SUM('Γενικά Στοιχεία Οργανισμού'!$D$13:$D$24)","v":0.20555630342827549},{"$f":"D93*'Γενικά Στοιχεία Οργανισμού'!$D$22/SUM('Γενικά Στοιχεία Οργανισμού'!$D$13:$D$24)","v":0.15631835899492591},{"$f":"E93*'Γενικά Στοιχεία Οργανισμού'!$D$22/SUM('Γενικά Στοιχεία Οργανισμού'!$D$13:$D$24)","v":0.15605231328845159},{"$f":"D93*'Γενικά Στοιχεία Οργανισμού'!$D$23/SUM('Γενικά Στοιχεία Οργανισμού'!$D$13:$D$24)","v":0.20590674598701375},{"$f":"E93*'Γενικά Στοιχεία Οργανισμού'!$D$23/SUM('Γενικά Στοιχεία Οργανισμού'!$D$13:$D$24)","v":0.20555630342827549},{"$f":"D93*'Γενικά Στοιχεία Οργανισμού'!$D$24/SUM('Γενικά Στοιχεία Οργανισμού'!$D$13:$D$24)","v":0.19966714762377094},{"$f":"E93*'Γενικά Στοιχεία Οργανισμού'!$D$24/SUM('Γενικά Στοιχεία Οργανισμού'!$D$13:$D$24)","v":0.19932732453650959}]
[null,null,null,null,{"$f":"'Υπολογισμός Αν. Απ.'!O36","v":2.3326185792E-5},null,0,null,0,null,0,null,{"$f":"E94*'Γενικά Στοιχεία Οργανισμού'!$D$16/SUM('Γενικά Στοιχεία Οργανισμού'!$D$13:$D$24)","v":1.8965360794117036E-6},null,{"$f":"E94*'Γενικά Στοιχεία Οργανισμού'!$D$17/SUM('Γενικά Στοιχεία Οργανισμού'!$D$13:$D$24)","v":1.9166691588109789E-6},null,{"$f":"E94*'Γενικά Στοιχεία Οργανισμού'!$D$18/SUM('Γενικά Στοιχεία Οργανισμού'!$D$13:$D$24)","v":3.080361148089073E-6},null,{"$f":"E94*'Γενικά Στοιχεία Οργανισμού'!$D$19/SUM('Γενικά Στοιχεία Οργανισμού'!$D$13:$D$24)","v":5.0050835386597615E-6},null,{"$f":"E94*'Γενικά Στοιχεία Οργανισμού'!$D$20/SUM('Γενικά Στοιχεία Οργανισμού'!$D$13:$D$24)","v":2.0133079399274985E-6},null,{"$f":"E94*'Γενικά Στοιχεία Οργανισμού'!$D$21/SUM('Γενικά Στοιχεία Οργανισμού'!$D$13:$D$24)","v":2.5246881566690831E-6},null,{"$f":"E94*'Γενικά Στοιχεία Οργανισμού'!$D$22/SUM('Γενικά Στοιχεία Οργανισμού'!$D$13:$D$24)","v":1.9166691588109789E-6},null,{"$f":"E94*'Γενικά Στοιχεία Οργανισμού'!$D$23/SUM('Γενικά Στοιχεία Οργανισμού'!$D$13:$D$24)","v":2.5246881566690831E-6},null,{"$f":"E94*'Γενικά Στοιχεία Οργανισμού'!$D$24/SUM('Γενικά Στοιχεία Οργανισμού'!$D$13:$D$24)","v":2.4481824549518382E-6}]
[null,null,null,null,{"$f":"'Υπολογισμός Αν. Απ.'!P36","v":9.4762651199999999E-6},null,0,null,0,null,0,null,{"$f":"E95*'Γενικά Στοιχεία Οργανισμού'!$D$16/SUM('Γενικά Στοιχεία Οργανισμού'!$D$13:$D$24)","v":7.7046795641636454E-7},null,{"$f":"E95*'Γενικά Στοιχεία Οργανισμού'!$D$17/SUM('Γενικά Στοιχεία Οργανισμού'!$D$13:$D$24)","v":7.7864702177110306E-7},null,{"$f":"E95*'Γενικά Στοιχεία Οργανισμού'!$D$18/SUM('Γενικά Στοιχεία Οργανισμού'!$D$13:$D$24)","v":1.2513969992749869E-6},null,{"$f":"E95*'Γενικά Στοιχεία Οργανισμού'!$D$19/SUM('Γενικά Στοιχεία Οργανισμού'!$D$13:$D$24)","v":2.0333156471879856E-6},null,{"$f":"E95*'Γενικά Στοιχεία Οργανισμού'!$D$20/SUM('Γενικά Στοιχεία Οργανισμού'!$D$13:$D$24)","v":8.1790653547384783E-7},null,{"$f":"E95*'Γενικά Στοιχεία Οργανισμού'!$D$21/SUM('Γενικά Στοιχεία Οργανισμού'!$D$13:$D$24)","v":1.0256547954842051E-6},null,{"$f":"E95*'Γενικά Στοιχεία Οργανισμού'!$D$22/SUM('Γενικά Στοιχεία Οργανισμού'!$D$13:$D$24)","v":7.7864702177110306E-7},null,{"$f":"E95*'Γενικά Στοιχεία Οργανισμού'!$D$23/SUM('Γενικά Στοιχεία Οργανισμού'!$D$13:$D$24)","v":1.0256547954842051E-6},null,{"$f":"E95*'Γενικά Στοιχεία Οργανισμού'!$D$24/SUM('Γενικά Στοιχεία Οργανισμού'!$D$13:$D$24)","v":9.9457434713619886E-7}]
[null,null,"Ηλεκτρική Ενέργεια (Λεωφορείο / Τρόλεϊ)",{"$f":"'Υπολογισμός Αν. Απ.'!Q37","v":3.4901026830136654},{"$f":"'Υπολογισμός Αν. Απ.'!N37","v":3.4841627099999997},0,0,0,0,0,0,{"$f":"D96*'Γενικά Στοιχεία Οργανισμού'!$D$16/SUM('Γενικά Στοιχεία Οργανισμού'!$D$13:$D$24)","v":0.28376287997573563},{"$f":"E96*'Γενικά Στοιχεία Οργανισμού'!$D$16/SUM('Γενικά Στοιχεία Οργανισμού'!$D$13:$D$24)","v":0.2832799303314345},{"$f":"D96*'Γενικά Στοιχεία Οργανισμού'!$D$17/SUM('Γενικά Στοιχεία Οργανισμού'!$D$13:$D$24)","v":0.28677522477377948},{"$f":"E96*'Γενικά Στοιχεία Οργανισμού'!$D$17/SUM('Γενικά Στοιχεία Οργανισμού'!$D$13:$D$24)","v":0.28628714827550489},{"$f":"D96*'Γενικά Στοιχεία Οργανισμού'!$D$18/SUM('Γενικά Στοιχεία Οργανισμού'!$D$13:$D$24)","v":0.46088875410071711},{"$f":"E96*'Γενικά Στοιχεία Οργανισμού'!$D$18/SUM('Γενικά Στοιχεία Οργανισμού'!$D$13:$D$24)","v":0.46010434544277573},{"$f":"D96*'Γενικά Στοιχεία Οργανισμού'!$D$19/SUM('Γενικά Στοιχεία Οργανισμού'!$D$13:$D$24)","v":0.74886891679371415},{"$f":"E96*'Γενικά Στοιχεία Οργανισμού'!$D$19/SUM('Γενικά Στοιχεία Οργανισμού'!$D$13:$D$24)","v":0.74759438089590879},{"$f":"D96*'Γενικά Στοιχεία Οργανισμού'!$D$20/SUM('Γενικά Στοιχεία Οργανισμού'!$D$13:$D$24)","v":0.30123447980439022},{"$f":"E96*'Γενικά Στοιχεία Οργανισμού'!$D$20/SUM('Γενικά Στοιχεία Οργανισμού'!$D$13:$D$24)","v":0.30072179440704294},{"$f":"D96*'Γενικά Στοιχεία Οργανισμού'!$D$21/SUM('Γενικά Στοιχεία Οργανισμού'!$D$13:$D$24)","v":0.37774803767470533},{"$f":"E96*'Γενικά Στοιχεία Οργανισμού'!$D$21/SUM('Γενικά Στοιχεία Οργανισμού'!$D$13:$D$24)","v":0.37710513018643188},{"$f":"D96*'Γενικά Στοιχεία Οργανισμού'!$D$22/SUM('Γενικά Στοιχεία Οργανισμού'!$D$13:$D$24)","v":0.28677522477377948},{"$f":"E96*'Γενικά Στοιχεία Οργανισμού'!$D$22/SUM('Γενικά Στοιχεία Οργανισμού'!$D$13:$D$24)","v":0.28628714827550489},{"$f":"D96*'Γενικά Στοιχεία Οργανισμού'!$D$23/SUM('Γενικά Στοιχεία Οργανισμού'!$D$13:$D$24)","v":0.37774803767470533},{"$f":"E96*'Γενικά Στοιχεία Οργανισμού'!$D$23/SUM('Γενικά Στοιχεία Οργανισμού'!$D$13:$D$24)","v":0.37710513018643188},{"$f":"D96*'Γενικά Στοιχεία Οργανισμού'!$D$24/SUM('Γενικά Στοιχεία Οργανισμού'!$D$13:$D$24)","v":0.36630112744213855},{"$f":"E96*'Γενικά Στοιχεία Οργανισμού'!$D$24/SUM('Γενικά Στοιχεία Οργανισμού'!$D$13:$D$24)","v":0.36567770199896427}]
[null,null,null,null,{"$f":"'Υπολογισμός Αν. Απ.'!O37","v":4.2793259964000002E-5},null,0,null,0,null,0,null,{"$f":"E97*'Γενικά Στοιχεία Οργανισμού'!$D$16/SUM('Γενικά Στοιχεία Οργανισμού'!$D$13:$D$24)","v":3.4793069986266185E-6},null,{"$f":"E97*'Γενικά Στοιχεία Οργανισμού'!$D$17/SUM('Γενικά Στοιχεία Οργανισμού'!$D$13:$D$24)","v":3.5162423170833768E-6},null,{"$f":"E97*'Γενικά Στοιχεία Οργανισμού'!$D$18/SUM('Γενικά Στοιχεία Οργανισμού'!$D$13:$D$24)","v":5.6511037238839984E-6},null,{"$f":"E97*'Γενικά Στοιχεία Οργανισμού'!$D$19/SUM('Γενικά Στοιχεία Οργανισμού'!$D$13:$D$24)","v":9.1821201683500779E-6},null,{"$f":"E97*'Γενικά Στοιχεία Οργανισμού'!$D$20/SUM('Γενικά Στοιχεία Οργανισμού'!$D$13:$D$24)","v":3.6935318456758159E-6},null,{"$f":"E97*'Γενικά Στοιχεία Οργανισμού'!$D$21/SUM('Γενικά Στοιχεία Οργανισμού'!$D$13:$D$24)","v":4.6316889344774724E-6},null,{"$f":"E97*'Γενικά Στοιχεία Οργανισμού'!$D$22/SUM('Γενικά Στοιχεία Οργανισμού'!$D$13:$D$24)","v":3.5162423170833768E-6},null,{"$f":"E97*'Γενικά Στοιχεία Οργανισμού'!$D$23/SUM('Γενικά Στοιχεία Οργανισμού'!$D$13:$D$24)","v":4.6316889344774724E-6},null,{"$f":"E97*'Γενικά Στοιχεία Οργανισμού'!$D$24/SUM('Γενικά Στοιχεία Οργανισμού'!$D$13:$D$24)","v":4.491334724341792E-6}]
[null,null,null,null,{"$f":"'Υπολογισμός Αν. Απ.'!P37","v":1.7384765789999997E-5},null,0,null,0,null,0,null,{"$f":"E98*'Γενικά Στοιχεία Οργανισμού'!$D$16/SUM('Γενικά Στοιχεία Οργανισμού'!$D$13:$D$24)","v":1.4134687876903156E-6},null,{"$f":"E98*'Γενικά Στοιχεία Οργανισμού'!$D$17/SUM('Γενικά Στοιχεία Οργανισμού'!$D$13:$D$24)","v":1.4284737642050748E-6},null,{"$f":"E98*'Γενικά Στοιχεία Οργανισμού'!$D$18/SUM('Γενικά Στοιχεία Οργανισμού'!$D$13:$D$24)","v":2.295761406758156E-6},null,{"$f":"E98*'Γενικά Στοιχεία Οργανισμού'!$D$19/SUM('Γενικά Στοιχεία Οργανισμού'!$D$13:$D$24)","v":3.7302371615691345E-6},null,{"$f":"E98*'Γενικά Στοιχεία Οργανισμού'!$D$20/SUM('Γενικά Στοιχεία Οργανισμού'!$D$13:$D$24)","v":1.5004976514759189E-6},null,{"$f":"E98*'Γενικά Στοιχεία Οργανισμού'!$D$21/SUM('Γενικά Στοιχεία Οργανισμού'!$D$13:$D$24)","v":1.8816240549508024E-6},null,{"$f":"E98*'Γενικά Στοιχεία Οργανισμού'!$D$22/SUM('Γενικά Στοιχεία Οργανισμού'!$D$13:$D$24)","v":1.4284737642050748E-6},null,{"$f":"E98*'Γενικά Στοιχεία Οργανισμού'!$D$23/SUM('Γενικά Στοιχεία Οργανισμού'!$D$13:$D$24)","v":1.8816240549508024E-6},null,{"$f":"E98*'Γενικά Στοιχεία Οργανισμού'!$D$24/SUM('Γενικά Στοιχεία Οργανισμού'!$D$13:$D$24)","v":1.8246051441947175E-6}]
[null,null,"Ηλεκτρική Ενέργεια (Συρμοί)",{"$f":"'Υπολογισμός Αν. Απ.'!Q38","v":285.76677004083609},{"$f":"'Υπολογισμός Αν. Απ.'!N38","v":285.28040987999998},0,0,0,0,0,0,{"$f":"D99*'Γενικά Στοιχεία Οργανισμού'!$D$16/SUM('Γενικά Στοιχεία Οργανισμού'!$D$13:$D$24)","v":23.234273897675433},{"$f":"E99*'Γενικά Στοιχεία Οργανισμού'!$D$16/SUM('Γενικά Στοιχεία Οργανισμού'!$D$13:$D$24)","v":23.194730373464523},{"$f":"D99*'Γενικά Στοιχεία Οργανισμού'!$D$17/SUM('Γενικά Στοιχεία Οργανισμού'!$D$13:$D$24)","v":23.480922240538231},{"$f":"E99*'Γενικά Στοιχεία Οργανισμού'!$D$17/SUM('Γενικά Στοιχεία Οργανισμού'!$D$13:$D$24)","v":23.440958933692382},{"$f":"D99*'Γενικά Στοιχεία Οργανισμού'!$D$18/SUM('Γενικά Στοιχεία Οργανισμού'!$D$13:$D$24)","v":37.737196458007872},{"$f":"E99*'Γενικά Στοιχεία Οργανισμού'!$D$18/SUM('Γενικά Στοιχεία Οργανισμού'!$D$13:$D$24)","v":37.672969714862759},{"$f":"D99*'Γενικά Στοιχεία Οργανισμού'!$D$19/SUM('Γενικά Στοιχεία Οργανισμού'!$D$13:$D$24)","v":61.316778035691229},{"$f":"E99*'Γενικά Στοιχεία Οργανισμού'!$D$19/SUM('Γενικά Στοιχεία Οργανισμού'!$D$13:$D$24)","v":61.212420072646296},{"$f":"D99*'Γενικά Στοιχεία Οργανισμού'!$D$20/SUM('Γενικά Στοιχεία Οργανισμού'!$D$13:$D$24)","v":24.664834286279653},{"$f":"E99*'Γενικά Στοιχεία Οργανισμού'!$D$20/SUM('Γενικά Στοιχεία Οργανισμού'!$D$13:$D$24)","v":24.62285602278612},{"$f":"D99*'Γενικά Στοιχεία Οργανισμού'!$D$21/SUM('Γενικά Στοιχεία Οργανισμού'!$D$13:$D$24)","v":30.92970219499469},{"$f":"E99*'Γενικά Στοιχεία Οργανισμού'!$D$21/SUM('Γενικά Στοιχεία Οργανισμού'!$D$13:$D$24)","v":30.877061452573791},{"$f":"D99*'Γενικά Στοιχεία Οργανισμού'!$D$22/SUM('Γενικά Στοιχεία Οργανισμού'!$D$13:$D$24)","v":23.480922240538231},{"$f":"E99*'Γενικά Στοιχεία Οργανισμού'!$D$22/SUM('Γενικά Στοιχεία Οργανισμού'!$D$13:$D$24)","v":23.440958933692382},{"$f":"D99*'Γενικά Στοιχεία Οργανισμού'!$D$23/SUM('Γενικά Στοιχεία Οργανισμού'!$D$13:$D$24)","v":30.92970219499469},{"$f":"E99*'Γενικά Στοιχεία Οργανισμού'!$D$23/SUM('Γενικά Στοιχεία Οργανισμού'!$D$13:$D$24)","v":30.877061452573791},{"$f":"D99*'Γενικά Στοιχεία Οργανισμού'!$D$24/SUM('Γενικά Στοιχεία Οργανισμού'!$D$13:$D$24)","v":29.992438492116062},{"$f":"E99*'Γενικά Στοιχεία Οργανισμού'!$D$24/SUM('Γενικά Στοιχεία Οργανισμού'!$D$13:$D$24)","v":29.941392923707923}]
[null,null,null,null,{"$f":"'Υπολογισμός Αν. Απ.'!O38","v":3.5038773325919998E-3},null,0,null,0,null,0,null,{"$f":"E100*'Γενικά Στοιχεία Οργανισμού'!$D$16/SUM('Γενικά Στοιχεία Οργανισμού'!$D$13:$D$24)","v":2.8488282818070633E-4},null,{"$f":"E100*'Γενικά Στοιχεία Οργανισμού'!$D$17/SUM('Γενικά Στοιχεία Οργανισμού'!$D$13:$D$24)","v":2.8790706202551217E-4},null,{"$f":"E100*'Γενικά Στοιχεία Οργανισμού'!$D$18/SUM('Γενικά Στοιχεία Οργανισμού'!$D$13:$D$24)","v":4.6270777825528739E-4},null,{"$f":"E100*'Γενικά Στοιχεία Οργανισμού'!$D$19/SUM('Γενικά Στοιχεία Οργανισμού'!$D$13:$D$24)","v":7.5182453381872187E-4},null,{"$f":"E100*'Γενικά Στοιχεία Οργανισμού'!$D$20/SUM('Γενικά Στοιχεία Οργανισμού'!$D$13:$D$24)","v":3.0242338448057998E-4},null,{"$f":"E100*'Γενικά Στοιχεία Οργανισμού'!$D$21/SUM('Γενικά Στοιχεία Οργανισμού'!$D$13:$D$24)","v":3.7923892413864728E-4},null,{"$f":"E100*'Γενικά Στοιχεία Οργανισμού'!$D$22/SUM('Γενικά Στοιχεία Οργανισμού'!$D$13:$D$24)","v":2.8790706202551217E-4},null,{"$f":"E100*'Γενικά Στοιχεία Οργανισμού'!$D$23/SUM('Γενικά Στοιχεία Οργανισμού'!$D$13:$D$24)","v":3.7923892413864728E-4},null,{"$f":"E100*'Γενικά Στοιχεία Οργανισμού'!$D$24/SUM('Γενικά Στοιχεία Οργανισμού'!$D$13:$D$24)","v":3.6774683552838526E-4}]
[null,null,null,null,{"$f":"'Υπολογισμός Αν. Απ.'!P38","v":1.4234504881200001E-3},null,0,null,0,null,0,null,{"$f":"E101*'Γενικά Στοιχεία Οργανισμού'!$D$16/SUM('Γενικά Στοιχεία Οργανισμού'!$D$13:$D$24)","v":1.1573367510866908E-4},null,{"$f":"E101*'Γενικά Στοιχεία Οργανισμού'!$D$17/SUM('Γενικά Στοιχεία Οργανισμού'!$D$13:$D$24)","v":1.1696227038583118E-4},null,{"$f":"E101*'Γενικά Στοιχεία Οργανισμού'!$D$18/SUM('Γενικά Στοιχεία Οργανισμού'!$D$13:$D$24)","v":1.8797507740580011E-4},null,{"$f":"E101*'Γενικά Στοιχεία Οργανισμού'!$D$19/SUM('Γενικά Στοιχεία Οργανισμού'!$D$13:$D$24)","v":3.0542878590249613E-4},null,{"$f":"E101*'Γενικά Στοιχεία Οργανισμού'!$D$20/SUM('Γενικά Στοιχεία Οργανισμού'!$D$13:$D$24)","v":1.2285952771620923E-4},null,{"$f":"E101*'Γενικά Στοιχεία Οργανισμού'!$D$21/SUM('Γενικά Στοιχεία Οργανισμού'!$D$13:$D$24)","v":1.5406584775612636E-4},null,{"$f":"E101*'Γενικά Στοιχεία Οργανισμού'!$D$22/SUM('Γενικά Στοιχεία Οργανισμού'!$D$13:$D$24)","v":1.1696227038583118E-4},null,{"$f":"E101*'Γενικά Στοιχεία Οργανισμού'!$D$23/SUM('Γενικά Στοιχεία Οργανισμού'!$D$13:$D$24)","v":1.5406584775612636E-4},null,{"$f":"E101*'Γενικά Στοιχεία Οργανισμού'!$D$24/SUM('Γενικά Στοιχεία Οργανισμού'!$D$13:$D$24)","v":1.4939718570291041E-4}]
[null,null,"Μετακίνηση Υπαλλήλων",{"$f":"SUM(D105:D128)","v":753.39921618246581},{"$f":"E105+E108+E111+E117+E120+E123+E126+E114","v":742.39125080092049},0,0,0,0,{"$f":"D102*'Γενικά Στοιχεία Οργανισμού'!$D$9/SUM('Γενικά Στοιχεία Οργανισμού'!$E$13:$E$24,'Γενικά Στοιχεία Οργανισμού'!$D$9)","v":301.35968647298631},{"$f":"E102*'Γενικά Στοιχεία Οργανισμού'!$D$9/SUM('Γενικά Στοιχεία Οργανισμού'!$E$13:$E$24,'Γενικά Στοιχεία Οργανισμού'!$D$9)","v":296.95650032036821},{"$f":"D102*'Γενικά Στοιχεία Οργανισμού'!$E$16/SUM('Γενικά Στοιχεία Οργανισμού'!$E$13:$E$24,'Γενικά Στοιχεία Οργανισμού'!$D$9)","v":32.546846139082525},{"$f":"E102*'Γενικά Στοιχεία Οργανισμού'!$E$16/SUM('Γενικά Στοιχεία Οργανισμού'!$E$13:$E$24,'Γενικά Στοιχεία Οργανισμού'!$D$9)","v":32.071302034599768},{"$f":"D102*'Γενικά Στοιχεία Οργανισμού'!$E$17/SUM('Γενικά Στοιχεία Οργανισμού'!$E$13:$E$24,'Γενικά Στοιχεία Οργανισμού'!$D$9)","v":57.258340429867395},{"$f":"E102*'Γενικά Στοιχεία Οργανισμού'!$E$17/SUM('Γενικά Στοιχεία Οργανισμού'!$E$13:$E$24,'Γενικά Στοιχεία Οργανισμού'!$D$9)","v":56.421735060869963},{"$f":"D102*'Γενικά Στοιχεία Οργανισμού'!$E$18/SUM('Γενικά Στοιχεία Οργανισμού'!$E$13:$E$24,'Γενικά Στοιχεία Οργανισμού'!$D$9)","v":34.957723630866411},{"$f":"E102*'Γενικά Στοιχεία Οργανισμού'!$E$18/SUM('Γενικά Στοιχεία Οργανισμού'!$E$13:$E$24,'Γενικά Στοιχεία Οργανισμού'!$D$9)","v":34.446954037162705},{"$f":"D102*'Γενικά Στοιχεία Οργανισμού'!$E$19/SUM('Γενικά Στοιχεία Οργανισμού'!$E$13:$E$24,'Γενικά Στοιχεία Οργανισμού'!$D$9)","v":54.244743565137533},{"$f":"E102*'Γενικά Στοιχεία Οργανισμού'!$E$19/SUM('Γενικά Στοιχεία Οργανισμού'!$E$13:$E$24,'Γενικά Στοιχεία Οργανισμού'!$D$9)","v":53.452170057666279},{"$f":"D102*'Γενικά Στοιχεία Οργανισμού'!$E$20/SUM('Γενικά Στοιχεία Οργανισμού'!$E$13:$E$24,'Γενικά Στοιχεία Οργανισμού'!$D$9)","v":79.55895722886838},{"$f":"E102*'Γενικά Στοιχεία Οργανισμού'!$E$20/SUM('Γενικά Στοιχεία Οργανισμού'!$E$13:$E$24,'Γενικά Στοιχεία Οργανισμού'!$D$9)","v":78.3965160845772},{"$f":"D102*'Γενικά Στοιχεία Οργανισμού'!$E$21/SUM('Γενικά Στοιχεία Οργανισμού'!$E$13:$E$24,'Γενικά Στοιχεία Οργανισμού'!$D$9)","v":18.081581188379179},{"$f":"E102*'Γενικά Στοιχεία Οργανισμού'!$E$21/SUM('Γενικά Στοιχεία Οργανισμού'!$E$13:$E$24,'Γενικά Στοιχεία Οργανισμού'!$D$9)","v":17.817390019222092},{"$f":"D102*'Γενικά Στοιχεία Οργανισμού'!$E$22/SUM('Γενικά Στοιχεία Οργανισμού'!$E$13:$E$24,'Γενικά Στοιχεία Οργανισμού'!$D$9)","v":45.203952970947945},{"$f":"E102*'Γενικά Στοιχεία Οργανισμού'!$E$22/SUM('Γενικά Στοιχεία Οργανισμού'!$E$13:$E$24,'Γενικά Στοιχεία Οργανισμού'!$D$9)","v":44.543475048055235},{"$f":"D102*'Γενικά Στοιχεία Οργανισμού'!$E$23/SUM('Γενικά Στοιχεία Οργανισμού'!$E$13:$E$24,'Γενικά Στοιχεία Οργανισμού'!$D$9)","v":70.518166634678792},{"$f":"E102*'Γενικά Στοιχεία Οργανισμού'!$E$23/SUM('Γενικά Στοιχεία Οργανισμού'!$E$13:$E$24,'Γενικά Στοιχεία Οργανισμού'!$D$9)","v":69.487821074966149},{"$f":"D102*'Γενικά Στοιχεία Οργανισμού'!$E$24/SUM('Γενικά Στοιχεία Οργανισμού'!$E$13:$E$24,'Γενικά Στοιχεία Οργανισμού'!$D$9)","v":59.669217921651295},{"$f":"E102*'Γενικά Στοιχεία Οργανισμού'!$E$24/SUM('Γενικά Στοιχεία Οργανισμού'!$E$13:$E$24,'Γενικά Στοιχεία Οργανισμού'!$D$9)","v":58.797387063432907}]
[null,null,null,null,{"$f":"E106+E109+E112+E118+E121+E124+E127+E115","v":0.1655513232055785},null,0,null,0,null,{"$f":"E103*'Γενικά Στοιχεία Οργανισμού'!$D$9/SUM('Γενικά Στοιχεία Οργανισμού'!$E$13:$E$24,'Γενικά Στοιχεία Οργανισμού'!$D$9)","v":6.6220529282231405E-2},null,{"$f":"E103*'Γενικά Στοιχεία Οργανισμού'!$E$16/SUM('Γενικά Στοιχεία Οργανισμού'!$E$13:$E$24,'Γενικά Στοιχεία Οργανισμού'!$D$9)","v":7.1518171624809909E-3},null,{"$f":"E103*'Γενικά Στοιχεία Οργανισμού'!$E$17/SUM('Γενικά Στοιχεία Οργανισμού'!$E$13:$E$24,'Γενικά Στοιχεία Οργανισμού'!$D$9)","v":1.2581900563623967E-2},null,{"$f":"E103*'Γενικά Στοιχεία Οργανισμού'!$E$18/SUM('Γενικά Στοιχεία Οργανισμού'!$E$13:$E$24,'Γενικά Στοιχεία Οργανισμού'!$D$9)","v":7.6815813967388421E-3},null,{"$f":"E103*'Γενικά Στοιχεία Οργανισμού'!$E$19/SUM('Γενικά Στοιχεία Οργανισμού'!$E$13:$E$24,'Γενικά Στοιχεία Οργανισμού'!$D$9)","v":1.1919695270801653E-2},null,{"$f":"E103*'Γενικά Στοιχεία Οργανισμού'!$E$20/SUM('Γενικά Στοιχεία Οργανισμού'!$E$13:$E$24,'Γενικά Στοιχεία Οργανισμού'!$D$9)","v":1.7482219730509091E-2},null,{"$f":"E103*'Γενικά Στοιχεία Οργανισμού'!$E$21/SUM('Γενικά Στοιχεία Οργανισμού'!$E$13:$E$24,'Γενικά Στοιχεία Οργανισμού'!$D$9)","v":3.9732317569338843E-3},null,{"$f":"E103*'Γενικά Στοιχεία Οργανισμού'!$E$22/SUM('Γενικά Στοιχεία Οργανισμού'!$E$13:$E$24,'Γενικά Στοιχεία Οργανισμού'!$D$9)","v":9.9330793923347108E-3},null,{"$f":"E103*'Γενικά Στοιχεία Οργανισμού'!$E$23/SUM('Γενικά Στοιχεία Οργανισμού'!$E$13:$E$24,'Γενικά Στοιχεία Οργανισμού'!$D$9)","v":1.5495603852042149E-2},null,{"$f":"E103*'Γενικά Στοιχεία Οργανισμού'!$E$24/SUM('Γενικά Στοιχεία Οργανισμού'!$E$13:$E$24,'Γενικά Στοιχεία Οργανισμού'!$D$9)","v":1.3111664797881818E-2}]
[null,null,null,null,{"$f":"E107+E110+E113+E119+E122+E125+E128+E116","v":1.4719826531644E-2},null,0,null,0,null,{"$f":"E104*'Γενικά Στοιχεία Οργανισμού'!$D$9/SUM('Γενικά Στοιχεία Οργανισμού'!$E$13:$E$24,'Γενικά Στοιχεία Οργανισμού'!$D$9)","v":5.8879306126575996E-3},null,{"$f":"E104*'Γενικά Στοιχεία Οργανισμού'!$E$16/SUM('Γενικά Στοιχεία Οργανισμού'!$E$13:$E$24,'Γενικά Στοιχεία Οργανισμού'!$D$9)","v":6.3589650616702078E-4},null,{"$f":"E104*'Γενικά Στοιχεία Οργανισμού'!$E$17/SUM('Γενικά Στοιχεία Οργανισμού'!$E$13:$E$24,'Γενικά Στοιχεία Οργανισμού'!$D$9)","v":1.118706816404944E-3},null,{"$f":"E104*'Γενικά Στοιχεία Οργανισμού'!$E$18/SUM('Γενικά Στοιχεία Οργανισμού'!$E$13:$E$24,'Γενικά Στοιχεία Οργανισμού'!$D$9)","v":6.8299995106828164E-4},null,{"$f":"E104*'Γενικά Στοιχεία Οργανισμού'!$E$19/SUM('Γενικά Στοιχεία Οργανισμού'!$E$13:$E$24,'Γενικά Στοιχεία Οργανισμού'!$D$9)","v":1.0598275102783679E-3},null,{"$f":"E104*'Γενικά Στοιχεία Οργανισμού'!$E$20/SUM('Γενικά Στοιχεία Οργανισμού'!$E$13:$E$24,'Γενικά Στοιχεία Οργανισμού'!$D$9)","v":1.5544136817416065E-3},null,{"$f":"E104*'Γενικά Στοιχεία Οργανισμού'!$E$21/SUM('Γενικά Στοιχεία Οργανισμού'!$E$13:$E$24,'Γενικά Στοιχεία Οργανισμού'!$D$9)","v":3.53275836759456E-4},null,{"$f":"E104*'Γενικά Στοιχεία Οργανισμού'!$E$22/SUM('Γενικά Στοιχεία Οργανισμού'!$E$13:$E$24,'Γενικά Στοιχεία Οργανισμού'!$D$9)","v":8.8318959189863995E-4},null,{"$f":"E104*'Γενικά Στοιχεία Οργανισμού'!$E$23/SUM('Γενικά Στοιχεία Οργανισμού'!$E$13:$E$24,'Γενικά Στοιχεία Οργανισμού'!$D$9)","v":1.3777757633618784E-3},null,{"$f":"E104*'Γενικά Στοιχεία Οργανισμού'!$E$24/SUM('Γενικά Στοιχεία Οργανισμού'!$E$13:$E$24,'Γενικά Στοιχεία Οργανισμού'!$D$9)","v":1.165810261306205E-3}]
[null,null,"Πετρέλαιο Κίνησης (Επιβατικό)",{"$f":"'Υπολογισμός Αν. Απ.'!Q42","v":63.23540574182973},{"$f":"'Υπολογισμός Αν. Απ.'!N42","v":62.549135892359999},0,0,0,0,{"$f":"D105*'Γενικά Στοιχεία Οργανισμού'!$D$9/SUM('Γενικά Στοιχεία Οργανισμού'!$E$13:$E$24,'Γενικά Στοιχεία Οργανισμού'!$D$9)","v":25.294162296731891},{"$f":"E105*'Γενικά Στοιχεία Οργανισμού'!$D$9/SUM('Γενικά Στοιχεία Οργανισμού'!$E$13:$E$24,'Γενικά Στοιχεία Οργανισμού'!$D$9)","v":25.019654356943999},{"$f":"D105*'Γενικά Στοιχεία Οργανισμού'!$E$16/SUM('Γενικά Στοιχεία Οργανισμού'!$E$13:$E$24,'Γενικά Στοιχεία Οργανισμού'!$D$9)","v":2.7317695280470446},{"$f":"E105*'Γενικά Στοιχεία Οργανισμού'!$E$16/SUM('Γενικά Στοιχεία Οργανισμού'!$E$13:$E$24,'Γενικά Στοιχεία Οργανισμού'!$D$9)","v":2.7021226705499521},{"$f":"D105*'Γενικά Στοιχεία Οργανισμού'!$E$17/SUM('Γενικά Στοιχεία Οργανισμού'!$E$13:$E$24,'Γενικά Στοιχεία Οργανισμού'!$D$9)","v":4.8058908363790591},{"$f":"E105*'Γενικά Στοιχεία Οργανισμού'!$E$17/SUM('Γενικά Στοιχεία Οργανισμού'!$E$13:$E$24,'Γενικά Στοιχεία Οργανισμού'!$D$9)","v":4.7537343278193598},{"$f":"D105*'Γενικά Στοιχεία Οργανισμού'!$E$18/SUM('Γενικά Στοιχεία Οργανισμού'!$E$13:$E$24,'Γενικά Στοιχεία Οργανισμού'!$D$9)","v":2.9341228264208996},{"$f":"E105*'Γενικά Στοιχεία Οργανισμού'!$E$18/SUM('Γενικά Στοιχεία Οργανισμού'!$E$13:$E$24,'Γενικά Στοιχεία Οργανισμού'!$D$9)","v":2.902279905405504},{"$f":"D105*'Γενικά Στοιχεία Οργανισμού'!$E$19/SUM('Γενικά Στοιχεία Οργανισμού'!$E$13:$E$24,'Γενικά Στοιχεία Οργανισμού'!$D$9)","v":4.5529492134117406},{"$f":"E105*'Γενικά Στοιχεία Οργανισμού'!$E$19/SUM('Γενικά Στοιχεία Οργανισμού'!$E$13:$E$24,'Γενικά Στοιχεία Οργανισμού'!$D$9)","v":4.5035377842499198},{"$f":"D105*'Γενικά Στοιχεία Οργανισμού'!$E$20/SUM('Γενικά Στοιχεία Οργανισμού'!$E$13:$E$24,'Γενικά Στοιχεία Οργανισμού'!$D$9)","v":6.67765884633722},{"$f":"E105*'Γενικά Στοιχεία Οργανισμού'!$E$20/SUM('Γενικά Στοιχεία Οργανισμού'!$E$13:$E$24,'Γενικά Στοιχεία Οργανισμού'!$D$9)","v":6.6051887502332161},{"$f":"D105*'Γενικά Στοιχεία Οργανισμού'!$E$21/SUM('Γενικά Στοιχεία Οργανισμού'!$E$13:$E$24,'Γενικά Στοιχεία Οργανισμού'!$D$9)","v":1.5176497378039135},{"$f":"E105*'Γενικά Στοιχεία Οργανισμού'!$E$21/SUM('Γενικά Στοιχεία Οργανισμού'!$E$13:$E$24,'Γενικά Στοιχεία Οργανισμού'!$D$9)","v":1.5011792614166399},{"$f":"D105*'Γενικά Στοιχεία Οργανισμού'!$E$22/SUM('Γενικά Στοιχεία Οργανισμού'!$E$13:$E$24,'Γενικά Στοιχεία Οργανισμού'!$D$9)","v":3.7941243445097839},{"$f":"E105*'Γενικά Στοιχεία Οργανισμού'!$E$22/SUM('Γενικά Στοιχεία Οργανισμού'!$E$13:$E$24,'Γενικά Στοιχεία Οργανισμού'!$D$9)","v":3.7529481535416003},{"$f":"D105*'Γενικά Στοιχεία Οργανισμού'!$E$23/SUM('Γενικά Στοιχεία Οργανισμού'!$E$13:$E$24,'Γενικά Στοιχεία Οργανισμού'!$D$9)","v":5.9188339774352627},{"$f":"E105*'Γενικά Στοιχεία Οργανισμού'!$E$23/SUM('Γενικά Στοιχεία Οργανισμού'!$E$13:$E$24,'Γενικά Στοιχεία Οργανισμού'!$D$9)","v":5.8545991195248961},{"$f":"D105*'Γενικά Στοιχεία Οργανισμού'!$E$24/SUM('Γενικά Στοιχεία Οργανισμού'!$E$13:$E$24,'Γενικά Στοιχεία Οργανισμού'!$D$9)","v":5.0082441347529141},{"$f":"E105*'Γενικά Στοιχεία Οργανισμού'!$E$24/SUM('Γενικά Στοιχεία Οργανισμού'!$E$13:$E$24,'Γενικά Στοιχεία Οργανισμού'!$D$9)","v":4.9538915626749116}]
[null,null,null,null,{"$f":"'Υπολογισμός Αν. Απ.'!O42","v":2.5624389959999998E-5},null,0,null,0,null,{"$f":"E106*'Γενικά Στοιχεία Οργανισμού'!$D$9/SUM('Γενικά Στοιχεία Οργανισμού'!$E$13:$E$24,'Γενικά Στοιχεία Οργανισμού'!$D$9)","v":1.0249755983999999E-5},null,{"$f":"E106*'Γενικά Στοιχεία Οργανισμού'!$E$16/SUM('Γενικά Στοιχεία Οργανισμού'!$E$13:$E$24,'Γενικά Στοιχεία Οργανισμού'!$D$9)","v":1.1069736462719999E-6},null,{"$f":"E106*'Γενικά Στοιχεία Οργανισμού'!$E$17/SUM('Γενικά Στοιχεία Οργανισμού'!$E$13:$E$24,'Γενικά Στοιχεία Οργανισμού'!$D$9)","v":1.9474536369599996E-6},null,{"$f":"E106*'Γενικά Στοιχεία Οργανισμού'!$E$18/SUM('Γενικά Στοιχεία Οργανισμού'!$E$13:$E$24,'Γενικά Στοιχεία Οργανισμού'!$D$9)","v":1.1889716941439998E-6},null,{"$f":"E106*'Γενικά Στοιχεία Οργανισμού'!$E$19/SUM('Γενικά Στοιχεία Οργανισμού'!$E$13:$E$24,'Γενικά Στοιχεία Οργανισμού'!$D$9)","v":1.8449560771199999E-6},null,{"$f":"E106*'Γενικά Στοιχεία Οργανισμού'!$E$20/SUM('Γενικά Στοιχεία Οργανισμού'!$E$13:$E$24,'Γενικά Στοιχεία Οργανισμού'!$D$9)","v":2.7059355797759997E-6},null,{"$f":"E106*'Γενικά Στοιχεία Οργανισμού'!$E$21/SUM('Γενικά Στοιχεία Οργανισμού'!$E$13:$E$24,'Γενικά Στοιχεία Οργανισμού'!$D$9)","v":6.1498535904000005E-7},null,{"$f":"E106*'Γενικά Στοιχεία Οργανισμού'!$E$22/SUM('Γενικά Στοιχεία Οργανισμού'!$E$13:$E$24,'Γενικά Στοιχεία Οργανισμού'!$D$9)","v":1.5374633975999998E-6},null,{"$f":"E106*'Γενικά Στοιχεία Οργανισμού'!$E$23/SUM('Γενικά Στοιχεία Οργανισμού'!$E$13:$E$24,'Γενικά Στοιχεία Οργανισμού'!$D$9)","v":2.398442900256E-6},null,{"$f":"E106*'Γενικά Στοιχεία Οργανισμού'!$E$24/SUM('Γενικά Στοιχεία Οργανισμού'!$E$13:$E$24,'Γενικά Στοιχεία Οργανισμού'!$D$9)","v":2.0294516848320001E-6}]
[null,null,null,null,{"$f":"'Υπολογισμός Αν. Απ.'!P42","v":2.5111902160799998E-3},null,0,null,0,null,{"$f":"E107*'Γενικά Στοιχεία Οργανισμού'!$D$9/SUM('Γενικά Στοιχεία Οργανισμού'!$E$13:$E$24,'Γενικά Στοιχεία Οργανισμού'!$D$9)","v":1.0044760864319998E-3},null,{"$f":"E107*'Γενικά Στοιχεία Οργανισμού'!$E$16/SUM('Γενικά Στοιχεία Οργανισμού'!$E$13:$E$24,'Γενικά Στοιχεία Οργανισμού'!$D$9)","v":1.0848341733465598E-4},null,{"$f":"E107*'Γενικά Στοιχεία Οργανισμού'!$E$17/SUM('Γενικά Στοιχεία Οργανισμού'!$E$13:$E$24,'Γενικά Στοιχεία Οργανισμού'!$D$9)","v":1.9085045642207999E-4},null,{"$f":"E107*'Γενικά Στοιχεία Οργανισμού'!$E$18/SUM('Γενικά Στοιχεία Οργανισμού'!$E$13:$E$24,'Γενικά Στοιχεία Οργανισμού'!$D$9)","v":1.16519226026112E-4},null,{"$f":"E107*'Γενικά Στοιχεία Οργανισμού'!$E$19/SUM('Γενικά Στοιχεία Οργανισμού'!$E$13:$E$24,'Γενικά Στοιχεία Οργανισμού'!$D$9)","v":1.8080569555775999E-4},null,{"$f":"E107*'Γενικά Στοιχεία Οργανισμού'!$E$20/SUM('Γενικά Στοιχεία Οργανισμού'!$E$13:$E$24,'Γενικά Στοιχεία Οργανισμού'!$D$9)","v":2.6518168681804799E-4},null,{"$f":"E107*'Γενικά Στοιχεία Οργανισμού'!$E$21/SUM('Γενικά Στοιχεία Οργανισμού'!$E$13:$E$24,'Γενικά Στοιχεία Οργανισμού'!$D$9)","v":6.0268565185919997E-5},null,{"$f":"E107*'Γενικά Στοιχεία Οργανισμού'!$E$22/SUM('Γενικά Στοιχεία Οργανισμού'!$E$13:$E$24,'Γενικά Στοιχεία Οργανισμού'!$D$9)","v":1.5067141296479998E-4},null,{"$f":"E107*'Γενικά Στοιχεία Οργανισμού'!$E$23/SUM('Γενικά Στοιχεία Οργανισμού'!$E$13:$E$24,'Γενικά Στοιχεία Οργανισμού'!$D$9)","v":2.3504740422508797E-4},null,{"$f":"E107*'Γενικά Στοιχεία Οργανισμού'!$E$24/SUM('Γενικά Στοιχεία Οργανισμού'!$E$13:$E$24,'Γενικά Στοιχεία Οργανισμού'!$D$9)","v":1.9888626511353598E-4}]
[null,null,"Βενζίνη\n(Επιβατικό)",{"$f":"'Υπολογισμός Αν. Απ.'!Q43","v":565.15061335541805},{"$f":"'Υπολογισμός Αν. Απ.'!N43","v":560.3178830863186},0,0,0,0,{"$f":"D108*'Γενικά Στοιχεία Οργανισμού'!$D$9/SUM('Γενικά Στοιχεία Οργανισμού'!$E$13:$E$24,'Γενικά Στοιχεία Οργανισμού'!$D$9)","v":226.06024534216724},{"$f":"E108*'Γενικά Στοιχεία Οργανισμού'!$D$9/SUM('Γενικά Στοιχεία Οργανισμού'!$E$13:$E$24,'Γενικά Στοιχεία Οργανισμού'!$D$9)","v":224.12715323452744},{"$f":"D108*'Γενικά Στοιχεία Οργανισμού'!$E$16/SUM('Γενικά Στοιχεία Οργανισμού'!$E$13:$E$24,'Γενικά Στοιχεία Οργανισμού'!$D$9)","v":24.414506496954061},{"$f":"E108*'Γενικά Στοιχεία Οργανισμού'!$E$16/SUM('Γενικά Στοιχεία Οργανισμού'!$E$13:$E$24,'Γενικά Στοιχεία Οργανισμού'!$D$9)","v":24.205732549328964},{"$f":"D108*'Γενικά Στοιχεία Οργανισμού'!$E$17/SUM('Γενικά Στοιχεία Οργανισμού'!$E$13:$E$24,'Γενικά Στοιχεία Οργανισμού'!$D$9)","v":42.951446615011768},{"$f":"E108*'Γενικά Στοιχεία Οργανισμού'!$E$17/SUM('Γενικά Στοιχεία Οργανισμού'!$E$13:$E$24,'Γενικά Στοιχεία Οργανισμού'!$D$9)","v":42.584159114560208},{"$f":"D108*'Γενικά Στοιχεία Οργανισμού'!$E$18/SUM('Γενικά Στοιχεία Οργανισμού'!$E$13:$E$24,'Γενικά Στοιχεία Οργανισμού'!$D$9)","v":26.2229884596914},{"$f":"E108*'Γενικά Στοιχεία Οργανισμού'!$E$18/SUM('Γενικά Στοιχεία Οργανισμού'!$E$13:$E$24,'Γενικά Στοιχεία Οργανισμού'!$D$9)","v":25.998749775205184},{"$f":"D108*'Γενικά Στοιχεία Οργανισμού'!$E$19/SUM('Γενικά Στοιχεία Οργανισμού'!$E$13:$E$24,'Γενικά Στοιχεία Οργανισμού'!$D$9)","v":40.6908441615901},{"$f":"E108*'Γενικά Στοιχεία Οργανισμού'!$E$19/SUM('Γενικά Στοιχεία Οργανισμού'!$E$13:$E$24,'Γενικά Στοιχεία Οργανισμού'!$D$9)","v":40.342887582214942},{"$f":"D108*'Γενικά Στοιχεία Οργανισμού'!$E$20/SUM('Γενικά Στοιχεία Οργανισμού'!$E$13:$E$24,'Γενικά Στοιχεία Οργανισμού'!$D$9)","v":59.679904770332143},{"$f":"E108*'Γενικά Στοιχεία Οργανισμού'!$E$20/SUM('Γενικά Στοιχεία Οργανισμού'!$E$13:$E$24,'Γενικά Στοιχεία Οργανισμού'!$D$9)","v":59.16956845391524},{"$f":"D108*'Γενικά Στοιχεία Οργανισμού'!$E$21/SUM('Γενικά Στοιχεία Οργανισμού'!$E$13:$E$24,'Γενικά Στοιχεία Οργανισμού'!$D$9)","v":13.563614720530033},{"$f":"E108*'Γενικά Στοιχεία Οργανισμού'!$E$21/SUM('Γενικά Στοιχεία Οργανισμού'!$E$13:$E$24,'Γενικά Στοιχεία Οργανισμού'!$D$9)","v":13.447629194071647},{"$f":"D108*'Γενικά Στοιχεία Οργανισμού'!$E$22/SUM('Γενικά Στοιχεία Οργανισμού'!$E$13:$E$24,'Γενικά Στοιχεία Οργανισμού'!$D$9)","v":33.90903680132508},{"$f":"E108*'Γενικά Στοιχεία Οργανισμού'!$E$22/SUM('Γενικά Στοιχεία Οργανισμού'!$E$13:$E$24,'Γενικά Στοιχεία Οργανισμού'!$D$9)","v":33.619072985179116},{"$f":"D108*'Γενικά Στοιχεία Οργανισμού'!$E$23/SUM('Γενικά Στοιχεία Οργανισμού'!$E$13:$E$24,'Γενικά Στοιχεία Οργανισμού'!$D$9)","v":52.898097410067123},{"$f":"E108*'Γενικά Στοιχεία Οργανισμού'!$E$23/SUM('Γενικά Στοιχεία Οργανισμού'!$E$13:$E$24,'Γενικά Στοιχεία Οργανισμού'!$D$9)","v":52.445753856879428},{"$f":"D108*'Γενικά Στοιχεία Οργανισμού'!$E$24/SUM('Γενικά Στοιχεία Οργανισμού'!$E$13:$E$24,'Γενικά Στοιχεία Οργανισμού'!$D$9)","v":44.759928577749108},{"$f":"E108*'Γενικά Στοιχεία Οργανισμού'!$E$24/SUM('Γενικά Στοιχεία Οργανισμού'!$E$13:$E$24,'Γενικά Στοιχεία Οργανισμού'!$D$9)","v":44.377176340436435}]
[null,null,null,null,{"$f":"'Υπολογισμός Αν. Απ.'!O43","v":7.1435558668116503E-2},null,0,null,0,null,{"$f":"E109*'Γενικά Στοιχεία Οργανισμού'!$D$9/SUM('Γενικά Στοιχεία Οργανισμού'!$E$13:$E$24,'Γενικά Στοιχεία Οργανισμού'!$D$9)","v":2.8574223467246598E-2},null,{"$f":"E109*'Γενικά Στοιχεία Οργανισμού'!$E$16/SUM('Γενικά Στοιχεία Οργανισμού'!$E$13:$E$24,'Γενικά Στοιχεία Οργανισμού'!$D$9)","v":3.0860161344626329E-3},null,{"$f":"E109*'Γενικά Στοιχεία Οργανισμού'!$E$17/SUM('Γενικά Στοιχεία Οργανισμού'!$E$13:$E$24,'Γενικά Στοιχεία Οργανισμού'!$D$9)","v":5.4291024587768541E-3},null,{"$f":"E109*'Γενικά Στοιχεία Οργανισμού'!$E$18/SUM('Γενικά Στοιχεία Οργανισμού'!$E$13:$E$24,'Γενικά Στοιχεία Οργανισμού'!$D$9)","v":3.3146099222006059E-3},null,{"$f":"E109*'Γενικά Στοιχεία Οργανισμού'!$E$19/SUM('Γενικά Στοιχεία Οργανισμού'!$E$13:$E$24,'Γενικά Στοιχεία Οργανισμού'!$D$9)","v":5.1433602241043883E-3},null,{"$f":"E109*'Γενικά Στοιχεία Οργανισμού'!$E$20/SUM('Γενικά Στοιχεία Οργανισμού'!$E$13:$E$24,'Γενικά Στοιχεία Οργανισμού'!$D$9)","v":7.5435949953531018E-3},null,{"$f":"E109*'Γενικά Στοιχεία Οργανισμού'!$E$21/SUM('Γενικά Στοιχεία Οργανισμού'!$E$13:$E$24,'Γενικά Στοιχεία Οργανισμού'!$D$9)","v":1.714453408034796E-3},null,{"$f":"E109*'Γενικά Στοιχεία Οργανισμού'!$E$22/SUM('Γενικά Στοιχεία Οργανισμού'!$E$13:$E$24,'Γενικά Στοιχεία Οργανισμού'!$D$9)","v":4.2861335200869901E-3},null,{"$f":"E109*'Γενικά Στοιχεία Οργανισμού'!$E$23/SUM('Γενικά Στοιχεία Οργανισμού'!$E$13:$E$24,'Γενικά Στοιχεία Οργανισμού'!$D$9)","v":6.6863682913357054E-3},null,{"$f":"E109*'Γενικά Στοιχεία Οργανισμού'!$E$24/SUM('Γενικά Στοιχεία Οργανισμού'!$E$13:$E$24,'Γενικά Στοιχεία Οργανισμού'!$D$9)","v":5.657696246514827E-3}]
[null,null,null,null,{"$f":"'Υπολογισμός Αν. Απ.'!P43","v":1.0401751583366002E-2},null,0,null,0,null,{"$f":"E110*'Γενικά Στοιχεία Οργανισμού'!$D$9/SUM('Γενικά Στοιχεία Οργανισμού'!$E$13:$E$24,'Γενικά Στοιχεία Οργανισμού'!$D$9)","v":4.1607006333464003E-3},null,{"$f":"E110*'Γενικά Στοιχεία Οργανισμού'!$E$16/SUM('Γενικά Στοιχεία Οργανισμού'!$E$13:$E$24,'Γενικά Στοιχεία Οργανισμού'!$D$9)","v":4.4935566840141128E-4},null,{"$f":"E110*'Γενικά Στοιχεία Οργανισμού'!$E$17/SUM('Γενικά Στοιχεία Οργανισμού'!$E$13:$E$24,'Γενικά Στοιχεία Οργανισμού'!$D$9)","v":7.9053312033581613E-4},null,{"$f":"E110*'Γενικά Στοιχεία Οργανισμού'!$E$18/SUM('Γενικά Στοιχεία Οργανισμού'!$E$13:$E$24,'Γενικά Στοιχεία Οργανισμού'!$D$9)","v":4.8264127346818252E-4},null,{"$f":"E110*'Γενικά Στοιχεία Οργανισμού'!$E$19/SUM('Γενικά Στοιχεία Οργανισμού'!$E$13:$E$24,'Γενικά Στοιχεία Οργανισμού'!$D$9)","v":7.4892611400235217E-4},null,{"$f":"E110*'Γενικά Στοιχεία Οργανισμού'!$E$20/SUM('Γενικά Στοιχεία Οργανισμού'!$E$13:$E$24,'Γενικά Στοιχεία Οργανισμού'!$D$9)","v":1.0984249672034497E-3},null,{"$f":"E110*'Γενικά Στοιχεία Οργανισμού'!$E$21/SUM('Γενικά Στοιχεία Οργανισμού'!$E$13:$E$24,'Γενικά Στοιχεία Οργανισμού'!$D$9)","v":2.4964203800078406E-4},null,{"$f":"E110*'Γενικά Στοιχεία Οργανισμού'!$E$22/SUM('Γενικά Στοιχεία Οργανισμού'!$E$13:$E$24,'Γενικά Στοιχεία Οργανισμού'!$D$9)","v":6.2410509500196009E-4},null,{"$f":"E110*'Γενικά Στοιχεία Οργανισμού'!$E$23/SUM('Γενικά Στοιχεία Οργανισμού'!$E$13:$E$24,'Γενικά Στοιχεία Οργανισμού'!$D$9)","v":9.7360394820305771E-4},null,{"$f":"E110*'Γενικά Στοιχεία Οργανισμού'!$E$24/SUM('Γενικά Στοιχεία Οργανισμού'!$E$13:$E$24,'Γενικά Στοιχεία Οργανισμού'!$D$9)","v":8.2381872540258742E-4}]
[null,null,"Βενζίνη\n(Μοτοσυκλέτα)",{"$f":"'Υπολογισμός Αν. Απ.'!Q44","v":74.447239843454227},{"$f":"'Υπολογισμός Αν. Απ.'!N44","v":71.488162702242008},0,0,0,0,{"$f":"D111*'Γενικά Στοιχεία Οργανισμού'!$D$9/SUM('Γενικά Στοιχεία Οργανισμού'!$E$13:$E$24,'Γενικά Στοιχεία Οργανισμού'!$D$9)","v":29.778895937381691},{"$f":"E111*'Γενικά Στοιχεία Οργανισμού'!$D$9/SUM('Γενικά Στοιχεία Οργανισμού'!$E$13:$E$24,'Γενικά Στοιχεία Οργανισμού'!$D$9)","v":28.595265080896805},{"$f":"D111*'Γενικά Στοιχεία Οργανισμού'!$E$16/SUM('Γενικά Στοιχεία Οργανισμού'!$E$13:$E$24,'Γενικά Στοιχεία Οργανισμού'!$D$9)","v":3.2161207612372227},{"$f":"E111*'Γενικά Στοιχεία Οργανισμού'!$E$16/SUM('Γενικά Στοιχεία Οργανισμού'!$E$13:$E$24,'Γενικά Στοιχεία Οργανισμού'!$D$9)","v":3.0882886287368545},{"$f":"D111*'Γενικά Στοιχεία Οργανισμού'!$E$17/SUM('Γενικά Στοιχεία Οργανισμού'!$E$13:$E$24,'Γενικά Στοιχεία Οργανισμού'!$D$9)","v":5.6579902281025216},{"$f":"E111*'Γενικά Στοιχεία Οργανισμού'!$E$17/SUM('Γενικά Στοιχεία Οργανισμού'!$E$13:$E$24,'Γενικά Στοιχεία Οργανισμού'!$D$9)","v":5.4331003653703931},{"$f":"D111*'Γενικά Στοιχεία Οργανισμού'!$E$18/SUM('Γενικά Στοιχεία Οργανισμού'!$E$13:$E$24,'Γενικά Στοιχεία Οργανισμού'!$D$9)","v":3.4543519287362758},{"$f":"E111*'Γενικά Στοιχεία Οργανισμού'!$E$18/SUM('Γενικά Στοιχεία Οργανισμού'!$E$13:$E$24,'Γενικά Στοιχεία Οργανισμού'!$D$9)","v":3.3170507493840291},{"$f":"D111*'Γενικά Στοιχεία Οργανισμού'!$E$19/SUM('Γενικά Στοιχεία Οργανισμού'!$E$13:$E$24,'Γενικά Στοιχεία Οργανισμού'!$D$9)","v":5.3602012687287042},{"$f":"E111*'Γενικά Στοιχεία Οργανισμού'!$E$19/SUM('Γενικά Στοιχεία Οργανισμού'!$E$13:$E$24,'Γενικά Στοιχεία Οργανισμού'!$D$9)","v":5.1471477145614246},{"$f":"D111*'Γενικά Στοιχεία Οργανισμού'!$E$20/SUM('Γενικά Στοιχεία Οργανισμού'!$E$13:$E$24,'Γενικά Στοιχεία Οργανισμού'!$D$9)","v":7.8616285274687661},{"$f":"E111*'Γενικά Στοιχεία Οργανισμού'!$E$20/SUM('Γενικά Στοιχεία Οργανισμού'!$E$13:$E$24,'Γενικά Στοιχεία Οργανισμού'!$D$9)","v":7.5491499813567557},{"$f":"D111*'Γενικά Στοιχεία Οργανισμού'!$E$21/SUM('Γενικά Στοιχεία Οργανισμού'!$E$13:$E$24,'Γενικά Στοιχεία Οργανισμού'!$D$9)","v":1.7867337562429013},{"$f":"E111*'Γενικά Στοιχεία Οργανισμού'!$E$21/SUM('Γενικά Στοιχεία Οργανισμού'!$E$13:$E$24,'Γενικά Στοιχεία Οργανισμού'!$D$9)","v":1.715715904853808},{"$f":"D111*'Γενικά Στοιχεία Οργανισμού'!$E$22/SUM('Γενικά Στοιχεία Οργανισμού'!$E$13:$E$24,'Γενικά Στοιχεία Οργανισμού'!$D$9)","v":4.4668343906072536},{"$f":"E111*'Γενικά Στοιχεία Οργανισμού'!$E$22/SUM('Γενικά Στοιχεία Οργανισμού'!$E$13:$E$24,'Γενικά Στοιχεία Οργανισμού'!$D$9)","v":4.2892897621345201},{"$f":"D111*'Γενικά Στοιχεία Οργανισμού'!$E$23/SUM('Γενικά Στοιχεία Οργανισμού'!$E$13:$E$24,'Γενικά Στοιχεία Οργανισμού'!$D$9)","v":6.9682616493473146},{"$f":"E111*'Γενικά Στοιχεία Οργανισμού'!$E$23/SUM('Γενικά Στοιχεία Οργανισμού'!$E$13:$E$24,'Γενικά Στοιχεία Οργανισμού'!$D$9)","v":6.6912920289298521},{"$f":"D111*'Γενικά Στοιχεία Οργανισμού'!$E$24/SUM('Γενικά Στοιχεία Οργανισμού'!$E$13:$E$24,'Γενικά Στοιχεία Οργανισμού'!$D$9)","v":5.8962213956015743},{"$f":"E111*'Γενικά Στοιχεία Οργανισμού'!$E$24/SUM('Γενικά Στοιχεία Οργανισμού'!$E$13:$E$24,'Γενικά Στοιχεία Οργανισμού'!$D$9)","v":5.6618624860175668}]
[null,null,null,null,{"$f":"'Υπολογισμός Αν. Απ.'!O44","v":9.1355743819053994E-2},null,0,null,0,null,{"$f":"E112*'Γενικά Στοιχεία Οργανισμού'!$D$9/SUM('Γενικά Στοιχεία Οργανισμού'!$E$13:$E$24,'Γενικά Στοιχεία Οργανισμού'!$D$9)","v":3.6542297527621601E-2},null,{"$f":"E112*'Γενικά Στοιχεία Οργανισμού'!$E$16/SUM('Γενικά Στοιχεία Οργανισμού'!$E$13:$E$24,'Γενικά Στοιχεία Οργανισμού'!$D$9)","v":3.9465681329831324E-3},null,{"$f":"E112*'Γενικά Στοιχεία Οργανισμού'!$E$17/SUM('Γενικά Στοιχεία Οργανισμού'!$E$13:$E$24,'Γενικά Στοιχεία Οργανισμού'!$D$9)","v":6.9430365302481038E-3},null,{"$f":"E112*'Γενικά Στοιχεία Οργανισμού'!$E$18/SUM('Γενικά Στοιχεία Οργανισμού'!$E$13:$E$24,'Γενικά Στοιχεία Οργανισμού'!$D$9)","v":4.2389065132041057E-3},null,{"$f":"E112*'Γενικά Στοιχεία Οργανισμού'!$E$19/SUM('Γενικά Στοιχεία Οργανισμού'!$E$13:$E$24,'Γενικά Στοιχεία Οργανισμού'!$D$9)","v":6.5776135549718874E-3},null,{"$f":"E112*'Γενικά Στοιχεία Οργανισμού'!$E$20/SUM('Γενικά Στοιχεία Οργανισμού'!$E$13:$E$24,'Γενικά Στοιχεία Οργανισμού'!$D$9)","v":9.6471665472921009E-3},null,{"$f":"E112*'Γενικά Στοιχεία Οργανισμού'!$E$21/SUM('Γενικά Στοιχεία Οργανισμού'!$E$13:$E$24,'Γενικά Στοιχεία Οργανισμού'!$D$9)","v":2.1925378516572959E-3},null,{"$f":"E112*'Γενικά Στοιχεία Οργανισμού'!$E$22/SUM('Γενικά Στοιχεία Οργανισμού'!$E$13:$E$24,'Γενικά Στοιχεία Οργανισμού'!$D$9)","v":5.4813446291432401E-3},null,{"$f":"E112*'Γενικά Στοιχεία Οργανισμού'!$E$23/SUM('Γενικά Στοιχεία Οργανισμού'!$E$13:$E$24,'Γενικά Στοιχεία Οργανισμού'!$D$9)","v":8.5508976214634536E-3},null,{"$f":"E112*'Γενικά Στοιχεία Οργανισμού'!$E$24/SUM('Γενικά Στοιχεία Οργανισμού'!$E$13:$E$24,'Γενικά Στοιχεία Οργανισμού'!$D$9)","v":7.2353749104690761E-3}]
[null,null,null,null,{"$f":"'Υπολογισμός Αν. Απ.'!P44","v":1.502754170918E-3},null,0,null,0,null,{"$f":"E113*'Γενικά Στοιχεία Οργανισμού'!$D$9/SUM('Γενικά Στοιχεία Οργανισμού'!$E$13:$E$24,'Γενικά Στοιχεία Οργανισμού'!$D$9)","v":6.0110166836720006E-4},null,{"$f":"E113*'Γενικά Στοιχεία Οργανισμού'!$E$16/SUM('Γενικά Στοιχεία Οργανισμού'!$E$13:$E$24,'Γενικά Στοιχεία Οργανισμού'!$D$9)","v":6.4918980183657605E-5},null,{"$f":"E113*'Γενικά Στοιχεία Οργανισμού'!$E$17/SUM('Γενικά Στοιχεία Οργανισμού'!$E$13:$E$24,'Γενικά Στοιχεία Οργανισμού'!$D$9)","v":1.1420931698976799E-4},null,{"$f":"E113*'Γενικά Στοιχεία Οργανισμού'!$E$18/SUM('Γενικά Στοιχεία Οργανισμού'!$E$13:$E$24,'Γενικά Στοιχεία Οργανισμού'!$D$9)","v":6.9727793530595202E-5},null,{"$f":"E113*'Γενικά Στοιχεία Οργανισμού'!$E$19/SUM('Γενικά Στοιχεία Οργανισμού'!$E$13:$E$24,'Γενικά Στοιχεία Οργανισμού'!$D$9)","v":1.0819830030609601E-4},null,{"$f":"E113*'Γενικά Στοιχεία Οργανισμού'!$E$20/SUM('Γενικά Στοιχεία Οργανισμού'!$E$13:$E$24,'Γενικά Στοιχεία Οργανισμού'!$D$9)","v":1.5869084044894079E-4},null,{"$f":"E113*'Γενικά Στοιχεία Οργανισμού'!$E$21/SUM('Γενικά Στοιχεία Οργανισμού'!$E$13:$E$24,'Γενικά Στοιχεία Οργανισμού'!$D$9)","v":3.6066100102032E-5},null,{"$f":"E113*'Γενικά Στοιχεία Οργανισμού'!$E$22/SUM('Γενικά Στοιχεία Οργανισμού'!$E$13:$E$24,'Γενικά Στοιχεία Οργανισμού'!$D$9)","v":9.0165250255079993E-5},null,{"$f":"E113*'Γενικά Στοιχεία Οργανισμού'!$E$23/SUM('Γενικά Στοιχεία Οργανισμού'!$E$13:$E$24,'Γενικά Στοιχεία Οργανισμού'!$D$9)","v":1.406577903979248E-4},null,{"$f":"E113*'Γενικά Στοιχεία Οργανισμού'!$E$24/SUM('Γενικά Στοιχεία Οργανισμού'!$E$13:$E$24,'Γενικά Στοιχεία Οργανισμού'!$D$9)","v":1.1901813033670561E-4}]
[null,null,"Πετρέλαιο Κινησης\n(Λεωφορείο)",{"$f":"'Υπολογισμός Αν. Απ.'!Q45","v":2.9997464766506248},{"$f":"'Υπολογισμός Αν. Απ.'!N46","v":0.58945919999999996},0,0,0,0,{"$f":"D114*'Γενικά Στοιχεία Οργανισμού'!$D$9/SUM('Γενικά Στοιχεία Οργανισμού'!$E$13:$E$24,'Γενικά Στοιχεία Οργανισμού'!$D$9)","v":1.1998985906602497},{"$f":"E114*'Γενικά Στοιχεία Οργανισμού'!$D$9/SUM('Γενικά Στοιχεία Οργανισμού'!$E$13:$E$24,'Γενικά Στοιχεία Οργανισμού'!$D$9)","v":0.23578368},{"$f":"D114*'Γενικά Στοιχεία Οργανισμού'!$E$16/SUM('Γενικά Στοιχεία Οργανισμού'!$E$13:$E$24,'Γενικά Στοιχεία Οργανισμού'!$D$9)","v":0.12958904779130698},{"$f":"E114*'Γενικά Στοιχεία Οργανισμού'!$E$16/SUM('Γενικά Στοιχεία Οργανισμού'!$E$13:$E$24,'Γενικά Στοιχεία Οργανισμού'!$D$9)","v":2.546463744E-2},{"$f":"D114*'Γενικά Στοιχεία Οργανισμού'!$E$17/SUM('Γενικά Στοιχεία Οργανισμού'!$E$13:$E$24,'Γενικά Στοιχεία Οργανισμού'!$D$9)","v":0.22798073222544749},{"$f":"E114*'Γενικά Στοιχεία Οργανισμού'!$E$17/SUM('Γενικά Στοιχεία Οργανισμού'!$E$13:$E$24,'Γενικά Στοιχεία Οργανισμού'!$D$9)","v":4.4798899199999999E-2},{"$f":"D114*'Γενικά Στοιχεία Οργανισμού'!$E$18/SUM('Γενικά Στοιχεία Οργανισμού'!$E$13:$E$24,'Γενικά Στοιχεία Οργανισμού'!$D$9)","v":0.13918823651658899},{"$f":"E114*'Γενικά Στοιχεία Οργανισμού'!$E$18/SUM('Γενικά Στοιχεία Οργανισμού'!$E$13:$E$24,'Γενικά Στοιχεία Οργανισμού'!$D$9)","v":2.7350906879999998E-2},{"$f":"D114*'Γενικά Στοιχεία Οργανισμού'!$E$19/SUM('Γενικά Στοιχεία Οργανισμού'!$E$13:$E$24,'Γενικά Στοιχεία Οργανισμού'!$D$9)","v":0.21598174631884498},{"$f":"E114*'Γενικά Στοιχεία Οργανισμού'!$E$19/SUM('Γενικά Στοιχεία Οργανισμού'!$E$13:$E$24,'Γενικά Στοιχεία Οργανισμού'!$D$9)","v":4.24410624E-2},{"$f":"D114*'Γενικά Στοιχεία Οργανισμού'!$E$20/SUM('Γενικά Στοιχεία Οργανισμού'!$E$13:$E$24,'Γενικά Στοιχεία Οργανισμού'!$D$9)","v":0.31677322793430601},{"$f":"E114*'Γενικά Στοιχεία Οργανισμού'!$E$20/SUM('Γενικά Στοιχεία Οργανισμού'!$E$13:$E$24,'Γενικά Στοιχεία Οργανισμού'!$D$9)","v":6.224689152E-2},{"$f":"D114*'Γενικά Στοιχεία Οργανισμού'!$E$21/SUM('Γενικά Στοιχεία Οργανισμού'!$E$13:$E$24,'Γενικά Στοιχεία Οργανισμού'!$D$9)","v":7.1993915439614989E-2},{"$f":"E114*'Γενικά Στοιχεία Οργανισμού'!$E$21/SUM('Γενικά Στοιχεία Οργανισμού'!$E$13:$E$24,'Γενικά Στοιχεία Οργανισμού'!$D$9)","v":1.4147020799999998E-2},{"$f":"D114*'Γενικά Στοιχεία Οργανισμού'!$E$22/SUM('Γενικά Στοιχεία Οργανισμού'!$E$13:$E$24,'Γενικά Στοιχεία Οργανισμού'!$D$9)","v":0.17998478859903749},{"$f":"E114*'Γενικά Στοιχεία Οργανισμού'!$E$22/SUM('Γενικά Στοιχεία Οργανισμού'!$E$13:$E$24,'Γενικά Στοιχεία Οργανισμού'!$D$9)","v":3.5367551999999997E-2},{"$f":"D114*'Γενικά Στοιχεία Οργανισμού'!$E$23/SUM('Γενικά Στοιχεία Οργανισμού'!$E$13:$E$24,'Γενικά Στοιχεία Οργανισμού'!$D$9)","v":0.28077627021449847},{"$f":"E114*'Γενικά Στοιχεία Οργανισμού'!$E$23/SUM('Γενικά Στοιχεία Οργανισμού'!$E$13:$E$24,'Γενικά Στοιχεία Οργανισμού'!$D$9)","v":5.5173381119999997E-2},{"$f":"D114*'Γενικά Στοιχεία Οργανισμού'!$E$24/SUM('Γενικά Στοιχεία Οργανισμού'!$E$13:$E$24,'Γενικά Στοιχεία Οργανισμού'!$D$9)","v":0.2375799209507295},{"$f":"E114*'Γενικά Στοιχεία Οργανισμού'!$E$24/SUM('Γενικά Στοιχεία Οργανισμού'!$E$13:$E$24,'Γενικά Στοιχεία Οργανισμού'!$D$9)","v":4.6685168639999997E-2}]
[null,null,null,null,{"$f":"'Υπολογισμός Αν. Απ.'!O46","v":1.0794432000000001E-3},null,0,null,0,null,{"$f":"E115*'Γενικά Στοιχεία Οργανισμού'!$D$9/SUM('Γενικά Στοιχεία Οργανισμού'!$E$13:$E$24,'Γενικά Στοιχεία Οργανισμού'!$D$9)","v":4.3177728000000002E-4},null,{"$f":"E115*'Γενικά Στοιχεία Οργανισμού'!$E$16/SUM('Γενικά Στοιχεία Οργανισμού'!$E$13:$E$24,'Γενικά Στοιχεία Οργανισμού'!$D$9)","v":4.6631946240000005E-5},null,{"$f":"E115*'Γενικά Στοιχεία Οργανισμού'!$E$17/SUM('Γενικά Στοιχεία Οργανισμού'!$E$13:$E$24,'Γενικά Στοιχεία Οργανισμού'!$D$9)","v":8.2037683200000006E-5},null,{"$f":"E115*'Γενικά Στοιχεία Οργανισμού'!$E$18/SUM('Γενικά Στοιχεία Οργανισμού'!$E$13:$E$24,'Γενικά Στοιχεία Οργανισμού'!$D$9)","v":5.0086164480000008E-5},null,{"$f":"E115*'Γενικά Στοιχεία Οργανισμού'!$E$19/SUM('Γενικά Στοιχεία Οργανισμού'!$E$13:$E$24,'Γενικά Στοιχεία Οργανισμού'!$D$9)","v":7.7719910400000008E-5},null,{"$f":"E115*'Γενικά Στοιχεία Οργανισμού'!$E$20/SUM('Γενικά Στοιχεία Οργανισμού'!$E$13:$E$24,'Γενικά Στοιχεία Οργανισμού'!$D$9)","v":1.1398920192000002E-4},null,{"$f":"E115*'Γενικά Στοιχεία Οργανισμού'!$E$21/SUM('Γενικά Στοιχεία Οργανισμού'!$E$13:$E$24,'Γενικά Στοιχεία Οργανισμού'!$D$9)","v":2.5906636800000005E-5},null,{"$f":"E115*'Γενικά Στοιχεία Οργανισμού'!$E$22/SUM('Γενικά Στοιχεία Οργανισμού'!$E$13:$E$24,'Γενικά Στοιχεία Οργανισμού'!$D$9)","v":6.4766592000000002E-5},null,{"$f":"E115*'Γενικά Στοιχεία Οργανισμού'!$E$23/SUM('Γενικά Στοιχεία Οργανισμού'!$E$13:$E$24,'Γενικά Στοιχεία Οργανισμού'!$D$9)","v":1.0103588352000001E-4},null,{"$f":"E115*'Γενικά Στοιχεία Οργανισμού'!$E$24/SUM('Γενικά Στοιχεία Οργανισμού'!$E$13:$E$24,'Γενικά Στοιχεία Οργανισμού'!$D$9)","v":8.5491901440000009E-5}]
[null,null,null,null,{"$f":"'Υπολογισμός Αν. Απ.'!P46","v":3.5164799999999999E-5},null,0,null,0,null,{"$f":"E116*'Γενικά Στοιχεία Οργανισμού'!$D$9/SUM('Γενικά Στοιχεία Οργανισμού'!$E$13:$E$24,'Γενικά Στοιχεία Οργανισμού'!$D$9)","v":1.4065919999999998E-5},null,{"$f":"E116*'Γενικά Στοιχεία Οργανισμού'!$E$16/SUM('Γενικά Στοιχεία Οργανισμού'!$E$13:$E$24,'Γενικά Στοιχεία Οργανισμού'!$D$9)","v":1.5191193599999999E-6},null,{"$f":"E116*'Γενικά Στοιχεία Οργανισμού'!$E$17/SUM('Γενικά Στοιχεία Οργανισμού'!$E$13:$E$24,'Γενικά Στοιχεία Οργανισμού'!$D$9)","v":2.6725248E-6},null,{"$f":"E116*'Γενικά Στοιχεία Οργανισμού'!$E$18/SUM('Γενικά Στοιχεία Οργανισμού'!$E$13:$E$24,'Γενικά Στοιχεία Οργανισμού'!$D$9)","v":1.63164672E-6},null,{"$f":"E116*'Γενικά Στοιχεία Οργανισμού'!$E$19/SUM('Γενικά Στοιχεία Οργανισμού'!$E$13:$E$24,'Γενικά Στοιχεία Οργανισμού'!$D$9)","v":2.5318656E-6},null,{"$f":"E116*'Γενικά Στοιχεία Οργανισμού'!$E$20/SUM('Γενικά Στοιχεία Οργανισμού'!$E$13:$E$24,'Γενικά Στοιχεία Οργανισμού'!$D$9)","v":3.7134028799999997E-6},null,{"$f":"E116*'Γενικά Στοιχεία Οργανισμού'!$E$21/SUM('Γενικά Στοιχεία Οργανισμού'!$E$13:$E$24,'Γενικά Στοιχεία Οργανισμού'!$D$9)","v":8.439552E-7},null,{"$f":"E116*'Γενικά Στοιχεία Οργανισμού'!$E$22/SUM('Γενικά Στοιχεία Οργανισμού'!$E$13:$E$24,'Γενικά Στοιχεία Οργανισμού'!$D$9)","v":2.109888E-6},null,{"$f":"E116*'Γενικά Στοιχεία Οργανισμού'!$E$23/SUM('Γενικά Στοιχεία Οργανισμού'!$E$13:$E$24,'Γενικά Στοιχεία Οργανισμού'!$D$9)","v":3.2914252800000002E-6},null,{"$f":"E116*'Γενικά Στοιχεία Οργανισμού'!$E$24/SUM('Γενικά Στοιχεία Οργανισμού'!$E$13:$E$24,'Γενικά Στοιχεία Οργανισμού'!$D$9)","v":2.7850521599999999E-6}]
[null,null,"Φυσικό Αέριο Κινησης\n(Λεωφορείο)",{"$f":"'Υπολογισμός Αν. Απ.'!Q46","v":0.62917565568},{"$f":"'Υπολογισμός Αν. Απ.'!N46","v":0.58945919999999996},0,0,0,0,{"$f":"D117*'Γενικά Στοιχεία Οργανισμού'!$D$9/SUM('Γενικά Στοιχεία Οργανισμού'!$E$13:$E$24,'Γενικά Στοιχεία Οργανισμού'!$D$9)","v":0.25167026227200001},{"$f":"E117*'Γενικά Στοιχεία Οργανισμού'!$D$9/SUM('Γενικά Στοιχεία Οργανισμού'!$E$13:$E$24,'Γενικά Στοιχεία Οργανισμού'!$D$9)","v":0.23578368},{"$f":"D117*'Γενικά Στοιχεία Οργανισμού'!$E$16/SUM('Γενικά Στοιχεία Οργανισμού'!$E$13:$E$24,'Γενικά Στοιχεία Οργανισμού'!$D$9)","v":2.7180388325375997E-2},{"$f":"E117*'Γενικά Στοιχεία Οργανισμού'!$E$16/SUM('Γενικά Στοιχεία Οργανισμού'!$E$13:$E$24,'Γενικά Στοιχεία Οργανισμού'!$D$9)","v":2.546463744E-2},{"$f":"D117*'Γενικά Στοιχεία Οργανισμού'!$E$17/SUM('Γενικά Στοιχεία Οργανισμού'!$E$13:$E$24,'Γενικά Στοιχεία Οργανισμού'!$D$9)","v":4.7817349831680005E-2},{"$f":"E117*'Γενικά Στοιχεία Οργανισμού'!$E$17/SUM('Γενικά Στοιχεία Οργανισμού'!$E$13:$E$24,'Γενικά Στοιχεία Οργανισμού'!$D$9)","v":4.4798899199999999E-2},{"$f":"D117*'Γενικά Στοιχεία Οργανισμού'!$E$18/SUM('Γενικά Στοιχεία Οργανισμού'!$E$13:$E$24,'Γενικά Στοιχεία Οργανισμού'!$D$9)","v":2.9193750423552E-2},{"$f":"E117*'Γενικά Στοιχεία Οργανισμού'!$E$18/SUM('Γενικά Στοιχεία Οργανισμού'!$E$13:$E$24,'Γενικά Στοιχεία Οργανισμού'!$D$9)","v":2.7350906879999998E-2},{"$f":"D117*'Γενικά Στοιχεία Οργανισμού'!$E$19/SUM('Γενικά Στοιχεία Οργανισμού'!$E$13:$E$24,'Γενικά Στοιχεία Οργανισμού'!$D$9)","v":4.5300647208960002E-2},{"$f":"E117*'Γενικά Στοιχεία Οργανισμού'!$E$19/SUM('Γενικά Στοιχεία Οργανισμού'!$E$13:$E$24,'Γενικά Στοιχεία Οργανισμού'!$D$9)","v":4.24410624E-2},{"$f":"D117*'Γενικά Στοιχεία Οργανισμού'!$E$20/SUM('Γενικά Στοιχεία Οργανισμού'!$E$13:$E$24,'Γενικά Στοιχεία Οργανισμού'!$D$9)","v":6.6440949239808006E-2},{"$f":"E117*'Γενικά Στοιχεία Οργανισμού'!$E$20/SUM('Γενικά Στοιχεία Οργανισμού'!$E$13:$E$24,'Γενικά Στοιχεία Οργανισμού'!$D$9)","v":6.224689152E-2},{"$f":"D117*'Γενικά Στοιχεία Οργανισμού'!$E$21/SUM('Γενικά Στοιχεία Οργανισμού'!$E$13:$E$24,'Γενικά Στοιχεία Οργανισμού'!$D$9)","v":1.5100215736320002E-2},{"$f":"E117*'Γενικά Στοιχεία Οργανισμού'!$E$21/SUM('Γενικά Στοιχεία Οργανισμού'!$E$13:$E$24,'Γενικά Στοιχεία Οργανισμού'!$D$9)","v":1.4147020799999998E-2},{"$f":"D117*'Γενικά Στοιχεία Οργανισμού'!$E$22/SUM('Γενικά Στοιχεία Οργανισμού'!$E$13:$E$24,'Γενικά Στοιχεία Οργανισμού'!$D$9)","v":3.7750539340799999E-2},{"$f":"E117*'Γενικά Στοιχεία Οργανισμού'!$E$22/SUM('Γενικά Στοιχεία Οργανισμού'!$E$13:$E$24,'Γενικά Στοιχεία Οργανισμού'!$D$9)","v":3.5367551999999997E-2},{"$f":"D117*'Γενικά Στοιχεία Οργανισμού'!$E$23/SUM('Γενικά Στοιχεία Οργανισμού'!$E$13:$E$24,'Γενικά Στοιχεία Οργανισμού'!$D$9)","v":5.8890841371648003E-2},{"$f":"E117*'Γενικά Στοιχεία Οργανισμού'!$E$23/SUM('Γενικά Στοιχεία Οργανισμού'!$E$13:$E$24,'Γενικά Στοιχεία Οργανισμού'!$D$9)","v":5.5173381119999997E-2},{"$f":"D117*'Γενικά Στοιχεία Οργανισμού'!$E$24/SUM('Γενικά Στοιχεία Οργανισμού'!$E$13:$E$24,'Γενικά Στοιχεία Οργανισμού'!$D$9)","v":4.9830711929855998E-2},{"$f":"E117*'Γενικά Στοιχεία Οργανισμού'!$E$24/SUM('Γενικά Στοιχεία Οργανισμού'!$E$13:$E$24,'Γενικά Στοιχεία Οργανισμού'!$D$9)","v":4.6685168639999997E-2}]
[null,null,null,null,{"$f":"'Υπολογισμός Αν. Απ.'!O46","v":1.0794432000000001E-3},null,0,null,0,null,{"$f":"E118*'Γενικά Στοιχεία Οργανισμού'!$D$9/SUM('Γενικά Στοιχεία Οργανισμού'!$E$13:$E$24,'Γενικά Στοιχεία Οργανισμού'!$D$9)","v":4.3177728000000002E-4},null,{"$f":"E118*'Γενικά Στοιχεία Οργανισμού'!$E$16/SUM('Γενικά Στοιχεία Οργανισμού'!$E$13:$E$24,'Γενικά Στοιχεία Οργανισμού'!$D$9)","v":4.6631946240000005E-5},null,{"$f":"E118*'Γενικά Στοιχεία Οργανισμού'!$E$17/SUM('Γενικά Στοιχεία Οργανισμού'!$E$13:$E$24,'Γενικά Στοιχεία Οργανισμού'!$D$9)","v":8.2037683200000006E-5},null,{"$f":"E118*'Γενικά Στοιχεία Οργανισμού'!$E$18/SUM('Γενικά Στοιχεία Οργανισμού'!$E$13:$E$24,'Γενικά Στοιχεία Οργανισμού'!$D$9)","v":5.0086164480000008E-5},null,{"$f":"E118*'Γενικά Στοιχεία Οργανισμού'!$E$19/SUM('Γενικά Στοιχεία Οργανισμού'!$E$13:$E$24,'Γενικά Στοιχεία Οργανισμού'!$D$9)","v":7.7719910400000008E-5},null,{"$f":"E118*'Γενικά Στοιχεία Οργανισμού'!$E$20/SUM('Γενικά Στοιχεία Οργανισμού'!$E$13:$E$24,'Γενικά Στοιχεία Οργανισμού'!$D$9)","v":1.1398920192000002E-4},null,{"$f":"E118*'Γενικά Στοιχεία Οργανισμού'!$E$21/SUM('Γενικά Στοιχεία Οργανισμού'!$E$13:$E$24,'Γενικά Στοιχεία Οργανισμού'!$D$9)","v":2.5906636800000005E-5},null,{"$f":"E118*'Γενικά Στοιχεία Οργανισμού'!$E$22/SUM('Γενικά Στοιχεία Οργανισμού'!$E$13:$E$24,'Γενικά Στοιχεία Οργανισμού'!$D$9)","v":6.4766592000000002E-5},null,{"$f":"E118*'Γενικά Στοιχεία Οργανισμού'!$E$23/SUM('Γενικά Στοιχεία Οργανισμού'!$E$13:$E$24,'Γενικά Στοιχεία Οργανισμού'!$D$9)","v":1.0103588352000001E-4},null,{"$f":"E118*'Γενικά Στοιχεία Οργανισμού'!$E$24/SUM('Γενικά Στοιχεία Οργανισμού'!$E$13:$E$24,'Γενικά Στοιχεία Οργανισμού'!$D$9)","v":8.5491901440000009E-5}]
[null,null,null,null,{"$f":"'Υπολογισμός Αν. Απ.'!P46","v":3.5164799999999999E-5},null,0,null,0,null,{"$f":"E119*'Γενικά Στοιχεία Οργανισμού'!$D$9/SUM('Γενικά Στοιχεία Οργανισμού'!$E$13:$E$24,'Γενικά Στοιχεία Οργανισμού'!$D$9)","v":1.4065919999999998E-5},null,{"$f":"E119*'Γενικά Στοιχεία Οργανισμού'!$E$16/SUM('Γενικά Στοιχεία Οργανισμού'!$E$13:$E$24,'Γενικά Στοιχεία Οργανισμού'!$D$9)","v":1.5191193599999999E-6},null,{"$f":"E119*'Γενικά Στοιχεία Οργανισμού'!$E$17/SUM('Γενικά Στοιχεία Οργανισμού'!$E$13:$E$24,'Γενικά Στοιχεία Οργανισμού'!$D$9)","v":2.6725248E-6},null,{"$f":"E119*'Γενικά Στοιχεία Οργανισμού'!$E$18/SUM('Γενικά Στοιχεία Οργανισμού'!$E$13:$E$24,'Γενικά Στοιχεία Οργανισμού'!$D$9)","v":1.63164672E-6},null,{"$f":"E119*'Γενικά Στοιχεία Οργανισμού'!$E$19/SUM('Γενικά Στοιχεία Οργανισμού'!$E$13:$E$24,'Γενικά Στοιχεία Οργανισμού'!$D$9)","v":2.5318656E-6},null,{"$f":"E119*'Γενικά Στοιχεία Οργανισμού'!$E$20/SUM('Γενικά Στοιχεία Οργανισμού'!$E$13:$E$24,'Γενικά Στοιχεία Οργανισμού'!$D$9)","v":3.7134028799999997E-6},null,{"$f":"E119*'Γενικά Στοιχεία Οργανισμού'!$E$21/SUM('Γενικά Στοιχεία Οργανισμού'!$E$13:$E$24,'Γενικά Στοιχεία Οργανισμού'!$D$9)","v":8.439552E-7},null,{"$f":"E119*'Γενικά Στοιχεία Οργανισμού'!$E$22/SUM('Γενικά Στοιχεία Οργανισμού'!$E$13:$E$24,'Γενικά Στοιχεία Οργανισμού'!$D$9)","v":2.109888E-6},null,{"$f":"E119*'Γενικά Στοιχεία Οργανισμού'!$E$23/SUM('Γενικά Στοιχεία Οργανισμού'!$E$13:$E$24,'Γενικά Στοιχεία Οργανισμού'!$D$9)","v":3.2914252800000002E-6},null,{"$f":"E119*'Γενικά Στοιχεία Οργανισμού'!$E$24/SUM('Γενικά Στοιχεία Οργανισμού'!$E$13:$E$24,'Γενικά Στοιχεία Οργανισμού'!$D$9)","v":2.7850521599999999E-6}]
[null,null,"Ηλεκτρική Ενέργεια (Επιβατικό)",{"$f":"'Υπολογισμός Αν. Απ.'!Q47","v":2.7896841371240066},{"$f":"'Υπολογισμός Αν. Απ.'!N47","v":2.78493624},0,0,0,0,{"$f":"D120*'Γενικά Στοιχεία Οργανισμού'!$D$9/SUM('Γενικά Στοιχεία Οργανισμού'!$E$13:$E$24,'Γενικά Στοιχεία Οργανισμού'!$D$9)","v":1.1158736548496027},{"$f":"E120*'Γενικά Στοιχεία Οργανισμού'!$D$9/SUM('Γενικά Στοιχεία Οργανισμού'!$E$13:$E$24,'Γενικά Στοιχεία Οργανισμού'!$D$9)","v":1.113974496},{"$f":"D120*'Γενικά Στοιχεία Οργανισμού'!$E$16/SUM('Γενικά Στοιχεία Οργανισμού'!$E$13:$E$24,'Γενικά Στοιχεία Οργανισμού'!$D$9)","v":0.12051435472375709},{"$f":"E120*'Γενικά Στοιχεία Οργανισμού'!$E$16/SUM('Γενικά Στοιχεία Οργανισμού'!$E$13:$E$24,'Γενικά Στοιχεία Οργανισμού'!$D$9)","v":0.120309245568},{"$f":"D120*'Γενικά Στοιχεία Οργανισμού'!$E$17/SUM('Γενικά Στοιχεία Οργανισμού'!$E$13:$E$24,'Γενικά Στοιχεία Οργανισμού'!$D$9)","v":0.21201599442142452},{"$f":"E120*'Γενικά Στοιχεία Οργανισμού'!$E$17/SUM('Γενικά Στοιχεία Οργανισμού'!$E$13:$E$24,'Γενικά Στοιχεία Οργανισμού'!$D$9)","v":0.21165515424},{"$f":"D120*'Γενικά Στοιχεία Οργανισμού'!$E$18/SUM('Γενικά Στοιχεία Οργανισμού'!$E$13:$E$24,'Γενικά Στοιχεία Οργανισμού'!$D$9)","v":0.12944134396255391},{"$f":"E120*'Γενικά Στοιχεία Οργανισμού'!$E$18/SUM('Γενικά Στοιχεία Οργανισμού'!$E$13:$E$24,'Γενικά Στοιχεία Οργανισμού'!$D$9)","v":0.129221041536},{"$f":"D120*'Γενικά Στοιχεία Οργανισμού'!$E$19/SUM('Γενικά Στοιχεία Οργανισμού'!$E$13:$E$24,'Γενικά Στοιχεία Οργανισμού'!$D$9)","v":0.20085725787292846},{"$f":"E120*'Γενικά Στοιχεία Οργανισμού'!$E$19/SUM('Γενικά Στοιχεία Οργανισμού'!$E$13:$E$24,'Γενικά Στοιχεία Οργανισμού'!$D$9)","v":0.20051540928},{"$f":"D120*'Γενικά Στοιχεία Οργανισμού'!$E$20/SUM('Γενικά Στοιχεία Οργανισμού'!$E$13:$E$24,'Γενικά Στοιχεία Οργανισμού'!$D$9)","v":0.29459064488029513},{"$f":"E120*'Γενικά Στοιχεία Οργανισμού'!$E$20/SUM('Γενικά Στοιχεία Οργανισμού'!$E$13:$E$24,'Γενικά Στοιχεία Οργανισμού'!$D$9)","v":0.29408926694399995},{"$f":"D120*'Γενικά Στοιχεία Οργανισμού'!$E$21/SUM('Γενικά Στοιχεία Οργανισμού'!$E$13:$E$24,'Γενικά Στοιχεία Οργανισμού'!$D$9)","v":6.6952419290976159E-2},{"$f":"E120*'Γενικά Στοιχεία Οργανισμού'!$E$21/SUM('Γενικά Στοιχεία Οργανισμού'!$E$13:$E$24,'Γενικά Στοιχεία Οργανισμού'!$D$9)","v":6.6838469760000005E-2},{"$f":"D120*'Γενικά Στοιχεία Οργανισμού'!$E$22/SUM('Γενικά Στοιχεία Οργανισμού'!$E$13:$E$24,'Γενικά Στοιχεία Οργανισμού'!$D$9)","v":0.1673810482274404},{"$f":"E120*'Γενικά Στοιχεία Οργανισμού'!$E$22/SUM('Γενικά Στοιχεία Οργανισμού'!$E$13:$E$24,'Γενικά Στοιχεία Οργανισμού'!$D$9)","v":0.16709617439999999},{"$f":"D120*'Γενικά Στοιχεία Οργανισμού'!$E$23/SUM('Γενικά Στοιχεία Οργανισμού'!$E$13:$E$24,'Γενικά Στοιχεία Οργανισμού'!$D$9)","v":0.26111443523480704},{"$f":"E120*'Γενικά Στοιχεία Οργανισμού'!$E$23/SUM('Γενικά Στοιχεία Οργανισμού'!$E$13:$E$24,'Γενικά Στοιχεία Οργανισμού'!$D$9)","v":0.26067003206400002},{"$f":"D120*'Γενικά Στοιχεία Οργανισμού'!$E$24/SUM('Γενικά Στοιχεία Οργανισμού'!$E$13:$E$24,'Γενικά Στοιχεία Οργανισμού'!$D$9)","v":0.2209429836602213},{"$f":"E120*'Γενικά Στοιχεία Οργανισμού'!$E$24/SUM('Γενικά Στοιχεία Οργανισμού'!$E$13:$E$24,'Γενικά Στοιχεία Οργανισμού'!$D$9)","v":0.22056695020799999}]
[null,null,null,null,{"$f":"'Υπολογισμός Αν. Απ.'!O47","v":3.4205205216000004E-5},null,0,null,0,null,{"$f":"E121*'Γενικά Στοιχεία Οργανισμού'!$D$9/SUM('Γενικά Στοιχεία Οργανισμού'!$E$13:$E$24,'Γενικά Στοιχεία Οργανισμού'!$D$9)","v":1.3682082086400001E-5},null,{"$f":"E121*'Γενικά Στοιχεία Οργανισμού'!$E$16/SUM('Γενικά Στοιχεία Οργανισμού'!$E$13:$E$24,'Γενικά Στοιχεία Οργανισμού'!$D$9)","v":1.4776648653312002E-6},null,{"$f":"E121*'Γενικά Στοιχεία Οργανισμού'!$E$17/SUM('Γενικά Στοιχεία Οργανισμού'!$E$13:$E$24,'Γενικά Στοιχεία Οργανισμού'!$D$9)","v":2.5995955964160005E-6},null,{"$f":"E121*'Γενικά Στοιχεία Οργανισμού'!$E$18/SUM('Γενικά Στοιχεία Οργανισμού'!$E$13:$E$24,'Γενικά Στοιχεία Οργανισμού'!$D$9)","v":1.5871215220224004E-6},null,{"$f":"E121*'Γενικά Στοιχεία Οργανισμού'!$E$19/SUM('Γενικά Στοιχεία Οργανισμού'!$E$13:$E$24,'Γενικά Στοιχεία Οργανισμού'!$D$9)","v":2.4627747755520004E-6},null,{"$f":"E121*'Γενικά Στοιχεία Οργανισμού'!$E$20/SUM('Γενικά Στοιχεία Οργανισμού'!$E$13:$E$24,'Γενικά Στοιχεία Οργανισμού'!$D$9)","v":3.6120696708096004E-6},null,{"$f":"E121*'Γενικά Στοιχεία Οργανισμού'!$E$21/SUM('Γενικά Στοιχεία Οργανισμού'!$E$13:$E$24,'Γενικά Στοιχεία Οργανισμού'!$D$9)","v":8.2092492518400006E-7},null,{"$f":"E121*'Γενικά Στοιχεία Οργανισμού'!$E$22/SUM('Γενικά Στοιχεία Οργανισμού'!$E$13:$E$24,'Γενικά Στοιχεία Οργανισμού'!$D$9)","v":2.05231231296E-6},null,{"$f":"E121*'Γενικά Στοιχεία Οργανισμού'!$E$23/SUM('Γενικά Στοιχεία Οργανισμού'!$E$13:$E$24,'Γενικά Στοιχεία Οργανισμού'!$D$9)","v":3.2016072082176001E-6},null,{"$f":"E121*'Γενικά Στοιχεία Οργανισμού'!$E$24/SUM('Γενικά Στοιχεία Οργανισμού'!$E$13:$E$24,'Γενικά Στοιχεία Οργανισμού'!$D$9)","v":2.7090522531072004E-6}]
[null,null,null,null,{"$f":"'Υπολογισμός Αν. Απ.'!P47","v":1.389586776E-5},null,0,null,0,null,{"$f":"E122*'Γενικά Στοιχεία Οργανισμού'!$D$9/SUM('Γενικά Στοιχεία Οργανισμού'!$E$13:$E$24,'Γενικά Στοιχεία Οργανισμού'!$D$9)","v":5.5583471039999996E-6},null,{"$f":"E122*'Γενικά Στοιχεία Οργανισμού'!$E$16/SUM('Γενικά Στοιχεία Οργανισμού'!$E$13:$E$24,'Γενικά Στοιχεία Οργανισμού'!$D$9)","v":6.0030148723199998E-7},null,{"$f":"E122*'Γενικά Στοιχεία Οργανισμού'!$E$17/SUM('Γενικά Στοιχεία Οργανισμού'!$E$13:$E$24,'Γενικά Στοιχεία Οργανισμού'!$D$9)","v":1.05608594976E-6},null,{"$f":"E122*'Γενικά Στοιχεία Οργανισμού'!$E$18/SUM('Γενικά Στοιχεία Οργανισμού'!$E$13:$E$24,'Γενικά Στοιχεία Οργανισμού'!$D$9)","v":6.4476826406400003E-7},null,{"$f":"E122*'Γενικά Στοιχεία Οργανισμού'!$E$19/SUM('Γενικά Στοιχεία Οργανισμού'!$E$13:$E$24,'Γενικά Στοιχεία Οργανισμού'!$D$9)","v":1.0005024787200001E-6},null,{"$f":"E122*'Γενικά Στοιχεία Οργανισμού'!$E$20/SUM('Γενικά Στοιχεία Οργανισμού'!$E$13:$E$24,'Γενικά Στοιχεία Οργανισμού'!$D$9)","v":1.4674036354560001E-6},null,{"$f":"E122*'Γενικά Στοιχεία Οργανισμού'!$E$21/SUM('Γενικά Στοιχεία Οργανισμού'!$E$13:$E$24,'Γενικά Στοιχεία Οργανισμού'!$D$9)","v":3.3350082624E-7},null,{"$f":"E122*'Γενικά Στοιχεία Οργανισμού'!$E$22/SUM('Γενικά Στοιχεία Οργανισμού'!$E$13:$E$24,'Γενικά Στοιχεία Οργανισμού'!$D$9)","v":8.3375206560000006E-7},null,{"$f":"E122*'Γενικά Στοιχεία Οργανισμού'!$E$23/SUM('Γενικά Στοιχεία Οργανισμού'!$E$13:$E$24,'Γενικά Στοιχεία Οργανισμού'!$D$9)","v":1.300653222336E-6},null,{"$f":"E122*'Γενικά Στοιχεία Οργανισμού'!$E$24/SUM('Γενικά Στοιχεία Οργανισμού'!$E$13:$E$24,'Γενικά Στοιχεία Οργανισμού'!$D$9)","v":1.1005527265920001E-6}]
[null,null,"Ηλεκτρική Ενέργεια (Λεωφορείο / Τρόλεϊ)",{"$f":"'Υπολογισμός Αν. Απ.'!Q48","v":0.53355706634105271},{"$f":"'Υπολογισμός Αν. Απ.'!N48","v":0.53264897999999994},0,0,0,0,{"$f":"D123*'Γενικά Στοιχεία Οργανισμού'!$D$9/SUM('Γενικά Στοιχεία Οργανισμού'!$E$13:$E$24,'Γενικά Στοιχεία Οργανισμού'!$D$9)","v":0.21342282653642111},{"$f":"E123*'Γενικά Στοιχεία Οργανισμού'!$D$9/SUM('Γενικά Στοιχεία Οργανισμού'!$E$13:$E$24,'Γενικά Στοιχεία Οργανισμού'!$D$9)","v":0.21305959199999996},{"$f":"D123*'Γενικά Στοιχεία Οργανισμού'!$E$16/SUM('Γενικά Στοιχεία Οργανισμού'!$E$13:$E$24,'Γενικά Στοιχεία Οργανισμού'!$D$9)","v":2.3049665265933477E-2},{"$f":"E123*'Γενικά Στοιχεία Οργανισμού'!$E$16/SUM('Γενικά Στοιχεία Οργανισμού'!$E$13:$E$24,'Γενικά Στοιχεία Οργανισμού'!$D$9)","v":2.3010435935999995E-2},{"$f":"D123*'Γενικά Στοιχεία Οργανισμού'!$E$17/SUM('Γενικά Στοιχεία Οργανισμού'!$E$13:$E$24,'Γενικά Στοιχεία Οργανισμού'!$D$9)","v":4.0550337041920008E-2},{"$f":"E123*'Γενικά Στοιχεία Οργανισμού'!$E$17/SUM('Γενικά Στοιχεία Οργανισμού'!$E$13:$E$24,'Γενικά Στοιχεία Οργανισμού'!$D$9)","v":4.0481322479999991E-2},{"$f":"D123*'Γενικά Στοιχεία Οργανισμού'!$E$18/SUM('Γενικά Στοιχεία Οργανισμού'!$E$13:$E$24,'Γενικά Στοιχεία Οργανισμού'!$D$9)","v":2.4757047878224848E-2},{"$f":"E123*'Γενικά Στοιχεία Οργανισμού'!$E$18/SUM('Γενικά Στοιχεία Οργανισμού'!$E$13:$E$24,'Γενικά Στοιχεία Οργανισμού'!$D$9)","v":2.4714912671999996E-2},{"$f":"D123*'Γενικά Στοιχεία Οργανισμού'!$E$19/SUM('Γενικά Στοιχεία Οργανισμού'!$E$13:$E$24,'Γενικά Στοιχεία Οργανισμού'!$D$9)","v":3.8416108776555796E-2},{"$f":"E123*'Γενικά Στοιχεία Οργανισμού'!$E$19/SUM('Γενικά Στοιχεία Οργανισμού'!$E$13:$E$24,'Γενικά Στοιχεία Οργανισμού'!$D$9)","v":3.8350726559999999E-2},{"$f":"D123*'Γενικά Στοιχεία Οργανισμού'!$E$20/SUM('Γενικά Στοιχεία Οργανισμού'!$E$13:$E$24,'Γενικά Στοιχεία Οργανισμού'!$D$9)","v":5.6343626205615172E-2},{"$f":"E123*'Γενικά Στοιχεία Οργανισμού'!$E$20/SUM('Γενικά Στοιχεία Οργανισμού'!$E$13:$E$24,'Γενικά Στοιχεία Οργανισμού'!$D$9)","v":5.6247732288000001E-2},{"$f":"D123*'Γενικά Στοιχεία Οργανισμού'!$E$21/SUM('Γενικά Στοιχεία Οργανισμού'!$E$13:$E$24,'Γενικά Στοιχεία Οργανισμού'!$D$9)","v":1.2805369592185263E-2},{"$f":"E123*'Γενικά Στοιχεία Οργανισμού'!$E$21/SUM('Γενικά Στοιχεία Οργανισμού'!$E$13:$E$24,'Γενικά Στοιχεία Οργανισμού'!$D$9)","v":1.2783575519999998E-2},{"$f":"D123*'Γενικά Στοιχεία Οργανισμού'!$E$22/SUM('Γενικά Στοιχεία Οργανισμού'!$E$13:$E$24,'Γενικά Στοιχεία Οργανισμού'!$D$9)","v":3.2013423980463168E-2},{"$f":"E123*'Γενικά Στοιχεία Οργανισμού'!$E$22/SUM('Γενικά Στοιχεία Οργανισμού'!$E$13:$E$24,'Γενικά Στοιχεία Οργανισμού'!$D$9)","v":3.1958938799999996E-2},{"$f":"D123*'Γενικά Στοιχεία Οργανισμού'!$E$23/SUM('Γενικά Στοιχεία Οργανισμού'!$E$13:$E$24,'Γενικά Στοιχεία Οργανισμού'!$D$9)","v":4.994094140952253E-2},{"$f":"E123*'Γενικά Στοιχεία Οργανισμού'!$E$23/SUM('Γενικά Στοιχεία Οργανισμού'!$E$13:$E$24,'Γενικά Στοιχεία Οργανισμού'!$D$9)","v":4.985594452799999E-2},{"$f":"D123*'Γενικά Στοιχεία Οργανισμού'!$E$24/SUM('Γενικά Στοιχεία Οργανισμού'!$E$13:$E$24,'Γενικά Στοιχεία Οργανισμού'!$D$9)","v":4.2257719654211379E-2},{"$f":"E123*'Γενικά Στοιχεία Οργανισμού'!$E$24/SUM('Γενικά Στοιχεία Οργανισμού'!$E$13:$E$24,'Γενικά Στοιχεία Οργανισμού'!$D$9)","v":4.2185799215999992E-2}]
[null,null,null,null,{"$f":"'Υπολογισμός Αν. Απ.'!O48","v":6.5421130319999994E-6},null,0,null,0,null,{"$f":"E124*'Γενικά Στοιχεία Οργανισμού'!$D$9/SUM('Γενικά Στοιχεία Οργανισμού'!$E$13:$E$24,'Γενικά Στοιχεία Οργανισμού'!$D$9)","v":2.6168452127999999E-6},null,{"$f":"E124*'Γενικά Στοιχεία Οργανισμού'!$E$16/SUM('Γενικά Στοιχεία Οργανισμού'!$E$13:$E$24,'Γενικά Στοιχεία Οργανισμού'!$D$9)","v":2.826192829824E-7},null,{"$f":"E124*'Γενικά Στοιχεία Οργανισμού'!$E$17/SUM('Γενικά Στοιχεία Οργανισμού'!$E$13:$E$24,'Γενικά Στοιχεία Οργανισμού'!$D$9)","v":4.9720059043199993E-7},null,{"$f":"E124*'Γενικά Στοιχεία Οργανισμού'!$E$18/SUM('Γενικά Στοιχεία Οργανισμού'!$E$13:$E$24,'Γενικά Στοιχεία Οργανισμού'!$D$9)","v":3.0355404468479998E-7},null,{"$f":"E124*'Γενικά Στοιχεία Οργανισμού'!$E$19/SUM('Γενικά Στοιχεία Οργανισμού'!$E$13:$E$24,'Γενικά Στοιχεία Οργανισμού'!$D$9)","v":4.71032138304E-7},null,{"$f":"E124*'Γενικά Στοιχεία Οργανισμού'!$E$20/SUM('Γενικά Στοιχεία Οργανισμού'!$E$13:$E$24,'Γενικά Στοιχεία Οργανισμού'!$D$9)","v":6.9084713617919989E-7},null,{"$f":"E124*'Γενικά Στοιχεία Οργανισμού'!$E$21/SUM('Γενικά Στοιχεία Οργανισμού'!$E$13:$E$24,'Γενικά Στοιχεία Οργανισμού'!$D$9)","v":1.57010712768E-7},null,{"$f":"E124*'Γενικά Στοιχεία Οργανισμού'!$E$22/SUM('Γενικά Στοιχεία Οργανισμού'!$E$13:$E$24,'Γενικά Στοιχεία Οργανισμού'!$D$9)","v":3.9252678192000002E-7},null,{"$f":"E124*'Γενικά Στοιχεία Οργανισμού'!$E$23/SUM('Γενικά Στοιχεία Οργανισμού'!$E$13:$E$24,'Γενικά Στοιχεία Οργανισμού'!$D$9)","v":6.1234177979519991E-7},null,{"$f":"E124*'Γενικά Στοιχεία Οργανισμού'!$E$24/SUM('Γενικά Στοιχεία Οργανισμού'!$E$13:$E$24,'Γενικά Στοιχεία Οργανισμού'!$D$9)","v":5.1813535213439997E-7}]
[null,null,null,null,{"$f":"'Υπολογισμός Αν. Απ.'!P48","v":2.6577340200000001E-6},null,0,null,0,null,{"$f":"E125*'Γενικά Στοιχεία Οργανισμού'!$D$9/SUM('Γενικά Στοιχεία Οργανισμού'!$E$13:$E$24,'Γενικά Στοιχεία Οργανισμού'!$D$9)","v":1.0630936079999999E-6},null,{"$f":"E125*'Γενικά Στοιχεία Οργανισμού'!$E$16/SUM('Γενικά Στοιχεία Οργανισμού'!$E$13:$E$24,'Γενικά Στοιχεία Οργανισμού'!$D$9)","v":1.1481410966400002E-7},null,{"$f":"E125*'Γενικά Στοιχεία Οργανισμού'!$E$17/SUM('Γενικά Στοιχεία Οργανισμού'!$E$13:$E$24,'Γενικά Στοιχεία Οργανισμού'!$D$9)","v":2.0198778551999999E-7},null,{"$f":"E125*'Γενικά Στοιχεία Οργανισμού'!$E$18/SUM('Γενικά Στοιχεία Οργανισμού'!$E$13:$E$24,'Γενικά Στοιχεία Οργανισμού'!$D$9)","v":1.2331885852800001E-7},null,{"$f":"E125*'Γενικά Στοιχεία Οργανισμού'!$E$19/SUM('Γενικά Στοιχεία Οργανισμού'!$E$13:$E$24,'Γενικά Στοιχεία Οργανισμού'!$D$9)","v":1.9135684944000002E-7},null,{"$f":"E125*'Γενικά Στοιχεία Οργανισμού'!$E$20/SUM('Γενικά Στοιχεία Οργανισμού'!$E$13:$E$24,'Γενικά Στοιχεία Οργανισμού'!$D$9)","v":2.8065671251200003E-7},null,{"$f":"E125*'Γενικά Στοιχεία Οργανισμού'!$E$21/SUM('Γενικά Στοιχεία Οργανισμού'!$E$13:$E$24,'Γενικά Στοιχεία Οργανισμού'!$D$9)","v":6.3785616480000002E-8},null,{"$f":"E125*'Γενικά Στοιχεία Οργανισμού'!$E$22/SUM('Γενικά Στοιχεία Οργανισμού'!$E$13:$E$24,'Γενικά Στοιχεία Οργανισμού'!$D$9)","v":1.5946404120000001E-7},null,{"$f":"E125*'Γενικά Στοιχεία Οργανισμού'!$E$23/SUM('Γενικά Στοιχεία Οργανισμού'!$E$13:$E$24,'Γενικά Στοιχεία Οργανισμού'!$D$9)","v":2.48763904272E-7},null,{"$f":"E125*'Γενικά Στοιχεία Οργανισμού'!$E$24/SUM('Γενικά Στοιχεία Οργανισμού'!$E$13:$E$24,'Γενικά Στοιχεία Οργανισμού'!$D$9)","v":2.1049253438399999E-7}]
[null,null,"Ηλεκτρική Ενέργεια (Συρμοί)",{"$f":"'Υπολογισμός Αν. Απ.'!Q49","v":43.613793905968073},{"$f":"'Υπολογισμός Αν. Απ.'!N49","v":43.539565499999995},0,0,0,0,{"$f":"D126*'Γενικά Στοιχεία Οργανισμού'!$D$9/SUM('Γενικά Στοιχεία Οργανισμού'!$E$13:$E$24,'Γενικά Στοιχεία Οργανισμού'!$D$9)","v":17.445517562387227},{"$f":"E126*'Γενικά Στοιχεία Οργανισμού'!$D$9/SUM('Γενικά Στοιχεία Οργανισμού'!$E$13:$E$24,'Γενικά Στοιχεία Οργανισμού'!$D$9)","v":17.415826199999998},{"$f":"D126*'Γενικά Στοιχεία Οργανισμού'!$E$16/SUM('Γενικά Στοιχεία Οργανισμού'!$E$13:$E$24,'Γενικά Στοιχεία Οργανισμού'!$D$9)","v":1.8841158967378207},{"$f":"E126*'Γενικά Στοιχεία Οργανισμού'!$E$16/SUM('Γενικά Στοιχεία Οργανισμού'!$E$13:$E$24,'Γενικά Στοιχεία Οργανισμού'!$D$9)","v":1.8809092295999998},{"$f":"D126*'Γενικά Στοιχεία Οργανισμού'!$E$17/SUM('Γενικά Στοιχεία Οργανισμού'!$E$13:$E$24,'Γενικά Στοιχεία Οργανισμού'!$D$9)","v":3.3146483368535735},{"$f":"E126*'Γενικά Στοιχεία Οργανισμού'!$E$17/SUM('Γενικά Στοιχεία Οργανισμού'!$E$13:$E$24,'Γενικά Στοιχεία Οργανισμού'!$D$9)","v":3.3090069779999998},{"$f":"D126*'Γενικά Στοιχεία Οργανισμού'!$E$18/SUM('Γενικά Στοιχεία Οργανισμού'!$E$13:$E$24,'Γενικά Στοιχεία Οργανισμού'!$D$9)","v":2.0236800372369186},{"$f":"E126*'Γενικά Στοιχεία Οργανισμού'!$E$18/SUM('Γενικά Στοιχεία Οργανισμού'!$E$13:$E$24,'Γενικά Στοιχεία Οργανισμού'!$D$9)","v":2.0202358391999997},{"$f":"D126*'Γενικά Στοιχεία Οργανισμού'!$E$19/SUM('Γενικά Στοιχεία Οργανισμού'!$E$13:$E$24,'Γενικά Στοιχεία Οργανισμού'!$D$9)","v":3.1401931612297012},{"$f":"E126*'Γενικά Στοιχεία Οργανισμού'!$E$19/SUM('Γενικά Στοιχεία Οργανισμού'!$E$13:$E$24,'Γενικά Στοιχεία Οργανισμού'!$D$9)","v":3.1348487159999996},{"$f":"D126*'Γενικά Στοιχεία Οργανισμού'!$E$20/SUM('Γενικά Στοιχεία Οργανισμού'!$E$13:$E$24,'Γενικά Στοιχεία Οργανισμού'!$D$9)","v":4.6056166364702289},{"$f":"E126*'Γενικά Στοιχεία Οργανισμού'!$E$20/SUM('Γενικά Στοιχεία Οργανισμού'!$E$13:$E$24,'Γενικά Στοιχεία Οργανισμού'!$D$9)","v":4.5977781167999998},{"$f":"D126*'Γενικά Στοιχεία Οργανισμού'!$E$21/SUM('Γενικά Στοιχεία Οργανισμού'!$E$13:$E$24,'Γενικά Στοιχεία Οργανισμού'!$D$9)","v":1.0467310537432337},{"$f":"E126*'Γενικά Στοιχεία Οργανισμού'!$E$21/SUM('Γενικά Στοιχεία Οργανισμού'!$E$13:$E$24,'Γενικά Στοιχεία Οργανισμού'!$D$9)","v":1.0449495719999999},{"$f":"D126*'Γενικά Στοιχεία Οργανισμού'!$E$22/SUM('Γενικά Στοιχεία Οργανισμού'!$E$13:$E$24,'Γενικά Στοιχεία Οργανισμού'!$D$9)","v":2.6168276343580845},{"$f":"E126*'Γενικά Στοιχεία Οργανισμού'!$E$22/SUM('Γενικά Στοιχεία Οργανισμού'!$E$13:$E$24,'Γενικά Στοιχεία Οργανισμού'!$D$9)","v":2.61237393},{"$f":"D126*'Γενικά Στοιχεία Οργανισμού'!$E$23/SUM('Γενικά Στοιχεία Οργανισμού'!$E$13:$E$24,'Γενικά Στοιχεία Οργανισμού'!$D$9)","v":4.0822511095986123},{"$f":"E126*'Γενικά Στοιχεία Οργανισμού'!$E$23/SUM('Γενικά Στοιχεία Οργανισμού'!$E$13:$E$24,'Γενικά Στοιχεία Οργανισμού'!$D$9)","v":4.0753033307999997},{"$f":"D126*'Γενικά Στοιχεία Οργανισμού'!$E$24/SUM('Γενικά Στοιχεία Οργανισμού'!$E$13:$E$24,'Γενικά Στοιχεία Οργανισμού'!$D$9)","v":3.4542124773526717},{"$f":"E126*'Γενικά Στοιχεία Οργανισμού'!$E$24/SUM('Γενικά Στοιχεία Οργανισμού'!$E$13:$E$24,'Γενικά Στοιχεία Οργανισμού'!$D$9)","v":3.4483335875999996}]
[null,null,null,null,{"$f":"'Υπολογισμός Αν. Απ.'!O49","v":5.3476261020000005E-4},null,0,null,0,null,{"$f":"E127*'Γενικά Στοιχεία Οργανισμού'!$D$9/SUM('Γενικά Στοιχεία Οργανισμού'!$E$13:$E$24,'Γενικά Στοιχεία Οργανισμού'!$D$9)","v":2.1390504408000001E-4},null,{"$f":"E127*'Γενικά Στοιχεία Οργανισμού'!$E$16/SUM('Γενικά Στοιχεία Οργανισμού'!$E$13:$E$24,'Γενικά Στοιχεία Οργανισμού'!$D$9)","v":2.3101744760640001E-5},null,{"$f":"E127*'Γενικά Στοιχεία Οργανισμού'!$E$17/SUM('Γενικά Στοιχεία Οργανισμού'!$E$13:$E$24,'Γενικά Στοιχεία Οργανισμού'!$D$9)","v":4.0641958375200007E-5},null,{"$f":"E127*'Γενικά Στοιχεία Οργανισμού'!$E$18/SUM('Γενικά Στοιχεία Οργανισμού'!$E$13:$E$24,'Γενικά Στοιχεία Οργανισμού'!$D$9)","v":2.4812985113280004E-5},null,{"$f":"E127*'Γενικά Στοιχεία Οργανισμού'!$E$19/SUM('Γενικά Στοιχεία Οργανισμού'!$E$13:$E$24,'Γενικά Στοιχεία Οργανισμού'!$D$9)","v":3.8502907934400004E-5},null,{"$f":"E127*'Γενικά Στοιχεία Οργανισμού'!$E$20/SUM('Γενικά Στοιχεία Οργανισμού'!$E$13:$E$24,'Γενικά Στοιχεία Οργανισμού'!$D$9)","v":5.6470931637120002E-5},null,{"$f":"E127*'Γενικά Στοιχεία Οργανισμού'!$E$21/SUM('Γενικά Στοιχεία Οργανισμού'!$E$13:$E$24,'Γενικά Στοιχεία Οργανισμού'!$D$9)","v":1.2834302644800003E-5},null,{"$f":"E127*'Γενικά Στοιχεία Οργανισμού'!$E$22/SUM('Γενικά Στοιχεία Οργανισμού'!$E$13:$E$24,'Γενικά Στοιχεία Οργανισμού'!$D$9)","v":3.2085756612000003E-5},null,{"$f":"E127*'Γενικά Στοιχεία Οργανισμού'!$E$23/SUM('Γενικά Στοιχεία Οργανισμού'!$E$13:$E$24,'Γενικά Στοιχεία Οργανισμού'!$D$9)","v":5.0053780314720008E-5},null,{"$f":"E127*'Γενικά Στοιχεία Οργανισμού'!$E$24/SUM('Γενικά Στοιχεία Οργανισμού'!$E$13:$E$24,'Γενικά Στοιχεία Οργανισμού'!$D$9)","v":4.2353198727840003E-5}]
[null,null,null,null,{"$f":"'Υπολογισμός Αν. Απ.'!P49","v":2.172473595E-4},null,0,null,0,null,{"$f":"E128*'Γενικά Στοιχεία Οργανισμού'!$D$9/SUM('Γενικά Στοιχεία Οργανισμού'!$E$13:$E$24,'Γενικά Στοιχεία Οργανισμού'!$D$9)","v":8.6898943800000006E-5},null,{"$f":"E128*'Γενικά Στοιχεία Οργανισμού'!$E$16/SUM('Γενικά Στοιχεία Οργανισμού'!$E$13:$E$24,'Γενικά Στοιχεία Οργανισμού'!$D$9)","v":9.3850859304E-6},null,{"$f":"E128*'Γενικά Στοιχεία Οργανισμού'!$E$17/SUM('Γενικά Στοιχεία Οργανισμού'!$E$13:$E$24,'Γενικά Στοιχεία Οργανισμού'!$D$9)","v":1.6510799322E-5},null,{"$f":"E128*'Γενικά Στοιχεία Οργανισμού'!$E$18/SUM('Γενικά Στοιχεία Οργανισμού'!$E$13:$E$24,'Γενικά Στοιχεία Οργανισμού'!$D$9)","v":1.00802774808E-5},null,{"$f":"E128*'Γενικά Στοιχεία Οργανισμού'!$E$19/SUM('Γενικά Στοιχεία Οργανισμού'!$E$13:$E$24,'Γενικά Στοιχεία Οργανισμού'!$D$9)","v":1.5641809884000001E-5},null,{"$f":"E128*'Γενικά Στοιχεία Οργανισμού'!$E$20/SUM('Γενικά Στοιχεία Οργανισμού'!$E$13:$E$24,'Γενικά Στοιχεία Οργανισμού'!$D$9)","v":2.29413211632E-5},null,{"$f":"E128*'Γενικά Στοιχεία Οργανισμού'!$E$21/SUM('Γενικά Στοιχεία Οργανισμού'!$E$13:$E$24,'Γενικά Στοιχεία Οργανισμού'!$D$9)","v":5.2139366280000005E-6},null,{"$f":"E128*'Γενικά Στοιχεία Οργανισμού'!$E$22/SUM('Γενικά Στοιχεία Οργανισμού'!$E$13:$E$24,'Γενικά Στοιχεία Οργανισμού'!$D$9)","v":1.303484157E-5},null,{"$f":"E128*'Γενικά Στοιχεία Οργανισμού'!$E$23/SUM('Γενικά Στοιχεία Οργανισμού'!$E$13:$E$24,'Γενικά Στοιχεία Οργανισμού'!$D$9)","v":2.0334352849199998E-5},null,{"$f":"E128*'Γενικά Στοιχεία Οργανισμού'!$E$24/SUM('Γενικά Στοιχεία Οργανισμού'!$E$13:$E$24,'Γενικά Στοιχεία Οργανισμού'!$D$9)","v":1.7205990872400002E-5}]
[null,null,"Επαγγελματικά Ταξίδια",{"$f":"SUM(D132:D149)","v":511.80023259355085},{"$f":"E132+E135+E138+E141+E144+E147","v":507.92514258611845},0,0,0,0,{"$f":"D129*'Γενικά Στοιχεία Οργανισμού'!$D$9/SUM('Γενικά Στοιχεία Οργανισμού'!$E$13:$E$24,'Γενικά Στοιχεία Οργανισμού'!$D$9)","v":204.72009303742036},{"$f":"E129*'Γενικά Στοιχεία Οργανισμού'!$D$9/SUM('Γενικά Στοιχεία Οργανισμού'!$E$13:$E$24,'Γενικά Στοιχεία Οργανισμού'!$D$9)","v":203.17005703444738},{"$f":"D129*'Γενικά Στοιχεία Οργανισμού'!$E$16/SUM('Γενικά Στοιχεία Οργανισμού'!$E$13:$E$24,'Γενικά Στοιχεία Οργανισμού'!$D$9)","v":22.109770048041398},{"$f":"E129*'Γενικά Στοιχεία Οργανισμού'!$E$16/SUM('Γενικά Στοιχεία Οργανισμού'!$E$13:$E$24,'Γενικά Στοιχεία Οργανισμού'!$D$9)","v":21.942366159720319},{"$f":"D129*'Γενικά Στοιχεία Οργανισμού'!$E$17/SUM('Γενικά Στοιχεία Οργανισμού'!$E$13:$E$24,'Γενικά Στοιχεία Οργανισμού'!$D$9)","v":38.896817677109865},{"$f":"E129*'Γενικά Στοιχεία Οργανισμού'!$E$17/SUM('Γενικά Στοιχεία Οργανισμού'!$E$13:$E$24,'Γενικά Στοιχεία Οργανισμού'!$D$9)","v":38.602310836545008},{"$f":"D129*'Γενικά Στοιχεία Οργανισμού'!$E$18/SUM('Γενικά Στοιχεία Οργανισμού'!$E$13:$E$24,'Γενικά Στοιχεία Οργανισμού'!$D$9)","v":23.747530792340758},{"$f":"E129*'Γενικά Στοιχεία Οργανισμού'!$E$18/SUM('Γενικά Στοιχεία Οργανισμού'!$E$13:$E$24,'Γενικά Στοιχεία Οργανισμού'!$D$9)","v":23.567726615995895},{"$f":"D129*'Γενικά Στοιχεία Οργανισμού'!$E$19/SUM('Γενικά Στοιχεία Οργανισμού'!$E$13:$E$24,'Γενικά Στοιχεία Οργανισμού'!$D$9)","v":36.849616746735663},{"$f":"E129*'Γενικά Στοιχεία Οργανισμού'!$E$19/SUM('Γενικά Στοιχεία Οργανισμού'!$E$13:$E$24,'Γενικά Στοιχεία Οργανισμού'!$D$9)","v":36.570610266200532},{"$f":"D129*'Γενικά Στοιχεία Οργανισμού'!$E$20/SUM('Γενικά Στοιχεία Οργανισμού'!$E$13:$E$24,'Γενικά Στοιχεία Οργανισμού'!$D$9)","v":54.046104561878977},{"$f":"E129*'Γενικά Στοιχεία Οργανισμού'!$E$20/SUM('Γενικά Στοιχεία Οργανισμού'!$E$13:$E$24,'Γενικά Στοιχεία Οργανισμού'!$D$9)","v":53.636895057094108},{"$f":"D129*'Γενικά Στοιχεία Οργανισμού'!$E$21/SUM('Γενικά Στοιχεία Οργανισμού'!$E$13:$E$24,'Γενικά Στοιχεία Οργανισμού'!$D$9)","v":12.283205582245222},{"$f":"E129*'Γενικά Στοιχεία Οργανισμού'!$E$21/SUM('Γενικά Στοιχεία Οργανισμού'!$E$13:$E$24,'Γενικά Στοιχεία Οργανισμού'!$D$9)","v":12.190203422066842},{"$f":"D129*'Γενικά Στοιχεία Οργανισμού'!$E$22/SUM('Γενικά Στοιχεία Οργανισμού'!$E$13:$E$24,'Γενικά Στοιχεία Οργανισμού'!$D$9)","v":30.708013955613051},{"$f":"E129*'Γενικά Στοιχεία Οργανισμού'!$E$22/SUM('Γενικά Στοιχεία Οργανισμού'!$E$13:$E$24,'Γενικά Στοιχεία Οργανισμού'!$D$9)","v":30.47550855516711},{"$f":"D129*'Γενικά Στοιχεία Οργανισμού'!$E$23/SUM('Γενικά Στοιχεία Οργανισμού'!$E$13:$E$24,'Γενικά Στοιχεία Οργανισμού'!$D$9)","v":47.904501770756362},{"$f":"E129*'Γενικά Στοιχεία Οργανισμού'!$E$23/SUM('Γενικά Στοιχεία Οργανισμού'!$E$13:$E$24,'Γενικά Στοιχεία Οργανισμού'!$D$9)","v":47.541793346060686},{"$f":"D129*'Γενικά Στοιχεία Οργανισμού'!$E$24/SUM('Γενικά Στοιχεία Οργανισμού'!$E$13:$E$24,'Γενικά Στοιχεία Οργανισμού'!$D$9)","v":40.534578421409222},{"$f":"E129*'Γενικά Στοιχεία Οργανισμού'!$E$24/SUM('Γενικά Στοιχεία Οργανισμού'!$E$13:$E$24,'Γενικά Στοιχεία Οργανισμού'!$D$9)","v":40.227671292820581}]
[null,null,null,null,{"$f":"E133+E136+E139+E142+E145+E148","v":6.1880016260000255E-3},null,0,null,0,null,{"$f":"E130*'Γενικά Στοιχεία Οργανισμού'!$D$9/SUM('Γενικά Στοιχεία Οργανισμού'!$E$13:$E$24,'Γενικά Στοιχεία Οργανισμού'!$D$9)","v":2.4752006504000102E-3},null,{"$f":"E130*'Γενικά Στοιχεία Οργανισμού'!$E$16/SUM('Γενικά Στοιχεία Οργανισμού'!$E$13:$E$24,'Γενικά Στοιχεία Οργανισμού'!$D$9)","v":2.6732167024320111E-4},null,{"$f":"E130*'Γενικά Στοιχεία Οργανισμού'!$E$17/SUM('Γενικά Στοιχεία Οργανισμού'!$E$13:$E$24,'Γενικά Στοιχεία Οργανισμού'!$D$9)","v":4.7028812357600194E-4},null,{"$f":"E130*'Γενικά Στοιχεία Οργανισμού'!$E$18/SUM('Γενικά Στοιχεία Οργανισμού'!$E$13:$E$24,'Γενικά Στοιχεία Οργανισμού'!$D$9)","v":2.8712327544640117E-4},null,{"$f":"E130*'Γενικά Στοιχεία Οργανισμού'!$E$19/SUM('Γενικά Στοιχεία Οργανισμού'!$E$13:$E$24,'Γενικά Στοιχεία Οργανισμού'!$D$9)","v":4.4553611707200184E-4},null,{"$f":"E130*'Γενικά Στοιχεία Οργανισμού'!$E$20/SUM('Γενικά Στοιχεία Οργανισμού'!$E$13:$E$24,'Γενικά Στοιχεία Οργανισμού'!$D$9)","v":6.534529717056027E-4},null,{"$f":"E130*'Γενικά Στοιχεία Οργανισμού'!$E$21/SUM('Γενικά Στοιχεία Οργανισμού'!$E$13:$E$24,'Γενικά Στοιχεία Οργανισμού'!$D$9)","v":1.4851203902400061E-4},null,{"$f":"E130*'Γενικά Στοιχεία Οργανισμού'!$E$22/SUM('Γενικά Στοιχεία Οργανισμού'!$E$13:$E$24,'Γενικά Στοιχεία Οργανισμού'!$D$9)","v":3.7128009756000151E-4},null,{"$f":"E130*'Γενικά Στοιχεία Οργανισμού'!$E$23/SUM('Γενικά Στοιχεία Οργανισμού'!$E$13:$E$24,'Γενικά Στοιχεία Οργανισμού'!$D$9)","v":5.7919695219360242E-4},null,{"$f":"E130*'Γενικά Στοιχεία Οργανισμού'!$E$24/SUM('Γενικά Στοιχεία Οργανισμού'!$E$13:$E$24,'Γενικά Στοιχεία Οργανισμού'!$D$9)","v":4.90089728779202E-4}]
[null,null,null,null,1.3562068725520262E-2,null,0,null,0,null,{"$f":"E131*'Γενικά Στοιχεία Οργανισμού'!$D$9/SUM('Γενικά Στοιχεία Οργανισμού'!$E$13:$E$24,'Γενικά Στοιχεία Οργανισμού'!$D$9)","v":5.4248274902081051E-3},null,{"$f":"E131*'Γενικά Στοιχεία Οργανισμού'!$E$16/SUM('Γενικά Στοιχεία Οργανισμού'!$E$13:$E$24,'Γενικά Στοιχεία Οργανισμού'!$D$9)","v":5.8588136894247532E-4},null,{"$f":"E131*'Γενικά Στοιχεία Οργανισμού'!$E$17/SUM('Γενικά Στοιχεία Οργανισμού'!$E$13:$E$24,'Γενικά Στοιχεία Οργανισμού'!$D$9)","v":1.0307172231395398E-3},null,{"$f":"E131*'Γενικά Στοιχεία Οργανισμού'!$E$18/SUM('Γενικά Στοιχεία Οργανισμού'!$E$13:$E$24,'Γενικά Στοιχεία Οργανισμού'!$D$9)","v":6.2927998886414015E-4},null,{"$f":"E131*'Γενικά Στοιχεία Οργανισμού'!$E$19/SUM('Γενικά Στοιχεία Οργανισμού'!$E$13:$E$24,'Γενικά Στοιχεία Οργανισμού'!$D$9)","v":9.7646894823745891E-4},null,{"$f":"E131*'Γενικά Στοιχεία Οργανισμού'!$E$20/SUM('Γενικά Στοιχεία Οργανισμού'!$E$13:$E$24,'Γενικά Στοιχεία Οργανισμού'!$D$9)","v":1.4321544574149396E-3},null,{"$f":"E131*'Γενικά Στοιχεία Οργανισμού'!$E$21/SUM('Γενικά Στοιχεία Οργανισμού'!$E$13:$E$24,'Γενικά Στοιχεία Οργανισμού'!$D$9)","v":3.2548964941248628E-4},null,{"$f":"E131*'Γενικά Στοιχεία Οργανισμού'!$E$22/SUM('Γενικά Στοιχεία Οργανισμού'!$E$13:$E$24,'Γενικά Στοιχεία Οργανισμού'!$D$9)","v":8.1372412353121568E-4},null,{"$f":"E131*'Γενικά Στοιχεία Οργανισμού'!$E$23/SUM('Γενικά Στοιχεία Οργανισμού'!$E$13:$E$24,'Γενικά Στοιχεία Οργανισμού'!$D$9)","v":1.2694096327086966E-3},null,{"$f":"E131*'Γενικά Στοιχεία Οργανισμού'!$E$24/SUM('Γενικά Στοιχεία Οργανισμού'!$E$13:$E$24,'Γενικά Στοιχεία Οργανισμού'!$D$9)","v":1.0741158430612049E-3}]
[null,null,"Πετρέλαιο Κίνησης (Επιβατικό)",{"$f":"'Υπολογισμός Αν. Απ.'!Q53+'Υπολογισμός Αν. Απ.'!Q55","v":2.5894017597319747},{"$f":"'Υπολογισμός Αν. Απ.'!N53+'Υπολογισμός Αν. Απ.'!N55","v":2.5612999655705999},0,0,0,0,{"$f":"D132*'Γενικά Στοιχεία Οργανισμού'!$D$9/SUM('Γενικά Στοιχεία Οργανισμού'!$E$13:$E$24,'Γενικά Στοιχεία Οργανισμού'!$D$9)","v":1.0357607038927898},{"$f":"E132*'Γενικά Στοιχεία Οργανισμού'!$D$9/SUM('Γενικά Στοιχεία Οργανισμού'!$E$13:$E$24,'Γενικά Στοιχεία Οργανισμού'!$D$9)","v":1.0245199862282399},{"$f":"D132*'Γενικά Στοιχεία Οργανισμού'!$E$16/SUM('Γενικά Στοιχεία Οργανισμού'!$E$13:$E$24,'Γενικά Στοιχεία Οργανισμού'!$D$9)","v":0.11186215602042129},{"$f":"E132*'Γενικά Στοιχεία Οργανισμού'!$E$16/SUM('Γενικά Στοιχεία Οργανισμού'!$E$13:$E$24,'Γενικά Στοιχεία Οργανισμού'!$D$9)","v":0.11064815851264991},{"$f":"D132*'Γενικά Στοιχεία Οργανισμού'!$E$17/SUM('Γενικά Στοιχεία Οργανισμού'!$E$13:$E$24,'Γενικά Στοιχεία Οργανισμού'!$D$9)","v":0.19679453373963007},{"$f":"E132*'Γενικά Στοιχεία Οργανισμού'!$E$17/SUM('Γενικά Στοιχεία Οργανισμού'!$E$13:$E$24,'Γενικά Στοιχεία Οργανισμού'!$D$9)","v":0.19465879738336558},{"$f":"D132*'Γενικά Στοιχεία Οργανισμού'!$E$18/SUM('Γενικά Στοιχεία Οργανισμού'!$E$13:$E$24,'Γενικά Στοιχεία Οργανισμού'!$D$9)","v":0.12014824165156363},{"$f":"E132*'Γενικά Στοιχεία Οργανισμού'!$E$18/SUM('Γενικά Στοιχεία Οργανισμού'!$E$13:$E$24,'Γενικά Στοιχεία Οργανισμού'!$D$9)","v":0.11884431840247585},{"$f":"D132*'Γενικά Στοιχεία Οργανισμού'!$E$19/SUM('Γενικά Στοιχεία Οργανισμού'!$E$13:$E$24,'Γενικά Στοιχεία Οργανισμού'!$D$9)","v":0.18643692670070217},{"$f":"E132*'Γενικά Στοιχεία Οργανισμού'!$E$19/SUM('Γενικά Στοιχεία Οργανισμού'!$E$13:$E$24,'Γενικά Στοιχεία Οργανισμού'!$D$9)","v":0.18441359752108319},{"$f":"D132*'Γενικά Στοιχεία Οργανισμού'!$E$20/SUM('Γενικά Στοιχεία Οργανισμού'!$E$13:$E$24,'Γενικά Στοιχεία Οργανισμού'!$D$9)","v":0.27344082582769652},{"$f":"E132*'Γενικά Στοιχεία Οργανισμού'!$E$20/SUM('Γενικά Στοιχεία Οργανισμού'!$E$13:$E$24,'Γενικά Στοιχεία Οργανισμού'!$D$9)","v":0.27047327636425533},{"$f":"D132*'Γενικά Στοιχεία Οργανισμού'!$E$21/SUM('Γενικά Στοιχεία Οργανισμού'!$E$13:$E$24,'Γενικά Στοιχεία Οργανισμού'!$D$9)","v":6.2145642233567389E-2},{"$f":"E132*'Γενικά Στοιχεία Οργανισμού'!$E$21/SUM('Γενικά Στοιχεία Οργανισμού'!$E$13:$E$24,'Γενικά Στοιχεία Οργανισμού'!$D$9)","v":6.1471199173694403E-2},{"$f":"D132*'Γενικά Στοιχεία Οργανισμού'!$E$22/SUM('Γενικά Στοιχεία Οργανισμού'!$E$13:$E$24,'Γενικά Στοιχεία Οργανισμού'!$D$9)","v":0.1553641055839185},{"$f":"E132*'Γενικά Στοιχεία Οργανισμού'!$E$22/SUM('Γενικά Στοιχεία Οργανισμού'!$E$13:$E$24,'Γενικά Στοιχεία Οργανισμού'!$D$9)","v":0.15367799793423598},{"$f":"D132*'Γενικά Στοιχεία Οργανισμού'!$E$23/SUM('Γενικά Στοιχεία Οργανισμού'!$E$13:$E$24,'Γενικά Στοιχεία Οργανισμού'!$D$9)","v":0.24236800471091283},{"$f":"E132*'Γενικά Στοιχεία Οργανισμού'!$E$23/SUM('Γενικά Στοιχεία Οργανισμού'!$E$13:$E$24,'Γενικά Στοιχεία Οργανισμού'!$D$9)","v":0.23973767677740815},{"$f":"D132*'Γενικά Στοιχεία Οργανισμού'!$E$24/SUM('Γενικά Στοιχεία Οργανισμού'!$E$13:$E$24,'Γενικά Στοιχεία Οργανισμού'!$D$9)","v":0.2050806193707724},{"$f":"E132*'Γενικά Στοιχεία Οργανισμού'!$E$24/SUM('Γενικά Στοιχεία Οργανισμού'!$E$13:$E$24,'Γενικά Στοιχεία Οργανισμού'!$D$9)","v":0.2028549572731915}]
[null,null,null,null,{"$f":"'Υπολογισμός Αν. Απ.'!O53+'Υπολογισμός Αν. Απ.'!O55","v":1.0492830665999999E-6},null,0,null,0,null,{"$f":"E133*'Γενικά Στοιχεία Οργανισμού'!$D$9/SUM('Γενικά Στοιχεία Οργανισμού'!$E$13:$E$24,'Γενικά Στοιχεία Οργανισμού'!$D$9)","v":4.1971322663999993E-7},null,{"$f":"E133*'Γενικά Στοιχεία Οργανισμού'!$E$16/SUM('Γενικά Στοιχεία Οργανισμού'!$E$13:$E$24,'Γενικά Στοιχεία Οργανισμού'!$D$9)","v":4.5329028477119992E-8},null,{"$f":"E133*'Γενικά Στοιχεία Οργανισμού'!$E$17/SUM('Γενικά Στοιχεία Οργανισμού'!$E$13:$E$24,'Γενικά Στοιχεία Οργανισμού'!$D$9)","v":7.9745513061599993E-8},null,{"$f":"E133*'Γενικά Στοιχεία Οργανισμού'!$E$18/SUM('Γενικά Στοιχεία Οργανισμού'!$E$13:$E$24,'Γενικά Στοιχεία Οργανισμού'!$D$9)","v":4.8686734290239994E-8},null,{"$f":"E133*'Γενικά Στοιχεία Οργανισμού'!$E$19/SUM('Γενικά Στοιχεία Οργανισμού'!$E$13:$E$24,'Γενικά Στοιχεία Οργανισμού'!$D$9)","v":7.5548380795199995E-8},null,{"$f":"E133*'Γενικά Στοιχεία Οργανισμού'!$E$20/SUM('Γενικά Στοιχεία Οργανισμού'!$E$13:$E$24,'Γενικά Στοιχεία Οργανισμού'!$D$9)","v":1.1080429183295999E-7},null,{"$f":"E133*'Γενικά Στοιχεία Οργανισμού'!$E$21/SUM('Γενικά Στοιχεία Οργανισμού'!$E$13:$E$24,'Γενικά Στοιχεία Οργανισμού'!$D$9)","v":2.5182793598399999E-8},null,{"$f":"E133*'Γενικά Στοιχεία Οργανισμού'!$E$22/SUM('Γενικά Στοιχεία Οργανισμού'!$E$13:$E$24,'Γενικά Στοιχεία Οργανισμού'!$D$9)","v":6.2956983996E-8},null,{"$f":"E133*'Γενικά Στοιχεία Οργανισμού'!$E$23/SUM('Γενικά Στοιχεία Οργανισμού'!$E$13:$E$24,'Γενικά Στοιχεία Οργανισμού'!$D$9)","v":9.8212895033759991E-8},null,{"$f":"E133*'Γενικά Στοιχεία Οργανισμού'!$E$24/SUM('Γενικά Στοιχεία Οργανισμού'!$E$13:$E$24,'Γενικά Στοιχεία Οργανισμού'!$D$9)","v":8.3103218874719989E-8}]
[null,null,null,null,{"$f":"'Υπολογισμός Αν. Απ.'!P53+'Υπολογισμός Αν. Απ.'!P55","v":1.028297405268E-4},null,0,null,0,null,{"$f":"E134*'Γενικά Στοιχεία Οργανισμού'!$D$9/SUM('Γενικά Στοιχεία Οργανισμού'!$E$13:$E$24,'Γενικά Στοιχεία Οργανισμού'!$D$9)","v":4.1131896210719999E-5},null,{"$f":"E134*'Γενικά Στοιχεία Οργανισμού'!$E$16/SUM('Γενικά Στοιχεία Οργανισμού'!$E$13:$E$24,'Γενικά Στοιχεία Οργανισμού'!$D$9)","v":4.4422447907577604E-6},null,{"$f":"E134*'Γενικά Στοιχεία Οργανισμού'!$E$17/SUM('Γενικά Στοιχεία Οργανισμού'!$E$13:$E$24,'Γενικά Στοιχεία Οργανισμού'!$D$9)","v":7.8150602800368E-6},null,{"$f":"E134*'Γενικά Στοιχεία Οργανισμού'!$E$18/SUM('Γενικά Στοιχεία Οργανισμού'!$E$13:$E$24,'Γενικά Στοιχεία Οργανισμού'!$D$9)","v":4.7712999604435194E-6},null,{"$f":"E134*'Γενικά Στοιχεία Οργανισμού'!$E$19/SUM('Γενικά Στοιχεία Οργανισμού'!$E$13:$E$24,'Γενικά Στοιχεία Οργανισμού'!$D$9)","v":7.403741317929599E-6},null,{"$f":"E134*'Γενικά Στοιχεία Οργανισμού'!$E$20/SUM('Γενικά Στοιχεία Οργανισμού'!$E$13:$E$24,'Γενικά Στοιχεία Οργανισμού'!$D$9)","v":1.085882059963008E-5},null,{"$f":"E134*'Γενικά Στοιχεία Οργανισμού'!$E$21/SUM('Γενικά Στοιχεία Οργανισμού'!$E$13:$E$24,'Γενικά Στοιχεία Οργανισμού'!$D$9)","v":2.4679137726431997E-6},null,{"$f":"E134*'Γενικά Στοιχεία Οργανισμού'!$E$22/SUM('Γενικά Στοιχεία Οργανισμού'!$E$13:$E$24,'Γενικά Στοιχεία Οργανισμού'!$D$9)","v":6.169784431608E-6},null,{"$f":"E134*'Γενικά Στοιχεία Οργανισμού'!$E$23/SUM('Γενικά Στοιχεία Οργανισμού'!$E$13:$E$24,'Γενικά Στοιχεία Οργανισμού'!$D$9)","v":9.6248637133084783E-6},null,{"$f":"E134*'Γενικά Στοιχεία Οργανισμού'!$E$24/SUM('Γενικά Στοιχεία Οργανισμού'!$E$13:$E$24,'Γενικά Στοιχεία Οργανισμού'!$D$9)","v":8.1441154497225599E-6}]
[null,null,"Βενζίνη\n(Επιβατικό)",{"$f":"'Υπολογισμός Αν. Απ.'!Q54+'Υπολογισμός Αν. Απ.'!Q56","v":23.159620142120062},{"$f":"'Υπολογισμός Αν. Απ.'!N54+'Υπολογισμός Αν. Απ.'!N56","v":22.961577010542889},0,0,0,0,{"$f":"D135*'Γενικά Στοιχεία Οργανισμού'!$D$9/SUM('Γενικά Στοιχεία Οργανισμού'!$E$13:$E$24,'Γενικά Στοιχεία Οργανισμού'!$D$9)","v":9.2638480568480244},{"$f":"E135*'Γενικά Στοιχεία Οργανισμού'!$D$9/SUM('Γενικά Στοιχεία Οργανισμού'!$E$13:$E$24,'Γενικά Στοιχεία Οργανισμού'!$D$9)","v":9.1846308042171554},{"$f":"D135*'Γενικά Στοιχεία Οργανισμού'!$E$16/SUM('Γενικά Στοιχεία Οργανισμού'!$E$13:$E$24,'Γενικά Στοιχεία Οργανισμού'!$D$9)","v":1.0004955901395867},{"$f":"E135*'Γενικά Στοιχεία Οργανισμού'!$E$16/SUM('Γενικά Στοιχεία Οργανισμού'!$E$13:$E$24,'Γενικά Στοιχεία Οργανισμού'!$D$9)","v":0.99194012685545274},{"$f":"D135*'Γενικά Στοιχεία Οργανισμού'!$E$17/SUM('Γενικά Στοιχεία Οργανισμού'!$E$13:$E$24,'Γενικά Στοιχεία Οργανισμού'!$D$9)","v":1.7601311308011245},{"$f":"E135*'Γενικά Στοιχεία Οργανισμού'!$E$17/SUM('Γενικά Στοιχεία Οργανισμού'!$E$13:$E$24,'Γενικά Στοιχεία Οργανισμού'!$D$9)","v":1.7450798528012597},{"$f":"D135*'Γενικά Στοιχεία Οργανισμού'!$E$18/SUM('Γενικά Στοιχεία Οργανισμού'!$E$13:$E$24,'Γενικά Στοιχεία Οργανισμού'!$D$9)","v":1.074606374594371},{"$f":"E135*'Γενικά Στοιχεία Οργανισμού'!$E$18/SUM('Γενικά Στοιχεία Οργανισμού'!$E$13:$E$24,'Γενικά Στοιχεία Οργανισμού'!$D$9)","v":1.0654171732891899},{"$f":"D135*'Γενικά Στοιχεία Οργανισμού'!$E$19/SUM('Γενικά Στοιχεία Οργανισμού'!$E$13:$E$24,'Γενικά Στοιχεία Οργανισμού'!$D$9)","v":1.6674926502326446},{"$f":"E135*'Γενικά Στοιχεία Οργανισμού'!$E$19/SUM('Γενικά Στοιχεία Οργανισμού'!$E$13:$E$24,'Γενικά Στοιχεία Οργανισμού'!$D$9)","v":1.6532335447590882},{"$f":"D135*'Γενικά Στοιχεία Οργανισμού'!$E$20/SUM('Γενικά Στοιχεία Οργανισμού'!$E$13:$E$24,'Γενικά Στοιχεία Οργανισμού'!$D$9)","v":2.4456558870078786},{"$f":"E135*'Γενικά Στοιχεία Οργανισμού'!$E$20/SUM('Γενικά Στοιχεία Οργανισμού'!$E$13:$E$24,'Γενικά Στοιχεία Οργανισμού'!$D$9)","v":2.4247425323133291},{"$f":"D135*'Γενικά Στοιχεία Οργανισμού'!$E$21/SUM('Γενικά Στοιχεία Οργανισμού'!$E$13:$E$24,'Γενικά Στοιχεία Οργανισμού'!$D$9)","v":0.55583088341088149},{"$f":"E135*'Γενικά Στοιχεία Οργανισμού'!$E$21/SUM('Γενικά Στοιχεία Οργανισμού'!$E$13:$E$24,'Γενικά Στοιχεία Οργανισμού'!$D$9)","v":0.5510778482530293},{"$f":"D135*'Γενικά Στοιχεία Οργανισμού'!$E$22/SUM('Γενικά Στοιχεία Οργανισμού'!$E$13:$E$24,'Γενικά Στοιχεία Οργανισμού'!$D$9)","v":1.3895772085272038},{"$f":"E135*'Γενικά Στοιχεία Οργανισμού'!$E$22/SUM('Γενικά Στοιχεία Οργανισμού'!$E$13:$E$24,'Γενικά Στοιχεία Οργανισμού'!$D$9)","v":1.3776946206325735},{"$f":"D135*'Γενικά Στοιχεία Οργανισμού'!$E$23/SUM('Γενικά Στοιχεία Οργανισμού'!$E$13:$E$24,'Γενικά Στοιχεία Οργανισμού'!$D$9)","v":2.1677404453024378},{"$f":"E135*'Γενικά Στοιχεία Οργανισμού'!$E$23/SUM('Γενικά Στοιχεία Οργανισμού'!$E$13:$E$24,'Γενικά Στοιχεία Οργανισμού'!$D$9)","v":2.1492036081868142},{"$f":"D135*'Γενικά Στοιχεία Οργανισμού'!$E$24/SUM('Γενικά Στοιχεία Οργανισμού'!$E$13:$E$24,'Γενικά Στοιχεία Οργανισμού'!$D$9)","v":1.8342419152559091},{"$f":"E135*'Γενικά Στοιχεία Οργανισμού'!$E$24/SUM('Γενικά Στοιχεία Οργανισμού'!$E$13:$E$24,'Γενικά Στοιχεία Οργανισμού'!$D$9)","v":1.8185568992349967}]
[null,null,null,null,{"$f":"'Υπολογισμός Αν. Απ.'!O54+'Υπολογισμός Αν. Απ.'!O56","v":2.9273973420484651E-3},null,0,null,0,null,{"$f":"E136*'Γενικά Στοιχεία Οργανισμού'!$D$9/SUM('Γενικά Στοιχεία Οργανισμού'!$E$13:$E$24,'Γενικά Στοιχεία Οργανισμού'!$D$9)","v":1.1709589368193861E-3},null,{"$f":"E136*'Γενικά Στοιχεία Οργανισμού'!$E$16/SUM('Γενικά Στοιχεία Οργανισμού'!$E$13:$E$24,'Γενικά Στοιχεία Οργανισμού'!$D$9)","v":1.2646356517649368E-4},null,{"$f":"E136*'Γενικά Στοιχεία Οργανισμού'!$E$17/SUM('Γενικά Στοιχεία Οργανισμού'!$E$13:$E$24,'Γενικά Στοιχεία Οργανισμού'!$D$9)","v":2.2248219799568333E-4},null,{"$f":"E136*'Γενικά Στοιχεία Οργανισμού'!$E$18/SUM('Γενικά Στοιχεία Οργανισμού'!$E$13:$E$24,'Γενικά Στοιχεία Οργανισμού'!$D$9)","v":1.3583123667104877E-4},null,{"$f":"E136*'Γενικά Στοιχεία Οργανισμού'!$E$19/SUM('Γενικά Στοιχεία Οργανισμού'!$E$13:$E$24,'Γενικά Στοιχεία Οργανισμού'!$D$9)","v":2.1077260862748947E-4},null,{"$f":"E136*'Γενικά Στοιχεία Οργανισμού'!$E$20/SUM('Γενικά Στοιχεία Οργανισμού'!$E$13:$E$24,'Γενικά Στοιχεία Οργανισμού'!$D$9)","v":3.0913315932031791E-4},null,{"$f":"E136*'Γενικά Στοιχεία Οργανισμού'!$E$21/SUM('Γενικά Στοιχεία Οργανισμού'!$E$13:$E$24,'Γενικά Στοιχεία Οργανισμού'!$D$9)","v":7.025753620916316E-5},null,{"$f":"E136*'Γενικά Στοιχεία Οργανισμού'!$E$22/SUM('Γενικά Στοιχεία Οργανισμού'!$E$13:$E$24,'Γενικά Στοιχεία Οργανισμού'!$D$9)","v":1.7564384052290791E-4},null,{"$f":"E136*'Γενικά Στοιχεία Οργανισμού'!$E$23/SUM('Γενικά Στοιχεία Οργανισμού'!$E$13:$E$24,'Γενικά Στοιχεία Οργανισμού'!$D$9)","v":2.7400439121573635E-4},null,{"$f":"E136*'Γενικά Στοιχεία Οργανισμού'!$E$24/SUM('Γενικά Στοιχεία Οργανισμού'!$E$13:$E$24,'Γενικά Στοιχεία Οργανισμού'!$D$9)","v":2.3184986949023844E-4}]
[null,null,null,null,{"$f":"'Υπολογισμός Αν. Απ.'!P54+'Υπολογισμός Αν. Απ.'!P56","v":4.2625914188286007E-4},null,0,null,0,null,{"$f":"E137*'Γενικά Στοιχεία Οργανισμού'!$D$9/SUM('Γενικά Στοιχεία Οργανισμού'!$E$13:$E$24,'Γενικά Στοιχεία Οργανισμού'!$D$9)","v":1.7050365675314402E-4},null,{"$f":"E137*'Γενικά Στοιχεία Οργανισμού'!$E$16/SUM('Γενικά Στοιχεία Οργανισμού'!$E$13:$E$24,'Γενικά Στοιχεία Οργανισμού'!$D$9)","v":1.8414394929339557E-5},null,{"$f":"E137*'Γενικά Στοιχεία Οργανισμού'!$E$17/SUM('Γενικά Στοιχεία Οργανισμού'!$E$13:$E$24,'Γενικά Στοιχεία Οργανισμού'!$D$9)","v":3.2395694783097365E-5},null,{"$f":"E137*'Γενικά Στοιχεία Οργανισμού'!$E$18/SUM('Γενικά Στοιχεία Οργανισμού'!$E$13:$E$24,'Γενικά Στοιχεία Οργανισμού'!$D$9)","v":1.9778424183364706E-5},null,{"$f":"E137*'Γενικά Στοιχεία Οργανισμού'!$E$19/SUM('Γενικά Στοιχεία Οργανισμού'!$E$13:$E$24,'Γενικά Στοιχεία Οργανισμού'!$D$9)","v":3.0690658215565927E-5},null,{"$f":"E137*'Γενικά Στοιχεία Οργανισμού'!$E$20/SUM('Γενικά Στοιχεία Οργανισμού'!$E$13:$E$24,'Γενικά Στοιχεία Οργανισμού'!$D$9)","v":4.501296538283002E-5},null,{"$f":"E137*'Γενικά Στοιχεία Οργανισμού'!$E$21/SUM('Γενικά Στοιχεία Οργανισμού'!$E$13:$E$24,'Γενικά Στοιχεία Οργανισμού'!$D$9)","v":1.0230219405188642E-5},null,{"$f":"E137*'Γενικά Στοιχεία Οργανισμού'!$E$22/SUM('Γενικά Στοιχεία Οργανισμού'!$E$13:$E$24,'Γενικά Στοιχεία Οργανισμού'!$D$9)","v":2.5575548512971604E-5},null,{"$f":"E137*'Γενικά Στοιχεία Οργανισμού'!$E$23/SUM('Γενικά Στοιχεία Οργανισμού'!$E$13:$E$24,'Γενικά Στοιχεία Οργανισμού'!$D$9)","v":3.9897855680235707E-5},null,{"$f":"E137*'Γενικά Στοιχεία Οργανισμού'!$E$24/SUM('Γενικά Στοιχεία Οργανισμού'!$E$13:$E$24,'Γενικά Στοιχεία Οργανισμού'!$D$9)","v":3.375972403712252E-5}]
[null,null,"Πετρέλαιο Κίνησης\n(Τρένο)",{"$f":"'Υπολογισμός Αν. Απ.'!Q57+'Υπολογισμός Αν. Απ.'!Q58","v":0},{"$f":"'Υπολογισμός Αν. Απ.'!N57+'Υπολογισμός Αν. Απ.'!N58","v":0},0,0,0,0,{"$f":"D138*'Γενικά Στοιχεία Οργανισμού'!$D$9/SUM('Γενικά Στοιχεία Οργανισμού'!$E$13:$E$24,'Γενικά Στοιχεία Οργανισμού'!$D$9)","v":0},{"$f":"E138*'Γενικά Στοιχεία Οργανισμού'!$D$9/SUM('Γενικά Στοιχεία Οργανισμού'!$E$13:$E$24,'Γενικά Στοιχεία Οργανισμού'!$D$9)","v":0},{"$f":"D138*'Γενικά Στοιχεία Οργανισμού'!$E$16/SUM('Γενικά Στοιχεία Οργανισμού'!$E$13:$E$24,'Γενικά Στοιχεία Οργανισμού'!$D$9)","v":0},{"$f":"E138*'Γενικά Στοιχεία Οργανισμού'!$E$16/SUM('Γενικά Στοιχεία Οργανισμού'!$E$13:$E$24,'Γενικά Στοιχεία Οργανισμού'!$D$9)","v":0},{"$f":"D138*'Γενικά Στοιχεία Οργανισμού'!$E$17/SUM('Γενικά Στοιχεία Οργανισμού'!$E$13:$E$24,'Γενικά Στοιχεία Οργανισμού'!$D$9)","v":0},{"$f":"E138*'Γενικά Στοιχεία Οργανισμού'!$E$17/SUM('Γενικά Στοιχεία Οργανισμού'!$E$13:$E$24,'Γενικά Στοιχεία Οργανισμού'!$D$9)","v":0},{"$f":"D138*'Γενικά Στοιχεία Οργανισμού'!$E$18/SUM('Γενικά Στοιχεία Οργανισμού'!$E$13:$E$24,'Γενικά Στοιχεία Οργανισμού'!$D$9)","v":0},{"$f":"E138*'Γενικά Στοιχεία Οργανισμού'!$E$18/SUM('Γενικά Στοιχεία Οργανισμού'!$E$13:$E$24,'Γενικά Στοιχεία Οργανισμού'!$D$9)","v":0},{"$f":"D138*'Γενικά Στοιχεία Οργανισμού'!$E$19/SUM('Γενικά Στοιχεία Οργανισμού'!$E$13:$E$24,'Γενικά Στοιχεία Οργανισμού'!$D$9)","v":0},{"$f":"E138*'Γενικά Στοιχεία Οργανισμού'!$E$19/SUM('Γενικά Στοιχεία Οργανισμού'!$E$13:$E$24,'Γενικά Στοιχεία Οργανισμού'!$D$9)","v":0},{"$f":"D138*'Γενικά Στοιχεία Οργανισμού'!$E$20/SUM('Γενικά Στοιχεία Οργανισμού'!$E$13:$E$24,'Γενικά Στοιχεία Οργανισμού'!$D$9)","v":0},{"$f":"E138*'Γενικά Στοιχεία Οργανισμού'!$E$20/SUM('Γενικά Στοιχεία Οργανισμού'!$E$13:$E$24,'Γενικά Στοιχεία Οργανισμού'!$D$9)","v":0},{"$f":"D138*'Γενικά Στοιχεία Οργανισμού'!$E$21/SUM('Γενικά Στοιχεία Οργανισμού'!$E$13:$E$24,'Γενικά Στοιχεία Οργανισμού'!$D$9)","v":0},{"$f":"E138*'Γενικά Στοιχεία Οργανισμού'!$E$21/SUM('Γενικά Στοιχεία Οργανισμού'!$E$13:$E$24,'Γενικά Στοιχεία Οργανισμού'!$D$9)","v":0},{"$f":"D138*'Γενικά Στοιχεία Οργανισμού'!$E$22/SUM('Γενικά Στοιχεία Οργανισμού'!$E$13:$E$24,'Γενικά Στοιχεία Οργανισμού'!$D$9)","v":0},{"$f":"E138*'Γενικά Στοιχεία Οργανισμού'!$E$22/SUM('Γενικά Στοιχεία Οργανισμού'!$E$13:$E$24,'Γενικά Στοιχεία Οργανισμού'!$D$9)","v":0},{"$f":"D138*'Γενικά Στοιχεία Οργανισμού'!$E$23/SUM('Γενικά Στοιχεία Οργανισμού'!$E$13:$E$24,'Γενικά Στοιχεία Οργανισμού'!$D$9)","v":0},{"$f":"E138*'Γενικά Στοιχεία Οργανισμού'!$E$23/SUM('Γενικά Στοιχεία Οργανισμού'!$E$13:$E$24,'Γενικά Στοιχεία Οργανισμού'!$D$9)","v":0},{"$f":"D138*'Γενικά Στοιχεία Οργανισμού'!$E$24/SUM('Γενικά Στοιχεία Οργανισμού'!$E$13:$E$24,'Γενικά Στοιχεία Οργανισμού'!$D$9)","v":0},{"$f":"E138*'Γενικά Στοιχεία Οργανισμού'!$E$24/SUM('Γενικά Στοιχεία Οργανισμού'!$E$13:$E$24,'Γενικά Στοιχεία Οργανισμού'!$D$9)","v":0}]
[null,null,null,null,{"$f":"'Υπολογισμός Αν. Απ.'!O56+'Υπολογισμός Αν. Απ.'!O57","v":0},null,0,null,0,null,{"$f":"E139*'Γενικά Στοιχεία Οργανισμού'!$D$9/SUM('Γενικά Στοιχεία Οργανισμού'!$E$13:$E$24,'Γενικά Στοιχεία Οργανισμού'!$D$9)","v":0},null,{"$f":"E139*'Γενικά Στοιχεία Οργανισμού'!$E$16/SUM('Γενικά Στοιχεία Οργανισμού'!$E$13:$E$24,'Γενικά Στοιχεία Οργανισμού'!$D$9)","v":0},null,{"$f":"E139*'Γενικά Στοιχεία Οργανισμού'!$E$17/SUM('Γενικά Στοιχεία Οργανισμού'!$E$13:$E$24,'Γενικά Στοιχεία Οργανισμού'!$D$9)","v":0},null,{"$f":"E139*'Γενικά Στοιχεία Οργανισμού'!$E$18/SUM('Γενικά Στοιχεία Οργανισμού'!$E$13:$E$24,'Γενικά Στοιχεία Οργανισμού'!$D$9)","v":0},null,{"$f":"E139*'Γενικά Στοιχεία Οργανισμού'!$E$19/SUM('Γενικά Στοιχεία Οργανισμού'!$E$13:$E$24,'Γενικά Στοιχεία Οργανισμού'!$D$9)","v":0},null,{"$f":"E139*'Γενικά Στοιχεία Οργανισμού'!$E$20/SUM('Γενικά Στοιχεία Οργανισμού'!$E$13:$E$24,'Γενικά Στοιχεία Οργανισμού'!$D$9)","v":0},null,{"$f":"E139*'Γενικά Στοιχεία Οργανισμού'!$E$21/SUM('Γενικά Στοιχεία Οργανισμού'!$E$13:$E$24,'Γενικά Στοιχεία Οργανισμού'!$D$9)","v":0},null,{"$f":"E139*'Γενικά Στοιχεία Οργανισμού'!$E$22/SUM('Γενικά Στοιχεία Οργανισμού'!$E$13:$E$24,'Γενικά Στοιχεία Οργανισμού'!$D$9)","v":0},null,{"$f":"E139*'Γενικά Στοιχεία Οργανισμού'!$E$23/SUM('Γενικά Στοιχεία Οργανισμού'!$E$13:$E$24,'Γενικά Στοιχεία Οργανισμού'!$D$9)","v":0},null,{"$f":"E139*'Γενικά Στοιχεία Οργανισμού'!$E$24/SUM('Γενικά Στοιχεία Οργανισμού'!$E$13:$E$24,'Γενικά Στοιχεία Οργανισμού'!$D$9)","v":0}]
[null,null,null,null,{"$f":"'Υπολογισμός Αν. Απ.'!P56+'Υπολογισμός Αν. Απ.'!P57","v":0},null,0,null,0,null,{"$f":"E140*'Γενικά Στοιχεία Οργανισμού'!$D$9/SUM('Γενικά Στοιχεία Οργανισμού'!$E$13:$E$24,'Γενικά Στοιχεία Οργανισμού'!$D$9)","v":0},null,{"$f":"E140*'Γενικά Στοιχεία Οργανισμού'!$E$16/SUM('Γενικά Στοιχεία Οργανισμού'!$E$13:$E$24,'Γενικά Στοιχεία Οργανισμού'!$D$9)","v":0},null,{"$f":"E140*'Γενικά Στοιχεία Οργανισμού'!$E$17/SUM('Γενικά Στοιχεία Οργανισμού'!$E$13:$E$24,'Γενικά Στοιχεία Οργανισμού'!$D$9)","v":0},null,{"$f":"E140*'Γενικά Στοιχεία Οργανισμού'!$E$18/SUM('Γενικά Στοιχεία Οργανισμού'!$E$13:$E$24,'Γενικά Στοιχεία Οργανισμού'!$D$9)","v":0},null,{"$f":"E140*'Γενικά Στοιχεία Οργανισμού'!$E$19/SUM('Γενικά Στοιχεία Οργανισμού'!$E$13:$E$24,'Γενικά Στοιχεία Οργανισμού'!$D$9)","v":0},null,{"$f":"E140*'Γενικά Στοιχεία Οργανισμού'!$E$20/SUM('Γενικά Στοιχεία Οργανισμού'!$E$13:$E$24,'Γενικά Στοιχεία Οργανισμού'!$D$9)","v":0},null,{"$f":"E140*'Γενικά Στοιχεία Οργανισμού'!$E$21/SUM('Γενικά Στοιχεία Οργανισμού'!$E$13:$E$24,'Γενικά Στοιχεία Οργανισμού'!$D$9)","v":0},null,{"$f":"E140*'Γενικά Στοιχεία Οργανισμού'!$E$22/SUM('Γενικά Στοιχεία Οργανισμού'!$E$13:$E$24,'Γενικά Στοιχεία Οργανισμού'!$D$9)","v":0},null,{"$f":"E140*'Γενικά Στοιχεία Οργανισμού'!$E$23/SUM('Γενικά Στοιχεία Οργανισμού'!$E$13:$E$24,'Γενικά Στοιχεία Οργανισμού'!$D$9)","v":0},null,{"$f":"E140*'Γενικά Στοιχεία Οργανισμού'!$E$24/SUM('Γενικά Στοιχεία Οργανισμού'!$E$13:$E$24,'Γενικά Στοιχεία Οργανισμού'!$D$9)","v":0}]
[null,null,"Κηροζίνη\n(Αεροσκάφος)",{"$f":"'Υπολογισμός Αν. Απ.'!Q59+'Υπολογισμός Αν. Απ.'!Q60","v":485.93228941447802},{"$f":"'Υπολογισμός Αν. Απ.'!N59+'Υπολογισμός Αν. Απ.'!N60","v":482.283546730605},0,0,0,0,{"$f":"D141*'Γενικά Στοιχεία Οργανισμού'!$D$9/SUM('Γενικά Στοιχεία Οργανισμού'!$E$13:$E$24,'Γενικά Στοιχεία Οργανισμού'!$D$9)","v":194.37291576579119},{"$f":"E141*'Γενικά Στοιχεία Οργανισμού'!$D$9/SUM('Γενικά Στοιχεία Οργανισμού'!$E$13:$E$24,'Γενικά Στοιχεία Οργανισμού'!$D$9)","v":192.913418692242},{"$f":"D141*'Γενικά Στοιχεία Οργανισμού'!$E$16/SUM('Γενικά Στοιχεία Οργανισμού'!$E$13:$E$24,'Γενικά Στοιχεία Οργανισμού'!$D$9)","v":20.99227490270545},{"$f":"E141*'Γενικά Στοιχεία Οργανισμού'!$E$16/SUM('Γενικά Στοιχεία Οργανισμού'!$E$13:$E$24,'Γενικά Στοιχεία Οργανισμού'!$D$9)","v":20.834649218762138},{"$f":"D141*'Γενικά Στοιχεία Οργανισμού'!$E$17/SUM('Γενικά Στοιχεία Οργανισμού'!$E$13:$E$24,'Γενικά Στοιχεία Οργανισμού'!$D$9)","v":36.930853995500328},{"$f":"E141*'Γενικά Στοιχεία Οργανισμού'!$E$17/SUM('Γενικά Στοιχεία Οργανισμού'!$E$13:$E$24,'Γενικά Στοιχεία Οργανισμού'!$D$9)","v":36.653549551525977},{"$f":"D141*'Γενικά Στοιχεία Οργανισμού'!$E$18/SUM('Γενικά Στοιχεία Οργανισμού'!$E$13:$E$24,'Γενικά Στοιχεία Οργανισμού'!$D$9)","v":22.54725822883178},{"$f":"E141*'Γενικά Στοιχεία Οργανισμού'!$E$18/SUM('Γενικά Στοιχεία Οργανισμού'!$E$13:$E$24,'Γενικά Στοιχεία Οργανισμού'!$D$9)","v":22.377956568300071},{"$f":"D141*'Γενικά Στοιχεία Οργανισμού'!$E$19/SUM('Γενικά Στοιχεία Οργανισμού'!$E$13:$E$24,'Γενικά Στοιχεία Οργανισμού'!$D$9)","v":34.987124837842416},{"$f":"E141*'Γενικά Στοιχεία Οργανισμού'!$E$19/SUM('Γενικά Στοιχεία Οργανισμού'!$E$13:$E$24,'Γενικά Στοιχεία Οργανισμού'!$D$9)","v":34.724415364603558},{"$f":"D141*'Γενικά Στοιχεία Οργανισμού'!$E$20/SUM('Γενικά Στοιχεία Οργανισμού'!$E$13:$E$24,'Γενικά Στοιχεία Οργανισμού'!$D$9)","v":51.314449762168884},{"$f":"E141*'Γενικά Στοιχεία Οργανισμού'!$E$20/SUM('Γενικά Στοιχεία Οργανισμού'!$E$13:$E$24,'Γενικά Στοιχεία Οργανισμού'!$D$9)","v":50.92914253475189},{"$f":"D141*'Γενικά Στοιχεία Οργανισμού'!$E$21/SUM('Γενικά Στοιχεία Οργανισμού'!$E$13:$E$24,'Γενικά Στοιχεία Οργανισμού'!$D$9)","v":11.662374945947473},{"$f":"E141*'Γενικά Στοιχεία Οργανισμού'!$E$21/SUM('Γενικά Στοιχεία Οργανισμού'!$E$13:$E$24,'Γενικά Στοιχεία Οργανισμού'!$D$9)","v":11.574805121534521},{"$f":"D141*'Γενικά Στοιχεία Οργανισμού'!$E$22/SUM('Γενικά Στοιχεία Οργανισμού'!$E$13:$E$24,'Γενικά Στοιχεία Οργανισμού'!$D$9)","v":29.155937364868681},{"$f":"E141*'Γενικά Στοιχεία Οργανισμού'!$E$22/SUM('Γενικά Στοιχεία Οργανισμού'!$E$13:$E$24,'Γενικά Στοιχεία Οργανισμού'!$D$9)","v":28.9370128038363},{"$f":"D141*'Γενικά Στοιχεία Οργανισμού'!$E$23/SUM('Γενικά Στοιχεία Οργανισμού'!$E$13:$E$24,'Γενικά Στοιχεία Οργανισμού'!$D$9)","v":45.483262289195139},{"$f":"E141*'Γενικά Στοιχεία Οργανισμού'!$E$23/SUM('Γενικά Στοιχεία Οργανισμού'!$E$13:$E$24,'Γενικά Στοιχεία Οργανισμού'!$D$9)","v":45.141739973984627},{"$f":"D141*'Γενικά Στοιχεία Οργανισμού'!$E$24/SUM('Γενικά Στοιχεία Οργανισμού'!$E$13:$E$24,'Γενικά Στοιχεία Οργανισμού'!$D$9)","v":38.485837321626654},{"$f":"E141*'Γενικά Στοιχεία Οργανισμού'!$E$24/SUM('Γενικά Στοιχεία Οργανισμού'!$E$13:$E$24,'Γενικά Στοιχεία Οργανισμού'!$D$9)","v":38.196856901063917}]
[null,null,null,null,{"$f":"'Υπολογισμός Αν. Απ.'!O59+'Υπολογισμός Αν. Απ.'!O60","v":3.2580968692500004E-3},null,0,null,0,null,{"$f":"E142*'Γενικά Στοιχεία Οργανισμού'!$D$9/SUM('Γενικά Στοιχεία Οργανισμού'!$E$13:$E$24,'Γενικά Στοιχεία Οργανισμού'!$D$9)","v":1.3032387477000002E-3},null,{"$f":"E142*'Γενικά Στοιχεία Οργανισμού'!$E$16/SUM('Γενικά Στοιχεία Οργανισμού'!$E$13:$E$24,'Γενικά Στοιχεία Οργανισμού'!$D$9)","v":1.4074978475160004E-4},null,{"$f":"E142*'Γενικά Στοιχεία Οργανισμού'!$E$17/SUM('Γενικά Στοιχεία Οργανισμού'!$E$13:$E$24,'Γενικά Στοιχεία Οργανισμού'!$D$9)","v":2.4761536206300004E-4},null,{"$f":"E142*'Γενικά Στοιχεία Οργανισμού'!$E$18/SUM('Γενικά Στοιχεία Οργανισμού'!$E$13:$E$24,'Γενικά Στοιχεία Οργανισμού'!$D$9)","v":1.5117569473320001E-4},null,{"$f":"E142*'Γενικά Στοιχεία Οργανισμού'!$E$19/SUM('Γενικά Στοιχεία Οργανισμού'!$E$13:$E$24,'Γενικά Στοιχεία Οργανισμού'!$D$9)","v":2.3458297458600001E-4},null,{"$f":"E142*'Γενικά Στοιχεία Οργανισμού'!$E$20/SUM('Γενικά Στοιχεία Οργανισμού'!$E$13:$E$24,'Γενικά Στοιχεία Οργανισμού'!$D$9)","v":3.440550293928E-4},null,{"$f":"E142*'Γενικά Στοιχεία Οργανισμού'!$E$21/SUM('Γενικά Στοιχεία Οργανισμού'!$E$13:$E$24,'Γενικά Στοιχεία Οργανισμού'!$D$9)","v":7.8194324862000003E-5},null,{"$f":"E142*'Γενικά Στοιχεία Οργανισμού'!$E$22/SUM('Γενικά Στοιχεία Οργανισμού'!$E$13:$E$24,'Γενικά Στοιχεία Οργανισμού'!$D$9)","v":1.9548581215500003E-4},null,{"$f":"E142*'Γενικά Στοιχεία Οργανισμού'!$E$23/SUM('Γενικά Στοιχεία Οργανισμού'!$E$13:$E$24,'Γενικά Στοιχεία Οργανισμού'!$D$9)","v":3.0495786696180005E-4},null,{"$f":"E142*'Γενικά Στοιχεία Οργανισμού'!$E$24/SUM('Γενικά Στοιχεία Οργανισμού'!$E$13:$E$24,'Γενικά Στοιχεία Οργανισμού'!$D$9)","v":2.5804127204459999E-4}]
[null,null,null,null,{"$f":"'Υπολογισμός Αν. Απ.'!P59+'Υπολογισμός Αν. Απ.'!P60","v":1.3032387477000001E-2},null,0,null,0,null,{"$f":"E143*'Γενικά Στοιχεία Οργανισμού'!$D$9/SUM('Γενικά Στοιχεία Οργανισμού'!$E$13:$E$24,'Γενικά Στοιχεία Οργανισμού'!$D$9)","v":5.2129549908000007E-3},null,{"$f":"E143*'Γενικά Στοιχεία Οργανισμού'!$E$16/SUM('Γενικά Στοιχεία Οργανισμού'!$E$13:$E$24,'Γενικά Στοιχεία Οργανισμού'!$D$9)","v":5.6299913900640015E-4},null,{"$f":"E143*'Γενικά Στοιχεία Οργανισμού'!$E$17/SUM('Γενικά Στοιχεία Οργανισμού'!$E$13:$E$24,'Γενικά Στοιχεία Οργανισμού'!$D$9)","v":9.9046144825200018E-4},null,{"$f":"E143*'Γενικά Στοιχεία Οργανισμού'!$E$18/SUM('Γενικά Στοιχεία Οργανισμού'!$E$13:$E$24,'Γενικά Στοιχεία Οργανισμού'!$D$9)","v":6.0470277893280003E-4},null,{"$f":"E143*'Γενικά Στοιχεία Οργανισμού'!$E$19/SUM('Γενικά Στοιχεία Οργανισμού'!$E$13:$E$24,'Γενικά Στοιχεία Οργανισμού'!$D$9)","v":9.3833189834400003E-4},null,{"$f":"E143*'Γενικά Στοιχεία Οργανισμού'!$E$20/SUM('Γενικά Στοιχεία Οργανισμού'!$E$13:$E$24,'Γενικά Στοιχεία Οργανισμού'!$D$9)","v":1.3762201175712E-3},null,{"$f":"E143*'Γενικά Στοιχεία Οργανισμού'!$E$21/SUM('Γενικά Στοιχεία Οργανισμού'!$E$13:$E$24,'Γενικά Στοιχεία Οργανισμού'!$D$9)","v":3.1277729944800001E-4},null,{"$f":"E143*'Γενικά Στοιχεία Οργανισμού'!$E$22/SUM('Γενικά Στοιχεία Οργανισμού'!$E$13:$E$24,'Γενικά Στοιχεία Οργανισμού'!$D$9)","v":7.8194324862000013E-4},null,{"$f":"E143*'Γενικά Στοιχεία Οργανισμού'!$E$23/SUM('Γενικά Στοιχεία Οργανισμού'!$E$13:$E$24,'Γενικά Στοιχεία Οργανισμού'!$D$9)","v":1.2198314678472002E-3},null,{"$f":"E143*'Γενικά Στοιχεία Οργανισμού'!$E$24/SUM('Γενικά Στοιχεία Οργανισμού'!$E$13:$E$24,'Γενικά Στοιχεία Οργανισμού'!$D$9)","v":1.0321650881783999E-3}]
[null,null,"Ηλεκτρική Ενέργεια (Επιβατικό)",{"$f":"'Υπολογισμός Αν. Απ.'!Q61","v":0.11892127722080917},{"$f":"'Υπολογισμός Αν. Απ.'!N61","v":0.1187188794},0,0,0,0,{"$f":"D144*'Γενικά Στοιχεία Οργανισμού'!$D$9/SUM('Γενικά Στοιχεία Οργανισμού'!$E$13:$E$24,'Γενικά Στοιχεία Οργανισμού'!$D$9)","v":4.7568510888323666E-2},{"$f":"E144*'Γενικά Στοιχεία Οργανισμού'!$D$9/SUM('Γενικά Στοιχεία Οργανισμού'!$E$13:$E$24,'Γενικά Στοιχεία Οργανισμού'!$D$9)","v":4.7487551760000003E-2},{"$f":"D144*'Γενικά Στοιχεία Οργανισμού'!$E$16/SUM('Γενικά Στοιχεία Οργανισμού'!$E$13:$E$24,'Γενικά Στοιχεία Οργανισμού'!$D$9)","v":5.1373991759389561E-3},{"$f":"E144*'Γενικά Στοιχεία Οργανισμού'!$E$16/SUM('Γενικά Στοιχεία Οργανισμού'!$E$13:$E$24,'Γενικά Στοιχεία Οργανισμού'!$D$9)","v":5.1286555900800007E-3},{"$f":"D144*'Γενικά Στοιχεία Οργανισμού'!$E$17/SUM('Γενικά Στοιχεία Οργανισμού'!$E$13:$E$24,'Γενικά Στοιχεία Οργανισμού'!$D$9)","v":9.0380170687814967E-3},{"$f":"E144*'Γενικά Στοιχεία Οργανισμού'!$E$17/SUM('Γενικά Στοιχεία Οργανισμού'!$E$13:$E$24,'Γενικά Στοιχεία Οργανισμού'!$D$9)","v":9.0226348344000003E-3},{"$f":"D144*'Γενικά Στοιχεία Οργανισμού'!$E$18/SUM('Γενικά Στοιχεία Οργανισμού'!$E$13:$E$24,'Γενικά Στοιχεία Οργανισμού'!$D$9)","v":5.5179472630455459E-3},{"$f":"E144*'Γενικά Στοιχεία Οργανισμού'!$E$18/SUM('Γενικά Στοιχεία Οργανισμού'!$E$13:$E$24,'Γενικά Στοιχεία Οργανισμού'!$D$9)","v":5.5085560041600009E-3},{"$f":"D144*'Γενικά Στοιχεία Οργανισμού'!$E$19/SUM('Γενικά Στοιχεία Οργανισμού'!$E$13:$E$24,'Γενικά Στοιχεία Οργανισμού'!$D$9)","v":8.562331959898261E-3},{"$f":"E144*'Γενικά Στοιχεία Οργανισμού'!$E$19/SUM('Γενικά Στοιχεία Οργανισμού'!$E$13:$E$24,'Γενικά Στοιχεία Οργανισμού'!$D$9)","v":8.5477593167999997E-3},{"$f":"D144*'Γενικά Στοιχεία Οργανισμού'!$E$20/SUM('Γενικά Στοιχεία Οργανισμού'!$E$13:$E$24,'Γενικά Στοιχεία Οργανισμού'!$D$9)","v":1.2558086874517448E-2},{"$f":"E144*'Γενικά Στοιχεία Οργανισμού'!$E$20/SUM('Γενικά Στοιχεία Οργανισμού'!$E$13:$E$24,'Γενικά Στοιχεία Οργανισμού'!$D$9)","v":1.2536713664640001E-2},{"$f":"D144*'Γενικά Στοιχεία Οργανισμού'!$E$21/SUM('Γενικά Στοιχεία Οργανισμού'!$E$13:$E$24,'Γενικά Στοιχεία Οργανισμού'!$D$9)","v":2.8541106532994198E-3},{"$f":"E144*'Γενικά Στοιχεία Οργανισμού'!$E$21/SUM('Γενικά Στοιχεία Οργανισμού'!$E$13:$E$24,'Γενικά Στοιχεία Οργανισμού'!$D$9)","v":2.8492531056E-3},{"$f":"D144*'Γενικά Στοιχεία Οργανισμού'!$E$22/SUM('Γενικά Στοιχεία Οργανισμού'!$E$13:$E$24,'Γενικά Στοιχεία Οργανισμού'!$D$9)","v":7.1352766332485502E-3},{"$f":"E144*'Γενικά Στοιχεία Οργανισμού'!$E$22/SUM('Γενικά Στοιχεία Οργανισμού'!$E$13:$E$24,'Γενικά Στοιχεία Οργανισμού'!$D$9)","v":7.1231327640000003E-3},{"$f":"D144*'Γενικά Στοιχεία Οργανισμού'!$E$23/SUM('Γενικά Στοιχεία Οργανισμού'!$E$13:$E$24,'Γενικά Στοιχεία Οργανισμού'!$D$9)","v":1.1131031547867739E-2},{"$f":"E144*'Γενικά Στοιχεία Οργανισμού'!$E$23/SUM('Γενικά Στοιχεία Οργανισμού'!$E$13:$E$24,'Γενικά Στοιχεία Οργανισμού'!$D$9)","v":1.111208711184E-2},{"$f":"D144*'Γενικά Στοιχεία Οργανισμού'!$E$24/SUM('Γενικά Στοιχεία Οργανισμού'!$E$13:$E$24,'Γενικά Στοιχεία Οργανισμού'!$D$9)","v":9.4185651558880857E-3},{"$f":"E144*'Γενικά Στοιχεία Οργανισμού'!$E$24/SUM('Γενικά Στοιχεία Οργανισμού'!$E$13:$E$24,'Γενικά Στοιχεία Οργανισμού'!$D$9)","v":9.4025352484800005E-3}]
[null,null,null,null,{"$f":"'Υπολογισμός Αν. Απ.'!O61","v":1.4581316349599999E-6},null,0,null,0,null,{"$f":"E145*'Γενικά Στοιχεία Οργανισμού'!$D$9/SUM('Γενικά Στοιχεία Οργανισμού'!$E$13:$E$24,'Γενικά Στοιχεία Οργανισμού'!$D$9)","v":5.8325265398399995E-7},null,{"$f":"E145*'Γενικά Στοιχεία Οργανισμού'!$E$16/SUM('Γενικά Στοιχεία Οργανισμού'!$E$13:$E$24,'Γενικά Στοιχεία Οργανισμού'!$D$9)","v":6.2991286630271991E-8},null,{"$f":"E145*'Γενικά Στοιχεία Οργανισμού'!$E$17/SUM('Γενικά Στοιχεία Οργανισμού'!$E$13:$E$24,'Γενικά Στοιχεία Οργανισμού'!$D$9)","v":1.1081800425695999E-7},null,{"$f":"E145*'Γενικά Στοιχεία Οργανισμού'!$E$18/SUM('Γενικά Στοιχεία Οργανισμού'!$E$13:$E$24,'Γενικά Στοιχεία Οργανισμού'!$D$9)","v":6.7657307862143999E-8},null,{"$f":"E145*'Γενικά Στοιχεία Οργανισμού'!$E$19/SUM('Γενικά Στοιχεία Οργανισμού'!$E$13:$E$24,'Γενικά Στοιχεία Οργανισμού'!$D$9)","v":1.0498547771711998E-7},null,{"$f":"E145*'Γενικά Στοιχεία Οργανισμού'!$E$20/SUM('Γενικά Στοιχεία Οργανισμού'!$E$13:$E$24,'Γενικά Στοιχεία Οργανισμού'!$D$9)","v":1.5397870065177597E-7},null,{"$f":"E145*'Γενικά Στοιχεία Οργανισμού'!$E$21/SUM('Γενικά Στοιχεία Οργανισμού'!$E$13:$E$24,'Γενικά Στοιχεία Οργανισμού'!$D$9)","v":3.4995159239039995E-8},null,{"$f":"E145*'Γενικά Στοιχεία Οργανισμού'!$E$22/SUM('Γενικά Στοιχεία Οργανισμού'!$E$13:$E$24,'Γενικά Στοιχεία Οργανισμού'!$D$9)","v":8.748789809759999E-8},null,{"$f":"E145*'Γενικά Στοιχεία Οργανισμού'!$E$23/SUM('Γενικά Στοιχεία Οργανισμού'!$E$13:$E$24,'Γενικά Στοιχεία Οργανισμού'!$D$9)","v":1.3648112103225597E-7},null,{"$f":"E145*'Γενικά Στοιχεία Οργανισμού'!$E$24/SUM('Γενικά Στοιχεία Οργανισμού'!$E$13:$E$24,'Γενικά Στοιχεία Οργανισμού'!$D$9)","v":1.1548402548883199E-7}]
[null,null,null,null,{"$f":"'Υπολογισμός Αν. Απ.'!P61","v":5.9236611059999994E-7},null,0,null,0,null,{"$f":"E146*'Γενικά Στοιχεία Οργανισμού'!$D$9/SUM('Γενικά Στοιχεία Οργανισμού'!$E$13:$E$24,'Γενικά Στοιχεία Οργανισμού'!$D$9)","v":2.3694644423999999E-7},null,{"$f":"E146*'Γενικά Στοιχεία Οργανισμού'!$E$16/SUM('Γενικά Στοιχεία Οργανισμού'!$E$13:$E$24,'Γενικά Στοιχεία Οργανισμού'!$D$9)","v":2.5590215977919997E-8},null,{"$f":"E146*'Γενικά Στοιχεία Οργανισμού'!$E$17/SUM('Γενικά Στοιχεία Οργανισμού'!$E$13:$E$24,'Γενικά Στοιχεία Οργανισμού'!$D$9)","v":4.5019824405599999E-8},null,{"$f":"E146*'Γενικά Στοιχεία Οργανισμού'!$E$18/SUM('Γενικά Στοιχεία Οργανισμού'!$E$13:$E$24,'Γενικά Στοιχεία Οργανισμού'!$D$9)","v":2.748578753184E-8},null,{"$f":"E146*'Γενικά Στοιχεία Οργανισμού'!$E$19/SUM('Γενικά Στοιχεία Οργανισμού'!$E$13:$E$24,'Γενικά Στοιχεία Οργανισμού'!$D$9)","v":4.2650359963199996E-8},null,{"$f":"E146*'Γενικά Στοιχεία Οργανισμού'!$E$20/SUM('Γενικά Στοιχεία Οργανισμού'!$E$13:$E$24,'Γενικά Στοιχεία Οργανισμού'!$D$9)","v":6.2553861279359993E-8},null,{"$f":"E146*'Γενικά Στοιχεία Οργανισμού'!$E$21/SUM('Γενικά Στοιχεία Οργανισμού'!$E$13:$E$24,'Γενικά Στοιχεία Οργανισμού'!$D$9)","v":1.4216786654399997E-8},null,{"$f":"E146*'Γενικά Στοιχεία Οργανισμού'!$E$22/SUM('Γενικά Στοιχεία Οργανισμού'!$E$13:$E$24,'Γενικά Στοιχεία Οργανισμού'!$D$9)","v":3.5541966635999993E-8},null,{"$f":"E146*'Γενικά Στοιχεία Οργανισμού'!$E$23/SUM('Γενικά Στοιχεία Οργανισμού'!$E$13:$E$24,'Γενικά Στοιχεία Οργανισμού'!$D$9)","v":5.5445467952159991E-8},null,{"$f":"E146*'Γενικά Στοιχεία Οργανισμού'!$E$24/SUM('Γενικά Στοιχεία Οργανισμού'!$E$13:$E$24,'Γενικά Στοιχεία Οργανισμού'!$D$9)","v":4.6915395959519992E-8}]
[null,null,"Ηλεκτρική Ενέργεια\n(Τρένο)",{"$f":"'Υπολογισμός Αν. Απ.'!Q63","v":0},{"$f":"'Υπολογισμός Αν. Απ.'!N63","v":0},0,0,0,0,{"$f":"D147*'Γενικά Στοιχεία Οργανισμού'!$D$9/SUM('Γενικά Στοιχεία Οργανισμού'!$E$13:$E$24,'Γενικά Στοιχεία Οργανισμού'!$D$9)","v":0},{"$f":"E147*'Γενικά Στοιχεία Οργανισμού'!$D$9/SUM('Γενικά Στοιχεία Οργανισμού'!$E$13:$E$24,'Γενικά Στοιχεία Οργανισμού'!$D$9)","v":0},{"$f":"D147*'Γενικά Στοιχεία Οργανισμού'!$E$16/SUM('Γενικά Στοιχεία Οργανισμού'!$E$13:$E$24,'Γενικά Στοιχεία Οργανισμού'!$D$9)","v":0},{"$f":"E147*'Γενικά Στοιχεία Οργανισμού'!$E$16/SUM('Γενικά Στοιχεία Οργανισμού'!$E$13:$E$24,'Γενικά Στοιχεία Οργανισμού'!$D$9)","v":0},{"$f":"D147*'Γενικά Στοιχεία Οργανισμού'!$E$17/SUM('Γενικά Στοιχεία Οργανισμού'!$E$13:$E$24,'Γενικά Στοιχεία Οργανισμού'!$D$9)","v":0},{"$f":"E147*'Γενικά Στοιχεία Οργανισμού'!$E$17/SUM('Γενικά Στοιχεία Οργανισμού'!$E$13:$E$24,'Γενικά Στοιχεία Οργανισμού'!$D$9)","v":0},{"$f":"D147*'Γενικά Στοιχεία Οργανισμού'!$E$18/SUM('Γενικά Στοιχεία Οργανισμού'!$E$13:$E$24,'Γενικά Στοιχεία Οργανισμού'!$D$9)","v":0},{"$f":"E147*'Γενικά Στοιχεία Οργανισμού'!$E$18/SUM('Γενικά Στοιχεία Οργανισμού'!$E$13:$E$24,'Γενικά Στοιχεία Οργανισμού'!$D$9)","v":0},{"$f":"D147*'Γενικά Στοιχεία Οργανισμού'!$E$19/SUM('Γενικά Στοιχεία Οργανισμού'!$E$13:$E$24,'Γενικά Στοιχεία Οργανισμού'!$D$9)","v":0},{"$f":"E147*'Γενικά Στοιχεία Οργανισμού'!$E$19/SUM('Γενικά Στοιχεία Οργανισμού'!$E$13:$E$24,'Γενικά Στοιχεία Οργανισμού'!$D$9)","v":0},{"$f":"D147*'Γενικά Στοιχεία Οργανισμού'!$E$20/SUM('Γενικά Στοιχεία Οργανισμού'!$E$13:$E$24,'Γενικά Στοιχεία Οργανισμού'!$D$9)","v":0},{"$f":"E147*'Γενικά Στοιχεία Οργανισμού'!$E$20/SUM('Γενικά Στοιχεία Οργανισμού'!$E$13:$E$24,'Γενικά Στοιχεία Οργανισμού'!$D$9)","v":0},{"$f":"D147*'Γενικά Στοιχεία Οργανισμού'!$E$21/SUM('Γενικά Στοιχεία Οργανισμού'!$E$13:$E$24,'Γενικά Στοιχεία Οργανισμού'!$D$9)","v":0},{"$f":"E147*'Γενικά Στοιχεία Οργανισμού'!$E$21/SUM('Γενικά Στοιχεία Οργανισμού'!$E$13:$E$24,'Γενικά Στοιχεία Οργανισμού'!$D$9)","v":0},{"$f":"D147*'Γενικά Στοιχεία Οργανισμού'!$E$22/SUM('Γενικά Στοιχεία Οργανισμού'!$E$13:$E$24,'Γενικά Στοιχεία Οργανισμού'!$D$9)","v":0},{"$f":"E147*'Γενικά Στοιχεία Οργανισμού'!$E$22/SUM('Γενικά Στοιχεία Οργανισμού'!$E$13:$E$24,'Γενικά Στοιχεία Οργανισμού'!$D$9)","v":0},{"$f":"D147*'Γενικά Στοιχεία Οργανισμού'!$E$23/SUM('Γενικά Στοιχεία Οργανισμού'!$E$13:$E$24,'Γενικά Στοιχεία Οργανισμού'!$D$9)","v":0},{"$f":"E147*'Γενικά Στοιχεία Οργανισμού'!$E$23/SUM('Γενικά Στοιχεία Οργανισμού'!$E$13:$E$24,'Γενικά Στοιχεία Οργανισμού'!$D$9)","v":0},{"$f":"D147*'Γενικά Στοιχεία Οργανισμού'!$E$24/SUM('Γενικά Στοιχεία Οργανισμού'!$E$13:$E$24,'Γενικά Στοιχεία Οργανισμού'!$D$9)","v":0},{"$f":"E147*'Γενικά Στοιχεία Οργανισμού'!$E$24/SUM('Γενικά Στοιχεία Οργανισμού'!$E$13:$E$24,'Γενικά Στοιχεία Οργανισμού'!$D$9)","v":0}]
[null,null,null,null,{"$f":"'Υπολογισμός Αν. Απ.'!O63","v":0},null,0,null,0,null,{"$f":"E148*'Γενικά Στοιχεία Οργανισμού'!$D$9/SUM('Γενικά Στοιχεία Οργανισμού'!$E$13:$E$24,'Γενικά Στοιχεία Οργανισμού'!$D$9)","v":0},null,{"$f":"E148*'Γενικά Στοιχεία Οργανισμού'!$E$16/SUM('Γενικά Στοιχεία Οργανισμού'!$E$13:$E$24,'Γενικά Στοιχεία Οργανισμού'!$D$9)","v":0},null,{"$f":"E148*'Γενικά Στοιχεία Οργανισμού'!$E$17/SUM('Γενικά Στοιχεία Οργανισμού'!$E$13:$E$24,'Γενικά Στοιχεία Οργανισμού'!$D$9)","v":0},null,{"$f":"E148*'Γενικά Στοιχεία Οργανισμού'!$E$18/SUM('Γενικά Στοιχεία Οργανισμού'!$E$13:$E$24,'Γενικά Στοιχεία Οργανισμού'!$D$9)","v":0},null,{"$f":"E148*'Γενικά Στοιχεία Οργανισμού'!$E$19/SUM('Γενικά Στοιχεία Οργανισμού'!$E$13:$E$24,'Γενικά Στοιχεία Οργανισμού'!$D$9)","v":0},null,{"$f":"E148*'Γενικά Στοιχεία Οργανισμού'!$E$20/SUM('Γενικά Στοιχεία Οργανισμού'!$E$13:$E$24,'Γενικά Στοιχεία Οργανισμού'!$D$9)","v":0},null,{"$f":"E148*'Γενικά Στοιχεία Οργανισμού'!$E$21/SUM('Γενικά Στοιχεία Οργανισμού'!$E$13:$E$24,'Γενικά Στοιχεία Οργανισμού'!$D$9)","v":0},null,{"$f":"E148*'Γενικά Στοιχεία Οργανισμού'!$E$22/SUM('Γενικά Στοιχεία Οργανισμού'!$E$13:$E$24,'Γενικά Στοιχεία Οργανισμού'!$D$9)","v":0},null,{"$f":"E148*'Γενικά Στοιχεία Οργανισμού'!$E$23/SUM('Γενικά Στοιχεία Οργανισμού'!$E$13:$E$24,'Γενικά Στοιχεία Οργανισμού'!$D$9)","v":0},null,{"$f":"E148*'Γενικά Στοιχεία Οργανισμού'!$E$24/SUM('Γενικά Στοιχεία Οργανισμού'!$E$13:$E$24,'Γενικά Στοιχεία Οργανισμού'!$D$9)","v":0}]
[null,null,null,null,{"$f":"'Υπολογισμός Αν. Απ.'!P63","v":0},null,0,null,0,null,{"$f":"E149*'Γενικά Στοιχεία Οργανισμού'!$D$9/SUM('Γενικά Στοιχεία Οργανισμού'!$E$13:$E$24,'Γενικά Στοιχεία Οργανισμού'!$D$9)","v":0},null,{"$f":"E149*'Γενικά Στοιχεία Οργανισμού'!$E$16/SUM('Γενικά Στοιχεία Οργανισμού'!$E$13:$E$24,'Γενικά Στοιχεία Οργανισμού'!$D$9)","v":0},null,{"$f":"E149*'Γενικά Στοιχεία Οργανισμού'!$E$17/SUM('Γενικά Στοιχεία Οργανισμού'!$E$13:$E$24,'Γενικά Στοιχεία Οργανισμού'!$D$9)","v":0},null,{"$f":"E149*'Γενικά Στοιχεία Οργανισμού'!$E$18/SUM('Γενικά Στοιχεία Οργανισμού'!$E$13:$E$24,'Γενικά Στοιχεία Οργανισμού'!$D$9)","v":0},null,{"$f":"E149*'Γενικά Στοιχεία Οργανισμού'!$E$19/SUM('Γενικά Στοιχεία Οργανισμού'!$E$13:$E$24,'Γενικά Στοιχεία Οργανισμού'!$D$9)","v":0},null,{"$f":"E149*'Γενικά Στοιχεία Οργανισμού'!$E$20/SUM('Γενικά Στοιχεία Οργανισμού'!$E$13:$E$24,'Γενικά Στοιχεία Οργανισμού'!$D$9)","v":0},null,{"$f":"E149*'Γενικά Στοιχεία Οργανισμού'!$E$21/SUM('Γενικά Στοιχεία Οργανισμού'!$E$13:$E$24,'Γενικά Στοιχεία Οργανισμού'!$D$9)","v":0},null,{"$f":"E149*'Γενικά Στοιχεία Οργανισμού'!$E$22/SUM('Γενικά Στοιχεία Οργανισμού'!$E$13:$E$24,'Γενικά Στοιχεία Οργανισμού'!$D$9)","v":0},null,{"$f":"E149*'Γενικά Στοιχεία Οργανισμού'!$E$23/SUM('Γενικά Στοιχεία Οργανισμού'!$E$13:$E$24,'Γενικά Στοιχεία Οργανισμού'!$D$9)","v":0},null,{"$f":"E149*'Γενικά Στοιχεία Οργανισμού'!$E$24/SUM('Γενικά Στοιχεία Οργανισμού'!$E$13:$E$24,'Γενικά Στοιχεία Οργανισμού'!$D$9)","v":0}]
[null,null,"Τελική Διάθεση Στερεών Αποβλήτων",{"$f":"'Υπολογισμός Αν. Απ.'!J68","v":82.360408284000002},0,0,0,0,0,{"$f":"D150*'Γενικά Στοιχεία Οργανισμού'!$D$9/SUM('Γενικά Στοιχεία Οργανισμού'!$E$13:$E$24,'Γενικά Στοιχεία Οργανισμού'!$D$9,'Γενικά Στοιχεία Οργανισμού'!$D$13:$D$24)","v":5.846969209427801},{"$f":"E150*'Γενικά Στοιχεία Οργανισμού'!$D$9/SUM('Γενικά Στοιχεία Οργανισμού'!$E$13:$E$24,'Γενικά Στοιχεία Οργανισμού'!$D$9,'Γενικά Στοιχεία Οργανισμού'!$D$13:$D$24)","v":0},{"$f":"D150*('Γενικά Στοιχεία Οργανισμού'!$E$16+'Γενικά Στοιχεία Οργανισμού'!$D$16)/SUM('Γενικά Στοιχεία Οργανισμού'!$E$13:$E$24,'Γενικά Στοιχεία Οργανισμού'!$D$9,'Γενικά Στοιχεία Οργανισμού'!$D$13:$D$24)","v":6.1393176698991914},{"$f":"E150*('Γενικά Στοιχεία Οργανισμού'!$E$16+'Γενικά Στοιχεία Οργανισμού'!$D$16)/SUM('Γενικά Στοιχεία Οργανισμού'!$E$13:$E$24,'Γενικά Στοιχεία Οργανισμού'!$D$9,'Γενικά Στοιχεία Οργανισμού'!$D$13:$D$24)","v":0},{"$f":"D150*('Γενικά Στοιχεία Οργανισμού'!$E$17+'Γενικά Στοιχεία Οργανισμού'!$D$17)/SUM('Γενικά Στοιχεία Οργανισμού'!$E$13:$E$24,'Γενικά Στοιχεία Οργανισμού'!$D$9,'Γενικά Στοιχεία Οργανισμού'!$D$13:$D$24)","v":6.6772388371665485},{"$f":"E150*('Γενικά Στοιχεία Οργανισμού'!$E$17+'Γενικά Στοιχεία Οργανισμού'!$D$17)/SUM('Γενικά Στοιχεία Οργανισμού'!$E$13:$E$24,'Γενικά Στοιχεία Οργανισμού'!$D$9,'Γενικά Στοιχεία Οργανισμού'!$D$13:$D$24)","v":0},{"$f":"D150*('Γενικά Στοιχεία Οργανισμού'!$E$18+'Γενικά Στοιχεία Οργανισμού'!$D$18)/SUM('Γενικά Στοιχεία Οργανισμού'!$E$13:$E$24,'Γενικά Στοιχεία Οργανισμού'!$D$9,'Γενικά Στοιχεία Οργανισμού'!$D$13:$D$24)","v":9.6241113187181604},{"$f":"E150*('Γενικά Στοιχεία Οργανισμού'!$E$18+'Γενικά Στοιχεία Οργανισμού'!$D$18)/SUM('Γενικά Στοιχεία Οργανισμού'!$E$13:$E$24,'Γενικά Στοιχεία Οργανισμού'!$D$9,'Γενικά Στοιχεία Οργανισμού'!$D$13:$D$24)","v":0},{"$f":"D150*('Γενικά Στοιχεία Οργανισμού'!$E$19+'Γενικά Στοιχεία Οργανισμού'!$D$19)/SUM('Γενικά Στοιχεία Οργανισμού'!$E$13:$E$24,'Γενικά Στοιχεία Οργανισμού'!$D$9,'Γενικά Στοιχεία Οργανισμού'!$D$13:$D$24)","v":15.588019912334516},{"$f":"E150*('Γενικά Στοιχεία Οργανισμού'!$E$19+'Γενικά Στοιχεία Οργανισμού'!$D$19)/SUM('Γενικά Στοιχεία Οργανισμού'!$E$13:$E$24,'Γενικά Στοιχεία Οργανισμού'!$D$9,'Γενικά Στοιχεία Οργανισμού'!$D$13:$D$24)","v":0},{"$f":"D150*('Γενικά Στοιχεία Οργανισμού'!$E$20+'Γενικά Στοιχεία Οργανισμού'!$D$20)/SUM('Γενικά Στοιχεία Οργανισμού'!$E$13:$E$24,'Γενικά Στοιχεία Οργανισμού'!$D$9,'Γενικά Στοιχεία Οργανισμού'!$D$13:$D$24)","v":7.3905690807167401},{"$f":"E150*('Γενικά Στοιχεία Οργανισμού'!$E$20+'Γενικά Στοιχεία Οργανισμού'!$D$20)/SUM('Γενικά Στοιχεία Οργανισμού'!$E$13:$E$24,'Γενικά Στοιχεία Οργανισμού'!$D$9,'Γενικά Στοιχεία Οργανισμού'!$D$13:$D$24)","v":0},{"$f":"D150*('Γενικά Στοιχεία Οργανισμού'!$E$21+'Γενικά Στοιχεία Οργανισμού'!$D$21)/SUM('Γενικά Στοιχεία Οργανισμού'!$E$13:$E$24,'Γενικά Στοιχεία Οργανισμού'!$D$9,'Γενικά Στοιχεία Οργανισμού'!$D$13:$D$24)","v":7.6829175411881305},{"$f":"E150*('Γενικά Στοιχεία Οργανισμού'!$E$21+'Γενικά Στοιχεία Οργανισμού'!$D$21)/SUM('Γενικά Στοιχεία Οργανισμού'!$E$13:$E$24,'Γενικά Στοιχεία Οργανισμού'!$D$9,'Γενικά Στοιχεία Οργανισμού'!$D$13:$D$24)","v":0},{"$f":"D150*('Γενικά Στοιχεία Οργανισμού'!$E$22+'Γενικά Στοιχεία Οργανισμού'!$D$22)/SUM('Γενικά Στοιχεία Οργανισμού'!$E$13:$E$24,'Γενικά Στοιχεία Οργανισμού'!$D$9,'Γενικά Στοιχεία Οργανισμού'!$D$13:$D$24)","v":6.4433600687894357},{"$f":"E150*('Γενικά Στοιχεία Οργανισμού'!$E$22+'Γενικά Στοιχεία Οργανισμού'!$D$22)/SUM('Γενικά Στοιχεία Οργανισμού'!$E$13:$E$24,'Γενικά Στοιχεία Οργανισμού'!$D$9,'Γενικά Στοιχεία Οργανισμού'!$D$13:$D$24)","v":0},{"$f":"D150*('Γενικά Στοιχεία Οργανισμού'!$E$23+'Γενικά Στοιχεία Οργανισμού'!$D$23)/SUM('Γενικά Στοιχεία Οργανισμού'!$E$13:$E$24,'Γενικά Στοιχεία Οργανισμού'!$D$9,'Γενικά Στοιχεία Οργανισμού'!$D$13:$D$24)","v":8.7002901836285673},{"$f":"E150*('Γενικά Στοιχεία Οργανισμού'!$E$23+'Γενικά Στοιχεία Οργανισμού'!$D$23)/SUM('Γενικά Στοιχεία Οργανισμού'!$E$13:$E$24,'Γενικά Στοιχεία Οργανισμού'!$D$9,'Γενικά Στοιχεία Οργανισμού'!$D$13:$D$24)","v":0},{"$f":"D150*('Γενικά Στοιχεία Οργανισμού'!$E$24+'Γενικά Στοιχεία Οργανισμού'!$D$24)/SUM('Γενικά Στοιχεία Οργανισμού'!$E$13:$E$24,'Γενικά Στοιχεία Οργανισμού'!$D$9,'Γενικά Στοιχεία Οργανισμού'!$D$13:$D$24)","v":8.2676144621309096},{"$f":"E150*('Γενικά Στοιχεία Οργανισμού'!$E$24+'Γενικά Στοιχεία Οργανισμού'!$D$24)/SUM('Γενικά Στοιχεία Οργανισμού'!$E$13:$E$24,'Γενικά Στοιχεία Οργανισμού'!$D$9,'Γενικά Στοιχεία Οργανισμού'!$D$13:$D$24)","v":0}]
[null,null,null,null,{"$f":"'Υπολογισμός Αν. Απ.'!I68","v":2.95198596},null,0,null,0,null,{"$f":"E151*'Γενικά Στοιχεία Οργανισμού'!$D$9/SUM('Γενικά Στοιχεία Οργανισμού'!$E$13:$E$24,'Γενικά Στοιχεία Οργανισμού'!$D$9,'Γενικά Στοιχεία Οργανισμού'!$D$13:$D$24)","v":0.20956878886837996},null,{"$f":"E151*('Γενικά Στοιχεία Οργανισμού'!$E$16+'Γενικά Στοιχεία Οργανισμού'!$D$16)/SUM('Γενικά Στοιχεία Οργανισμού'!$E$13:$E$24,'Γενικά Στοιχεία Οργανισμού'!$D$9,'Γενικά Στοιχεία Οργανισμού'!$D$13:$D$24)","v":0.22004722831179896},null,{"$f":"E151*('Γενικά Στοιχεία Οργανισμού'!$E$17+'Γενικά Στοιχεία Οργανισμού'!$D$17)/SUM('Γενικά Στοιχεία Οργανισμού'!$E$13:$E$24,'Γενικά Στοιχεία Οργανισμού'!$D$9,'Γενικά Στοιχεία Οργανισμού'!$D$13:$D$24)","v":0.23932755688768992},null,{"$f":"E151*('Γενικά Στοιχεία Οργανισμού'!$E$18+'Γενικά Στοιχεία Οργανισμού'!$D$18)/SUM('Γενικά Στοιχεία Οργανισμού'!$E$13:$E$24,'Γενικά Στοιχεία Οργανισμού'!$D$9,'Γενικά Στοιχεία Οργανισμού'!$D$13:$D$24)","v":0.34495022647735341},null,{"$f":"E151*('Γενικά Στοιχεία Οργανισμού'!$E$19+'Γενικά Στοιχεία Οργανισμού'!$D$19)/SUM('Γενικά Στοιχεία Οργανισμού'!$E$13:$E$24,'Γενικά Στοιχεία Οργανισμού'!$D$9,'Γενικά Στοιχεία Οργανισμού'!$D$13:$D$24)","v":0.55871039112310095},null,{"$f":"E151*('Γενικά Στοιχεία Οργανισμού'!$E$20+'Γενικά Στοιχεία Οργανισμού'!$D$20)/SUM('Γενικά Στοιχεία Οργανισμού'!$E$13:$E$24,'Γενικά Στοιχεία Οργανισμού'!$D$9,'Γενικά Στοιχεία Οργανισμού'!$D$13:$D$24)","v":0.26489494912963224},null,{"$f":"E151*('Γενικά Στοιχεία Οργανισμού'!$E$21+'Γενικά Στοιχεία Οργανισμού'!$D$21)/SUM('Γενικά Στοιχεία Οργανισμού'!$E$13:$E$24,'Γενικά Στοιχεία Οργανισμού'!$D$9,'Γενικά Στοιχεία Οργανισμού'!$D$13:$D$24)","v":0.27537338857305127},null,{"$f":"E151*('Γενικά Στοιχεία Οργανισμού'!$E$22+'Γενικά Στοιχεία Οργανισμού'!$D$22)/SUM('Γενικά Στοιχεία Οργανισμού'!$E$13:$E$24,'Γενικά Στοιχεία Οργανισμού'!$D$9,'Γενικά Στοιχεία Οργανισμού'!$D$13:$D$24)","v":0.23094480533295472},null,{"$f":"E151*('Γενικά Στοιχεία Οργανισμού'!$E$23+'Γενικά Στοιχεία Οργανισμού'!$D$23)/SUM('Γενικά Στοιχεία Οργανισμού'!$E$13:$E$24,'Γενικά Στοιχεία Οργανισμού'!$D$9,'Γενικά Στοιχεία Οργανισμού'!$D$13:$D$24)","v":0.31183835783614938},null,{"$f":"E151*('Γενικά Στοιχεία Οργανισμού'!$E$24+'Γενικά Στοιχεία Οργανισμού'!$D$24)/SUM('Γενικά Στοιχεία Οργανισμού'!$E$13:$E$24,'Γενικά Στοιχεία Οργανισμού'!$D$9,'Γενικά Στοιχεία Οργανισμού'!$D$13:$D$24)","v":0.29633026745988922}]
[null,null,null,null,0,null,0,null,0,null,{"$f":"E152*'Γενικά Στοιχεία Οργανισμού'!$D$9/SUM('Γενικά Στοιχεία Οργανισμού'!$E$13:$E$24,'Γενικά Στοιχεία Οργανισμού'!$D$9,'Γενικά Στοιχεία Οργανισμού'!$D$13:$D$24)","v":0},null,{"$f":"E152*('Γενικά Στοιχεία Οργανισμού'!$E$16+'Γενικά Στοιχεία Οργανισμού'!$D$16)/SUM('Γενικά Στοιχεία Οργανισμού'!$E$13:$E$24,'Γενικά Στοιχεία Οργανισμού'!$D$9,'Γενικά Στοιχεία Οργανισμού'!$D$13:$D$24)","v":0},null,{"$f":"E152*('Γενικά Στοιχεία Οργανισμού'!$E$17+'Γενικά Στοιχεία Οργανισμού'!$D$17)/SUM('Γενικά Στοιχεία Οργανισμού'!$E$13:$E$24,'Γενικά Στοιχεία Οργανισμού'!$D$9,'Γενικά Στοιχεία Οργανισμού'!$D$13:$D$24)","v":0},null,{"$f":"E152*('Γενικά Στοιχεία Οργανισμού'!$E$18+'Γενικά Στοιχεία Οργανισμού'!$D$18)/SUM('Γενικά Στοιχεία Οργανισμού'!$E$13:$E$24,'Γενικά Στοιχεία Οργανισμού'!$D$9,'Γενικά Στοιχεία Οργανισμού'!$D$13:$D$24)","v":0},null,{"$f":"E152*('Γενικά Στοιχεία Οργανισμού'!$E$19+'Γενικά Στοιχεία Οργανισμού'!$D$19)/SUM('Γενικά Στοιχεία Οργανισμού'!$E$13:$E$24,'Γενικά Στοιχεία Οργανισμού'!$D$9,'Γενικά Στοιχεία Οργανισμού'!$D$13:$D$24)","v":0},null,{"$f":"E152*('Γενικά Στοιχεία Οργανισμού'!$E$20+'Γενικά Στοιχεία Οργανισμού'!$D$20)/SUM('Γενικά Στοιχεία Οργανισμού'!$E$13:$E$24,'Γενικά Στοιχεία Οργανισμού'!$D$9,'Γενικά Στοιχεία Οργανισμού'!$D$13:$D$24)","v":0},null,{"$f":"E152*('Γενικά Στοιχεία Οργανισμού'!$E$21+'Γενικά Στοιχεία Οργανισμού'!$D$21)/SUM('Γενικά Στοιχεία Οργανισμού'!$E$13:$E$24,'Γενικά Στοιχεία Οργανισμού'!$D$9,'Γενικά Στοιχεία Οργανισμού'!$D$13:$D$24)","v":0},null,{"$f":"E152*('Γενικά Στοιχεία Οργανισμού'!$E$22+'Γενικά Στοιχεία Οργανισμού'!$D$22)/SUM('Γενικά Στοιχεία Οργανισμού'!$E$13:$E$24,'Γενικά Στοιχεία Οργανισμού'!$D$9,'Γενικά Στοιχεία Οργανισμού'!$D$13:$D$24)","v":0},null,{"$f":"E152*('Γενικά Στοιχεία Οργανισμού'!$E$23+'Γενικά Στοιχεία Οργανισμού'!$D$23)/SUM('Γενικά Στοιχεία Οργανισμού'!$E$13:$E$24,'Γενικά Στοιχεία Οργανισμού'!$D$9,'Γενικά Στοιχεία Οργανισμού'!$D$13:$D$24)","v":0},null,{"$f":"E152*('Γενικά Στοιχεία Οργανισμού'!$E$24+'Γενικά Στοιχεία Οργανισμού'!$D$24)/SUM('Γενικά Στοιχεία Οργανισμού'!$E$13:$E$24,'Γενικά Στοιχεία Οργανισμού'!$D$9,'Γενικά Στοιχεία Οργανισμού'!$D$13:$D$24)","v":0}]
[null,null,"Διαχείριση Λυμάτων",{"$f":"'Υπολογισμός Αν. Απ.'!L72","v":14.953493019539998},0,0,0,0,0,0,0,{"$f":"D153*'Γενικά Στοιχεία Οργανισμού'!$D$16/SUM('Γενικά Στοιχεία Οργανισμού'!$D$13:$D$24)","v":1.2157940984297149},{"$f":"E153*'Γενικά Στοιχεία Οργανισμού'!$D$16/SUM('Γενικά Στοιχεία Οργανισμού'!$D$13:$D$24)","v":0},{"$f":"D153*'Γενικά Στοιχεία Οργανισμού'!$D$17/SUM('Γενικά Στοιχεία Οργανισμού'!$D$13:$D$24)","v":1.2287006175213255},{"$f":"E153*'Γενικά Στοιχεία Οργανισμού'!$D$17/SUM('Γενικά Στοιχεία Οργανισμού'!$D$13:$D$24)","v":0},{"$f":"D153*'Γενικά Στοιχεία Οργανισμού'!$D$18/SUM('Γενικά Στοιχεία Οργανισμού'!$D$13:$D$24)","v":1.9746974210164161},{"$f":"E153*'Γενικά Στοιχεία Οργανισμού'!$D$18/SUM('Γενικά Στοιχεία Οργανισμού'!$D$13:$D$24)","v":0},{"$f":"D153*'Γενικά Στοιχεία Οργανισμού'!$D$19/SUM('Γενικά Στοιχεία Οργανισμού'!$D$13:$D$24)","v":3.2085606461743859},{"$f":"E153*'Γενικά Στοιχεία Οργανισμού'!$D$19/SUM('Γενικά Στοιχεία Οργανισμού'!$D$13:$D$24)","v":0},{"$f":"D153*'Γενικά Στοιχεία Οργανισμού'!$D$20/SUM('Γενικά Στοιχεία Οργανισμού'!$D$13:$D$24)","v":1.2906519091610562},{"$f":"E153*'Γενικά Στοιχεία Οργανισμού'!$D$20/SUM('Γενικά Στοιχεία Οργανισμού'!$D$13:$D$24)","v":0},{"$f":"D153*'Γενικά Στοιχεία Οργανισμού'!$D$21/SUM('Γενικά Στοιχεία Οργανισμού'!$D$13:$D$24)","v":1.6184774940879647},{"$f":"E153*'Γενικά Στοιχεία Οργανισμού'!$D$21/SUM('Γενικά Στοιχεία Οργανισμού'!$D$13:$D$24)","v":0},{"$f":"D153*'Γενικά Στοιχεία Οργανισμού'!$D$22/SUM('Γενικά Στοιχεία Οργανισμού'!$D$13:$D$24)","v":1.2287006175213255},{"$f":"E153*'Γενικά Στοιχεία Οργανισμού'!$D$22/SUM('Γενικά Στοιχεία Οργανισμού'!$D$13:$D$24)","v":0},{"$f":"D153*'Γενικά Στοιχεία Οργανισμού'!$D$23/SUM('Γενικά Στοιχεία Οργανισμού'!$D$13:$D$24)","v":1.6184774940879647},{"$f":"E153*'Γενικά Στοιχεία Οργανισμού'!$D$23/SUM('Γενικά Στοιχεία Οργανισμού'!$D$13:$D$24)","v":0},{"$f":"D153*'Γενικά Στοιχεία Οργανισμού'!$D$24/SUM('Γενικά Στοιχεία Οργανισμού'!$D$13:$D$24)","v":1.5694327215398445},{"$f":"E153*'Γενικά Στοιχεία Οργανισμού'!$D$24/SUM('Γενικά Στοιχεία Οργανισμού'!$D$13:$D$24)","v":0}]
[null,null,null,null,{"$f":"'Υπολογισμός Αν. Απ.'!J72","v":7.1055732599999991E-2},null,0,null,0,null,0,null,{"$f":"E154*'Γενικά Στοιχεία Οργανισμού'!$D$16/SUM('Γενικά Στοιχεία Οργανισμού'!$D$13:$D$24)","v":5.7771879949249086E-3},null,{"$f":"E154*'Γενικά Στοιχεία Οργανισμού'!$D$17/SUM('Γενικά Στοιχεία Οργανισμού'!$D$13:$D$24)","v":5.83851695453133E-3},null,{"$f":"E154*'Γενικά Στοιχεία Οργανισμού'!$D$18/SUM('Γενικά Στοιχεία Οργανισμού'!$D$13:$D$24)","v":9.3833308197824941E-3},null,{"$f":"E154*'Γενικά Στοιχεία Οργανισμού'!$D$19/SUM('Γενικά Στοιχεία Οργανισμού'!$D$13:$D$24)","v":1.5246379358156394E-2},null,{"$f":"E154*'Γενικά Στοιχεία Οργανισμού'!$D$20/SUM('Γενικά Στοιχεία Οργανισμού'!$D$13:$D$24)","v":6.1328959606421528E-3},null,{"$f":"E154*'Γενικά Στοιχεία Οργανισμού'!$D$21/SUM('Γενικά Στοιχεία Οργανισμού'!$D$13:$D$24)","v":7.690651534645261E-3},null,{"$f":"E154*'Γενικά Στοιχεία Οργανισμού'!$D$22/SUM('Γενικά Στοιχεία Οργανισμού'!$D$13:$D$24)","v":5.83851695453133E-3},null,{"$f":"E154*'Γενικά Στοιχεία Οργανισμού'!$D$23/SUM('Γενικά Στοιχεία Οργανισμού'!$D$13:$D$24)","v":7.690651534645261E-3},null,{"$f":"E154*'Γενικά Στοιχεία Οργανισμού'!$D$24/SUM('Γενικά Στοιχεία Οργανισμού'!$D$13:$D$24)","v":7.4576014881408588E-3}]
[null,null,null,null,{"$f":"'Υπολογισμός Αν. Απ.'!K72","v":4.7512959999999993E-2},null,0,null,0,null,0,null,{"$f":"E155*'Γενικά Στοιχεία Οργανισμού'!$D$16/SUM('Γενικά Στοιχεία Οργανισμού'!$D$13:$D$24)","v":3.8630423200414288E-3},null,{"$f":"E155*'Γενικά Στοιχεία Οργανισμού'!$D$17/SUM('Γενικά Στοιχεία Οργανισμού'!$D$13:$D$24)","v":3.9040512618677709E-3},null,{"$f":"E155*'Γενικά Στοιχεία Οργανισμού'!$D$18/SUM('Γενικά Στοιχεία Οργανισμού'!$D$13:$D$24)","v":6.2743680994303466E-3},null,{"$f":"E155*'Γενικά Στοιχεία Οργανισμού'!$D$19/SUM('Γενικά Στοιχεία Οργανισμού'!$D$13:$D$24)","v":1.0194822938028654E-2},null,{"$f":"E155*'Γενικά Στοιχεία Οργανισμού'!$D$20/SUM('Γενικά Στοιχεία Οργανισμού'!$D$13:$D$24)","v":4.1008941826342132E-3},null,{"$f":"E155*'Γενικά Στοιχεία Οργανισμού'!$D$21/SUM('Γενικά Στοιχεία Οργανισμού'!$D$13:$D$24)","v":5.1425213050233032E-3},null,{"$f":"E155*'Γενικά Στοιχεία Οργανισμού'!$D$22/SUM('Γενικά Στοιχεία Οργανισμού'!$D$13:$D$24)","v":3.9040512618677709E-3},null,{"$f":"E155*'Γενικά Στοιχεία Οργανισμού'!$D$23/SUM('Γενικά Στοιχεία Οργανισμού'!$D$13:$D$24)","v":5.1425213050233032E-3},null,{"$f":"E155*'Γενικά Στοιχεία Οργανισμού'!$D$24/SUM('Γενικά Στοιχεία Οργανισμού'!$D$13:$D$24)","v":4.986687326083203E-3}]
[null,null,"Προμήθεια Χαρτιών",{"$f":"'Υπολογισμός Αν. Απ.'!H76","v":16.91},"-",0,0,0,0,{"$f":"D156*'Γενικά Στοιχεία Οργανισμού'!$D$9/SUM('Γενικά Στοιχεία Οργανισμού'!$E$13:$E$24,'Γενικά Στοιχεία Οργανισμού'!$D$9,'Γενικά Στοιχεία Οργανισμού'!$D$13:$D$24)","v":1.2004827488286243},"-",{"$f":"D156*('Γενικά Στοιχεία Οργανισμού'!$E$16+'Γενικά Στοιχεία Οργανισμού'!$D$16)/SUM('Γενικά Στοιχεία Οργανισμού'!$E$13:$E$24,'Γενικά Στοιχεία Οργανισμού'!$D$9,'Γενικά Στοιχεία Οργανισμού'!$D$13:$D$24)","v":1.2605068862700555},"-",{"$f":"D156*('Γενικά Στοιχεία Οργανισμού'!$E$17+'Γενικά Στοιχεία Οργανισμού'!$D$17)/SUM('Γενικά Στοιχεία Οργανισμού'!$E$13:$E$24,'Γενικά Στοιχεία Οργανισμού'!$D$9,'Γενικά Στοιχεία Οργανισμού'!$D$13:$D$24)","v":1.370951299162289},"-",{"$f":"D156*('Γενικά Στοιχεία Οργανισμού'!$E$18+'Γενικά Στοιχεία Οργανισμού'!$D$18)/SUM('Γενικά Στοιχεία Οργανισμού'!$E$13:$E$24,'Γενικά Στοιχεία Οργανισμού'!$D$9,'Γενικά Στοιχεία Οργανισμού'!$D$13:$D$24)","v":1.9759946045719154},"-",{"$f":"D156*('Γενικά Στοιχεία Οργανισμού'!$E$19+'Γενικά Στοιχεία Οργανισμού'!$D$19)/SUM('Γενικά Στοιχεία Οργανισμού'!$E$13:$E$24,'Γενικά Στοιχεία Οργανισμού'!$D$9,'Γενικά Στοιχεία Οργανισμού'!$D$13:$D$24)","v":3.2004870083771118},"-",{"$f":"D156*('Γενικά Στοιχεία Οργανισμού'!$E$20+'Γενικά Στοιχεία Οργανισμού'!$D$20)/SUM('Γενικά Στοιχεία Οργανισμού'!$E$13:$E$24,'Γενικά Στοιχεία Οργανισμού'!$D$9,'Γενικά Στοιχεία Οργανισμού'!$D$13:$D$24)","v":1.517410194519381},"-",{"$f":"D156*('Γενικά Στοιχεία Οργανισμού'!$E$21+'Γενικά Στοιχεία Οργανισμού'!$D$21)/SUM('Γενικά Στοιχεία Οργανισμού'!$E$13:$E$24,'Γενικά Στοιχεία Οργανισμού'!$D$9,'Γενικά Στοιχεία Οργανισμού'!$D$13:$D$24)","v":1.5774343319608122},"-",{"$f":"D156*('Γενικά Στοιχεία Οργανισμού'!$E$22+'Γενικά Στοιχεία Οργανισμού'!$D$22)/SUM('Γενικά Στοιχεία Οργανισμού'!$E$13:$E$24,'Γενικά Στοιχεία Οργανισμού'!$D$9,'Γενικά Στοιχεία Οργανισμού'!$D$13:$D$24)","v":1.3229319892091438},"-",{"$f":"D156*('Γενικά Στοιχεία Οργανισμού'!$E$23+'Γενικά Στοιχεία Οργανισμού'!$D$23)/SUM('Γενικά Στοιχεία Οργανισμού'!$E$13:$E$24,'Γενικά Στοιχεία Οργανισμού'!$D$9,'Γενικά Στοιχεία Οργανισμού'!$D$13:$D$24)","v":1.7863183302569929},"-",{"$f":"D156*('Γενικά Στοιχεία Οργανισμού'!$E$24+'Γενικά Στοιχεία Οργανισμού'!$D$24)/SUM('Γενικά Στοιχεία Οργανισμού'!$E$13:$E$24,'Γενικά Στοιχεία Οργανισμού'!$D$9,'Γενικά Στοιχεία Οργανισμού'!$D$13:$D$24)","v":1.6974826068436746},"-"]
[null,null,null,null,"-",null,0,null,0,null,"-",null,"-",null,"-",null,"-",null,"-",null,"-",null,"-",null,"-",null,"-",null,"-"]
[null,null,null,null,"-",null,0,null,0,null,"-",null,"-",null,"-",null,"-",null,"-",null,"-",null,"-",null,"-",null,"-",null,"-"]
[null,null,"ΣΥΝΟΛΟ",{"$f":"D24+D66+D72","v":5875.5048356198149},{"$f":"E24+E66+E72","v":5726.9620340038528},144.78047428501105,144.34740149641371,55.865548136704419,55.681014757657955,634.32064760276489,620.95283241459811,374.09203399330579,361.87129173415093,594.80572869640991,580.91452621506471,442.24249739987124,423.56065690733044,691.193118150332,661.03053484861334,808.29057419771243,792.44238575873067,266.90593253291172,252.26182773455264,485.90404667680684,472.77990579339399,739.52589429688487,721.54815290492604,637.57833965110012,620.70121893034502]
[null,null,null,null,{"$f":"E25+E67+E73","v":3.4517317303995534},null,{"$f":"G25+G67+G73","v":3.2084892161334342E-3},null,{"$f":"I25+I67+I73","v":1.2715608506963533E-3},null,{"$f":"K25+K67+K73","v":0.28095918605306303},null,{"$f":"M25+M67+M73","v":0.25239045300512547},null,{"$f":"O25+O67+O73","v":0.28138558980430356},null,{"$f":"Q25+Q67+Q73","v":0.39042859026514382},null,{"$f":"S25+S67+S73","v":0.63148696681329497},null,{"$f":"U25+U67+U73","v":0.31677336401477085},null,{"$f":"W25+W67+W73","v":0.30855857821257288},null,{"$f":"Y25+Y67+Y73","v":0.26832980777532944},null,{"$f":"AA25+AA67+AA73","v":0.36532721626722209},null,{"$f":"AC25+AC67+AC73","v":0.3448044661781472}]
[null,null,null,null,{"$f":"E26+E68+E74","v":0.12072862826683051},null,{"$f":"G26+G68+G74","v":1.2584466647150884E-3},null,{"$f":"I26+I68+I74","v":5.4599571909172146E-4},null,{"$f":"K26+K68+K74","v":1.2382208132122093E-2},null,{"$f":"M26+M68+M74","v":8.1248716113368966E-3},null,{"$f":"O26+O68+O74","v":1.0529019616070421E-2},null,{"$f":"Q26+Q68+Q74","v":1.1382219718683147E-2},null,{"$f":"S26+S68+S74","v":1.8152336392120345E-2},null,{"$f":"U26+U68+U74","v":1.2989130665442272E-2},null,{"$f":"W26+W68+W74","v":8.3284290886420313E-3},null,{"$f":"Y26+Y68+Y74","v":9.3683718642935156E-3},null,{"$f":"AA26+AA68+AA74","v":1.3368413940068113E-2},null,{"$f":"AC26+AC68+AC74","v":1.2120797032244862E-2}]
[]
[null,null,"Συγκεντρωτικός Πίνακας Κατανάλωσης (άμεσης και έμμεσης) Τελικής Ενέργειας (kWh)"]
[null,null,"Κατηγορία","Ε.Μ.Π.",null,"Βιβλιοθήκη",null,"Γυμναστήριο",null,"Διοίκηση",null,"Σχολή Αγρονόμων και Τοπογράφων Μηχανικών",null,"Σχολή Εφαρμοσμένων Μαθηματικών και Φυσικών Επιστημών",null,"Σχολή Ηλεκτρολόγων Μηχανικών και Μηχανικών Υπολογιστών",null,"Σχολή Μηχανικών Μεταλλείων Μεταλλουργών",null,"Σχολή Μηχανολόγων Μηχανικών",null,"Σχολή Ναυπηγών Μηχανολόγων Μηχανικών",null,"Σχολή Πολιτικών Μηχανικών",null,"Σχολή Χημικών Μηχανικών",null,"Σχολή Αρχιτεκτόνων Μηχανικών"]
[null,null,"SCOPE 1",{"$f":"D166+D169","v":2922882.3743055551},null,{"$f":"F166+F169","v":121395.18881835887},null,{"$f":"H166+H169","v":53888.287790296636},null,{"$f":"J166+J169","v":103487.18091560576},null,{"$f":"L166+L169","v":196368.41251093836},null,{"$f":"N166+N169","v":331389.57430048473},null,{"$f":"P166+P169","v":209381.43633642403},null,{"$f":"R166+R169","v":315558.91460202821},null,{"$f":"T166+T169","v":461737.55915106361},null,{"$f":"V166+V169","v":114793.12726308746},null,{"$f":"X166+X169","v":264291.39226124657},null,{"$f":"Z166+Z169","v":405833.27786255721},null,{"$f":"AB166+AB169","v":344758.02249346377}]
[null,null,"Σταθερή Καύση",{"$f":"SUM(D167:E168)","v":2750296.8499999996},null,{"$f":"SUM(F167:G168)","v":107013.06179289591},null,{"$f":"SUM(H167:I168)","v":39506.160764833672},null,{"$f":"SUM(J167:K168)","v":89105.053890142794},null,{"$f":"SUM(L167:M168)","v":181986.28548547541},null,{"$f":"SUM(N167:O168)","v":317007.44727502175},null,{"$f":"SUM(P167:Q168)","v":194999.30931096105},null,{"$f":"SUM(R167:S168)","v":301176.78757656523},null,{"$f":"SUM(T167:U168)","v":447355.43212560064},null,{"$f":"SUM(V167:W168)","v":100411.0002376245},null,{"$f":"SUM(X167:Y168)","v":249909.26523578359},null,{"$f":"SUM(Z167:AA168)","v":391451.15083709423},null,{"$f":"SUM(AB167:AC168)","v":330375.89546800079}]
[null,null,"Πετρέλαιο Θέρμανσης",{"$f":"'Υπολογισμός Αν. Απ.'!H8*Παραμετροποίηση!E21*Παραμετροποίηση!G21/3.6","v":0},null,{"$f":"D167*'Γενικά Στοιχεία Οργανισμού'!$F$13/SUM('Γενικά Στοιχεία Οργανισμού'!$F$13:$F$24)","v":0},null,{"$f":"D167*'Γενικά Στοιχεία Οργανισμού'!$F$14/SUM('Γενικά Στοιχεία Οργανισμού'!$F$13:$F$24)","v":0},null,{"$f":"D167*'Γενικά Στοιχεία Οργανισμού'!$F$15/SUM('Γενικά Στοιχεία Οργανισμού'!$F$13:$F$24)","v":0},null,{"$f":"D167*'Γενικά Στοιχεία Οργανισμού'!$F$16/SUM('Γενικά Στοιχεία Οργανισμού'!$F$13:$F$24)","v":0},null,{"$f":"D167*'Γενικά Στοιχεία Οργανισμού'!$F$17/SUM('Γενικά Στοιχεία Οργανισμού'!$F$13:$F$24)","v":0},null,{"$f":"D167*'Γενικά Στοιχεία Οργανισμού'!$F$18/SUM('Γενικά Στοιχεία Οργανισμού'!$F$13:$F$24)","v":0},null,{"$f":"D167*'Γενικά Στοιχεία Οργανισμού'!$F$19/SUM('Γενικά Στοιχεία Οργανισμού'!$F$13:$F$24)","v":0},null,{"$f":"D167*'Γενικά Στοιχεία Οργανισμού'!$F$20/SUM('Γενικά Στοιχεία Οργανισμού'!$F$13:$F$24)","v":0},null,{"$f":"D167*'Γενικά Στοιχεία Οργανισμού'!$F$21/SUM('Γενικά Στοιχεία Οργανισμού'!$F$13:$F$24)","v":0},null,{"$f":"D167*'Γενικά Στοιχεία Οργανισμού'!$F$22/SUM('Γενικά Στοιχεία Οργανισμού'!$F$13:$F$24)","v":0},null,{"$f":"D167*'Γενικά Στοιχεία Οργανισμού'!$F$23/SUM('Γενικά Στοιχεία Οργανισμού'!$F$13:$F$24)","v":0},null,{"$f":"D167*'Γενικά Στοιχεία Οργανισμού'!$F$24/SUM('Γενικά Στοιχεία Οργανισμού'!$F$13:$F$24)","v":0}]
[null,null,"Φυσικό Αέριο",{"$f":"'Υπολογισμός Αν. Απ.'!H9","v":2750296.8499999996},null,{"$f":"D168*'Γενικά Στοιχεία Οργανισμού'!$F$13/SUM('Γενικά Στοιχεία Οργανισμού'!$F$13:$F$24)","v":107013.06179289591},null,{"$f":"D168*'Γενικά Στοιχεία Οργανισμού'!$F$14/SUM('Γενικά Στοιχεία Οργανισμού'!$F$13:$F$24)","v":39506.160764833672},null,{"$f":"D168*'Γενικά Στοιχεία Οργανισμού'!$F$15/SUM('Γενικά Στοιχεία Οργανισμού'!$F$13:$F$24)","v":89105.053890142794},null,{"$f":"D168*'Γενικά Στοιχεία Οργανισμού'!$F$16/SUM('Γενικά Στοιχεία Οργανισμού'!$F$13:$F$24)","v":181986.28548547541},null,{"$f":"D168*'Γενικά Στοιχεία Οργανισμού'!$F$17/SUM('Γενικά Στοιχεία Οργανισμού'!$F$13:$F$24)","v":317007.44727502175},null,{"$f":"D168*'Γενικά Στοιχεία Οργανισμού'!$F$18/SUM('Γενικά Στοιχεία Οργανισμού'!$F$13:$F$24)","v":194999.30931096105},null,{"$f":"D168*'Γενικά Στοιχεία Οργανισμού'!$F$19/SUM('Γενικά Στοιχεία Οργανισμού'!$F$13:$F$24)","v":301176.78757656523},null,{"$f":"D168*'Γενικά Στοιχεία Οργανισμού'!$F$20/SUM('Γενικά Στοιχεία Οργανισμού'!$F$13:$F$24)","v":447355.43212560064},null,{"$f":"D168*'Γενικά Στοιχεία Οργανισμού'!$F$21/SUM('Γενικά Στοιχεία Οργανισμού'!$F$13:$F$24)","v":100411.0002376245},null,{"$f":"D168*'Γενικά Στοιχεία Οργανισμού'!$F$22/SUM('Γενικά Στοιχεία Οργανισμού'!$F$13:$F$24)","v":249909.26523578359},null,{"$f":"D168*'Γενικά Στοιχεία Οργανισμού'!$F$23/SUM('Γενικά Στοιχεία Οργανισμού'!$F$13:$F$24)","v":391451.15083709423},null,{"$f":"D168*'Γενικά Στοιχεία Οργανισμού'!$F$24/SUM('Γενικά Στοιχεία Οργανισμού'!$F$13:$F$24)","v":330375.89546800079}]
[null,null,"Κινητή Καύση",{"$f":"SUM(D170:E171)","v":172585.52430555556},null,{"$f":"SUM(F170:G171)","v":14382.127025462964},null,{"$f":"SUM(H170:I171)","v":14382.127025462964},null,{"$f":"SUM(J170:K171)","v":14382.127025462964},null,{"$f":"SUM(L170:M171)","v":14382.127025462964},null,{"$f":"SUM(N170:O171)","v":14382.127025462964},null,{"$f":"SUM(P170:Q171)","v":14382.127025462964},null,{"$f":"SUM(R170:S171)","v":14382.127025462964},null,{"$f":"SUM(T170:U171)","v":14382.127025462964},null,{"$f":"SUM(V170:W171)","v":14382.127025462964},null,{"$f":"SUM(X170:Y171)","v":14382.127025462964},null,{"$f":"SUM(Z170:AA171)","v":14382.127025462964},null,{"$f":"SUM(AB170:AC171)","v":14382.127025462964}]
[null,null,"Πετρέλαιο Κίνησης (Επιβατικό)",{"$f":"'Υπολογισμός Αν. Απ.'!H13*Παραμετροποίηση!E26*Παραμετροποίηση!G26/3.6","v":123718.75},null,{"$f":"$D$170/12","v":10309.895833333334},null,{"$f":"$D$170/12","v":10309.895833333334},null,{"$f":"$D$170/12","v":10309.895833333334},null,{"$f":"$D$170/12","v":10309.895833333334},null,{"$f":"$D$170/12","v":10309.895833333334},null,{"$f":"$D$170/12","v":10309.895833333334},null,{"$f":"$D$170/12","v":10309.895833333334},null,{"$f":"$D$170/12","v":10309.895833333334},null,{"$f":"$D$170/12","v":10309.895833333334},null,{"$f":"$D$170/12","v":10309.895833333334},null,{"$f":"$D$170/12","v":10309.895833333334},null,{"$f":"$D$170/12","v":10309.895833333334}]
[null,null,"Βενζίνη\n(Επιβατικό)",{"$f":"'Υπολογισμός Αν. Απ.'!H14*Παραμετροποίηση!E27*Παραμετροποίηση!G27/3.6","v":48866.774305555555},null,{"$f":"$D$171/12","v":4072.2311921296296},null,{"$f":"$D$171/12","v":4072.2311921296296},null,{"$f":"$D$171/12","v":4072.2311921296296},null,{"$f":"$D$171/12","v":4072.2311921296296},null,{"$f":"$D$171/12","v":4072.2311921296296},null,{"$f":"$D$171/12","v":4072.2311921296296},null,{"$f":"$D$171/12","v":4072.2311921296296},null,{"$f":"$D$171/12","v":4072.2311921296296},null,{"$f":"$D$171/12","v":4072.2311921296296},null,{"$f":"$D$171/12","v":4072.2311921296296},null,{"$f":"$D$171/12","v":4072.2311921296296},null,{"$f":"$D$171/12","v":4072.2311921296296}]
[null,null,"SCOPE 2",{"$f":"D173","v":11266091.65},null,{"$f":"F173","v":438359.57631478173},null,{"$f":"H173","v":161829.81408579598},null,{"$f":"J173","v":365002.67365849542},null,{"$f":"L173","v":745473.77361190342},null,{"$f":"N173","v":1298563.445881465},null,{"$f":"P173","v":798779.26282175165},null,{"$f":"R173","v":1233716.0229413656},null,{"$f":"T173","v":1832510.2973711265},null,{"$f":"V173","v":411315.42994904332},null,{"$f":"X173","v":1023707.9267754306},null,{"$f":"Z173","v":1603508.5601136759},null,{"$f":"AB173","v":1353324.8664751651}]
[null,null,"Εισαγόμενη Ηλεκτρική Ενέργεια",{"$f":"'Υπολογισμός Αν. Απ.'!E27","v":11266091.65},null,{"$f":"D173*'Γενικά Στοιχεία Οργανισμού'!$F$13/SUM('Γενικά Στοιχεία Οργανισμού'!$F$13:$F$24)","v":438359.57631478173},null,{"$f":"D173*'Γενικά Στοιχεία Οργανισμού'!$F$14/SUM('Γενικά Στοιχεία Οργανισμού'!$F$13:$F$24)","v":161829.81408579598},null,{"$f":"D173*'Γενικά Στοιχεία Οργανισμού'!$F$15/SUM('Γενικά Στοιχεία Οργανισμού'!$F$13:$F$24)","v":365002.67365849542},null,{"$f":"D173*'Γενικά Στοιχεία Οργανισμού'!$F$16/SUM('Γενικά Στοιχεία Οργανισμού'!$F$13:$F$24)","v":745473.77361190342},null,{"$f":"D173*'Γενικά Στοιχεία Οργανισμού'!$F$17/SUM('Γενικά Στοιχεία Οργανισμού'!$F$13:$F$24)","v":1298563.445881465},null,{"$f":"D173*'Γενικά Στοιχεία Οργανισμού'!$F$18/SUM('Γενικά Στοιχεία Οργανισμού'!$F$13:$F$24)","v":798779.26282175165},null,{"$f":"D173*'Γενικά Στοιχεία Οργανισμού'!$F$19/SUM('Γενικά Στοιχεία Οργανισμού'!$F$13:$F$24)","v":1233716.0229413656},null,{"$f":"D173*'Γενικά Στοιχεία Οργανισμού'!$F$20/SUM('Γενικά Στοιχεία Οργανισμού'!$F$13:$F$24)","v":1832510.2973711265},null,{"$f":"D173*'Γενικά Στοιχεία Οργανισμού'!$F$21/SUM('Γενικά Στοιχεία Οργανισμού'!$F$13:$F$24)","v":411315.42994904332},null,{"$f":"D173*'Γενικά Στοιχεία Οργανισμού'!$F$22/SUM('Γενικά Στοιχεία Οργανισμού'!$F$13:$F$24)","v":1023707.9267754306},null,{"$f":"D173*'Γενικά Στοιχεία Οργανισμού'!$F$23/SUM('Γενικά Στοιχεία Οργανισμού'!$F$13:$F$24)","v":1603508.5601136759},null,{"$f":"D173*'Γενικά Στοιχεία Οργανισμού'!$F$24/SUM('Γενικά Στοιχεία Οργανισμού'!$F$13:$F$24)","v":1353324.8664751651}]
[null,null,"SCOPE 3",{"$f":"D175+D184+D193","v":7267900.3222193755},null,{"$f":"F175+F184+F193","v":0},null,{"$f":"H175+H184+H193","v":0},null,{"$f":"J175+J184+J193","v":369596.31745843601},null,{"$f":"L175+L184+L193","v":560866.76786507899},null,{"$f":"N175+N184+N193","v":566820.76752394391},null,{"$f":"P175+P184+P193","v":910961.94780633831},null,{"$f":"R175+R184+R193","v":1480164.3151938284},null,{"$f":"T175+T184+T193","v":595399.96588649566},null,{"$f":"V175+V184+V193","v":746631.55722166563},null,{"$f":"X175+X184+X193","v":566820.76752394391},null,{"$f":"Z175+Z184+Z193","v":746631.55722166563},null,{"$f":"AB175+AB184+AB193","v":724006.35851797881}]
[null,null,"Μετακίνηση Φοιτητών",{"$f":"SUM(D176:E183)","v":2616161.0706874998},null,{"$f":"SUM(F176:G183)","v":0},null,{"$f":"SUM(H176:I183)","v":0},null,{"$f":"SUM(J176:K183)","v":0},null,{"$f":"SUM(L176:M183)","v":212707.03681923228},null,{"$f":"SUM(N176:O183)","v":214965.07330351285},null,{"$f":"SUM(P176:Q183)","v":345479.58209493139},null,{"$f":"SUM(R176:S183)","v":561347.8699921564},null,{"$f":"SUM(T176:U183)","v":225803.64842805971},null,{"$f":"SUM(V176:W183)","v":283157.77512878692},null,{"$f":"SUM(X176:Y183)","v":214965.07330351285},null,{"$f":"SUM(Z176:AA183)","v":283157.77512878692},null,{"$f":"SUM(AB176:AC183)","v":274577.23648852063}]
[null,null,"Πετρέλαιο Κίνησης (Επιβατικό)",{"$f":"'Υπολογισμός Αν. Απ.'!H31*Παραμετροποίηση!E26*Παραμετροποίηση!G26/3.6","v":158805.38750000001},null,0,null,0,null,0,null,{"$f":"D176*'Γενικά Στοιχεία Οργανισμού'!$D$16/SUM('Γενικά Στοιχεία Οργανισμού'!$D$13:$D$24)","v":12911.675731486277},null,{"$f":"D176*'Γενικά Στοιχεία Οργανισμού'!$D$17/SUM('Γενικά Στοιχεία Οργανισμού'!$D$13:$D$24)","v":13048.742352839634},null,{"$f":"D176*'Γενικά Στοιχεία Οργανισμού'!$D$18/SUM('Γενικά Στοιχεία Οργανισμού'!$D$13:$D$24)","v":20971.193067063701},null,{"$f":"D176*'Γενικά Στοιχεία Οργανισμού'!$D$19/SUM('Γενικά Στοιχεία Οργανισμού'!$D$13:$D$24)","v":34074.762068444681},null,{"$f":"D176*'Γενικά Στοιχεία Οργανισμού'!$D$20/SUM('Γενικά Στοιχεία Οργανισμού'!$D$13:$D$24)","v":13706.66213533575},null,{"$f":"D176*'Γενικά Στοιχεία Οργανισμού'!$D$21/SUM('Γενικά Στοιχεία Οργανισμού'!$D$13:$D$24)","v":17188.154317711032},null,{"$f":"D176*'Γενικά Στοιχεία Οργανισμού'!$D$22/SUM('Γενικά Στοιχεία Οργανισμού'!$D$13:$D$24)","v":13048.742352839634},null,{"$f":"D176*'Γενικά Στοιχεία Οργανισμού'!$D$23/SUM('Γενικά Στοιχεία Οργανισμού'!$D$13:$D$24)","v":17188.154317711032},null,{"$f":"D176*'Γενικά Στοιχεία Οργανισμού'!$D$24/SUM('Γενικά Στοιχεία Οργανισμού'!$D$13:$D$24)","v":16667.301156568272}]
[null,null,"Βενζίνη\n(Επιβατικό)",{"$f":"'Υπολογισμός Αν. Απ.'!H32*Παραμετροποίηση!E27*Παραμετροποίηση!G27/3.6","v":1428597.9346527776},null,0,null,0,null,0,null,{"$f":"D177*'Γενικά Στοιχεία Οργανισμού'!$D$16/SUM('Γενικά Στοιχεία Οργανισμού'!$D$13:$D$24)","v":116152.18836897261},null,{"$f":"D177*'Γενικά Στοιχεία Οργανισμού'!$D$17/SUM('Γενικά Στοιχεία Οργανισμού'!$D$13:$D$24)","v":117385.22646206147},null,{"$f":"D177*'Γενικά Στοιχεία Οργανισμού'!$D$18/SUM('Γενικά Στοιχεία Οργανισμού'!$D$13:$D$24)","v":188654.8282425988},null,{"$f":"D177*'Γενικά Στοιχεία Οργανισμού'!$D$19/SUM('Γενικά Στοιχεία Οργανισμού'!$D$13:$D$24)","v":306533.26994189585},null,{"$f":"D177*'Γενικά Στοιχεία Οργανισμού'!$D$20/SUM('Γενικά Στοιχεία Οργανισμού'!$D$13:$D$24)","v":123303.80930888811},null,{"$f":"D177*'Γενικά Στοιχεία Οργανισμού'!$D$21/SUM('Γενικά Στοιχεία Οργανισμού'!$D$13:$D$24)","v":154622.97687334567},null,{"$f":"D177*'Γενικά Στοιχεία Οργανισμού'!$D$22/SUM('Γενικά Στοιχεία Οργανισμού'!$D$13:$D$24)","v":117385.22646206147},null,{"$f":"D177*'Γενικά Στοιχεία Οργανισμού'!$D$23/SUM('Γενικά Στοιχεία Οργανισμού'!$D$13:$D$24)","v":154622.97687334567},null,{"$f":"D177*'Γενικά Στοιχεία Οργανισμού'!$D$24/SUM('Γενικά Στοιχεία Οργανισμού'!$D$13:$D$24)","v":149937.43211960795}]
[null,null,"Βενζίνη\n(Μοτοσυκλέτα)",{"$f":"'Υπολογισμός Αν. Απ.'!H33*Παραμετροποίηση!E30*Παραμετροποίηση!G30/3.6","v":328820.08186805551},null,0,null,0,null,0,null,{"$f":"D178*'Γενικά Στοιχεία Οργανισμού'!$D$16/SUM('Γενικά Στοιχεία Οργανισμού'!$D$13:$D$24)","v":26734.724419101356},null,{"$f":"D178*'Γενικά Στοιχεία Οργανισμού'!$D$17/SUM('Γενικά Στοιχεία Οργανισμού'!$D$13:$D$24)","v":27018.532533953807},null,{"$f":"D178*'Γενικά Στοιχεία Οργανισμού'!$D$18/SUM('Γενικά Στοιχεία Οργανισμού'!$D$13:$D$24)","v":43422.641572425768},null,{"$f":"D178*'Γενικά Στοιχεία Οργανισμού'!$D$19/SUM('Γενικά Στοιχεία Οργανισμού'!$D$13:$D$24)","v":70554.697352320552},null,{"$f":"D178*'Γενικά Στοιχεία Οργανισμού'!$D$20/SUM('Γενικά Στοιχεία Οργανισμού'!$D$13:$D$24)","v":28380.811485245598},null,{"$f":"D178*'Γενικά Στοιχεία Οργανισμού'!$D$21/SUM('Γενικά Στοιχεία Οργανισμού'!$D$13:$D$24)","v":35589.537602497985},null,{"$f":"D178*'Γενικά Στοιχεία Οργανισμού'!$D$22/SUM('Γενικά Στοιχεία Οργανισμού'!$D$13:$D$24)","v":27018.532533953807},null,{"$f":"D178*'Γενικά Στοιχεία Οργανισμού'!$D$23/SUM('Γενικά Στοιχεία Οργανισμού'!$D$13:$D$24)","v":35589.537602497985},null,{"$f":"D178*'Γενικά Στοιχεία Οργανισμού'!$D$24/SUM('Γενικά Στοιχεία Οργανισμού'!$D$13:$D$24)","v":34511.066766058648}]
[null,null,"Πετρέλαιο Κινησης\n(Λεωφορείο",{"$f":"'Υπολογισμός Αν. Απ.'!H34*Παραμετροποίηση!E31/3.6","v":97762.333333333328},null,0,null,0,null,0,null,{"$f":"D179*'Γενικά Στοιχεία Οργανισμού'!$D$16/SUM('Γενικά Στοιχεία Οργανισμού'!$D$13:$D$24)","v":7948.5687899188679},null,{"$f":"D179*'Γενικά Στοιχεία Οργανισμού'!$D$17/SUM('Γενικά Στοιχεία Οργανισμού'!$D$13:$D$24)","v":8032.948501064503},null,{"$f":"D179*'Γενικά Στοιχεία Οργανισμού'!$D$18/SUM('Γενικά Στοιχεία Οργανισμού'!$D$13:$D$24)","v":12910.095805282237},null,{"$f":"D179*'Γενικά Στοιχεία Οργανισμού'!$D$19/SUM('Γενικά Στοιχεία Οργανισμού'!$D$13:$D$24)","v":20976.796190804995},null,{"$f":"D179*'Γενικά Στοιχεία Οργανισμού'!$D$20/SUM('Γενικά Στοιχεία Οργανισμού'!$D$13:$D$24)","v":8437.9711145635538},null,{"$f":"D179*'Γενικά Στοιχεία Οργανισμού'!$D$21/SUM('Γενικά Στοιχεία Οργανισμού'!$D$13:$D$24)","v":10581.215777662695},null,{"$f":"D179*'Γενικά Στοιχεία Οργανισμού'!$D$22/SUM('Γενικά Στοιχεία Οργανισμού'!$D$13:$D$24)","v":8032.948501064503},null,{"$f":"D179*'Γενικά Στοιχεία Οργανισμού'!$D$23/SUM('Γενικά Στοιχεία Οργανισμού'!$D$13:$D$24)","v":10581.215777662695},null,{"$f":"D179*'Γενικά Στοιχεία Οργανισμού'!$D$24/SUM('Γενικά Στοιχεία Οργανισμού'!$D$13:$D$24)","v":10260.572875309281}]
[null,null,"Φυσικό Αέριο Κινησης\n(Λεωφορείο",{"$f":"'Υπολογισμός Αν. Απ.'!H35*Παραμετροποίηση!E32/3.6","v":19373.333333333332},null,0,null,0,null,0,null,{"$f":"D180*'Γενικά Στοιχεία Οργανισμού'!$D$16/SUM('Γενικά Στοιχεία Οργανισμού'!$D$13:$D$24)","v":1575.1493181425858},null,{"$f":"D180*'Γενικά Στοιχεία Οργανισμού'!$D$17/SUM('Γενικά Στοιχεία Οργανισμού'!$D$13:$D$24)","v":1591.8706484838021},null,{"$f":"D180*'Γενικά Στοιχεία Οργανισμού'!$D$18/SUM('Γενικά Στοιχεία Οργανισμού'!$D$13:$D$24)","v":2558.3635422061107},null,{"$f":"D180*'Γενικά Στοιχεία Οργανισμού'!$D$19/SUM('Γενικά Στοιχεία Οργανισμού'!$D$13:$D$24)","v":4156.9227228263999},null,{"$f":"D180*'Γενικά Στοιχεία Οργανισμού'!$D$20/SUM('Γενικά Στοιχεία Οργανισμού'!$D$13:$D$24)","v":1672.133034121641},null,{"$f":"D180*'Γενικά Στοιχεία Οργανισμού'!$D$21/SUM('Γενικά Στοιχεία Οργανισμού'!$D$13:$D$24)","v":2096.8548247885378},null,{"$f":"D180*'Γενικά Στοιχεία Οργανισμού'!$D$22/SUM('Γενικά Στοιχεία Οργανισμού'!$D$13:$D$24)","v":1591.8706484838021},null,{"$f":"D180*'Γενικά Στοιχεία Οργανισμού'!$D$23/SUM('Γενικά Στοιχεία Οργανισμού'!$D$13:$D$24)","v":2096.8548247885378},null,{"$f":"D180*'Γενικά Στοιχεία Οργανισμού'!$D$24/SUM('Γενικά Στοιχεία Οργανισμού'!$D$13:$D$24)","v":2033.3137694919155}]
[null,null,"Ηλεκτρική Ενέργεια (Επιβατικό)",{"$f":"'Υπολογισμός Αν. Απ.'!H36","v":3808},null,0,null,0,null,0,null,{"$f":"D181*'Γενικά Στοιχεία Οργανισμού'!$D$16/SUM('Γενικά Στοιχεία Οργανισμού'!$D$13:$D$24)","v":309.60952874158465},null,{"$f":"D181*'Γενικά Στοιχεία Οργανισμού'!$D$17/SUM('Γενικά Στοιχεία Οργανισμού'!$D$13:$D$24)","v":312.8962540997756},null,{"$f":"D181*'Γενικά Στοιχεία Οργανισμού'!$D$18/SUM('Γενικά Στοιχεία Οργανισμού'!$D$13:$D$24)","v":502.86897980321078},null,{"$f":"D181*'Γενικά Στοιχεία Οργανισμού'!$D$19/SUM('Γενικά Στοιχεία Οργανισμού'!$D$13:$D$24)","v":817.0799240462627},null,{"$f":"D181*'Γενικά Στοιχεία Οργανισμού'!$D$20/SUM('Γενικά Στοιχεία Οργανισμού'!$D$13:$D$24)","v":328.67253581909199},null,{"$f":"D181*'Γενικά Στοιχεία Οργανισμού'!$D$21/SUM('Γενικά Στοιχεία Οργανισμού'!$D$13:$D$24)","v":412.15535991714137},null,{"$f":"D181*'Γενικά Στοιχεία Οργανισμού'!$D$22/SUM('Γενικά Στοιχεία Οργανισμού'!$D$13:$D$24)","v":312.8962540997756},null,{"$f":"D181*'Γενικά Στοιχεία Οργανισμού'!$D$23/SUM('Γενικά Στοιχεία Οργανισμού'!$D$13:$D$24)","v":412.15535991714137},null,{"$f":"D181*'Γενικά Στοιχεία Οργανισμού'!$D$24/SUM('Γενικά Στοιχεία Οργανισμού'!$D$13:$D$24)","v":399.66580355601587}]
[null,null,"Ηλεκτρική Ενέργεια (Λεωφορείο / Τρόλεϊ)",{"$f":"'Υπολογισμός Αν. Απ.'!H37","v":6986},null,0,null,0,null,0,null,{"$f":"D182*'Γενικά Στοιχεία Οργανισμού'!$D$16/SUM('Γενικά Στοιχεία Οργανισμού'!$D$13:$D$24)","v":567.99689280165717},null,{"$f":"D182*'Γενικά Στοιχεία Οργανισμού'!$D$17/SUM('Γενικά Στοιχεία Οργανισμού'!$D$13:$D$24)","v":574.02658380804417},null,{"$f":"D182*'Γενικά Στοιχεία Οργανισμού'!$D$18/SUM('Γενικά Στοιχεία Οργανισμού'!$D$13:$D$24)","v":922.54272397721388},null,{"$f":"D182*'Γενικά Στοιχεία Οργανισμού'!$D$19/SUM('Γενικά Στοιχεία Οργανισμού'!$D$13:$D$24)","v":1498.9811841878129},null,{"$f":"D182*'Γενικά Στοιχεία Οργανισμού'!$D$20/SUM('Γενικά Στοιχεία Οργανισμού'!$D$13:$D$24)","v":602.96910063870189},null,{"$f":"D182*'Γενικά Στοιχεία Οργανισμού'!$D$21/SUM('Γενικά Στοιχεία Οργανισμού'!$D$13:$D$24)","v":756.12325220093214},null,{"$f":"D182*'Γενικά Στοιχεία Οργανισμού'!$D$22/SUM('Γενικά Στοιχεία Οργανισμού'!$D$13:$D$24)","v":574.02658380804417},null,{"$f":"D182*'Γενικά Στοιχεία Οργανισμού'!$D$23/SUM('Γενικά Στοιχεία Οργανισμού'!$D$13:$D$24)","v":756.12325220093214},null,{"$f":"D182*'Γενικά Στοιχεία Οργανισμού'!$D$24/SUM('Γενικά Στοιχεία Οργανισμού'!$D$13:$D$24)","v":733.21042637666153}]
[null,null,"Ηλεκτρική Ενέργεια (Συρμοί)",{"$f":"'Υπολογισμός Αν. Απ.'!H38","v":572008},null,0,null,0,null,0,null,{"$f":"D183*'Γενικά Στοιχεία Οργανισμού'!$D$16/SUM('Γενικά Στοιχεία Οργανισμού'!$D$13:$D$24)","v":46507.123770067323},null,{"$f":"D183*'Γενικά Στοιχεία Οργανισμού'!$D$17/SUM('Γενικά Στοιχεία Οργανισμού'!$D$13:$D$24)","v":47000.829967201797},null,{"$f":"D183*'Γενικά Στοιχεία Οργανισμού'!$D$18/SUM('Γενικά Στοιχεία Οργανισμού'!$D$13:$D$24)","v":75537.048161574319},null,{"$f":"D183*'Γενικά Στοιχεία Οργανισμού'!$D$19/SUM('Γενικά Στοιχεία Οργανισμού'!$D$13:$D$24)","v":122735.3606076299},null,{"$f":"D183*'Γενικά Στοιχεία Οργανισμού'!$D$20/SUM('Γενικά Στοιχεία Οργανισμού'!$D$13:$D$24)","v":49370.61971344726},null,{"$f":"D183*'Γενικά Στοιχεία Οργανισμού'!$D$21/SUM('Γενικά Στοιχεία Οργανισμού'!$D$13:$D$24)","v":61910.757120662871},null,{"$f":"D183*'Γενικά Στοιχεία Οργανισμού'!$D$22/SUM('Γενικά Στοιχεία Οργανισμού'!$D$13:$D$24)","v":47000.829967201797},null,{"$f":"D183*'Γενικά Στοιχεία Οργανισμού'!$D$23/SUM('Γενικά Στοιχεία Οργανισμού'!$D$13:$D$24)","v":61910.757120662871},null,{"$f":"D183*'Γενικά Στοιχεία Οργανισμού'!$D$24/SUM('Γενικά Στοιχεία Οργανισμού'!$D$13:$D$24)","v":60034.673571551873}]
[null,null,"Μετακίνηση Υπαλλήλων",{"$f":"SUM(D185:E192)","v":2744669.0781041672},null,{"$f":"SUM(F185:G192)","v":0},null,{"$f":"SUM(H185:I192)","v":0},null,{"$f":"SUM(J185:K192)","v":218073.18275100639},null,{"$f":"SUM(L185:M192)","v":205424.93815144806},null,{"$f":"SUM(N185:O192)","v":207605.66997895809},null,{"$f":"SUM(P185:Q192)","v":333651.96960903978},null,{"$f":"SUM(R185:S192)","v":542129.93231900211},null,{"$f":"SUM(T185:U192)","v":218073.18275100639},null,{"$f":"SUM(V185:W192)","v":273463.77116976201},null,{"$f":"SUM(X185:Y192)","v":207605.66997895809},null,{"$f":"SUM(Z185:AA192)","v":273463.77116976201},null,{"$f":"SUM(AB185:AC192)","v":265176.99022522382}]
[null,null,"Πετρέλαιο Κίνησης (Επιβατικό)",{"$f":"'Υπολογισμός Αν. Απ.'!H42*Παραμετροποίηση!E26*Παραμετροποίηση!G26/3.6","v":237262.87},null,0,null,0,null,{"$f":"D185*'Γενικά Στοιχεία Οργανισμού'!$D$9/SUM('Γενικά Στοιχεία Οργανισμού'!$D$13:$D$24,'Γενικά Στοιχεία Οργανισμού'!$D$9)","v":18851.332432861909},null,{"$f":"D185*'Γενικά Στοιχεία Οργανισμού'!$D$16/SUM('Γενικά Στοιχεία Οργανισμού'!$D$13:$D$24,'Γενικά Στοιχεία Οργανισμού'!$D$9)","v":17757.955151755919},null,{"$f":"D185*'Γενικά Στοιχεία Οργανισμού'!$D$17/SUM('Γενικά Στοιχεία Οργανισμού'!$D$13:$D$24,'Γενικά Στοιχεία Οργανισμού'!$D$9)","v":17946.468476084538},null,{"$f":"D185*'Γενικά Στοιχεία Οργανισμού'!$D$18/SUM('Γενικά Στοιχεία Οργανισμού'!$D$13:$D$24,'Γενικά Στοιχεία Οργανισμού'!$D$9)","v":28842.53862227872},null,{"$f":"D185*'Γενικά Στοιχεία Οργανισμού'!$D$19/SUM('Γενικά Στοιχεία Οργανισμού'!$D$13:$D$24,'Γενικά Στοιχεία Οργανισμού'!$D$9)","v":46864.4124280947},null,{"$f":"D185*'Γενικά Στοιχεία Οργανισμού'!$D$20/SUM('Γενικά Στοιχεία Οργανισμού'!$D$13:$D$24,'Γενικά Στοιχεία Οργανισμού'!$D$9)","v":18851.332432861909},null,{"$f":"D185*'Γενικά Στοιχεία Οργανισμού'!$D$21/SUM('Γενικά Στοιχεία Οργανισμού'!$D$13:$D$24,'Γενικά Στοιχεία Οργανισμού'!$D$9)","v":23639.570870808835},null,{"$f":"D185*'Γενικά Στοιχεία Οργανισμού'!$D$22/SUM('Γενικά Στοιχεία Οργανισμού'!$D$13:$D$24,'Γενικά Στοιχεία Οργανισμού'!$D$9)","v":17946.468476084538},null,{"$f":"D185*'Γενικά Στοιχεία Οργανισμού'!$D$23/SUM('Γενικά Στοιχεία Οργανισμού'!$D$13:$D$24,'Γενικά Στοιχεία Οργανισμού'!$D$9)","v":23639.570870808835},null,{"$f":"D185*'Γενικά Στοιχεία Οργανισμού'!$D$24/SUM('Γενικά Στοιχεία Οργανισμού'!$D$13:$D$24,'Γενικά Στοιχεία Οργανισμού'!$D$9)","v":22923.220238360085}]
[null,null,"Βενζίνη\n(Επιβατικό)",{"$f":"'Υπολογισμός Αν. Απ.'!H43*Παραμετροποίηση!E27*Παραμετροποίηση!G27/3.6","v":2124540.764576389},null,0,null,0,null,{"$f":"D186*'Γενικά Στοιχεία Οργανισμού'!$D$9/SUM('Γενικά Στοιχεία Οργανισμού'!$D$13:$D$24,'Γενικά Στοιχεία Οργανισμού'!$D$9)","v":168801.90406613611},null,{"$f":"D186*'Γενικά Στοιχεία Οργανισμού'!$D$16/SUM('Γενικά Στοιχεία Οργανισμού'!$D$13:$D$24,'Γενικά Στοιχεία Οργανισμού'!$D$9)","v":159011.39363030021},null,{"$f":"D186*'Γενικά Στοιχεία Οργανισμού'!$D$17/SUM('Γενικά Στοιχεία Οργανισμού'!$D$13:$D$24,'Γενικά Στοιχεία Οργανισμού'!$D$9)","v":160699.41267096158},null,{"$f":"D186*'Γενικά Στοιχεία Οργανισμού'!$D$18/SUM('Γενικά Στοιχεία Οργανισμού'!$D$13:$D$24,'Γενικά Στοιχεία Οργανισμού'!$D$9)","v":258266.91322118824},null,{"$f":"D186*'Γενικά Στοιχεία Οργανισμού'!$D$19/SUM('Γενικά Στοιχεία Οργανισμού'!$D$13:$D$24,'Γενικά Στοιχεία Οργανισμού'!$D$9)","v":419641.53350841434},null,{"$f":"D186*'Γενικά Στοιχεία Οργανισμού'!$D$20/SUM('Γενικά Στοιχεία Οργανισμού'!$D$13:$D$24,'Γενικά Στοιχεία Οργανισμού'!$D$9)","v":168801.90406613611},null,{"$f":"D186*'Γενικά Στοιχεία Οργανισμού'!$D$21/SUM('Γενικά Στοιχεία Οργανισμού'!$D$13:$D$24,'Γενικά Στοιχεία Οργανισμού'!$D$9)","v":211677.58769893469},null,{"$f":"D186*'Γενικά Στοιχεία Οργανισμού'!$D$22/SUM('Γενικά Στοιχεία Οργανισμού'!$D$13:$D$24,'Γενικά Στοιχεία Οργανισμού'!$D$9)","v":160699.41267096158},null,{"$f":"D186*'Γενικά Στοιχεία Οργανισμού'!$D$23/SUM('Γενικά Στοιχεία Οργανισμού'!$D$13:$D$24,'Γενικά Στοιχεία Οργανισμού'!$D$9)","v":211677.58769893469},null,{"$f":"D186*'Γενικά Στοιχεία Οργανισμού'!$D$24/SUM('Γενικά Στοιχεία Οργανισμού'!$D$13:$D$24,'Γενικά Στοιχεία Οργανισμού'!$D$9)","v":205263.11534442147}]
[null,null,"Βενζίνη\n(Μοτοσυκλέτα)",{"$f":"'Υπολογισμός Αν. Απ.'!H44*Παραμετροποίηση!E30*Παραμετροποίηση!G30/3.6","v":271059.55463888892},null,0,null,0,null,{"$f":"D187*'Γενικά Στοιχεία Οργανισμού'!$D$9/SUM('Γενικά Στοιχεία Οργανισμού'!$D$13:$D$24,'Γενικά Στοιχεία Οργανισμού'!$D$9)","v":21536.592613927292},null,{"$f":"D187*'Γενικά Στοιχεία Οργανισμού'!$D$16/SUM('Γενικά Στοιχεία Οργανισμού'!$D$13:$D$24,'Γενικά Στοιχεία Οργανισμού'!$D$9)","v":20287.470242319512},null,{"$f":"D187*'Γενικά Στοιχεία Οργανισμού'!$D$17/SUM('Γενικά Στοιχεία Οργανισμού'!$D$13:$D$24,'Γενικά Στοιχεία Οργανισμού'!$D$9)","v":20502.836168458784},null,{"$f":"D187*'Γενικά Στοιχεία Οργανισμού'!$D$18/SUM('Γενικά Στοιχεία Οργανισμού'!$D$13:$D$24,'Γενικά Στοιχεία Οργανισμού'!$D$9)","v":32950.986699308756},null,{"$f":"D187*'Γενικά Στοιχεία Οργανισμού'!$D$19/SUM('Γενικά Στοιχεία Οργανισμού'!$D$13:$D$24,'Γενικά Στοιχεία Οργανισμού'!$D$9)","v":53539.969238223253},null,{"$f":"D187*'Γενικά Στοιχεία Οργανισμού'!$D$20/SUM('Γενικά Στοιχεία Οργανισμού'!$D$13:$D$24,'Γενικά Στοιχεία Οργανισμού'!$D$9)","v":21536.592613927292},null,{"$f":"D187*'Γενικά Στοιχεία Οργανισμού'!$D$21/SUM('Γενικά Στοιχεία Οργανισμού'!$D$13:$D$24,'Γενικά Στοιχεία Οργανισμού'!$D$9)","v":27006.887137864829},null,{"$f":"D187*'Γενικά Στοιχεία Οργανισμού'!$D$22/SUM('Γενικά Στοιχεία Οργανισμού'!$D$13:$D$24,'Γενικά Στοιχεία Οργανισμού'!$D$9)","v":20502.836168458784},null,{"$f":"D187*'Γενικά Στοιχεία Οργανισμού'!$D$23/SUM('Γενικά Στοιχεία Οργανισμού'!$D$13:$D$24,'Γενικά Στοιχεία Οργανισμού'!$D$9)","v":27006.887137864829},null,{"$f":"D187*'Γενικά Στοιχεία Οργανισμού'!$D$24/SUM('Γενικά Στοιχεία Οργανισμού'!$D$13:$D$24,'Γενικά Στοιχεία Οργανισμού'!$D$9)","v":26188.496618535592}]
[null,null,"Πετρέλαιο Κινησης\n(Λεωφορείο",{"$f":"'Υπολογισμός Αν. Απ.'!H45*Παραμετροποίηση!E31/3.6","v":14920.555555555555},null,0,null,0,null,{"$f":"D188*'Γενικά Στοιχεία Οργανισμού'!$D$9/SUM('Γενικά Στοιχεία Οργανισμού'!$D$13:$D$24,'Γενικά Στοιχεία Οργανισμού'!$D$9)","v":1185.4882850433462},null,{"$f":"D188*'Γενικά Στοιχεία Οργανισμού'!$D$16/SUM('Γενικά Στοιχεία Οργανισμού'!$D$13:$D$24,'Γενικά Στοιχεία Οργανισμού'!$D$9)","v":1116.7299645108321},null,{"$f":"D188*'Γενικά Στοιχεία Οργανισμού'!$D$17/SUM('Γενικά Στοιχεία Οργανισμού'!$D$13:$D$24,'Γενικά Στοιχεία Οργανισμού'!$D$9)","v":1128.5848473612655},null,{"$f":"D188*'Γενικά Στοιχεία Οργανισμού'!$D$18/SUM('Γενικά Στοιχεία Οργανισμού'!$D$13:$D$24,'Γενικά Στοιχεία Οργανισμού'!$D$9)","v":1813.7970761163197},null,{"$f":"D188*'Γενικά Στοιχεία Οργανισμού'!$D$19/SUM('Γενικά Στοιχεία Οργανισμού'!$D$13:$D$24,'Γενικά Στοιχεία Οργανισμού'!$D$9)","v":2947.1238766177589},null,{"$f":"D188*'Γενικά Στοιχεία Οργανισμού'!$D$20/SUM('Γενικά Στοιχεία Οργανισμού'!$D$13:$D$24,'Γενικά Στοιχεία Οργανισμού'!$D$9)","v":1185.4882850433462},null,{"$f":"D188*'Γενικά Στοιχεία Οργανισμού'!$D$21/SUM('Γενικά Στοιχεία Οργανισμού'!$D$13:$D$24,'Γενικά Στοιχεία Οργανισμού'!$D$9)","v":1486.602309444356},null,{"$f":"D188*'Γενικά Στοιχεία Οργανισμού'!$D$22/SUM('Γενικά Στοιχεία Οργανισμού'!$D$13:$D$24,'Γενικά Στοιχεία Οργανισμού'!$D$9)","v":1128.5848473612655},null,{"$f":"D188*'Γενικά Στοιχεία Οργανισμού'!$D$23/SUM('Γενικά Στοιχεία Οργανισμού'!$D$13:$D$24,'Γενικά Στοιχεία Οργανισμού'!$D$9)","v":1486.602309444356},null,{"$f":"D188*'Γενικά Στοιχεία Οργανισμού'!$D$24/SUM('Γενικά Στοιχεία Οργανισμού'!$D$13:$D$24,'Γενικά Στοιχεία Οργανισμού'!$D$9)","v":1441.5537546127091}]
[null,null,"Φυσικό Αέριο Κινησης\n(Λεωφορείο",{"$f":"'Υπολογισμός Αν. Απ.'!H46*Παραμετροποίηση!E32/3.6","v":2933.3333333333335},null,0,null,0,null,{"$f":"D189*'Γενικά Στοιχεία Οργανισμού'!$D$9/SUM('Γενικά Στοιχεία Οργανισμού'!$D$13:$D$24,'Γενικά Στοιχεία Οργανισμού'!$D$9)","v":233.06319190635099},null,{"$f":"D189*'Γενικά Στοιχεία Οργανισμού'!$D$16/SUM('Γενικά Στοιχεία Οργανισμού'!$D$13:$D$24,'Γενικά Στοιχεία Οργανισμού'!$D$9)","v":219.54552677578261},null,{"$f":"D189*'Γενικά Στοιχεία Οργανισμού'!$D$17/SUM('Γενικά Στοιχεία Οργανισμού'!$D$13:$D$24,'Γενικά Στοιχεία Οργανισμού'!$D$9)","v":221.87615869484614},null,{"$f":"D189*'Γενικά Στοιχεία Οργανισμού'!$D$18/SUM('Γενικά Στοιχεία Οργανισμού'!$D$13:$D$24,'Γενικά Στοιχεία Οργανισμού'!$D$9)","v":356.58668361671698},null,{"$f":"D189*'Γενικά Στοιχεία Οργανισμού'!$D$19/SUM('Γενικά Στοιχεία Οργανισμού'!$D$13:$D$24,'Γενικά Στοιχεία Οργανισμού'!$D$9)","v":579.39509507918854},null,{"$f":"D189*'Γενικά Στοιχεία Οργανισμού'!$D$20/SUM('Γενικά Στοιχεία Οργανισμού'!$D$13:$D$24,'Γενικά Στοιχεία Οργανισμού'!$D$9)","v":233.06319190635099},null,{"$f":"D189*'Γενικά Στοιχεία Οργανισμού'!$D$21/SUM('Γενικά Στοιχεία Οργανισμού'!$D$13:$D$24,'Γενικά Στοιχεία Οργανισμού'!$D$9)","v":292.2612426505641},null,{"$f":"D189*'Γενικά Στοιχεία Οργανισμού'!$D$22/SUM('Γενικά Στοιχεία Οργανισμού'!$D$13:$D$24,'Γενικά Στοιχεία Οργανισμού'!$D$9)","v":221.87615869484614},null,{"$f":"D189*'Γενικά Στοιχεία Οργανισμού'!$D$23/SUM('Γενικά Στοιχεία Οργανισμού'!$D$13:$D$24,'Γενικά Στοιχεία Οργανισμού'!$D$9)","v":292.2612426505641},null,{"$f":"D189*'Γενικά Στοιχεία Οργανισμού'!$D$24/SUM('Γενικά Στοιχεία Οργανισμού'!$D$13:$D$24,'Γενικά Στοιχεία Οργανισμού'!$D$9)","v":283.40484135812278}]
[null,null,"Ηλεκτρική Ενέργεια (Επιβατικό)",{"$f":"'Υπολογισμός Αν. Απ.'!H47","v":5584},null,0,null,0,null,{"$f":"D190*'Γενικά Στοιχεία Οργανισμού'!$D$9/SUM('Γενικά Στοιχεία Οργανισμού'!$D$13:$D$24,'Γενικά Στοιχεία Οργανισμού'!$D$9)","v":443.66756713808996},null,{"$f":"D190*'Γενικά Στοιχεία Οργανισμού'!$D$16/SUM('Γενικά Στοιχεία Οργανισμού'!$D$13:$D$24,'Γενικά Στοιχεία Οργανισμού'!$D$9)","v":417.93484824408074},null,{"$f":"D190*'Γενικά Στοιχεία Οργανισμού'!$D$17/SUM('Γενικά Στοιχεία Οργανισμού'!$D$13:$D$24,'Γενικά Στοιχεία Οργανισμού'!$D$9)","v":422.37152391546164},null,{"$f":"D190*'Γενικά Στοιχεία Οργανισμού'!$D$18/SUM('Γενικά Στοιχεία Οργανισμού'!$D$13:$D$24,'Γενικά Στοιχεία Οργανισμού'!$D$9)","v":678.81137772127761},null,{"$f":"D190*'Γενικά Στοιχεία Οργανισμού'!$D$19/SUM('Γενικά Στοιχεία Οργανισμού'!$D$13:$D$24,'Γενικά Στοιχεία Οργανισμού'!$D$9)","v":1102.9575719052916},null,{"$f":"D190*'Γενικά Στοιχεία Οργανισμού'!$D$20/SUM('Γενικά Στοιχεία Οργανισμού'!$D$13:$D$24,'Γενικά Στοιχεία Οργανισμού'!$D$9)","v":443.66756713808996},null,{"$f":"D190*'Γενικά Στοιχεία Οργανισμού'!$D$21/SUM('Γενικά Στοιχεία Οργανισμού'!$D$13:$D$24,'Γενικά Στοιχεία Οργανισμού'!$D$9)","v":556.35912919116481},null,{"$f":"D190*'Γενικά Στοιχεία Οργανισμού'!$D$22/SUM('Γενικά Στοιχεία Οργανισμού'!$D$13:$D$24,'Γενικά Στοιχεία Οργανισμού'!$D$9)","v":422.37152391546164},null,{"$f":"D190*'Γενικά Στοιχεία Οργανισμού'!$D$23/SUM('Γενικά Στοιχεία Οργανισμού'!$D$13:$D$24,'Γενικά Στοιχεία Οργανισμού'!$D$9)","v":556.35912919116481},null,{"$f":"D190*'Γενικά Στοιχεία Οργανισμού'!$D$24/SUM('Γενικά Στοιχεία Οργανισμού'!$D$13:$D$24,'Γενικά Στοιχεία Οργανισμού'!$D$9)","v":539.49976163991732}]
[null,null,"Ηλεκτρική Ενέργεια (Λεωφορείο / Τρόλεϊ)",{"$f":"'Υπολογισμός Αν. Απ.'!H48","v":1068},null,0,null,0,null,{"$f":"D191*'Γενικά Στοιχεία Οργανισμού'!$D$9/SUM('Γενικά Στοιχεία Οργανισμού'!$D$13:$D$24,'Γενικά Στοιχεία Οργανισμού'!$D$9)","v":84.856189416812327},null,{"$f":"D191*'Γενικά Στοιχεία Οργανισμού'!$D$16/SUM('Γενικά Στοιχεία Οργανισμού'!$D$13:$D$24,'Γενικά Στοιχεία Οργανισμού'!$D$9)","v":79.93453043063721},null,{"$f":"D191*'Γενικά Στοιχεία Οργανισμού'!$D$17/SUM('Γενικά Στοιχεία Οργανισμού'!$D$13:$D$24,'Γενικά Στοιχεία Οργανισμού'!$D$9)","v":80.783092324805338},null,{"$f":"D191*'Γενικά Στοιχεία Οργανισμού'!$D$18/SUM('Γενικά Στοιχεία Οργανισμού'!$D$13:$D$24,'Γενικά Στοιχεία Οργανισμού'!$D$9)","v":129.82996980772288},null,{"$f":"D191*'Γενικά Στοιχεία Οργανισμού'!$D$19/SUM('Γενικά Στοιχεία Οργανισμού'!$D$13:$D$24,'Γενικά Στοιχεία Οργανισμού'!$D$9)","v":210.95248689019544},null,{"$f":"D191*'Γενικά Στοιχεία Οργανισμού'!$D$20/SUM('Γενικά Στοιχεία Οργανισμού'!$D$13:$D$24,'Γενικά Στοιχεία Οργανισμού'!$D$9)","v":84.856189416812327},null,{"$f":"D191*'Γενικά Στοιχεία Οργανισμού'!$D$21/SUM('Γενικά Στοιχεία Οργανισμού'!$D$13:$D$24,'Γενικά Στοιχεία Οργανισμού'!$D$9)","v":106.40966152868266},null,{"$f":"D191*'Γενικά Στοιχεία Οργανισμού'!$D$22/SUM('Γενικά Στοιχεία Οργανισμού'!$D$13:$D$24,'Γενικά Στοιχεία Οργανισμού'!$D$9)","v":80.783092324805338},null,{"$f":"D191*'Γενικά Στοιχεία Οργανισμού'!$D$23/SUM('Γενικά Στοιχεία Οργανισμού'!$D$13:$D$24,'Γενικά Στοιχεία Οργανισμού'!$D$9)","v":106.40966152868266},null,{"$f":"D191*'Γενικά Στοιχεία Οργανισμού'!$D$24/SUM('Γενικά Στοιχεία Οργανισμού'!$D$13:$D$24,'Γενικά Στοιχεία Οργανισμού'!$D$9)","v":103.1851263308438}]
[null,null,"Ηλεκτρική Ενέργεια (Συρμοί)",{"$f":"'Υπολογισμός Αν. Απ.'!H49","v":87300},null,0,null,0,null,{"$f":"D192*'Γενικά Στοιχεία Οργανισμού'!$D$9/SUM('Γενικά Στοιχεία Οργανισμού'!$D$13:$D$24,'Γενικά Στοιχεία Οργανισμού'!$D$9)","v":6936.2784045765138},null,{"$f":"D192*'Γενικά Στοιχεία Οργανισμού'!$D$16/SUM('Γενικά Στοιχεία Οργανισμού'!$D$13:$D$24,'Γενικά Στοιχεία Οργανισμού'!$D$9)","v":6533.9742571110755},null,{"$f":"D192*'Γενικά Στοιχεία Οργανισμού'!$D$17/SUM('Γενικά Στοιχεία Οργανισμού'!$D$13:$D$24,'Γενικά Στοιχεία Οργανισμού'!$D$9)","v":6603.3370411568412},null,{"$f":"D192*'Γενικά Στοιχεία Οργανισμού'!$D$18/SUM('Γενικά Στοιχεία Οργανισμού'!$D$13:$D$24,'Γενικά Στοιχεία Οργανισμού'!$D$9)","v":10612.505959002066},null,{"$f":"D192*'Γενικά Στοιχεία Οργανισμού'!$D$19/SUM('Γενικά Στοιχεία Οργανισμού'!$D$13:$D$24,'Γενικά Στοιχεία Οργανισμού'!$D$9)","v":17243.588113777212},null,{"$f":"D192*'Γενικά Στοιχεία Οργανισμού'!$D$20/SUM('Γενικά Στοιχεία Οργανισμού'!$D$13:$D$24,'Γενικά Στοιχεία Οργανισμού'!$D$9)","v":6936.2784045765138},null,{"$f":"D192*'Γενικά Στοιχεία Οργανισμού'!$D$21/SUM('Γενικά Στοιχεία Οργανισμού'!$D$13:$D$24,'Γενικά Στοιχεία Οργανισμού'!$D$9)","v":8698.0931193389479},null,{"$f":"D192*'Γενικά Στοιχεία Οργανισμού'!$D$22/SUM('Γενικά Στοιχεία Οργανισμού'!$D$13:$D$24,'Γενικά Στοιχεία Οργανισμού'!$D$9)","v":6603.3370411568412},null,{"$f":"D192*'Γενικά Στοιχεία Οργανισμού'!$D$23/SUM('Γενικά Στοιχεία Οργανισμού'!$D$13:$D$24,'Γενικά Στοιχεία Οργανισμού'!$D$9)","v":8698.0931193389479},null,{"$f":"D192*'Γενικά Στοιχεία Οργανισμού'!$D$24/SUM('Γενικά Στοιχεία Οργανισμού'!$D$13:$D$24,'Γενικά Στοιχεία Οργανισμού'!$D$9)","v":8434.514539965041}]
[null,null,"Επαγγελματικά Ταξίδια",{"$f":"SUM(D194:E199)","v":1907070.1734277084},null,{"$f":"SUM(F194:G199)","v":0},null,{"$f":"SUM(H194:I199)","v":0},null,{"$f":"SUM(J194:K199)","v":151523.13470742959},null,{"$f":"SUM(L194:M199)","v":142734.79289439865},null,{"$f":"SUM(N194:O199)","v":144250.02424147294},null,{"$f":"SUM(P194:Q199)","v":231830.39610236723},null,{"$f":"SUM(R194:S199)","v":376686.51288266986},null,{"$f":"SUM(T194:U199)","v":151523.13470742959},null,{"$f":"SUM(V194:W199)","v":190010.0109231167},null,{"$f":"SUM(X194:Y199)","v":144250.02424147294},null,{"$f":"SUM(Z194:AA199)","v":190010.0109231167},null,{"$f":"SUM(AB194:AC199)","v":184252.13180423438}]
[null,null,"Πετρέλαιο Κίνησης (Επιβατικό)",{"$f":"'Υπολογισμός Αν. Απ.'!H53*Παραμετροποίηση!E26*Παραμετροποίηση!G26/3.6+'Υπολογισμός Αν. Απ.'!H55*Παραμετροποίηση!E28*Παραμετροποίηση!G28/3.6","v":9715.5839500000002},null,0,null,0,null,{"$f":"D194*'Γενικά Στοιχεία Οργανισμού'!$D$9/SUM('Γενικά Στοιχεία Οργανισμού'!$D$13:$D$24,'Γενικά Στοιχεία Οργανισμού'!$D$9)","v":771.93579771174313},null,{"$f":"D194*'Γενικά Στοιχεία Οργανισμού'!$D$16/SUM('Γενικά Στοιχεία Οργανισμού'!$D$13:$D$24,'Γενικά Στοιχεία Οργανισμού'!$D$9)","v":727.16352144446216},null,{"$f":"D194*'Γενικά Στοιχεία Οργανισμού'!$D$17/SUM('Γενικά Στοιχεία Οργανισμού'!$D$13:$D$24,'Γενικά Στοιχεία Οργανισμού'!$D$9)","v":734.88287942157967},null,{"$f":"D194*'Γενικά Στοιχεία Οργανισμού'!$D$18/SUM('Γενικά Στοιχεία Οργανισμού'!$D$13:$D$24,'Γενικά Στοιχεία Οργανισμού'!$D$9)","v":1181.0617704989672},null,{"$f":"D194*'Γενικά Στοιχεία Οργανισμού'!$D$19/SUM('Γενικά Στοιχεία Οργανισμού'!$D$13:$D$24,'Γενικά Στοιχεία Οργανισμού'!$D$9)","v":1919.0323931113937},null,{"$f":"D194*'Γενικά Στοιχεία Οργανισμού'!$D$20/SUM('Γενικά Στοιχεία Οργανισμού'!$D$13:$D$24,'Γενικά Στοιχεία Οργανισμού'!$D$9)","v":771.93579771174313},null,{"$f":"D194*'Γενικά Στοιχεία Οργανισμού'!$D$21/SUM('Γενικά Στοιχεία Οργανισμού'!$D$13:$D$24,'Γενικά Στοιχεία Οργανισμού'!$D$9)","v":968.00749033052591},null,{"$f":"D194*'Γενικά Στοιχεία Οργανισμού'!$D$22/SUM('Γενικά Στοιχεία Οργανισμού'!$D$13:$D$24,'Γενικά Στοιχεία Οργανισμού'!$D$9)","v":734.88287942157967},null,{"$f":"D194*'Γενικά Στοιχεία Οργανισμού'!$D$23/SUM('Γενικά Στοιχεία Οργανισμού'!$D$13:$D$24,'Γενικά Στοιχεία Οργανισμού'!$D$9)","v":968.00749033052591},null,{"$f":"D194*'Γενικά Στοιχεία Οργανισμού'!$D$24/SUM('Γενικά Στοιχεία Οργανισμού'!$D$13:$D$24,'Γενικά Στοιχεία Οργανισμού'!$D$9)","v":938.67393001747973}]
[null,null,"Βενζίνη\n(Επιβατικό)",{"$f":"'Υπολογισμός Αν. Απ.'!H54*Παραμετροποίηση!E27*Παραμετροποίηση!G27/3.6+'Υπολογισμός Αν. Απ.'!H56*Παραμετροποίηση!E29*Παραμετροποίηση!G29/3.6","v":87062.733227708348},null,0,null,0,null,{"$f":"D195*'Γενικά Στοιχεία Οργανισμού'!$D$9/SUM('Γενικά Στοιχεία Οργανισμού'!$D$13:$D$24,'Γενικά Στοιχεία Οργανισμού'!$D$9)","v":6917.4267620934652},null,{"$f":"D195*'Γενικά Στοιχεία Οργανισμού'!$D$16/SUM('Γενικά Στοιχεία Οργανισμού'!$D$13:$D$24,'Γενικά Στοιχεία Οργανισμού'!$D$9)","v":6516.216009892044},null,{"$f":"D195*'Γενικά Στοιχεία Οργανισμού'!$D$17/SUM('Γενικά Στοιχεία Οργανισμού'!$D$13:$D$24,'Γενικά Στοιχεία Οργανισμού'!$D$9)","v":6585.3902775129791},null,{"$f":"D195*'Γενικά Στοιχεία Οργανισμού'!$D$18/SUM('Γενικά Στοιχεία Οργανισμού'!$D$13:$D$24,'Γενικά Στοιχεία Οργανισμού'!$D$9)","v":10583.662946003002},null,{"$f":"D195*'Γενικά Στοιχεία Οργανισμού'!$D$19/SUM('Γενικά Στοιχεία Οργανισμού'!$D$13:$D$24,'Γενικά Στοιχεία Οργανισμού'!$D$9)","v":17196.722930564352},null,{"$f":"D195*'Γενικά Στοιχεία Οργανισμού'!$D$20/SUM('Γενικά Στοιχεία Οργανισμού'!$D$13:$D$24,'Γενικά Στοιχεία Οργανισμού'!$D$9)","v":6917.4267620934652},null,{"$f":"D195*'Γενικά Στοιχεία Οργανισμού'!$D$21/SUM('Γενικά Στοιχεία Οργανισμού'!$D$13:$D$24,'Γενικά Στοιχεία Οργανισμού'!$D$9)","v":8674.453159665205},null,{"$f":"D195*'Γενικά Στοιχεία Οργανισμού'!$D$22/SUM('Γενικά Στοιχεία Οργανισμού'!$D$13:$D$24,'Γενικά Στοιχεία Οργανισμού'!$D$9)","v":6585.3902775129791},null,{"$f":"D195*'Γενικά Στοιχεία Οργανισμού'!$D$23/SUM('Γενικά Στοιχεία Οργανισμού'!$D$13:$D$24,'Γενικά Στοιχεία Οργανισμού'!$D$9)","v":8674.453159665205},null,{"$f":"D195*'Γενικά Στοιχεία Οργανισμού'!$D$24/SUM('Γενικά Στοιχεία Οργανισμού'!$D$13:$D$24,'Γενικά Στοιχεία Οργανισμού'!$D$9)","v":8411.590942705654}]
[null,null,"Πετρέλαιο Κίνησης\n(Τρένο)",{"$f":"'Υπολογισμός Αν. Απ.'!H57*Παραμετροποίηση!E33*Παραμετροποίηση!G33/3.6+'Υπολογισμός Αν. Απ.'!H58*Παραμετροποίηση!E34*Παραμετροποίηση!G34/3.6","v":0},null,0,null,0,null,{"$f":"D196*'Γενικά Στοιχεία Οργανισμού'!$D$9/SUM('Γενικά Στοιχεία Οργανισμού'!$D$13:$D$24,'Γενικά Στοιχεία Οργανισμού'!$D$9)","v":0},null,{"$f":"D196*'Γενικά Στοιχεία Οργανισμού'!$D$16/SUM('Γενικά Στοιχεία Οργανισμού'!$D$13:$D$24,'Γενικά Στοιχεία Οργανισμού'!$D$9)","v":0},null,{"$f":"D196*'Γενικά Στοιχεία Οργανισμού'!$D$17/SUM('Γενικά Στοιχεία Οργανισμού'!$D$13:$D$24,'Γενικά Στοιχεία Οργανισμού'!$D$9)","v":0},null,{"$f":"D196*'Γενικά Στοιχεία Οργανισμού'!$D$18/SUM('Γενικά Στοιχεία Οργανισμού'!$D$13:$D$24,'Γενικά Στοιχεία Οργανισμού'!$D$9)","v":0},null,{"$f":"D196*'Γενικά Στοιχεία Οργανισμού'!$D$19/SUM('Γενικά Στοιχεία Οργανισμού'!$D$13:$D$24,'Γενικά Στοιχεία Οργανισμού'!$D$9)","v":0},null,{"$f":"D196*'Γενικά Στοιχεία Οργανισμού'!$D$20/SUM('Γενικά Στοιχεία Οργανισμού'!$D$13:$D$24,'Γενικά Στοιχεία Οργανισμού'!$D$9)","v":0},null,{"$f":"D196*'Γενικά Στοιχεία Οργανισμού'!$D$21/SUM('Γενικά Στοιχεία Οργανισμού'!$D$13:$D$24,'Γενικά Στοιχεία Οργανισμού'!$D$9)","v":0},null,{"$f":"D196*'Γενικά Στοιχεία Οργανισμού'!$D$22/SUM('Γενικά Στοιχεία Οργανισμού'!$D$13:$D$24,'Γενικά Στοιχεία Οργανισμού'!$D$9)","v":0},null,{"$f":"D196*'Γενικά Στοιχεία Οργανισμού'!$D$23/SUM('Γενικά Στοιχεία Οργανισμού'!$D$13:$D$24,'Γενικά Στοιχεία Οργανισμού'!$D$9)","v":0},null,{"$f":"D196*'Γενικά Στοιχεία Οργανισμού'!$D$24/SUM('Γενικά Στοιχεία Οργανισμού'!$D$13:$D$24,'Γενικά Στοιχεία Οργανισμού'!$D$9)","v":0}]
[null,null,"Κηροζίνη\n(Αεροσκάφος)",{"$f":"'Υπολογισμός Αν. Απ.'!H59*Παραμετροποίηση!E35/3.6+'Υπολογισμός Αν. Απ.'!H60*Παραμετροποίηση!E36/3.6","v":1810053.8162500001},null,0,null,0,null,{"$f":"D197*'Γενικά Στοιχεία Οργανισμού'!$D$9/SUM('Γενικά Στοιχεία Οργανισμού'!$D$13:$D$24,'Γενικά Στοιχεία Οργανισμού'!$D$9)","v":143814.85906960117},null,{"$f":"D197*'Γενικά Στοιχεία Οργανισμού'!$D$16/SUM('Γενικά Στοιχεία Οργανισμού'!$D$13:$D$24,'Γενικά Στοιχεία Οργανισμού'!$D$9)","v":135473.59724356429},null,{"$f":"D197*'Γενικά Στοιχεία Οργανισμού'!$D$17/SUM('Γενικά Στοιχεία Οργανισμού'!$D$13:$D$24,'Γενικά Στοιχεία Οργανισμού'!$D$9)","v":136911.74583426031},null,{"$f":"D197*'Γενικά Στοιχεία Οργανισμού'!$D$18/SUM('Γενικά Στοιχεία Οργανισμού'!$D$13:$D$24,'Γενικά Στοιχεία Οργανισμού'!$D$9)","v":220036.73437648977},null,{"$f":"D197*'Γενικά Στοιχεία Οργανισμού'!$D$19/SUM('Γενικά Στοιχεία Οργανισμού'!$D$13:$D$24,'Γενικά Στοιχεία Οργανισμού'!$D$9)","v":357523.73964702844},null,{"$f":"D197*'Γενικά Στοιχεία Οργανισμού'!$D$20/SUM('Γενικά Στοιχεία Οργανισμού'!$D$13:$D$24,'Γενικά Στοιχεία Οργανισμού'!$D$9)","v":143814.85906960117},null,{"$f":"D197*'Γενικά Στοιχεία Οργανισμού'!$D$21/SUM('Γενικά Στοιχεία Οργανισμού'!$D$13:$D$24,'Γενικά Στοιχεία Οργανισμού'!$D$9)","v":180343.83327327986},null,{"$f":"D197*'Γενικά Στοιχεία Οργανισμού'!$D$22/SUM('Γενικά Στοιχεία Οργανισμού'!$D$13:$D$24,'Γενικά Στοιχεία Οργανισμού'!$D$9)","v":136911.74583426031},null,{"$f":"D197*'Γενικά Στοιχεία Οργανισμού'!$D$23/SUM('Γενικά Στοιχεία Οργανισμού'!$D$13:$D$24,'Γενικά Στοιχεία Οργανισμού'!$D$9)","v":180343.83327327986},null,{"$f":"D197*'Γενικά Στοιχεία Οργανισμού'!$D$24/SUM('Γενικά Στοιχεία Οργανισμού'!$D$13:$D$24,'Γενικά Στοιχεία Οργανισμού'!$D$9)","v":174878.86862863501}]
[null,null,"Ηλεκτρική Ενέργεια (Επιβατικό)",{"$f":"'Υπολογισμός Αν. Απ.'!H61","v":238.04},null,0,null,0,null,{"$f":"D198*'Γενικά Στοιχεία Οργανισμού'!$D$9/SUM('Γενικά Στοιχεία Οργανισμού'!$D$13:$D$24,'Γενικά Στοιχεία Οργανισμού'!$D$9)","v":18.913078023200381},null,{"$f":"D198*'Γενικά Στοιχεία Οργανισμού'!$D$16/SUM('Γενικά Στοιχεία Οργανισμού'!$D$13:$D$24,'Γενικά Στοιχεία Οργανισμού'!$D$9)","v":17.816119497854757},null,{"$f":"D198*'Γενικά Στοιχεία Οργανισμού'!$D$17/SUM('Γενικά Στοιχεία Οργανισμού'!$D$13:$D$24,'Γενικά Στοιχεία Οργανισμού'!$D$9)","v":18.005250278086763},null,{"$f":"D198*'Γενικά Στοιχεία Οργανισμού'!$D$18/SUM('Γενικά Στοιχεία Οργανισμού'!$D$13:$D$24,'Γενικά Στοιχεία Οργανισμού'!$D$9)","v":28.937009375496583},null,{"$f":"D198*'Γενικά Στοιχεία Οργανισμού'!$D$19/SUM('Γενικά Στοιχεία Οργανισμού'!$D$13:$D$24,'Γενικά Στοιχεία Οργανισμού'!$D$9)","v":47.017911965676142},null,{"$f":"D198*'Γενικά Στοιχεία Οργανισμού'!$D$20/SUM('Γενικά Στοιχεία Οργανισμού'!$D$13:$D$24,'Γενικά Στοιχεία Οργανισμού'!$D$9)","v":18.913078023200381},null,{"$f":"D198*'Γενικά Στοιχεία Οργανισμού'!$D$21/SUM('Γενικά Στοιχεία Οργανισμού'!$D$13:$D$24,'Γενικά Στοιχεία Οργανισμού'!$D$9)","v":23.716999841093276},null,{"$f":"D198*'Γενικά Στοιχεία Οργανισμού'!$D$22/SUM('Γενικά Στοιχεία Οργανισμού'!$D$13:$D$24,'Γενικά Στοιχεία Οργανισμού'!$D$9)","v":18.005250278086763},null,{"$f":"D198*'Γενικά Στοιχεία Οργανισμού'!$D$23/SUM('Γενικά Στοιχεία Οργανισμού'!$D$13:$D$24,'Γενικά Στοιχεία Οργανισμού'!$D$9)","v":23.716999841093276},null,{"$f":"D198*'Γενικά Στοιχεία Οργανισμού'!$D$24/SUM('Γενικά Στοιχεία Οργανισμού'!$D$13:$D$24,'Γενικά Στοιχεία Οργανισμού'!$D$9)","v":22.998302876211664}]
[null,null,"Ηλεκτρική Ενέργεια\n(Τρένο)",{"$f":"'Υπολογισμός Αν. Απ.'!H63","v":0},null,0,null,0,null,{"$f":"D199*'Γενικά Στοιχεία Οργανισμού'!$D$9/SUM('Γενικά Στοιχεία Οργανισμού'!$D$13:$D$24,'Γενικά Στοιχεία Οργανισμού'!$D$9)","v":0},null,{"$f":"D199*'Γενικά Στοιχεία Οργανισμού'!$D$16/SUM('Γενικά Στοιχεία Οργανισμού'!$D$13:$D$24,'Γενικά Στοιχεία Οργανισμού'!$D$9)","v":0},null,{"$f":"D199*'Γενικά Στοιχεία Οργανισμού'!$D$17/SUM('Γενικά Στοιχεία Οργανισμού'!$D$13:$D$24,'Γενικά Στοιχεία Οργανισμού'!$D$9)","v":0},null,{"$f":"D199*'Γενικά Στοιχεία Οργανισμού'!$D$18/SUM('Γενικά Στοιχεία Οργανισμού'!$D$13:$D$24,'Γενικά Στοιχεία Οργανισμού'!$D$9)","v":0},null,{"$f":"D199*'Γενικά Στοιχεία Οργανισμού'!$D$19/SUM('Γενικά Στοιχεία Οργανισμού'!$D$13:$D$24,'Γενικά Στοιχεία Οργανισμού'!$D$9)","v":0},null,{"$f":"D199*'Γενικά Στοιχεία Οργανισμού'!$D$20/SUM('Γενικά Στοιχεία Οργανισμού'!$D$13:$D$24,'Γενικά Στοιχεία Οργανισμού'!$D$9)","v":0},null,{"$f":"D199*'Γενικά Στοιχεία Οργανισμού'!$D$21/SUM('Γενικά Στοιχεία Οργανισμού'!$D$13:$D$24,'Γενικά Στοιχεία Οργανισμού'!$D$9)","v":0},null,{"$f":"D199*'Γενικά Στοιχεία Οργανισμού'!$D$22/SUM('Γενικά Στοιχεία Οργανισμού'!$D$13:$D$24,'Γενικά Στοιχεία Οργανισμού'!$D$9)","v":0},null,{"$f":"D199*'Γενικά Στοιχεία Οργανισμού'!$D$23/SUM('Γενικά Στοιχεία Οργανισμού'!$D$13:$D$24,'Γενικά Στοιχεία Οργανισμού'!$D$9)","v":0},null,{"$f":"D199*'Γενικά Στοιχεία Οργανισμού'!$D$24/SUM('Γενικά Στοιχεία Οργανισμού'!$D$13:$D$24,'Γενικά Στοιχεία Οργανισμού'!$D$9)","v":0}]
[null,null,"ΣΥΝΟΛΟ",{"$f":"D165+D172+D174","v":21456874.346524931},null,{"$f":"F165+F172+F174","v":559754.76513314061},null,{"$f":"H165+H172+H174","v":215718.10187609261},null,{"$f":"J165+J172+J174","v":838086.17203253717},null,{"$f":"L165+L172+L174","v":1502708.9539879207},null,{"$f":"N165+N172+N174","v":2196773.7877058936},null,{"$f":"P165+P172+P174","v":1919122.6469645139},null,{"$f":"R165+R172+R174","v":3029439.2527372222},null,{"$f":"T165+T172+T174","v":2889647.8224086855},null,{"$f":"V165+V172+V174","v":1272740.1144337964},null,{"$f":"X165+X172+X174","v":1854820.0865606209},null,{"$f":"Z165+Z172+Z174","v":2755973.3951978986},null,{"$f":"AB165+AB172+AB174","v":2422089.2474866076}]
[]
[null,null,"Συγκεντρωτικός Πίνακας Βασικών Δεικτών Επίδοσης (KPIs)"]
[null,null,"Κατηγορία","Μονάδες Δείκτη Εκπομπών",null,"KPI Εκπομπών",null,"Μονάδες Δείκτη Ενέργειας",null,"KPI Ενέργειας",null,"Μονάδες Δείκτη Εκπομπών 2",null,"KPI Εκπομπών 2",null,"Μονάδες Δείκτη Ενέργειας 2",null,"KPI Ενέργειας 2",null,"(Επιβατικά) Χιλιόμετρα"]
[null,null,"SCOPE 1","-",null,"-",null,"-",null,"-",null,"-",null,"-",null,"-",null,"-",null,"-"]
[null,null,"Σταθερή Καύση","(kg CO2e / m2)",null,{"$f":"SUM(F206:G207)","v":2.550613577933849},null,"(kWh / m2)",null,{"$f":"SUM(J206:K207)","v":12.689195554923982},null,"-",null,"-",null,"-",null,"-",null,"-"]
[null,null,"Πετρέλαιο Θέρμανσης","(kg CO2e / m2)",null,{"$f":"D30/SUM('Γενικά Στοιχεία Οργανισμού'!$F$13:$F$24)*1000","v":0},null,"(kWh / m2)",null,{"$f":"D167/SUM('Γενικά Στοιχεία Οργανισμού'!$F$13:$F$24)","v":0},null,"-",null,"-",null,"-",null,"-",null,"-"]
[null,null,"Φυσικό Αέριο","(kg CO2e / m2)",null,{"$f":"D33/SUM('Γενικά Στοιχεία Οργανισμού'!$F$13:$F$24)*1000","v":2.550613577933849},null,"(kWh / m2)",null,{"$f":"D168/SUM('Γενικά Στοιχεία Οργανισμού'!$F$13:$F$24)","v":12.689195554923982},null,"-",null,"-",null,"-",null,"-",null,"-"]
[null,null,"Κινητή Καύση","(kg CO2e / km)",null,{"$f":"IF(T208=\"-\",\"-\",D36/T208*1000)","v":0.13914791450452221},null,"(kWh / km)",null,{"$f":"IF(T208=\"-\",\"-\",D169/T208)","v":0.52237383524640968},null,"-",null,"-",null,"-",null,"-",null,330387]
[null,null,"Πετρέλαιο Κίνησης (Επιβατικό)","(kg CO2e / km)",null,{"$f":"IF(T209=\"-\",\"-\",D39/T209*1000)","v":0.1279374556888066},null,"(kWh / km)",null,{"$f":"IF(T209=\"-\",\"-\",D170/T209)","v":0.48002867319541231},null,"-",null,"-",null,"-",null,"-",null,257732]
[null,null,"Βενζίνη\n(Επιβατικό)","(kg CO2e / km)",null,{"$f":"IF(T210=\"-\",\"-\",D42/T210*1000)","v":0.17891522537771767},null,"(kWh / km)",null,{"$f":"IF(T210=\"-\",\"-\",D171/T210)","v":0.6725865295651442},null,"-",null,"-",null,"-",null,"-",null,72655]
[null,null,"Ανεξέλεγκτες Εκπομπές Ανθρωπογενών Συστημάτων","(kg CO2e / m2)",null,{"$f":"SUM(F212:G217)","v":0},null,"-",null,"-",null,"-",null,"-",null,"-",null,"-",null,"-"]
[null,null,"R-11","(kg CO2e / m2)",null,{"$f":"D48/SUM('Γενικά Στοιχεία Οργανισμού'!$F$13:$F$24)*1000","v":0},null,"-",null,"-",null,"-",null,"-",null,"-",null,"-",null,"-"]
[null,null,"R-12","(kg CO2e / m2)",null,{"$f":"D51/SUM('Γενικά Στοιχεία Οργανισμού'!$F$13:$F$24)*1000","v":0},null,"-",null,"-",null,"-",null,"-",null,"-",null,"-",null,"-"]
[null,null,"R-134a","(kg CO2e / m2)",null,{"$f":"D54/SUM('Γενικά Στοιχεία Οργανισμού'!$F$13:$F$24)*1000","v":0},null,"-",null,"-",null,"-",null,"-",null,"-",null,"-",null,"-"]
[null,null,"R-290","(kg CO2e / m2)",null,{"$f":"D57/SUM('Γενικά Στοιχεία Οργανισμού'!$F$13:$F$24)*1000","v":0},null,"-",null,"-",null,"-",null,"-",null,"-",null,"-",null,"-"]
[null,null,"R-404a","(kg CO2e / m2)",null,{"$f":"D60/SUM('Γενικά Στοιχεία Οργανισμού'!$F$13:$F$24)*1000","v":0},null,"-",null,"-",null,"-",null,"-",null,"-",null,"-",null,"-"]
[null,null,"R-410a","(kg CO2e / m2)",null,{"$f":"D63/SUM('Γενικά Στοιχεία Οργανισμού'!$F$13:$F$24)*1000","v":0},null,"-",null,"-",null,"-",null,"-",null,"-",null,"-",null,"-"]
[null,null,"SCOPE 2","(kg CO2e / m2)",null,{"$f":"F219","v":14.16262415724934},null,"(kWh / m2)",null,{"$f":"J219","v":51.978985499891117},null,"-",null,"-",null,"-",null,"-",null,"-"]
[null,null,"Εισαγόμενη Ηλεκτρική Ενέργεια","(kg CO2e / m2)",null,{"$f":"D69/SUM('Γενικά Στοιχεία Οργανισμού'!$F$13:$F$24)*1000","v":14.16262415724934},null,"(kWh / m2)",null,{"$f":"D173/SUM('Γενικά Στοιχεία Οργανισμού'!$F$13:$F$24)","v":51.978985499891117},null,"-",null,"-",null,"-",null,"-",null,"-"]
[null,null,"SCOPE 3","-",null,"-",null,"-",null,"-",null,"-",null,"-",null,"-",null,"-",null,"-"]
[null,null,"Μετακίνηση Φοιτητών","(kg CO2e / φοιτητή)",null,{"$f":"SUM(F222:G229)","v":142.86694189996473},null,"(kWh / φοιτητή)",null,{"$f":"SUM(J222:K229)","v":451.60729685611938},null,"(kg CO2e / pkm)",null,{"$f":"IF(T221=\"-\",\"-\",D75/T221*1000)","v":6.1578434117821185E-2},null,"(kWh / pkm)",null,{"$f":"IF(T221=\"-\",\"-\",D175/T221)","v":0.19465153944468053},null,13440228]
[null,null,"Πετρέλαιο Κίνησης (Επιβατικό)","(kg CO2e / φοιτητή)",null,{"$f":"D78/SUM('Γενικά Στοιχεία Οργανισμού'!$D$16:$D$24)*1000","v":7.3062113890313336},null,"(kWh / φοιτητή)",null,{"$f":"D176/SUM('Γενικά Στοιχεία Οργανισμού'!$D$16:$D$24)","v":27.413324270671502},null,"(kg CO2e / pkm)",null,{"$f":"IF(T222=\"-\",\"-\",D78/T222*1000)","v":8.5202216323961605E-2},null,"(kWh / pkm)",null,{"$f":"IF(T222=\"-\",\"-\",D176/T222)","v":0.31968360348499675},null,496758]
[null,null,"Βενζίνη\n(Επιβατικό)","(kg CO2e / φοιτητή)",null,{"$f":"D81/SUM('Γενικά Στοιχεία Οργανισμού'!$D$16:$D$24)*1000","v":65.600269594141793},null,"(kWh / φοιτητή)",null,{"$f":"D177/SUM('Γενικά Στοιχεία Οργανισμού'!$D$16:$D$24)","v":246.60761861777621},null,"(kg CO2e / pkm)",null,{"$f":"IF(T223=\"-\",\"-\",D81/T223*1000)","v":0.11935510632622211},null,"(kWh / pkm)",null,{"$f":"IF(T223=\"-\",\"-\",D177/T223)","v":0.44868532893361157},null,3183964]
[null,null,"Βενζίνη\n(Μοτοσυκλέτα)","(kg CO2e / φοιτητή)",null,{"$f":"D84/SUM('Γενικά Στοιχεία Οργανισμού'!$D$16:$D$24)*1000","v":15.589733277683221},null,"(kWh / φοιτητή)",null,{"$f":"D178/SUM('Γενικά Στοιχεία Οργανισμού'!$D$16:$D$24)","v":56.761622970491196},null,"(kg CO2e / pkm)",null,{"$f":"IF(T224=\"-\",\"-\",D84/T224*1000)","v":7.2720521587652187E-2},null,"(kWh / pkm)",null,0.2647726394706606,null,1241896]
[null,null,"Πετρέλαιο Κινησης\n(Λεωφορείο","(kg CO2e / φοιτητή)",null,{"$f":"D87/SUM('Γενικά Στοιχεία Οργανισμού'!$D$16:$D$24)*1000","v":3.3928728761801525},null,"(kWh / φοιτητή)",null,{"$f":"D179/SUM('Γενικά Στοιχεία Οργανισμού'!$D$16:$D$24)","v":16.875942229127105},null,"(kg CO2e / pkm)",null,{"$f":"IF(T223=\"-\",\"-\",D87/T225*1000)","v":2.2620376004814834E-2},null,"(kWh / pkm)",null,0.11251236712651853,null,868903]
[null,null,"Φυσικό Αέριο Κινησης\n(Λεωφορείο","(kg CO2e / φοιτητή)",null,{"$f":"D90/SUM('Γενικά Στοιχεία Οργανισμού'!$D$16:$D$24)*1000","v":0.71731731690523048},null,"(kWh / φοιτητή)",null,{"$f":"D180/SUM('Γενικά Στοιχεία Οργανισμού'!$D$16:$D$24)","v":3.3442660682432819},null,"(kg CO2e / pkm)",null,{"$f":"IF(T226=\"-\",\"-\",D90/T226*1000)","v":2.3022095751353208E-2},null,"(kWh / pkm)",null,0.10733327054373941,null,180497]
[null,null,"Ηλεκτρική Ενέργεια (Επιβατικό)","(kg CO2e / φοιτητή)",null,{"$f":"D93/SUM('Γενικά Στοιχεία Οργανισμού'!$D$16:$D$24)*1000","v":0.32839991385488637},null,"(kWh / φοιτητή)",null,{"$f":"D181/SUM('Γενικά Στοιχεία Οργανισμού'!$D$16:$D$24)","v":0.65734507163818401},null,"(kg CO2e / pkm)",null,{"$f":"IF(T227=\"-\",\"-\",D93/T227*1000)","v":4.6762055427607523E-2},null,"(kWh / pkm)",null,9.360175011675638E-2,null,40683]
[null,null,"Ηλεκτρική Ενέργεια (Λεωφορείο / Τρόλεϊ)","(kg CO2e / φοιτητή)",null,{"$f":"D96/SUM('Γενικά Στοιχεία Οργανισμού'!$D$16:$D$24)*1000","v":0.60246895960878044},null,"(kWh / φοιτητή)",null,{"$f":"D182/SUM('Γενικά Στοιχεία Οργανισμού'!$D$16:$D$24)","v":1.2059382012774038},null,"(kg CO2e / pkm)",null,{"$f":"IF(T228=\"-\",\"-\",D96/T228*1000)","v":1.2580437393488159E-2},null,"(kWh / pkm)",null,2.5181762146613655E-2,null,{"$f":"165996+111427","v":277423}]
[null,null,"Ηλεκτρική Ενέργεια (Συρμοί)","(kg CO2e / φοιτητή)",null,{"$f":"D99/SUM('Γενικά Στοιχεία Οργανισμού'!$D$16:$D$24)*1000","v":49.329668572559314},null,"(kWh / φοιτητή)",null,{"$f":"D183/SUM('Γενικά Στοιχεία Οργανισμού'!$D$16:$D$24)","v":98.741239426894523},null,"(kg CO2e / pkm)",null,{"$f":"IF(T229=\"-\",\"-\",D99/T229*1000)","v":3.9966804679713856E-2},null,"(kWh / pkm)",null,7.9999966434049968E-2,null,7150103]
[null,null,"Μετακίνηση Υπαλλήλων","(kg CO2e / υπάλληλο)",null,{"$f":"SUM(F231:G238)","v":119.72019961583754},null,"(kWh / υπάλληλο)",null,{"$f":"SUM(J231:K238)","v":436.14636550201283},null,"(kg CO2e / pkm)",null,{"$f":"IF(T230=\"-\",\"-\",D102/T230*1000)","v":0.12903433374994061},null,"(kWh / pkm)",null,{"$f":"IF(T230=\"-\",\"-\",D184/T230)","v":0.47007819791978889},null,5838750]
[null,null,"Πετρέλαιο Κίνησης (Επιβατικό)","(kg CO2e / υπάλληλο)",null,{"$f":"D105/SUM('Γενικά Στοιχεία Οργανισμού'!$D$13:$D$24,'Γενικά Στοιχεία Οργανισμού'!$D$9)*1000","v":10.048531025239113},null,"(kWh / υπάλληλο)",null,{"$f":"D185/SUM('Γενικά Στοιχεία Οργανισμού'!$D$13:$D$24,'Γενικά Στοιχεία Οργανισμού'!$D$9)","v":37.702664865723818},null,"(kg CO2e / pkm)",null,{"$f":"IF(T231=\"-\",\"-\",D105/T231*1000)","v":0.12793722799089105},null,"(kWh / pkm)",null,{"$f":"IF(T231=\"-\",\"-\",D185/T231)","v":0.48002781885977069},null,494269]
[null,null,"Βενζίνη\n(Επιβατικό)","(kg CO2e / υπάλληλο)",null,{"$f":"D108/SUM('Γενικά Στοιχεία Οργανισμού'!$D$13:$D$24,'Γενικά Στοιχεία Οργανισμού'!$D$9)*1000","v":89.80623126575847},null,"(kWh / υπάλληλο)",null,{"$f":"D186/SUM('Γενικά Στοιχεία Οργανισμού'!$D$13:$D$24,'Γενικά Στοιχεία Οργανισμού'!$D$9)","v":337.60380813227221},null,"(kg CO2e / pkm)",null,{"$f":"IF(T232=\"-\",\"-\",D108/T232*1000)","v":0.17891448848221797},null,"(kWh / pkm)",null,{"$f":"IF(T232=\"-\",\"-\",D186/T232)","v":0.6725837593929257},null,3158775]
[null,null,"Βενζίνη\n(Μοτοσυκλέτα)","(kg CO2e / υπάλληλο)",null,{"$f":"D111/SUM('Γενικά Στοιχεία Οργανισμού'!$D$13:$D$24,'Γενικά Στοιχεία Οργανισμού'!$D$9)*1000","v":11.830166827181667},null,"(kWh / υπάλληλο)",null,{"$f":"D187/SUM('Γενικά Στοιχεία Οργανισμού'!$D$13:$D$24,'Γενικά Στοιχεία Οργανισμού'!$D$9)","v":43.073185227854587},null,"(kg CO2e / pkm)",null,{"$f":"IF(T233=\"-\",\"-\",D111/T233*1000)","v":8.7360112843004392E-2},null,"(kWh / pkm)",null,0.31807483165556066,null,852188]
[null,null,"Πετρέλαιο Κινησης\n(Λεωφορείο","(kg CO2e / υπάλληλο)",null,{"$f":"D114/SUM('Γενικά Στοιχεία Οργανισμού'!$D$13:$D$24,'Γενικά Στοιχεία Οργανισμού'!$D$9)*1000","v":0.47667987869865319},null,"(kWh / υπάλληλο)",null,{"$f":"D188/SUM('Γενικά Στοιχεία Οργανισμού'!$D$13:$D$24,'Γενικά Στοιχεία Οργανισμού'!$D$9)","v":2.3709765700866923},null,"(kg CO2e / pkm)",null,{"$f":"IF(T234=\"-\",\"-\",D114/T234*1000)","v":2.2616041229893583E-2},null,"(kWh / pkm)",null,0.11249080622110975,null,132638]
[null,null,"Φυσικό Αέριο Κινησης\n(Λεωφορείο","(kg CO2e / υπάλληλο)",null,{"$f":"D117/SUM('Γενικά Στοιχεία Οργανισμού'!$D$13:$D$24,'Γενικά Στοιχεία Οργανισμού'!$D$9)*1000","v":9.9980240851740024E-2},null,"(kWh / υπάλληλο)",null,{"$f":"D189/SUM('Γενικά Στοιχεία Οργανισμού'!$D$13:$D$24,'Γενικά Στοιχεία Οργανισμού'!$D$9)","v":0.46612638381270199},null,"(kg CO2e / pkm)",null,{"$f":"IF(T235=\"-\",\"-\",D117/T235*1000)","v":2.3014692211573633E-2},null,"(kWh / pkm)",null,0.10729875387129027,null,27338]
[null,null,"Ηλεκτρική Ενέργεια (Επιβατικό)","(kg CO2e / υπάλληλο)",null,{"$f":"D120/SUM('Γενικά Στοιχεία Οργανισμού'!$D$13:$D$24,'Γενικά Στοιχεία Οργανισμού'!$D$9)*1000","v":0.44329956096043327},null,"(kWh / υπάλληλο)",null,{"$f":"D190/SUM('Γενικά Στοιχεία Οργανισμού'!$D$13:$D$24,'Γενικά Στοιχεία Οργανισμού'!$D$9)","v":0.88733513427617994},null,"(kg CO2e / pkm)",null,{"$f":"IF(T236=\"-\",\"-\",D120/T236*1000)","v":7.0147203528477114E-2},null,"(kWh / pkm)",null,0.14041087279036435,null,39769]
[null,null,"Ηλεκτρική Ενέργεια (Λεωφορείο / Τρόλεϊ)","(kg CO2e / υπάλληλο)",null,{"$f":"D123/SUM('Γενικά Στοιχεία Οργανισμού'!$D$13:$D$24,'Γενικά Στοιχεία Οργανισμού'!$D$9)*1000","v":8.4785804281114374E-2},null,"(kWh / υπάλληλο)",null,{"$f":"D191/SUM('Γενικά Στοιχεία Οργανισμού'!$D$13:$D$24,'Γενικά Στοιχεία Οργανισμού'!$D$9)","v":0.16971237883362467},null,"(kg CO2e / pkm)",null,{"$f":"IF(T237=\"-\",\"-\",D123/T237*1000)","v":1.2546608341745114E-2},null,"(kWh / pkm)",null,2.5114047876593142E-2,null,{"$f":"25313+17213","v":42526}]
[null,null,"Ηλεκτρική Ενέργεια (Συρμοί)","(kg CO2e / υπάλληλο)",null,{"$f":"D126/SUM('Γενικά Στοιχεία Οργανισμού'!$D$13:$D$24,'Γενικά Στοιχεία Οργανισμού'!$D$9)*1000","v":6.9305250128663713},null,"(kWh / υπάλληλο)",null,{"$f":"D192/SUM('Γενικά Στοιχεία Οργανισμού'!$D$13:$D$24,'Γενικά Στοιχεία Οργανισμού'!$D$9)","v":13.872556809153027},null,"(kg CO2e / pkm)",null,{"$f":"IF(T238=\"-\",\"-\",D126/T238*1000)","v":3.9966821448767995E-2},null,"(kWh / pkm)",null,0.08,null,1091250]
[null,null,"Επαγγελματικά Ταξίδια","(kg CO2e / υπάλληλο)",null,{"$f":"SUM(F240:G245)","v":81.328497154544863},null,"(kWh / υπάλληλο)",null,{"$f":"SUM(J240:K245)","v":303.04626941485913},null,"(kg CO2e / pkm)",null,{"$f":"IF(T239=\"-\",\"-\",D129/T239*1000)","v":8.7655788069972318E-2},null,"(kWh / pkm)",null,{"$f":"IF(T239=\"-\",\"-\",D193/T239)","v":0.32662302263801474},null,5838750]
[null,null,"Πετρέλαιο Κίνησης (Επιβατικό)","(kg CO2e / υπάλληλο)",null,{"$f":"D132/SUM('Γενικά Στοιχεία Οργανισμού'!$D$13:$D$24,'Γενικά Στοιχεία Οργανισμού'!$D$9)*1000","v":0.41147334494390192},null,"(kWh / υπάλληλο)",null,{"$f":"D194/SUM('Γενικά Στοιχεία Οργανισμού'!$D$13:$D$24,'Γενικά Στοιχεία Οργανισμού'!$D$9)","v":1.5438715954234865},null,"(kg CO2e / pkm)",null,{"$f":"IF(T240=\"-\",\"-\",D132/T240*1000)","v":0.12793486955197503},null,"(kWh / pkm)",null,{"$f":"IF(T240=\"-\",\"-\",D194/T240)","v":0.48001896986166009},null,20240]
[null,null,"Βενζίνη\n(Επιβατικό)","(kg CO2e / υπάλληλο)",null,{"$f":"D135/SUM('Γενικά Στοιχεία Οργανισμού'!$D$13:$D$24,'Γενικά Στοιχεία Οργανισμού'!$D$9)*1000","v":3.6802193138598542},null,"(kWh / υπάλληλο)",null,{"$f":"D195/SUM('Γενικά Στοιχεία Οργανισμού'!$D$13:$D$24,'Γενικά Στοιχεία Οργανισμού'!$D$9)","v":13.834853524186929},null,"(kg CO2e / pkm)",null,{"$f":"IF(T241=\"-\",\"-\",D135/T241*1000)","v":0.17891475253675354},null,"(kWh / pkm)",null,0.67258475203915447,null,129445]
[null,null,"Πετρέλαιο Κίνησης\n(Τρένο)","(kg CO2e / υπάλληλο)",null,{"$f":"D138/SUM('Γενικά Στοιχεία Οργανισμού'!$D$13:$D$24,'Γενικά Στοιχεία Οργανισμού'!$D$9)*1000","v":0},null,"(kWh / υπάλληλο)",null,{"$f":"D196/SUM('Γενικά Στοιχεία Οργανισμού'!$D$13:$D$24,'Γενικά Στοιχεία Οργανισμού'!$D$9)","v":0},null,"(kg CO2e / pkm)",null,{"$f":"IF(T242=\"-\",\"-\",D138/T242*1000)","v":"-"},null,"(kWh / pkm)",null,"-",null,"-"]
[null,null,"Κηροζίνη\n(Αεροσκάφος)","(kg CO2e / υπάλληλο)",null,{"$f":"D141/SUM('Γενικά Στοιχεία Οργανισμού'!$D$13:$D$24,'Γενικά Στοιχεία Οργανισμού'!$D$9)*1000","v":77.217907105431109},null,"(kWh / υπάλληλο)",null,{"$f":"D197/SUM('Γενικά Στοιχεία Οργανισμού'!$D$13:$D$24,'Γενικά Στοιχεία Οργανισμού'!$D$9)","v":287.62971813920234},null,"(kg CO2e / pkm)",null,{"$f":"IF(T243=\"-\",\"-\",D141/T243*1000)","v":0.14363725104269104},null,"(kWh / pkm)",null,0.5350357654124146,null,3383052]
[null,null,"Ηλεκτρική Ενέργεια (Επιβατικό)","(kg CO2e / υπάλληλο)",null,{"$f":"D144/SUM('Γενικά Στοιχεία Οργανισμού'!$D$13:$D$24,'Γενικά Στοιχεία Οργανισμού'!$D$9)*1000","v":1.8897390309996692E-2},null,"(kWh / υπάλληλο)",null,{"$f":"D198/SUM('Γενικά Στοιχεία Οργανισμού'!$D$13:$D$24,'Γενικά Στοιχεία Οργανισμού'!$D$9)","v":3.7826156046400765E-2},null,"(kg CO2e / pkm)",null,{"$f":"IF(T244=\"-\",\"-\",D144/T244*1000)","v":7.0160045557999498E-2},null,"(kWh / pkm)",null,0.14043657817109145,null,1695]
[null,null,"Ηλεκτρική Ενέργεια\n(Τρένο)","(kg CO2e / υπάλληλο)",null,{"$f":"D147/SUM('Γενικά Στοιχεία Οργανισμού'!$D$13:$D$24,'Γενικά Στοιχεία Οργανισμού'!$D$9)*1000","v":0},null,"(kWh / υπάλληλο)",null,{"$f":"D199/SUM('Γενικά Στοιχεία Οργανισμού'!$D$13:$D$24,'Γενικά Στοιχεία Οργανισμού'!$D$9)","v":0},null,"(kg CO2e / pkm)",null,{"$f":"IF(T245=\"-\",\"-\",D147/T245*1000)","v":"-"},null,"(kWh / pkm)",null,"-",null,"-"]
[null,null,"Τελική Διάθεση Στερεών Αποβλήτων","(kg CO2e / άτομο)",null,{"$f":"D150/SUM('Γενικά Στοιχεία Οργανισμού'!$E$13:$E$24,'Γενικά Στοιχεία Οργανισμού'!$D$9,'Γενικά Στοιχεία Οργανισμού'!$D$13:$D$24)*1000","v":11.693938418855602},null,"(kWh / άτομο)",null,"-",null,"-",null,"-",null,"-",null,"-",null,"-"]
[null,null,"Διαχείριση Λυμάτων","(kg CO2e / άτομο που παράγει λύματα)",null,{"$f":"D153/'Υπολογισμός Αν. Απ.'!E72*1000","v":74.767465097699997},null,"(kWh / άτομο που παράγει λύματα)",null,"-",null,"-",null,"-",null,"-",null,"-",null,"-"]
[null,null,"Προμήθεια Χαρτιών","(kg CO2e / άτομο)",null,{"$f":"D156/SUM('Γενικά Στοιχεία Οργανισμού'!$E$13:$E$24,'Γενικά Στοιχεία Οργανισμού'!$D$9,'Γενικά Στοιχεία Οργανισμού'!$D$13:$D$24)*1000","v":2.4009654976572485},null,"(kWh / άτομο)",null,"-",null,"-",null,"-",null,"-",null,"-",null,"-"]

{"sheet":"Σύνοψη - Διαγράμματα","index":6,"n_rows":0,"n_cols":0,"rows_kept":0,"cut":false,"hidden":false,"merged":[]}

{"sheet":"Διαγράμματα Αναφοράς","index":7,"n_rows":0,"n_cols":0,"rows_kept":0,"cut":false,"hidden":true,"merged":[]}

{"sheet":"Στοιχεία Αναφοράς","index":8,"n_rows":114,"n_cols":18,"rows_kept":114,"cut":false,"hidden":true,"merged":[]}
["Κατηγορία","Εκπομπές CO2e (tn)","Ενέργεια (kWh)","Μονάδες Δείκτη Εκπομπών","KPI Εκπομπών","Μονάδες Δείκτη Ενέργειας","KPI Ενέργειας",null,"Κατηγορία","Εκπομπές CO2e (tn)",null,null,null,{"$f":"_xlfn._xlws.SORT(Table6[#All],2,-1)","v":"Κατηγορία"},"Εκπομπές CO2e (tn)"]
["SCOPE 1",{"$f":"'Σύνοψη - Πίνακες'!D24","v":598.80081087423741},{"$f":"'Σύνοψη - Πίνακες'!D165","v":2922882.3743055551},"-","-","-","-",null,{"$f":"A3","v":"Σταθερή Καύση"},{"$f":"B3","v":552.82814884483184},null,null,null,"Εισαγόμενη Ηλεκτρική Ενέργεια",3069.6524802395256,{"$f":"O2/SUM($O$2:$O$11)","v":0.52244914541300069}]
["Σταθερή Καύση",{"$f":"'Σύνοψη - Πίνακες'!D27","v":552.82814884483184},{"$f":"'Σύνοψη - Πίνακες'!D166","v":2750296.8499999996},"(kg CO2e / m2)",{"$f":"'Σύνοψη - Πίνακες'!F205","v":2.550613577933849},"(kWh / m2)",{"$f":"'Σύνοψη - Πίνακες'!J205","v":12.689195554923982},null,{"$f":"A6","v":"Κινητή Καύση"},{"$f":"B6","v":45.972662029405583},null,null,null,"Μετακίνηση Φοιτητών",827.62819442649561,0.14086078006592059]
["Πετρέλαιο Θέρμανσης",{"$f":"'Σύνοψη - Πίνακες'!D30","v":0},{"$f":"'Σύνοψη - Πίνακες'!D167","v":0},"(kg CO2e / m2)",{"$f":"'Σύνοψη - Πίνακες'!F206","v":0},"(kWh / m2)",{"$f":"'Σύνοψη - Πίνακες'!J206","v":0},null,{"$f":"A9","v":"Ανεξέλεγκτες Εκπομπές Ανθρωπογενών Συστημάτων"},{"$f":"B9","v":0},null,null,null,"Μετακίνηση Υπαλλήλων",753.39921618246581,0.12822714596625615]
["Φυσικό Αέριο",{"$f":"'Σύνοψη - Πίνακες'!D33","v":552.82814884483184},{"$f":"'Σύνοψη - Πίνακες'!D168","v":2750296.8499999996},"(kg CO2e / m2)",{"$f":"'Σύνοψη - Πίνακες'!F207","v":2.550613577933849},"(kWh / m2)",{"$f":"'Σύνοψη - Πίνακες'!J207","v":12.689195554923982},null,{"$f":"A17","v":"Εισαγόμενη Ηλεκτρική Ενέργεια"},{"$f":"B17","v":3069.6524802395256},null,null,null,"Σταθερή Καύση",552.82814884483184,9.4090323182673935E-2]
["Κινητή Καύση",{"$f":"'Σύνοψη - Πίνακες'!D36","v":45.972662029405583},{"$f":"'Σύνοψη - Πίνακες'!D169","v":172585.52430555556},"(kg CO2e / km)",{"$f":"IF('Σύνοψη - Πίνακες'!F208=\"-\",\"-\",'Σύνοψη - Πίνακες'!F208)","v":0.13914791450452221},"(kWh / km)",{"$f":"IF('Σύνοψη - Πίνακες'!J208=\"-\",\"-\",'Σύνοψη - Πίνακες'!J208)","v":0.52237383524640968},null,{"$f":"A19","v":"Μετακίνηση Φοιτητών"},{"$f":"B19","v":827.62819442649561},null,null,null,"Επαγγελματικά Ταξίδια",511.80023259355085,8.7107448110807381E-2]
["Πετρέλαιο Κίνησης (Επιβατικό)",{"$f":"'Σύνοψη - Πίνακες'!D39","v":32.973576329587502},{"$f":"'Σύνοψη - Πίνακες'!D170","v":123718.75},"(kg CO2e / km)",{"$f":"IF('Σύνοψη - Πίνακες'!F209=\"-\",\"-\",'Σύνοψη - Πίνακες'!F209)","v":0.1279374556888066},"(kWh / km)",{"$f":"IF('Σύνοψη - Πίνακες'!J209=\"-\",\"-\",'Σύνοψη - Πίνακες'!J209)","v":0.48002867319541231},null,{"$f":"A37","v":"Μετακίνηση Υπαλλήλων"},{"$f":"B37","v":753.39921618246581},null,null,null,"Τελική Διάθεση Στερεών Αποβλήτων",82.360408284000002,1.4017588375503685E-2]
["Βενζίνη (Επιβατικό)",{"$f":"'Σύνοψη - Πίνακες'!D42","v":12.999085699818078},{"$f":"'Σύνοψη - Πίνακες'!D171","v":48866.774305555555},"(kg CO2e / km)",{"$f":"IF('Σύνοψη - Πίνακες'!F210=\"-\",\"-\",'Σύνοψη - Πίνακες'!F210)","v":0.17891522537771767},"(kWh / km)",{"$f":"IF('Σύνοψη - Πίνακες'!J210=\"-\",\"-\",'Σύνοψη - Πίνακες'!J210)","v":0.6725865295651442},null,{"$f":"A55","v":"Επαγγελματικά Ταξίδια"},{"$f":"B55","v":511.80023259355085},null,null,null,"Κινητή Καύση",45.972662029405583,7.8244616106346657E-3]
["Ανεξέλεγκτες Εκπομπές Ανθρωπογενών Συστημάτων",{"$f":"'Σύνοψη - Πίνακες'!D45","v":0},"-","(kg CO2e / m2)",{"$f":"'Σύνοψη - Πίνακες'!F211","v":0},"(kWh / m2)",{"$f":"'Σύνοψη - Πίνακες'!H211","v":"-"},null,{"$f":"A69","v":"Τελική Διάθεση Στερεών Αποβλήτων"},82.360408284000002,null,null,null,"Προμήθεια Χαρτιών",16.91,2.8780505629889658E-3]
["R-11",{"$f":"'Σύνοψη - Πίνακες'!D48","v":0},"-","(kg CO2e / m2)",{"$f":"'Σύνοψη - Πίνακες'!F212","v":0},"(kWh / m2)",{"$f":"'Σύνοψη - Πίνακες'!H212","v":"-"},null,"Διαχείριση Λυμάτων",14.953493019539998,null,null,null,"Διαχείριση Λυμάτων",14.953493019539998,2.5450567122139956E-3]
["R-12",{"$f":"'Σύνοψη - Πίνακες'!D51","v":0},"-","(kg CO2e / m2)",{"$f":"'Σύνοψη - Πίνακες'!F213","v":0},"(kWh / m2)",{"$f":"'Σύνοψη - Πίνακες'!H213","v":"-"},null,"Προμήθεια Χαρτιών",16.91,null,null,null,"Ανεξέλεγκτες Εκπομπές Ανθρωπογενών Συστημάτων",0,0]
["R-134a",{"$f":"'Σύνοψη - Πίνακες'!D54","v":0},"-","(kg CO2e / m2)",{"$f":"'Σύνοψη - Πίνακες'!F214","v":0},"(kWh / m2)",{"$f":"'Σύνοψη - Πίνακες'!H214","v":"-"}]
["R-290",{"$f":"'Σύνοψη - Πίνακες'!D57","v":0},"-","(kg CO2e / m2)",{"$f":"'Σύνοψη - Πίνακες'!F215","v":0},"(kWh / m2)",{"$f":"'Σύνοψη - Πίνακες'!H215","v":"-"},null,"Εκπομπές CO2e (tn)","1","2","Υποκατηγορία",null,{"$f":"_xlfn._xlws.SORT(Table7[#All],1,-1,FALSE)","v":"Εκπομπές CO2e (tn)"},"1","2","Υποκατηγορία"]
["R-404a",{"$f":"'Σύνοψη - Πίνακες'!D60","v":0},"-","(kg CO2e / m2)",{"$f":"'Σύνοψη - Πίνακες'!F216","v":0},"(kWh / m2)",{"$f":"'Σύνοψη - Πίνακες'!H216","v":"-"},null,{"$f":"B4","v":0},{"$f":"A4","v":"Πετρέλαιο Θέρμανσης"},"ΣΚ - ",{"$f":"_xlfn.TEXTJOIN(,,Table7[[#This Row],[2]],Table7[[#This Row],[1]])","v":"ΣΚ - Πετρέλαιο Θέρμανσης"},null,3069.6524802395256,"Εισαγόμενη Ηλεκτρική Ενέργεια",0,"Εισαγόμενη Ηλεκτρική Ενέργεια",{"$f":"N14/SUM($O$2:$O$11)","v":0.52244914541300069}]
["R-410a",{"$f":"'Σύνοψη - Πίνακες'!D63","v":0},"-","(kg CO2e / m2)",{"$f":"'Σύνοψη - Πίνακες'!F217","v":0},"(kWh / m2)",{"$f":"'Σύνοψη - Πίνακες'!H217","v":"-"},null,{"$f":"B5","v":552.82814884483184},{"$f":"A5","v":"Φυσικό Αέριο"},"ΣΚ - ",{"$f":"_xlfn.TEXTJOIN(,,Table7[[#This Row],[2]],Table7[[#This Row],[1]])","v":"ΣΚ - Φυσικό Αέριο"},null,565.15061335541805,"Βενζίνη (Επιβατικό)","ΜΥ - ","ΜΥ - Βενζίνη (Επιβατικό)",9.6187583733951532E-2]
["SCOPE 2",{"$f":"'Σύνοψη - Πίνακες'!D66","v":3069.6524802395256},{"$f":"'Σύνοψη - Πίνακες'!D172","v":11266091.65},"(kg CO2e / m2)",{"$f":"'Σύνοψη - Πίνακες'!F218","v":14.16262415724934},"(kWh / m2)",{"$f":"'Σύνοψη - Πίνακες'!J218","v":51.978985499891117},null,{"$f":"B7","v":32.973576329587502},{"$f":"A7","v":"Πετρέλαιο Κίνησης (Επιβατικό)"},"ΚΚ - ",{"$f":"_xlfn.TEXTJOIN(,,Table7[[#This Row],[2]],Table7[[#This Row],[1]])","v":"ΚΚ - Πετρέλαιο Κίνησης (Επιβατικό)"},null,552.82814884483184,"Φυσικό Αέριο","ΣΚ - ","ΣΚ - Φυσικό Αέριο",9.4090323182673935E-2]
["Εισαγόμενη Ηλεκτρική Ενέργεια",{"$f":"'Σύνοψη - Πίνακες'!D69","v":3069.6524802395256},{"$f":"'Σύνοψη - Πίνακες'!D173","v":11266091.65},"(kg CO2e / m2)",{"$f":"'Σύνοψη - Πίνακες'!F219","v":14.16262415724934},"(kWh / m2)",{"$f":"'Σύνοψη - Πίνακες'!J219","v":51.978985499891117},null,{"$f":"B8","v":12.999085699818078},{"$f":"A8","v":"Βενζίνη (Επιβατικό)"},"ΚΚ - ",{"$f":"_xlfn.TEXTJOIN(,,Table7[[#This Row],[2]],Table7[[#This Row],[1]])","v":"ΚΚ - Βενζίνη (Επιβατικό)"},null,485.93228941447802,"Κηροζίνη (Αεροσκάφος)","ΕΤ - ","ΕΤ - Κηροζίνη (Αεροσκάφος)",8.2704772272256394E-2]
["SCOPE 3",{"$f":"'Σύνοψη - Πίνακες'!D72","v":2207.0515445060523},{"$f":"'Σύνοψη - Πίνακες'!D174","v":7267900.3222193755},"-","-","-","-",null,{"$f":"B10","v":0},{"$f":"A10","v":"R-11"},"ΑΕΑΣ - ",{"$f":"_xlfn.TEXTJOIN(,,Table7[[#This Row],[2]],Table7[[#This Row],[1]])","v":"ΑΕΑΣ - R-11"},null,380.02236175886344,"Βενζίνη (Επιβατικό)","ΜΦ - ","ΜΦ - Βενζίνη (Επιβατικό)",6.4679099480100144E-2]
["Μετακίνηση Φοιτητών",{"$f":"'Σύνοψη - Πίνακες'!D75","v":827.62819442649561},{"$f":"'Σύνοψη - Πίνακες'!D175","v":2616161.0706874998},"(kg CO2e / φοιτητή)",{"$f":"'Σύνοψη - Πίνακες'!F221","v":142.86694189996473},"(kWh / φοιτητή)",{"$f":"'Σύνοψη - Πίνακες'!J221","v":451.60729685611938},null,0,"R-12","ΑΕΑΣ - ",{"$f":"_xlfn.TEXTJOIN(,,Table7[[#This Row],[2]],Table7[[#This Row],[1]])","v":"ΑΕΑΣ - R-12"},null,285.76677004083609,"Ηλεκτρική Ενέργεια (Συρμοί)","ΜΦ - ","ΜΦ - Ηλεκτρική Ενέργεια (Συρμοί)",4.863697299820028E-2]
[null,null,null,"(kg CO2e / pkm)",{"$f":"IF('Σύνοψη - Πίνακες'!N221=\"-\",\"-\",'Σύνοψη - Πίνακες'!N221)","v":6.1578434117821185E-2},"(kWh / pkm)",{"$f":"IF('Σύνοψη - Πίνακες'!R221=\"-\",\"-\",'Σύνοψη - Πίνακες'!R221)","v":0.19465153944468053},null,0,"R-134a","ΑΕΑΣ - ",{"$f":"_xlfn.TEXTJOIN(,,Table7[[#This Row],[2]],Table7[[#This Row],[1]])","v":"ΑΕΑΣ - R-134a"},null,90.311324877618901,"Βενζίνη (Μοτοσυκλέτα)","ΜΦ - ","ΜΦ - Βενζίνη (Μοτοσυκλέτα)",1.5370819598362536E-2]
["Πετρέλαιο Κίνησης (Επιβατικό)",{"$f":"'Σύνοψη - Πίνακες'!D78","v":42.324882576658517},{"$f":"'Σύνοψη - Πίνακες'!D176","v":158805.38750000001},"(kg CO2e / φοιτητή)",{"$f":"'Σύνοψη - Πίνακες'!F222","v":7.3062113890313336},"(kWh / φοιτητή)",{"$f":"'Σύνοψη - Πίνακες'!J222","v":27.413324270671502},null,0,"R-290","ΑΕΑΣ - ",{"$f":"_xlfn.TEXTJOIN(,,Table7[[#This Row],[2]],Table7[[#This Row],[1]])","v":"ΑΕΑΣ - R-290"},null,82.360408284000002,"Τελική Διάθεση Στερεών Αποβλήτων",0,"Τελική Διάθεση Στερεών Αποβλήτων",1.4017588375503685E-2]
[null,null,null,"(kg CO2e / pkm)",{"$f":"IF('Σύνοψη - Πίνακες'!N222=\"-\",\"-\",'Σύνοψη - Πίνακες'!N222)","v":8.5202216323961605E-2},"(kWh / pkm)",{"$f":"IF('Σύνοψη - Πίνακες'!R222=\"-\",\"-\",'Σύνοψη - Πίνακες'!R222)","v":0.31968360348499675},null,0,"R-404a","ΑΕΑΣ - ",{"$f":"_xlfn.TEXTJOIN(,,Table7[[#This Row],[2]],Table7[[#This Row],[1]])","v":"ΑΕΑΣ - R-404a"},null,74.447239843454227,"Βενζίνη (Μοτοσυκλέτα)","ΜΥ - ","ΜΥ - Βενζίνη (Μοτοσυκλέτα)",1.2670781818121113E-2]
["Βενζίνη (Επιβατικό)",{"$f":"'Σύνοψη - Πίνακες'!D81","v":380.02236175886344},{"$f":"'Σύνοψη - Πίνακες'!D177","v":1428597.9346527776},"(kg CO2e / φοιτητή)",{"$f":"'Σύνοψη - Πίνακες'!F223","v":65.600269594141793},"(kWh / φοιτητή)",{"$f":"'Σύνοψη - Πίνακες'!J223","v":246.60761861777621},null,0,"R-410a","ΑΕΑΣ - ",{"$f":"_xlfn.TEXTJOIN(,,Table7[[#This Row],[2]],Table7[[#This Row],[1]])","v":"ΑΕΑΣ - R-410a"},null,63.23540574182973,"Πετρέλαιο Κίνησης (Επιβατικό)","ΜΥ - ","ΜΥ - Πετρέλαιο Κίνησης (Επιβατικό)",1.0762548497700104E-2]
[null,null,null,"(kg CO2e / pkm)",{"$f":"IF('Σύνοψη - Πίνακες'!N223=\"-\",\"-\",'Σύνοψη - Πίνακες'!N223)","v":0.11935510632622211},"(kWh / pkm)",{"$f":"IF('Σύνοψη - Πίνακες'!R223=\"-\",\"-\",'Σύνοψη - Πίνακες'!R223)","v":0.44868532893361157},null,{"$f":"B21","v":42.324882576658517},{"$f":"A21","v":"Πετρέλαιο Κίνησης (Επιβατικό)"},"ΜΦ - ",{"$f":"_xlfn.TEXTJOIN(,,Table7[[#This Row],[2]],Table7[[#This Row],[1]])","v":"ΜΦ - Πετρέλαιο Κίνησης (Επιβατικό)"},null,43.613793905968073,"Ηλεκτρική Ενέργεια (Συρμοί)","ΜΥ - ","ΜΥ - Ηλεκτρική Ενέργεια (Συρμοί)",7.4229866413457208E-3]
["Βενζίνη (Μοτοσυκλέτα)",{"$f":"'Σύνοψη - Πίνακες'!D84","v":90.311324877618901},{"$f":"'Σύνοψη - Πίνακες'!D178","v":328820.08186805551},"(kg CO2e / φοιτητή)",{"$f":"'Σύνοψη - Πίνακες'!F224","v":15.589733277683221},"(kWh / φοιτητή)",{"$f":"'Σύνοψη - Πίνακες'!J224","v":56.761622970491196},null,{"$f":"B23","v":380.02236175886344},{"$f":"A23","v":"Βενζίνη (Επιβατικό)"},"ΜΦ - ",{"$f":"_xlfn.TEXTJOIN(,,Table7[[#This Row],[2]],Table7[[#This Row],[1]])","v":"ΜΦ - Βενζίνη (Επιβατικό)"},null,42.324882576658517,"Πετρέλαιο Κίνησης (Επιβατικό)","ΜΦ - ","ΜΦ - Πετρέλαιο Κίνησης (Επιβατικό)",7.2036163292840873E-3]
[null,null,null,"(kg CO2e / pkm)",{"$f":"IF('Σύνοψη - Πίνακες'!N224=\"-\",\"-\",'Σύνοψη - Πίνακες'!N224)","v":7.2720521587652187E-2},"(kWh / pkm)",{"$f":"IF('Σύνοψη - Πίνακες'!R224=\"-\",\"-\",'Σύνοψη - Πίνακες'!R224)","v":0.2647726394706606},null,{"$f":"B25","v":90.311324877618901},{"$f":"A25","v":"Βενζίνη (Μοτοσυκλέτα)"},"ΜΦ - ",{"$f":"_xlfn.TEXTJOIN(,,Table7[[#This Row],[2]],Table7[[#This Row],[1]])","v":"ΜΦ - Βενζίνη (Μοτοσυκλέτα)"},null,32.973576329587502,"Πετρέλαιο Κίνησης (Επιβατικό)","ΚΚ - ","ΚΚ - Πετρέλαιο Κίνησης (Επιβατικό)",5.612041390841452E-3]
["Πετρέλαιο Κίνησης (Λεωφορείο)",{"$f":"'Σύνοψη - Πίνακες'!D87","v":19.654912571711623},{"$f":"'Σύνοψη - Πίνακες'!D179","v":97762.333333333328},"(kg CO2e / φοιτητή)",{"$f":"'Σύνοψη - Πίνακες'!F225","v":3.3928728761801525},"(kWh / φοιτητή)",{"$f":"'Σύνοψη - Πίνακες'!J225","v":16.875942229127105},null,{"$f":"Table3[[#This Row],[Εκπομπές CO2e (tn)]]","v":19.654912571711623},{"$f":"Table3[[#This Row],[Κατηγορία]]","v":"Πετρέλαιο Κίνησης (Λεωφορείο)"},"ΜΦ - ",{"$f":"_xlfn.TEXTJOIN(,,Table7[[#This Row],[2]],Table7[[#This Row],[1]])","v":"ΜΦ - Πετρέλαιο Κίνησης (Λεωφορείο)"},null,23.159620142120062,"Βενζίνη (Επιβατικό)","ΕΤ - ","ΕΤ - Βενζίνη (Επιβατικό)",3.9417242926457268E-3]
[null,null,null,"(kg CO2e / pkm)",{"$f":"IF('Σύνοψη - Πίνακες'!N224=\"-\",\"-\",'Σύνοψη - Πίνακες'!N224)","v":7.2720521587652187E-2},"(kWh / pkm)",{"$f":"IF('Σύνοψη - Πίνακες'!R224=\"-\",\"-\",'Σύνοψη - Πίνακες'!R224)","v":0.2647726394706606},null,{"$f":"B31","v":1.9024207009613567},{"$f":"A31","v":"Ηλεκτρική Ενέργεια (Επιβατικό)"},"ΜΦ - ",{"$f":"_xlfn.TEXTJOIN(,,Table7[[#This Row],[2]],Table7[[#This Row],[1]])","v":"ΜΦ - Ηλεκτρική Ενέργεια (Επιβατικό)"},null,19.654912571711623,"Πετρέλαιο Κίνησης (Λεωφορείο)","ΜΦ - ","ΜΦ - Πετρέλαιο Κίνησης (Λεωφορείο)",3.345229579687377E-3]
["Φυσικό Αέριο Κίνησης (Λεωφορείο)",{"$f":"'Σύνοψη - Πίνακες'!D90","v":4.1554192168319997},{"$f":"'Σύνοψη - Πίνακες'!D180","v":19373.333333333332},"(kg CO2e / φοιτητή)",{"$f":"'Σύνοψη - Πίνακες'!F226","v":0.71731731690523048},"(kWh / φοιτητή)",{"$f":"'Σύνοψη - Πίνακες'!J226","v":3.3442660682432819},null,{"$f":"B33","v":3.4901026830136654},{"$f":"A33","v":"Ηλεκτρική Ενέργεια (Λεωφορείο / Τρόλεϊ)"},"ΜΦ - ",{"$f":"_xlfn.TEXTJOIN(,,Table7[[#This Row],[2]],Table7[[#This Row],[1]])","v":"ΜΦ - Ηλεκτρική Ενέργεια (Λεωφορείο / Τρόλεϊ)"},null,16.91,"Προμήθεια Χαρτιών",0,"Προμήθεια Χαρτιών",2.8780505629889658E-3]
[null,null,null,"(kg CO2e / pkm)",{"$f":"IF('Σύνοψη - Πίνακες'!N226=\"-\",\"-\",'Σύνοψη - Πίνακες'!N226)","v":2.3022095751353208E-2},"(kWh / pkm)",{"$f":"IF('Σύνοψη - Πίνακες'!R226=\"-\",\"-\",'Σύνοψη - Πίνακες'!R226)","v":0.10733327054373941},null,{"$f":"B35","v":285.76677004083609},{"$f":"A35","v":"Ηλεκτρική Ενέργεια (Συρμοί)"},"ΜΦ - ",{"$f":"_xlfn.TEXTJOIN(,,Table7[[#This Row],[2]],Table7[[#This Row],[1]])","v":"ΜΦ - Ηλεκτρική Ενέργεια (Συρμοί)"},null,14.953493019539998,"Διαχείριση Λυμάτων",0,"Διαχείριση Λυμάτων",2.5450567122139956E-3]
["Ηλεκτρική Ενέργεια (Επιβατικό)",{"$f":"'Σύνοψη - Πίνακες'!D93","v":1.9024207009613567},{"$f":"'Σύνοψη - Πίνακες'!D181","v":3808},"(kg CO2e / φοιτητή)",{"$f":"'Σύνοψη - Πίνακες'!F227","v":0.32839991385488637},"(kWh / φοιτητή)",{"$f":"'Σύνοψη - Πίνακες'!J227","v":0.65734507163818401},null,{"$f":"B39","v":63.23540574182973},{"$f":"A39","v":"Πετρέλαιο Κίνησης (Επιβατικό)"},"ΜΥ - ",{"$f":"_xlfn.TEXTJOIN(,,Table7[[#This Row],[2]],Table7[[#This Row],[1]])","v":"ΜΥ - Πετρέλαιο Κίνησης (Επιβατικό)"},null,12.999085699818078,"Βενζίνη (Επιβατικό)","ΚΚ - ","ΚΚ - Βενζίνη (Επιβατικό)",2.2124202197932132E-3]
[null,null,null,"(kg CO2e / pkm)",{"$f":"IF('Σύνοψη - Πίνακες'!N227=\"-\",\"-\",'Σύνοψη - Πίνακες'!N227)","v":4.6762055427607523E-2},"(kWh / pkm)",{"$f":"IF('Σύνοψη - Πίνακες'!R227=\"-\",\"-\",'Σύνοψη - Πίνακες'!R227)","v":9.360175011675638E-2},null,{"$f":"B41","v":565.15061335541805},{"$f":"A41","v":"Βενζίνη (Επιβατικό)"},"ΜΥ - ",{"$f":"_xlfn.TEXTJOIN(,,Table7[[#This Row],[2]],Table7[[#This Row],[1]])","v":"ΜΥ - Βενζίνη (Επιβατικό)"},null,3.4901026830136654,"Ηλεκτρική Ενέργεια (Λεωφορείο / Τρόλεϊ)","ΜΦ - ","ΜΦ - Ηλεκτρική Ενέργεια (Λεωφορείο / Τρόλεϊ)",5.9400898827538615E-4]
["Ηλεκτρική Ενέργεια (Λεωφορείο / Τρόλεϊ)",{"$f":"'Σύνοψη - Πίνακες'!D96","v":3.4901026830136654},{"$f":"'Σύνοψη - Πίνακες'!D182","v":6986},"(kg CO2e / φοιτητή)",{"$f":"'Σύνοψη - Πίνακες'!F228","v":0.60246895960878044},"(kWh / φοιτητή)",{"$f":"'Σύνοψη - Πίνακες'!J228","v":1.2059382012774038},null,{"$f":"B43","v":74.447239843454227},{"$f":"A43","v":"Βενζίνη (Μοτοσυκλέτα)"},"ΜΥ - ",{"$f":"_xlfn.TEXTJOIN(,,Table7[[#This Row],[2]],Table7[[#This Row],[1]])","v":"ΜΥ - Βενζίνη (Μοτοσυκλέτα)"},null,2.7896841371240066,"Ηλεκτρική Ενέργεια (Επιβατικό)","ΜΥ - ","ΜΥ - Ηλεκτρική Ενέργεια (Επιβατικό)",4.747990538977608E-4]
[null,null,null,"(kg CO2e / pkm)",{"$f":"IF('Σύνοψη - Πίνακες'!N228=\"-\",\"-\",'Σύνοψη - Πίνακες'!N228)","v":1.2580437393488159E-2},"(kWh / pkm)",{"$f":"IF('Σύνοψη - Πίνακες'!R228=\"-\",\"-\",'Σύνοψη - Πίνακες'!R228)","v":2.5181762146613655E-2},null,{"$f":"B47","v":0.62917565568},{"$f":"A47","v":"Φυσικό Αέριο Κίνησης (Λεωφορείο)"},"ΜΥ - ",{"$f":"_xlfn.TEXTJOIN(,,Table7[[#This Row],[2]],Table7[[#This Row],[1]])","v":"ΜΥ - Φυσικό Αέριο Κίνησης (Λεωφορείο)"},null,2.5894017597319747,"Πετρέλαιο Κίνησης (Επιβατικό)","ΕΤ - ","ΕΤ - Πετρέλαιο Κίνησης (Επιβατικό)",4.4071136560622286E-4]
["Ηλεκτρική Ενέργεια (Συρμοί)",{"$f":"'Σύνοψη - Πίνακες'!D99","v":285.76677004083609},{"$f":"'Σύνοψη - Πίνακες'!D183","v":572008},"(kg CO2e / φοιτητή)",{"$f":"'Σύνοψη - Πίνακες'!F229","v":49.329668572559314},"(kWh / φοιτητή)",{"$f":"'Σύνοψη - Πίνακες'!J229","v":98.741239426894523},null,{"$f":"B49","v":2.7896841371240066},{"$f":"A49","v":"Ηλεκτρική Ενέργεια (Επιβατικό)"},"ΜΥ - ",{"$f":"_xlfn.TEXTJOIN(,,Table7[[#This Row],[2]],Table7[[#This Row],[1]])","v":"ΜΥ - Ηλεκτρική Ενέργεια (Επιβατικό)"},null,1.9024207009613567,"Ηλεκτρική Ενέργεια (Επιβατικό)","ΜΦ - ","ΜΦ - Ηλεκτρική Ενέργεια (Επιβατικό)",3.237884665549199E-4]
[null,null,null,"(kg CO2e / pkm)",{"$f":"IF('Σύνοψη - Πίνακες'!N229=\"-\",\"-\",'Σύνοψη - Πίνακες'!N229)","v":3.9966804679713856E-2},"(kWh / pkm)",{"$f":"IF('Σύνοψη - Πίνακες'!R229=\"-\",\"-\",'Σύνοψη - Πίνακες'!R229)","v":7.9999966434049968E-2},null,{"$f":"B51","v":0.53355706634105271},{"$f":"A51","v":"Ηλεκτρική Ενέργεια (Λεωφορείο / Τρόλεϊ)"},"ΜΥ - ",{"$f":"_xlfn.TEXTJOIN(,,Table7[[#This Row],[2]],Table7[[#This Row],[1]])","v":"ΜΥ - Ηλεκτρική Ενέργεια (Λεωφορείο / Τρόλεϊ)"},null,0.62917565568,"Φυσικό Αέριο Κίνησης (Λεωφορείο)","ΜΥ - ","ΜΥ - Φυσικό Αέριο Κίνησης (Λεωφορείο)",1.0708452691003997E-4]
["Μετακίνηση Υπαλλήλων",{"$f":"'Σύνοψη - Πίνακες'!D102","v":753.39921618246581},{"$f":"'Σύνοψη - Πίνακες'!D184","v":2744669.0781041672},"(kg CO2e / υπάλληλο)",{"$f":"'Σύνοψη - Πίνακες'!F230","v":119.72019961583754},"(kWh / υπάλληλο)",{"$f":"'Σύνοψη - Πίνακες'!J230","v":436.14636550201283},null,{"$f":"B53","v":43.613793905968073},{"$f":"A53","v":"Ηλεκτρική Ενέργεια (Συρμοί)"},"ΜΥ - ",{"$f":"_xlfn.TEXTJOIN(,,Table7[[#This Row],[2]],Table7[[#This Row],[1]])","v":"ΜΥ - Ηλεκτρική Ενέργεια (Συρμοί)"},null,0.53355706634105271,"Ηλεκτρική Ενέργεια (Λεωφορείο / Τρόλεϊ)","ΜΥ - ","ΜΥ - Ηλεκτρική Ενέργεια (Λεωφορείο / Τρόλεϊ)",9.0810420766978585E-5]
[null,null,null,"(kg CO2e / pkm)",{"$f":"IF('Σύνοψη - Πίνακες'!N230=\"-\",\"-\",'Σύνοψη - Πίνακες'!N230)","v":0.12903433374994061},"(kWh / pkm)",{"$f":"IF('Σύνοψη - Πίνακες'!R230=\"-\",\"-\",'Σύνοψη - Πίνακες'!R230)","v":0.47007819791978889},null,{"$f":"B57","v":2.5894017597319747},{"$f":"A57","v":"Πετρέλαιο Κίνησης (Επιβατικό)"},"ΕΤ - ",{"$f":"_xlfn.TEXTJOIN(,,Table7[[#This Row],[2]],Table7[[#This Row],[1]])","v":"ΕΤ - Πετρέλαιο Κίνησης (Επιβατικό)"},null,0.11892127722080917,"Ηλεκτρική Ενέργεια (Επιβατικό)","ΕΤ - ","ΕΤ - Ηλεκτρική Ενέργεια (Επιβατικό)",2.0240180299037062E-5]
["Πετρέλαιο Κίνησης (Επιβατικό)",{"$f":"'Σύνοψη - Πίνακες'!D105","v":63.23540574182973},{"$f":"'Σύνοψη - Πίνακες'!D185","v":237262.87},"(kg CO2e / υπάλληλο)",{"$f":"'Σύνοψη - Πίνακες'!F231","v":10.048531025239113},"(kWh / υπάλληλο)",{"$f":"'Σύνοψη - Πίνακες'!J231","v":37.702664865723818},null,{"$f":"B59","v":23.159620142120062},{"$f":"A59","v":"Βενζίνη (Επιβατικό)"},"ΕΤ - ",{"$f":"_xlfn.TEXTJOIN(,,Table7[[#This Row],[2]],Table7[[#This Row],[1]])","v":"ΕΤ - Βενζίνη (Επιβατικό)"},null,0,"Πετρέλαιο Θέρμανσης","ΣΚ - ","ΣΚ - Πετρέλαιο Θέρμανσης",0]
[null,null,null,"(kg CO2e / pkm)",{"$f":"IF('Σύνοψη - Πίνακες'!N231=\"-\",\"-\",'Σύνοψη - Πίνακες'!N231)","v":0.12793722799089105},"(kWh / pkm)",{"$f":"IF('Σύνοψη - Πίνακες'!R231=\"-\",\"-\",'Σύνοψη - Πίνακες'!R231)","v":0.48002781885977069},null,{"$f":"B61","v":0},{"$f":"A61","v":"Πετρέλαιο Κίνησης (Τρένο)"},"ΕΤ - ",{"$f":"_xlfn.TEXTJOIN(,,Table7[[#This Row],[2]],Table7[[#This Row],[1]])","v":"ΕΤ - Πετρέλαιο Κίνησης (Τρένο)"},null,0,"R-11","ΑΕΑΣ - ","ΑΕΑΣ - R-11",0]
["Βενζίνη (Επιβατικό)",{"$f":"'Σύνοψη - Πίνακες'!D108","v":565.15061335541805},{"$f":"'Σύνοψη - Πίνακες'!D186","v":2124540.764576389},"(kg CO2e / υπάλληλο)",{"$f":"'Σύνοψη - Πίνακες'!F232","v":89.80623126575847},"(kWh / υπάλληλο)",{"$f":"'Σύνοψη - Πίνακες'!J232","v":337.60380813227221},null,{"$f":"B63","v":485.93228941447802},{"$f":"A63","v":"Κηροζίνη (Αεροσκάφος)"},"ΕΤ - ",{"$f":"_xlfn.TEXTJOIN(,,Table7[[#This Row],[2]],Table7[[#This Row],[1]])","v":"ΕΤ - Κηροζίνη (Αεροσκάφος)"},null,0,"R-12","ΑΕΑΣ - ","ΑΕΑΣ - R-12",0]
[null,null,null,"(kg CO2e / pkm)",{"$f":"IF('Σύνοψη - Πίνακες'!N232=\"-\",\"-\",'Σύνοψη - Πίνακες'!N232)","v":0.17891448848221797},"(kWh / pkm)",{"$f":"IF('Σύνοψη - Πίνακες'!R232=\"-\",\"-\",'Σύνοψη - Πίνακες'!R232)","v":0.6725837593929257},null,{"$f":"B65","v":0.11892127722080917},{"$f":"A65","v":"Ηλεκτρική Ενέργεια (Επιβατικό)"},"ΕΤ - ",{"$f":"_xlfn.TEXTJOIN(,,Table7[[#This Row],[2]],Table7[[#This Row],[1]])","v":"ΕΤ - Ηλεκτρική Ενέργεια (Επιβατικό)"},null,0,"R-134a","ΑΕΑΣ - ","ΑΕΑΣ - R-134a",0]
["Βενζίνη (Μοτοσυκλέτα)",{"$f":"'Σύνοψη - Πίνακες'!D111","v":74.447239843454227},{"$f":"'Σύνοψη - Πίνακες'!D187","v":271059.55463888892},"(kg CO2e / υπάλληλο)",{"$f":"'Σύνοψη - Πίνακες'!F233","v":11.830166827181667},"(kWh / υπάλληλο)",{"$f":"'Σύνοψη - Πίνακες'!J233","v":43.073185227854587},null,{"$f":"B67","v":0},{"$f":"A67","v":"Ηλεκτρική Ενέργεια (Τρένο)"},"ΕΤ - ",{"$f":"_xlfn.TEXTJOIN(,,Table7[[#This Row],[2]],Table7[[#This Row],[1]])","v":"ΕΤ - Ηλεκτρική Ενέργεια (Τρένο)"},null,0,"R-290","ΑΕΑΣ - ","ΑΕΑΣ - R-290",0]
[null,null,null,"(kg CO2e / pkm)",{"$f":"IF('Σύνοψη - Πίνακες'!N233=\"-\",\"-\",'Σύνοψη - Πίνακες'!N233)","v":8.7360112843004392E-2},"(kWh / pkm)",{"$f":"IF('Σύνοψη - Πίνακες'!R233=\"-\",\"-\",'Σύνοψη - Πίνακες'!R233)","v":0.31807483165556066},null,{"$f":"B17","v":3069.6524802395256},{"$f":"A17","v":"Εισαγόμενη Ηλεκτρική Ενέργεια"},null,{"$f":"_xlfn.TEXTJOIN(,,Table7[[#This Row],[2]],Table7[[#This Row],[1]])","v":"Εισαγόμενη Ηλεκτρική Ενέργεια"},null,0,"R-404a","ΑΕΑΣ - ","ΑΕΑΣ - R-404a",0]
["Πετρέλαιο Κίνησης (Λεωφορείο)",{"$f":"'Σύνοψη - Πίνακες'!D114","v":2.9997464766506248},{"$f":"'Σύνοψη - Πίνακες'!D188","v":14920.555555555555},"(kg CO2e / υπάλληλο)",{"$f":"'Σύνοψη - Πίνακες'!F234","v":0.47667987869865319},"(kWh / υπάλληλο)",{"$f":"'Σύνοψη - Πίνακες'!J234","v":2.3709765700866923},null,{"$f":"B69","v":82.360408284000002},{"$f":"A69","v":"Τελική Διάθεση Στερεών Αποβλήτων"},null,{"$f":"_xlfn.TEXTJOIN(,,Table7[[#This Row],[2]],Table7[[#This Row],[1]])","v":"Τελική Διάθεση Στερεών Αποβλήτων"},null,0,"R-410a","ΑΕΑΣ - ","ΑΕΑΣ - R-410a",0]
[null,null,null,"(kg CO2e / pkm)",{"$f":"IF('Σύνοψη - Πίνακες'!N233=\"-\",\"-\",'Σύνοψη - Πίνακες'!N233)","v":8.7360112843004392E-2},"(kWh / pkm)",{"$f":"IF('Σύνοψη - Πίνακες'!R233=\"-\",\"-\",'Σύνοψη - Πίνακες'!R233)","v":0.31807483165556066},null,{"$f":"B70","v":14.953493019539998},{"$f":"A70","v":"Διαχείριση Λυμάτων"},null,{"$f":"_xlfn.TEXTJOIN(,,Table7[[#This Row],[2]],Table7[[#This Row],[1]])","v":"Διαχείριση Λυμάτων"},null,0,"Πετρέλαιο Κίνησης (Τρένο)","ΕΤ - ","ΕΤ - Πετρέλαιο Κίνησης (Τρένο)",0]
["Φυσικό Αέριο Κίνησης (Λεωφορείο)",{"$f":"'Σύνοψη - Πίνακες'!D117","v":0.62917565568},{"$f":"'Σύνοψη - Πίνακες'!D189","v":2933.3333333333335},"(kg CO2e / υπάλληλο)",{"$f":"'Σύνοψη - Πίνακες'!F235","v":9.9980240851740024E-2},"(kWh / υπάλληλο)",{"$f":"'Σύνοψη - Πίνακες'!J235","v":0.46612638381270199},null,{"$f":"B71","v":16.91},{"$f":"A71","v":"Προμήθεια Χαρτιών"},null,{"$f":"_xlfn.TEXTJOIN(,,Table7[[#This Row],[2]],Table7[[#This Row],[1]])","v":"Προμήθεια Χαρτιών"},null,0,"Ηλεκτρική Ενέργεια (Τρένο)","ΕΤ - ","ΕΤ - Ηλεκτρική Ενέργεια (Τρένο)",0]
[null,null,null,"(kg CO2e / pkm)",{"$f":"IF('Σύνοψη - Πίνακες'!N235=\"-\",\"-\",'Σύνοψη - Πίνακες'!N235)","v":2.3014692211573633E-2},"(kWh / pkm)",{"$f":"IF('Σύνοψη - Πίνακες'!R235=\"-\",\"-\",'Σύνοψη - Πίνακες'!R235)","v":0.10729875387129027},null,null,null,null,null,null,null,null,null,null,{"$f":"SUM(R14:R47)","v":0.99878220410098117}]
["Ηλεκτρική Ενέργεια (Επιβατικό)",{"$f":"'Σύνοψη - Πίνακες'!D120","v":2.7896841371240066},{"$f":"'Σύνοψη - Πίνακες'!D190","v":5584},"(kg CO2e / υπάλληλο)",{"$f":"'Σύνοψη - Πίνακες'!F236","v":0.44329956096043327},"(kWh / υπάλληλο)",{"$f":"'Σύνοψη - Πίνακες'!J236","v":0.88733513427617994}]
[null,null,null,"(kg CO2e / pkm)",{"$f":"IF('Σύνοψη - Πίνακες'!N236=\"-\",\"-\",'Σύνοψη - Πίνακες'!N236)","v":7.0147203528477114E-2},"(kWh / pkm)",{"$f":"IF('Σύνοψη - Πίνακες'!R236=\"-\",\"-\",'Σύνοψη - Πίνακες'!R236)","v":0.14041087279036435},null,"Δράσεις"]
["Ηλεκτρική Ενέργεια (Λεωφορείο / Τρόλεϊ)",{"$f":"'Σύνοψη - Πίνακες'!D123","v":0.53355706634105271},{"$f":"'Σύνοψη - Πίνακες'!D191","v":1068},"(kg CO2e / υπάλληλο)",{"$f":"'Σύνοψη - Πίνακες'!F237","v":8.4785804281114374E-2},"(kWh / υπάλληλο)",{"$f":"'Σύνοψη - Πίνακες'!J237","v":0.16971237883362467},null,{"$f":"'Γενικό Πλαίσιο Απογραφής'!D28","v":"Εγκατάσταση Φωτοβολταϊκού Συστήματος"}]
[null,null,null,"(kg CO2e / pkm)",{"$f":"IF('Σύνοψη - Πίνακες'!N237=\"-\",\"-\",'Σύνοψη - Πίνακες'!N237)","v":1.2546608341745114E-2},"(kWh / pkm)",{"$f":"IF('Σύνοψη - Πίνακες'!R237=\"-\",\"-\",'Σύνοψη - Πίνακες'!R237)","v":2.5114047876593142E-2},null,{"$f":"'Γενικό Πλαίσιο Απογραφής'!D29","v":"Εγκατάσταση Μετρητών Ενέργειας - Καταγραφή & Παρακολούθηση Καταναλώσεων"}]
["Ηλεκτρική Ενέργεια (Συρμοί)",{"$f":"'Σύνοψη - Πίνακες'!D126","v":43.613793905968073},{"$f":"'Σύνοψη - Πίνακες'!D192","v":87300},"(kg CO2e / υπάλληλο)",{"$f":"'Σύνοψη - Πίνακες'!F238","v":6.9305250128663713},"(kWh / υπάλληλο)",{"$f":"'Σύνοψη - Πίνακες'!J238","v":13.872556809153027},null,{"$f":"'Γενικό Πλαίσιο Απογραφής'!D32","v":0}]
[null,null,null,"(kg CO2e / pkm)",{"$f":"IF('Σύνοψη - Πίνακες'!N238=\"-\",\"-\",'Σύνοψη - Πίνακες'!N238)","v":3.9966821448767995E-2},"(kWh / pkm)",{"$f":"IF('Σύνοψη - Πίνακες'!R238=\"-\",\"-\",'Σύνοψη - Πίνακες'!R238)","v":0.08},null,{"$f":"'Γενικό Πλαίσιο Απογραφής'!D33","v":0}]
["Επαγγελματικά Ταξίδια",{"$f":"'Σύνοψη - Πίνακες'!D129","v":511.80023259355085},{"$f":"'Σύνοψη - Πίνακες'!D193","v":1907070.1734277084},"(kg CO2e / υπάλληλο)",{"$f":"'Σύνοψη - Πίνακες'!F239","v":81.328497154544863},"(kWh / υπάλληλο)",{"$f":"'Σύνοψη - Πίνακες'!J239","v":303.04626941485913}]
[null,null,null,"(kg CO2e / pkm)",{"$f":"IF('Σύνοψη - Πίνακες'!N239=\"-\",\"-\",'Σύνοψη - Πίνακες'!N239)","v":8.7655788069972318E-2},"(kWh / pkm)",{"$f":"IF('Σύνοψη - Πίνακες'!R239=\"-\",\"-\",'Σύνοψη - Πίνακες'!R239)","v":0.32662302263801474}]
["Πετρέλαιο Κίνησης (Επιβατικό)",{"$f":"'Σύνοψη - Πίνακες'!D132","v":2.5894017597319747},{"$f":"'Σύνοψη - Πίνακες'!D194","v":9715.5839500000002},"(kg CO2e / υπάλληλο)",{"$f":"'Σύνοψη - Πίνακες'!F240","v":0.41147334494390192},"(kWh / υπάλληλο)",{"$f":"'Σύνοψη - Πίνακες'!J240","v":1.5438715954234865}]
[null,null,null,"(kg CO2e / pkm)",{"$f":"IF('Σύνοψη - Πίνακες'!N240=\"-\",\"-\",'Σύνοψη - Πίνακες'!N240)","v":0.12793486955197503},"(kWh / pkm)",{"$f":"IF('Σύνοψη - Πίνακες'!R240=\"-\",\"-\",'Σύνοψη - Πίνακες'!R240)","v":0.48001896986166009},null,"Scope 1",{"$f":"B2/(B2+B16+B18)","v":0.10191478479330859}]
["Βενζίνη (Επιβατικό)",{"$f":"'Σύνοψη - Πίνακες'!D135","v":23.159620142120062},{"$f":"'Σύνοψη - Πίνακες'!D195","v":87062.733227708348},"(kg CO2e / υπάλληλο)",{"$f":"'Σύνοψη - Πίνακες'!F241","v":3.6802193138598542},"(kWh / υπάλληλο)",{"$f":"'Σύνοψη - Πίνακες'!J241","v":13.834853524186929},null,"Scope 2",{"$f":"B16/(B2+B16+B18)","v":0.52244914541300069}]
[null,null,null,"(kg CO2e / pkm)",{"$f":"IF('Σύνοψη - Πίνακες'!N241=\"-\",\"-\",'Σύνοψη - Πίνακες'!N241)","v":0.17891475253675354},"(kWh / pkm)",{"$f":"IF('Σύνοψη - Πίνακες'!R241=\"-\",\"-\",'Σύνοψη - Πίνακες'!R241)","v":0.67258475203915447},null,"Scope 3",{"$f":"B18/(B2+B16+B18)","v":0.37563606979369074}]
["Πετρέλαιο Κίνησης (Τρένο)",{"$f":"'Σύνοψη - Πίνακες'!D138","v":0},{"$f":"'Σύνοψη - Πίνακες'!D196","v":0},"(kg CO2e / υπάλληλο)",{"$f":"'Σύνοψη - Πίνακες'!F242","v":0},"(kWh / υπάλληλο)",{"$f":"'Σύνοψη - Πίνακες'!J242","v":0}]
[null,null,null,"(kg CO2e / pkm)",{"$f":"IF('Σύνοψη - Πίνακες'!N242=\"-\",\"-\",'Σύνοψη - Πίνακες'!N242)","v":"-"},"(kWh / pkm)",{"$f":"IF('Σύνοψη - Πίνακες'!R242=\"-\",\"-\",'Σύνοψη - Πίνακες'!R242)","v":"-"}]
["Κηροζίνη (Αεροσκάφος)",{"$f":"'Σύνοψη - Πίνακες'!D141","v":485.93228941447802},{"$f":"'Σύνοψη - Πίνακες'!D197","v":1810053.8162500001},"(kg CO2e / υπάλληλο)",{"$f":"'Σύνοψη - Πίνακες'!F243","v":77.217907105431109},"(kWh / υπάλληλο)",{"$f":"'Σύνοψη - Πίνακες'!J243","v":287.62971813920234}]
[null,null,null,"(kg CO2e / pkm)",{"$f":"IF('Σύνοψη - Πίνακες'!N243=\"-\",\"-\",'Σύνοψη - Πίνακες'!N243)","v":0.14363725104269104},"(kWh / pkm)",{"$f":"IF('Σύνοψη - Πίνακες'!R243=\"-\",\"-\",'Σύνοψη - Πίνακες'!R243)","v":0.5350357654124146}]
["Ηλεκτρική Ενέργεια (Επιβατικό)",{"$f":"'Σύνοψη - Πίνακες'!D144","v":0.11892127722080917},{"$f":"'Σύνοψη - Πίνακες'!D198","v":238.04},"(kg CO2e / υπάλληλο)",{"$f":"'Σύνοψη - Πίνακες'!F244","v":1.8897390309996692E-2},"(kWh / υπάλληλο)",{"$f":"'Σύνοψη - Πίνακες'!J244","v":3.7826156046400765E-2}]
[null,null,null,"(kg CO2e / pkm)",{"$f":"IF('Σύνοψη - Πίνακες'!N244=\"-\",\"-\",'Σύνοψη - Πίνακες'!N244)","v":7.0160045557999498E-2},"(kWh / pkm)",{"$f":"IF('Σύνοψη - Πίνακες'!R244=\"-\",\"-\",'Σύνοψη - Πίνακες'!R244)","v":0.14043657817109145}]
["Ηλεκτρική Ενέργεια (Τρένο)",{"$f":"'Σύνοψη - Πίνακες'!D147","v":0},{"$f":"'Σύνοψη - Πίνακες'!D199","v":0},"(kg CO2e / υπάλληλο)",{"$f":"'Σύνοψη - Πίνακες'!F245","v":0},"(kWh / υπάλληλο)",{"$f":"'Σύνοψη - Πίνακες'!J245","v":0}]
[null,null,null,"(kg CO2e / pkm)",{"$f":"IF('Σύνοψη - Πίνακες'!N245=\"-\",\"-\",'Σύνοψη - Πίνακες'!N245)","v":"-"},"(kWh / pkm)",{"$f":"IF('Σύνοψη - Πίνακες'!R245=\"-\",\"-\",'Σύνοψη - Πίνακες'!R245)","v":"-"}]
["Τελική Διάθεση Στερεών Αποβλήτων",{"$f":"'Σύνοψη - Πίνακες'!D150","v":82.360408284000002},"-","(kWh / άτομο)",{"$f":"'Σύνοψη - Πίνακες'!F246","v":11.693938418855602},"(kWh / άτομο)","-"]
["Διαχείριση Λυμάτων",{"$f":"'Σύνοψη - Πίνακες'!D153","v":14.953493019539998},"-","(kWh / άτομο που παράγει λύματα)",{"$f":"'Σύνοψη - Πίνακες'!F247","v":74.767465097699997},"(kWh / άτομο που παράγει λύματα)","-"]
["Προμήθεια Χαρτιών",{"$f":"'Σύνοψη - Πίνακες'!D156","v":16.91},"-","(kWh / άτομο)",{"$f":"'Σύνοψη - Πίνακες'!F248","v":2.4009654976572485},"(kWh / άτομο)","-"]
[]
[]
["Προς Αντικατάσταση","Αντικατάσταση με"]
["<Οργανισμός>",{"$f":"'Γενικά Στοιχεία Οργανισμού'!D6","v":"Εθνικό Μετσόβιο Πολυτεχνείο"}]
["<Έτος Αναφοράς>",{"$f":"'Γενικό Πλαίσιο Απογραφής'!F6","v":2024}]
["<Εκ>",{"$f":"'Σύνοψη - Πίνακες'!G12","v":5875.5048356198149}]
["<Εν>",{"$f":"'Σύνοψη - Πίνακες'!G13/1000","v":21456.874346524932}]
["<Απ>",{"$f":"'Σύνοψη - Πίνακες'!G14","v":58.62}]
["<Λυ>",{"$f":"'Σύνοψη - Πίνακες'!G15","v":4.1609999999999996}]
["<Στ>",{"$f":"'Σύνοψη - Πίνακες'!G16","v":{"$error":"#DIV/0!"}}]
["<%Scope1>",{"$f":"J58","v":0.10191478479330859}]
["<%Scope2>",{"$f":"J59","v":0.52244914541300069}]
["<%Scope3>",{"$f":"J60","v":0.37563606979369074}]
["<1κατ>",{"$f":"N2","v":"Εισαγόμενη Ηλεκτρική Ενέργεια"}]
["<2κατ>",{"$f":"N3","v":"Μετακίνηση Φοιτητών"}]
["<3κατ>",{"$f":"N4","v":"Μετακίνηση Υπαλλήλων"}]
["<1κατ%>",{"$f":"P2","v":0.52244914541300069}]
["<2κατ%>",{"$f":"P3","v":0.14086078006592059}]
["<3κατ%>",{"$f":"P4","v":0.12822714596625615}]
["<1υπ>",{"$f":"Q14","v":"Εισαγόμενη Ηλεκτρική Ενέργεια"}]
["<2υπ>","ΜΥ - Βενζίνη (Επιβατικό)"]
["<3υπ>","ΣΚ - Φυσικό Αέριο"]
["<4υπ>","ΕΤ - Κηροζίνη (Αεροσκάφος)"]
["<5υπ>","ΜΦ - Βενζίνη (Επιβατικό)"]
["<6υπ>","ΜΦ - Ηλεκτρική Ενέργεια (Συρμοί)"]
["<7υπ>","ΜΦ - Βενζίνη (Μοτοσυκλέτα)"]
["<8υπ>","Τελική Διάθεση Στερεών Αποβλήτων"]
["<9υπ>","ΜΥ - Βενζίνη (Μοτοσυκλέτα)"]
["<10υπ>","ΜΥ - Πετρέλαιο Κίνησης (Επιβατικό)"]
["<1υπ%>",{"$f":"R14","v":0.52244914541300069}]
["<2υπ%>",9.6187583733951532E-2]
["<3υπ%>",9.4090323182673935E-2]
["<4υπ%>",8.2704772272256394E-2]
["<5υπ%>",6.4679099480100144E-2]
["<6υπ%>",4.863697299820028E-2]
["<7υπ%>",1.5370819598362536E-2]
["<8υπ%>",1.4017588375503685E-2]
["<9υπ%>",1.2670781818121113E-2]
["<10υπ%>",1.0762548497700104E-2]
["<ΥλΔ1>",{"$f":"'Γενικό Πλαίσιο Απογραφής'!D28","v":"Εγκατάσταση Φωτοβολταϊκού Συστήματος"}]
["<ΥλΔ2>",{"$f":"'Γενικό Πλαίσιο Απογραφής'!D29","v":"Εγκατάσταση Μετρητών Ενέργειας - Καταγραφή & Παρακολούθηση Καταναλώσεων"}]
["<ΥπΔ1>",{"$f":"'Γενικό Πλαίσιο Απογραφής'!D32","v":0}]
["<ΥπΔ2>",{"$f":"'Γενικό Πλαίσιο Απογραφής'!D33","v":0}]

{"sheet":"Αναφορά","index":9,"n_rows":348,"n_cols":30,"rows_kept":348,"cut":false,"hidden":true,"merged":[]}
[]
[]
[]
[]
[]
[]
[]
[]
[]
[]
[]
[]
[]
[]
[]
[]
[]
[]
[]
[]
[]
[]
[]
[]
[]
[]
[]
[]
[]
[]
[]
[]
[]
[]
[]
[]
[]
[]
[]
[]
[]
[]
[]
[]
[]
[]
[]
[]
[]
[]
[]
[]
[]
[]
[]
[]
[]
[]
[]
[]
[]
[]
[]
[]
[]
[]
[]
[]
[]
[]
[]
[]
[]
[]
[]
[]
[]
[]
[]
[]
[]
[]
[]
[]
[]
[]
[]
[]
[]
[]
[]
[]
[]
[]
[]
[]
[]
[]
[]
[]
[]
[]
[]
[]
[]
[]
[]
[]
[]
[]
[]
[]
[]
[]
[]
[]
[]
[]
[]
[]
[]
[]
[null,null,null,null,null,null,null,null,null,null,null,null,null,null,null,null,null,null,null,null,null,null,null,null,null,null,null,null,null,"Chart19"]
[]
[]
[]
[]
[]
[]
[]
[]
[]
[]
[]
[]
[]
[]
[]
[]
[]
[]
[]
[]
[]
[]
[]
[]
[null,null,null,null,null,null,null,null,null,null,null,null,null,null,null,null,null,null,null,null,null,null,null,null,null,null,null,null,null,"Chart 25"]
[]
[]
[]
[]
[]
[]
[]
[]
[]
[]
[]
[]
[]
[]
[]
[]
[]
[]
[]
[]
[]
[]
[]
[]
[]
[]
[]
[]
[]
[]
[]
[]
[]
[]
[]
[null,null,null,null,null,null,null,null,null,null,null,null,null,null,null,null,null,null,null,null,null,null,null,null,null,null,null,null,null,"Chart 21"]
[]
[]
[]
[]
[]
[]
[]
[]
[]
[]
[]
[]
[]
[]
[]
[]
[]
[]
[]
[]
[]
[]
[]
[]
[]
[]
[]
[]
[]
[]
[]
[]
[]
[]
[]
[]
[]
[]
[]
[]
[]
[]
[]
[]
[null,null,null,null,null,null,null,null,null,null,null,null,null,null,null,null,null,null,null,null,null,null,null,null,null,null,null,null,null,"Chart22"]
[]
[]
[]
[]
[]
[]
[]
[]
[]
[]
[]
[]
[]
[]
[]
[]
[]
[]
[]
[]
[]
[]
[]
[]
[]
[]
[]
[]
[]
[]
[]
[]
[]
[null,null,null,null,null,null,null,null,null,null,null,null,null,null,null,null,null,null,null,null,null,null,null,null,null,null,null,null,null,"Chart20"]
[]
[]
[]
[]
[]
[]
[]
[]
[]
[]
[]
[]
[]
[]
[]
[]
[]
[]
[null,null,null,null,null,null,null,null,null,null,null,null,null,null,null,null,null,null,null,null,null,null,null,null,null,null,null,null,null,"Chart26"]
[]
[]
[]
[]
[]
[]
[]
[]
[]
[]
[]
[]
[]
[]
[]
[]
[]
[]
[]
[]
[]
[]
[]
[]
[]
[]
[]
[]
[]
[]
[]
[null,null,null,null,null,null,null,null,null,null,null,null,null,null,null,null,null,null,null,null,null,null,null,null,null,null,null,null,null,"Chart23"]
[]
[]
[]
[]
[]
[]
[]
[]
[]
[]
[]
[]
[]
[]
[]
[]
[]
[]
[]
[]
[]
[]
[]
[]
[]
[]
[]
[]
[]
[]
[]
[]
[]
[null,null,null,null,null,null,null,null,null,null,null,null,null,null,null,null,null,null,null,null,null,null,null,null,null,null,null,null,null,"Chart24"]

{"sheet":"ΔΑ 1","index":10,"n_rows":9,"n_cols":22,"rows_kept":9,"cut":false,"hidden":true,"merged":[]}
[]
[]
["Sum of Εκπομπές (tn)","Column Labels"]
[null,"Ανεξέλεγκτες Εκπομπές Ανθρωπογενών Συστημάτων","Ανεξέλεγκτες Εκπομπές Ανθρωπογενών Συστημάτων Total","Διαχείριση Λυμάτων","Διαχείριση Λυμάτων Total","Εισαγόμενη Ηλεκτρική Ενέργεια","Εισαγόμενη Ηλεκτρική Ενέργεια Total","Επαγγελματικά Ταξίδια","Επαγγελματικά Ταξίδια Total","Κινητή Καύση","Κινητή Καύση Total","Μετακίνηση Υπαλλήλων","Μετακίνηση Υπαλλήλων Total","Μετακίνηση Φοιτητών","Μετακίνηση Φοιτητών Total","Προμήθεια Χαρτιών","Προμήθεια Χαρτιών Total","Σταθερή Καύση","Σταθερή Καύση Total","Τελική Διάθεση Στερεών Αποβλήτων","Τελική Διάθεση Στερεών Αποβλήτων Total","Grand Total"]
["Row Labels","CO2e",null,"CO2e",null,"CO2e",null,"CO2e",null,"CO2e",null,"CO2e",null,"CO2e",null,"CO2e",null,"CO2e",null,"CO2e"]
["Scope 1",0,0,null,null,null,null,null,null,45.972662029405591,45.972662029405591,null,null,null,null,null,null,552.82814884483184,552.82814884483184,null,null,598.80081087423741]
["Scope 2",null,null,null,null,4101.3110248133253,4101.3110248133253,null,null,null,null,null,null,null,null,null,null,null,null,null,null,4101.3110248133253]
["Scope 3",null,null,14.953493019539998,14.953493019539998,null,null,511.80023259355096,511.80023259355096,null,null,753.39921618246569,753.39921618246569,827.62819442649561,827.62819442649561,23.839866451999999,23.839866451999999,null,null,82.360408283999973,82.360408283999973,2213.9814109580525]
["Grand Total",0,0,14.953493019539998,14.953493019539998,4101.3110248133253,4101.3110248133253,511.80023259355096,511.80023259355096,45.972662029405591,45.972662029405591,753.39921618246569,753.39921618246569,827.62819442649561,827.62819442649561,23.839866451999999,23.839866451999999,552.82814884483184,552.82814884483184,82.360408283999973,82.360408283999973,6914.0932466456161]

{"sheet":"ΔΑ 2","index":11,"n_rows":19,"n_cols":3,"rows_kept":19,"cut":false,"hidden":true,"merged":[]}
[]
[]
["Sum of Εκπομπές (tn)","Column Labels"]
["Row Labels","CO2e","Grand Total"]
["Scope 1",598.80081087423741,598.80081087423741]
["Ανεξέλεγκτες Εκπομπές Ανθρωπογενών Συστημάτων",0,0]
["R-11",0,0]
["R-12",0,0]
["R-134a",0,0]
["R-290",0,0]
["R-404a",0,0]
["R-410a",0,0]
["Κινητή Καύση",45.972662029405569,45.972662029405569]
["Βενζίνη (Επιβατικό)",12.999085699818076,12.999085699818076]
["Πετρέλαιο Κίνησης (Επιβατικό)",32.973576329587495,32.973576329587495]
["Σταθερή Καύση",552.82814884483184,552.82814884483184]
["Πετρέλαιο Θέρμανσης",0,0]
["Φυσικό Αέριο",552.82814884483184,552.82814884483184]
["Grand Total",598.80081087423741,598.80081087423741]

{"sheet":"ΔΑ 3","index":12,"n_rows":37,"n_cols":3,"rows_kept":37,"cut":false,"hidden":true,"merged":[]}
[]
[]
["Sum of Εκπομπές (tn)","Column Labels"]
["Row Labels","CO2e","Grand Total"]
["Scope 3",2213.981410958052,2213.981410958052]
["Διαχείριση Λυμάτων",14.953493019539998,14.953493019539998]
["Διαχείριση Λυμάτων",14.953493019539998,14.953493019539998]
["Επαγγελματικά Ταξίδια",511.80023259355079,511.80023259355079]
["Βενζίνη (Επιβατικό)",23.159620142120062,23.159620142120062]
["Ηλεκτρική Ενέργεια (Επιβατικό)",0.11892127722080917,0.11892127722080917]
["Ηλεκτρική Ενέργεια (Τρένο)",0,0]
["Κηροζίνη (Αεροσκάφος)",485.93228941447796,485.93228941447796]
["Πετρέλαιο Κίνησης (Επιβατικό)",2.5894017597319747,2.5894017597319747]
["Πετρέλαιο Κίνησης (Τρένο)",0,0]
["Μετακίνηση Υπαλλήλων",753.39921618246581,753.39921618246581]
["Βενζίνη (Επιβατικό)",565.15061335541805,565.15061335541805]
["Βενζίνη (Μοτοσυκλέτα)",74.447239843454213,74.447239843454213]
["Ηλεκτρική Ενέργεια (Επιβατικό)",2.7896841371240066,2.7896841371240066]
["Ηλεκτρική Ενέργεια (Λεωφορείο / Τρόλεϊ)",0.53355706634105282,0.53355706634105282]
["Ηλεκτρική Ενέργεια (Συρμοί)",43.613793905968066,43.613793905968066]
["Πετρέλαιο Κίνησης (Επιβατικό)",63.23540574182973,63.23540574182973]
["Φυσικό Αέριο Κίνησης (Λεωφορείο)",0.62917565568,0.62917565568]
["Πετρέλαιο Κίνησης (Λεωφορείο)",2.9997464766506248,2.9997464766506248]
["Μετακίνηση Φοιτητών",827.62819442649572,827.62819442649572]
["Βενζίνη (Επιβατικό)",380.0223617588635,380.0223617588635]
["Βενζίνη (Μοτοσυκλέτα)",90.311324877618901,90.311324877618901]
["Ηλεκτρική Ενέργεια (Επιβατικό)",1.902420700961357,1.902420700961357]
["Ηλεκτρική Ενέργεια (Λεωφορείο / Τρόλεϊ)",3.4901026830136654,3.4901026830136654]
["Ηλεκτρική Ενέργεια (Συρμοί)",285.76677004083609,285.76677004083609]
["Πετρέλαιο Κίνησης (Επιβατικό)",42.324882576658517,42.324882576658517]
["Φυσικό Αέριο Κίνησης (Λεωφορείο)",4.1554192168319997,4.1554192168319997]
["Πετρέλαιο Κίνησης (Λεωφορείο)",19.654912571711623,19.654912571711623]
["Προμήθεια Χαρτιών",23.839866451999999,23.839866451999999]
["Προμήθεια Χαρτιών",23.839866451999999,23.839866451999999]
["Τελική Διάθεση Στερεών Αποβλήτων",82.360408283999973,82.360408283999973]
["Τελική Διάθεση Στερεών Αποβλήτων",82.360408283999973,82.360408283999973]
["Grand Total",2213.981410958052,2213.981410958052]

{"sheet":"ΔΑ 4","index":13,"n_rows":17,"n_cols":3,"rows_kept":17,"cut":false,"hidden":true,"merged":[]}
[]
[]
["Sum of Εκπομπές (tn)","Column Labels"]
["Row Labels","CO2e","Grand Total"]
["Βιβλιοθήκη",184.92193740730818,184.92193740730818]
["Γυμναστήριο",70.684627872168932,70.684627872168932]
["Διοίκηση",668.23664080446542,668.23664080446542]
["Σχολή Αγρονόμων και Τοπογράφων Μηχανικών",442.87312517841201,442.87312517841201]
["Σχολή Αρχιτεκτόνων Μηχανικών",762.20064759835896,762.20064759835896]
["Σχολή Εφαρμοσμένων Μαθηματικών και Φυσικών Επιστημών",714.27960844057316,714.27960844057316]
["Σχολή Ηλεκτρολόγων Μηχανικών και Μηχανικών Υπολογιστών",516.19809199109091,516.19809199109091]
["Σχολή Μηχανικών Μεταλλείων Μεταλλουργών",805.47854947605867,805.47854947605867]
["Σχολή Μηχανολόγων Μηχανικών",976.71905516755942,976.71905516755942]
["Σχολή Ναυπηγών Μηχανολόγων Μηχανικών",305.21735552165603,305.21735552165603]
["Σχολή Πολιτικών Μηχανικών",580.18917809061475,580.18917809061475]
["Σχολή Χημικών Μηχανικών",887.09442909734821,887.09442909734821]
["Grand Total",6914.0932466456143,6914.0932466456143]

{"sheet":"Πίνακας Εκπομπών","index":14,"n_rows":1729,"n_cols":8,"rows_kept":1729,"cut":false,"hidden":true,"merged":[]}
[null,null,"Scope","Κατηγορία","Υποκατηγορία","Κτίριο","Αέριο του Θερμοκηπίου","Εκπομπές (tn)"]
[null,null,"Scope 1","Σταθερή Καύση","Πετρέλαιο Θέρμανσης","Βιβλιοθήκη","CO2e",{"$f":"'Σύνοψη - Πίνακες'!F30","v":0}]
[null,null,"Scope 1","Σταθερή Καύση","Πετρέλαιο Θέρμανσης","Βιβλιοθήκη","CO2",{"$f":"'Σύνοψη - Πίνακες'!G30","v":0}]
[null,null,"Scope 1","Σταθερή Καύση","Πετρέλαιο Θέρμανσης","Βιβλιοθήκη","CH4",{"$f":"'Σύνοψη - Πίνακες'!G31","v":0}]
[null,null,"Scope 1","Σταθερή Καύση","Πετρέλαιο Θέρμανσης","Βιβλιοθήκη","N2O",{"$f":"'Σύνοψη - Πίνακες'!G32","v":0}]
[null,null,"Scope 1","Σταθερή Καύση","Πετρέλαιο Θέρμανσης","Γυμναστήριο","CO2e",{"$f":"'Σύνοψη - Πίνακες'!H30","v":0}]
[null,null,"Scope 1","Σταθερή Καύση","Πετρέλαιο Θέρμανσης","Γυμναστήριο","CO2",{"$f":"'Σύνοψη - Πίνακες'!I30","v":0}]
[null,null,"Scope 1","Σταθερή Καύση","Πετρέλαιο Θέρμανσης","Γυμναστήριο","CH4",{"$f":"'Σύνοψη - Πίνακες'!I31","v":0}]
[null,null,"Scope 1","Σταθερή Καύση","Πετρέλαιο Θέρμανσης","Γυμναστήριο","N2O",{"$f":"'Σύνοψη - Πίνακες'!I32","v":0}]
[null,null,"Scope 1","Σταθερή Καύση","Πετρέλαιο Θέρμανσης","Διοίκηση","CO2e",{"$f":"'Σύνοψη - Πίνακες'!J30","v":0}]
[null,null,"Scope 1","Σταθερή Καύση","Πετρέλαιο Θέρμανσης","Διοίκηση","CO2",{"$f":"'Σύνοψη - Πίνακες'!K30","v":0}]
[null,null,"Scope 1","Σταθερή Καύση","Πετρέλαιο Θέρμανσης","Διοίκηση","CH4",{"$f":"'Σύνοψη - Πίνακες'!K31","v":0}]
[null,null,"Scope 1","Σταθερή Καύση","Πετρέλαιο Θέρμανσης","Διοίκηση","N2O",{"$f":"'Σύνοψη - Πίνακες'!K32","v":0}]
[null,null,"Scope 1","Σταθερή Καύση","Πετρέλαιο Θέρμανσης","Σχολή Αγρονόμων και Τοπογράφων Μηχανικών","CO2e",{"$f":"'Σύνοψη - Πίνακες'!L30","v":0}]
[null,null,"Scope 1","Σταθερή Καύση","Πετρέλαιο Θέρμανσης","Σχολή Αγρονόμων και Τοπογράφων Μηχανικών","CO2",{"$f":"'Σύνοψη - Πίνακες'!M30","v":0}]
[null,null,"Scope 1","Σταθερή Καύση","Πετρέλαιο Θέρμανσης","Σχολή Αγρονόμων και Τοπογράφων Μηχανικών","CH4",{"$f":"'Σύνοψη - Πίνακες'!M31","v":0}]
[null,null,"Scope 1","Σταθερή Καύση","Πετρέλαιο Θέρμανσης","Σχολή Αγρονόμων και Τοπογράφων Μηχανικών","N2O",{"$f":"'Σύνοψη - Πίνακες'!M32","v":0}]
[null,null,"Scope 1","Σταθερή Καύση","Πετρέλαιο Θέρμανσης","Σχολή Εφαρμοσμένων Μαθηματικών και Φυσικών Επιστημών","CO2e",{"$f":"'Σύνοψη - Πίνακες'!N30","v":0}]
[null,null,"Scope 1","Σταθερή Καύση","Πετρέλαιο Θέρμανσης","Σχολή Εφαρμοσμένων Μαθηματικών και Φυσικών Επιστημών","CO2",{"$f":"'Σύνοψη - Πίνακες'!O30","v":0}]
[null,null,"Scope 1","Σταθερή Καύση","Πετρέλαιο Θέρμανσης","Σχολή Εφαρμοσμένων Μαθηματικών και Φυσικών Επιστημών","CH4",{"$f":"'Σύνοψη - Πίνακες'!O31","v":0}]
[null,null,"Scope 1","Σταθερή Καύση","Πετρέλαιο Θέρμανσης","Σχολή Εφαρμοσμένων Μαθηματικών και Φυσικών Επιστημών","N2O",{"$f":"'Σύνοψη - Πίνακες'!O32","v":0}]
[null,null,"Scope 1","Σταθερή Καύση","Πετρέλαιο Θέρμανσης","Σχολή Ηλεκτρολόγων Μηχανικών και Μηχανικών Υπολογιστών","CO2e",{"$f":"'Σύνοψη - Πίνακες'!P30","v":0}]
[null,null,"Scope 1","Σταθερή Καύση","Πετρέλαιο Θέρμανσης","Σχολή Ηλεκτρολόγων Μηχανικών και Μηχανικών Υπολογιστών","CO2",{"$f":"'Σύνοψη - Πίνακες'!Q30","v":0}]
[null,null,"Scope 1","Σταθερή Καύση","Πετρέλαιο Θέρμανσης","Σχολή Ηλεκτρολόγων Μηχανικών και Μηχανικών Υπολογιστών","CH4",{"$f":"'Σύνοψη - Πίνακες'!Q31","v":0}]
[null,null,"Scope 1","Σταθερή Καύση","Πετρέλαιο Θέρμανσης","Σχολή Ηλεκτρολόγων Μηχανικών και Μηχανικών Υπολογιστών","N2O",{"$f":"'Σύνοψη - Πίνακες'!Q32","v":0}]
[null,null,"Scope 1","Σταθερή Καύση","Πετρέλαιο Θέρμανσης","Σχολή Μηχανικών Μεταλλείων Μεταλλουργών","CO2e",{"$f":"'Σύνοψη - Πίνακες'!R30","v":0}]
[null,null,"Scope 1","Σταθερή Καύση","Πετρέλαιο Θέρμανσης","Σχολή Μηχανικών Μεταλλείων Μεταλλουργών","CO2",{"$f":"'Σύνοψη - Πίνακες'!S30","v":0}]
[null,null,"Scope 1","Σταθερή Καύση","Πετρέλαιο Θέρμανσης","Σχολή Μηχανικών Μεταλλείων Μεταλλουργών","CH4",{"$f":"'Σύνοψη - Πίνακες'!S31","v":0}]
[null,null,"Scope 1","Σταθερή Καύση","Πετρέλαιο Θέρμανσης","Σχολή Μηχανικών Μεταλλείων Μεταλλουργών","N2O",{"$f":"'Σύνοψη - Πίνακες'!S32","v":0}]
[null,null,"Scope 1","Σταθερή Καύση","Πετρέλαιο Θέρμανσης","Σχολή Μηχανολόγων Μηχανικών","CO2e",{"$f":"'Σύνοψη - Πίνακες'!T30","v":0}]
[null,null,"Scope 1","Σταθερή Καύση","Πετρέλαιο Θέρμανσης","Σχολή Μηχανολόγων Μηχανικών","CO2",{"$f":"'Σύνοψη - Πίνακες'!U30","v":0}]
[null,null,"Scope 1","Σταθερή Καύση","Πετρέλαιο Θέρμανσης","Σχολή Μηχανολόγων Μηχανικών","CH4",{"$f":"'Σύνοψη - Πίνακες'!U31","v":0}]
[null,null,"Scope 1","Σταθερή Καύση","Πετρέλαιο Θέρμανσης","Σχολή Μηχανολόγων Μηχανικών","N2O",{"$f":"'Σύνοψη - Πίνακες'!U32","v":0}]
[null,null,"Scope 1","Σταθερή Καύση","Πετρέλαιο Θέρμανσης","Σχολή Ναυπηγών Μηχανολόγων Μηχανικών","CO2e",{"$f":"'Σύνοψη - Πίνακες'!V30","v":0}]
[null,null,"Scope 1","Σταθερή Καύση","Πετρέλαιο Θέρμανσης","Σχολή Ναυπηγών Μηχανολόγων Μηχανικών","CO2",{"$f":"'Σύνοψη - Πίνακες'!W30","v":0}]
[null,null,"Scope 1","Σταθερή Καύση","Πετρέλαιο Θέρμανσης","Σχολή Ναυπηγών Μηχανολόγων Μηχανικών","CH4",{"$f":"'Σύνοψη - Πίνακες'!W31","v":0}]
[null,null,"Scope 1","Σταθερή Καύση","Πετρέλαιο Θέρμανσης","Σχολή Ναυπηγών Μηχανολόγων Μηχανικών","N2O",{"$f":"'Σύνοψη - Πίνακες'!W32","v":0}]
[null,null,"Scope 1","Σταθερή Καύση","Πετρέλαιο Θέρμανσης","Σχολή Πολιτικών Μηχανικών","CO2e",{"$f":"'Σύνοψη - Πίνακες'!X30","v":0}]
[null,null,"Scope 1","Σταθερή Καύση","Πετρέλαιο Θέρμανσης","Σχολή Πολιτικών Μηχανικών","CO2",{"$f":"'Σύνοψη - Πίνακες'!Y30","v":0}]
[null,null,"Scope 1","Σταθερή Καύση","Πετρέλαιο Θέρμανσης","Σχολή Πολιτικών Μηχανικών","CH4",{"$f":"'Σύνοψη - Πίνακες'!Y31","v":0}]
[null,null,"Scope 1","Σταθερή Καύση","Πετρέλαιο Θέρμανσης","Σχολή Πολιτικών Μηχανικών","N2O",{"$f":"'Σύνοψη - Πίνακες'!Y32","v":0}]
[null,null,"Scope 1","Σταθερή Καύση","Πετρέλαιο Θέρμανσης","Σχολή Χημικών Μηχανικών","CO2e",{"$f":"'Σύνοψη - Πίνακες'!Z30","v":0}]
[null,null,"Scope 1","Σταθερή Καύση","Πετρέλαιο Θέρμανσης","Σχολή Χημικών Μηχανικών","CO2",{"$f":"'Σύνοψη - Πίνακες'!AA30","v":0}]
[null,null,"Scope 1","Σταθερή Καύση","Πετρέλαιο Θέρμανσης","Σχολή Χημικών Μηχανικών","CH4",{"$f":"'Σύνοψη - Πίνακες'!AA31","v":0}]
[null,null,"Scope 1","Σταθερή Καύση","Πετρέλαιο Θέρμανσης","Σχολή Χημικών Μηχανικών","N2O",{"$f":"'Σύνοψη - Πίνακες'!AA32","v":0}]
[null,null,"Scope 1","Σταθερή Καύση","Πετρέλαιο Θέρμανσης","Σχολή Αρχιτεκτόνων Μηχανικών","CO2e",{"$f":"'Σύνοψη - Πίνακες'!AB30","v":0}]
[null,null,"Scope 1","Σταθερή Καύση","Πετρέλαιο Θέρμανσης","Σχολή Αρχιτεκτόνων Μηχανικών","CO2",{"$f":"'Σύνοψη - Πίνακες'!AC30","v":0}]
[null,null,"Scope 1","Σταθερή Καύση","Πετρέλαιο Θέρμανσης","Σχολή Αρχιτεκτόνων Μηχανικών","CH4",{"$f":"'Σύνοψη - Πίνακες'!AC31","v":0}]
[null,null,"Scope 1","Σταθερή Καύση","Πετρέλαιο Θέρμανσης","Σχολή Αρχιτεκτόνων Μηχανικών","N2O",{"$f":"'Σύνοψη - Πίνακες'!AC32","v":0}]
[null,null,"Scope 1","Σταθερή Καύση","Φυσικό Αέριο","Βιβλιοθήκη","CO2e",{"$f":"'Σύνοψη - Πίνακες'!F33","v":21.510344548147319}]
[null,null,"Scope 1","Σταθερή Καύση","Φυσικό Αέριο","Βιβλιοθήκη","CO2",{"$f":"'Σύνοψη - Πίνακες'!G33","v":21.489078912507839}]
[null,null,"Scope 1","Σταθερή Καύση","Φυσικό Αέριο","Βιβλιοθήκη","CH4",{"$f":"'Σύνοψη - Πίνακες'!G34","v":3.8524702245442527E-4}]
[null,null,"Scope 1","Σταθερή Καύση","Φυσικό Αέριο","Βιβλιοθήκη","N2O",{"$f":"'Σύνοψη - Πίνακες'!G35","v":3.8524702245442521E-5}]
[null,null,"Scope 1","Σταθερή Καύση","Φυσικό Αέριο","Γυμναστήριο","CO2e",{"$f":"'Σύνοψη - Πίνακες'!H33","v":7.9410037951319072}]
[null,null,"Scope 1","Σταθερή Καύση","Φυσικό Αέριο","Γυμναστήριο","CO2",{"$f":"'Σύνοψη - Πίνακες'!I33","v":7.933153130864719}]
[null,null,"Scope 1","Σταθερή Καύση","Φυσικό Αέριο","Γυμναστήριο","CH4",{"$f":"'Σύνοψη - Πίνακες'!I34","v":1.4222217875340122E-4}]
[null,null,"Scope 1","Σταθερή Καύση","Φυσικό Αέριο","Γυμναστήριο","N2O",{"$f":"'Σύνοψη - Πίνακες'!I35","v":1.4222217875340123E-5}]
[null,null,"Scope 1","Σταθερή Καύση","Φυσικό Αέριο","Διοίκηση","CO2e",{"$f":"'Σύνοψη - Πίνακες'!J33","v":17.910714617880842}]
[null,null,"Scope 1","Σταθερή Καύση","Φυσικό Αέριο","Διοίκηση","CO2",{"$f":"'Σύνοψη - Πίνακες'!K33","v":17.89300766157179}]
[null,null,"Scope 1","Σταθερή Καύση","Φυσικό Αέριο","Διοίκηση","CH4",{"$f":"'Σύνοψη - Πίνακες'!K34","v":3.2077819400451403E-4}]
[null,null,"Scope 1","Σταθερή Καύση","Φυσικό Αέριο","Διοίκηση","N2O",{"$f":"'Σύνοψη - Πίνακες'!K35","v":3.2077819400451406E-5}]
[null,null,"Scope 1","Σταθερή Καύση","Φυσικό Αέριο","Σχολή Αγρονόμων και Τοπογράφων Μηχανικών","CO2e",{"$f":"'Σύνοψη - Πίνακες'!L33","v":36.580466330419014}]
[null,null,"Scope 1","Σταθερή Καύση","Φυσικό Αέριο","Σχολή Αγρονόμων και Τοπογράφων Μηχανικών","CO2",{"$f":"'Σύνοψη - Πίνακες'!M33","v":36.544302015767343}]
[null,null,"Scope 1","Σταθερή Καύση","Φυσικό Αέριο","Σχολή Αγρονόμων και Τοπογράφων Μηχανικών","CH4",{"$f":"'Σύνοψη - Πίνακες'!M34","v":6.5515062774771141E-4}]
[null,null,"Scope 1","Σταθερή Καύση","Φυσικό Αέριο","Σχολή Αγρονόμων και Τοπογράφων Μηχανικών","N2O",{"$f":"'Σύνοψη - Πίνακες'!M35","v":6.5515062774771152E-5}]
[null,null,"Scope 1","Σταθερή Καύση","Φυσικό Αέριο","Σχολή Εφαρμοσμένων Μαθηματικών και Φυσικών Επιστημών","CO2e",{"$f":"'Σύνοψη - Πίνακες'!N33","v":63.720627192325047}]
[null,null,"Scope 1","Σταθερή Καύση","Φυσικό Αέριο","Σχολή Εφαρμοσμένων Μαθηματικών και Φυσικών Επιστημών","CO2",{"$f":"'Σύνοψη - Πίνακες'!O33","v":63.657631472402556}]
[null,null,"Scope 1","Σταθερή Καύση","Φυσικό Αέριο","Σχολή Εφαρμοσμένων Μαθηματικών και Φυσικών Επιστημών","CH4",{"$f":"'Σύνοψη - Πίνακες'!O34","v":1.1412268101900782E-3}]
[null,null,"Scope 1","Σταθερή Καύση","Φυσικό Αέριο","Σχολή Εφαρμοσμένων Μαθηματικών και Φυσικών Επιστημών","N2O",{"$f":"'Σύνοψη - Πίνακες'!O35","v":1.1412268101900783E-4}]
[null,null,"Scope 1","Σταθερή Καύση","Φυσικό Αέριο","Σχολή Ηλεκτρολόγων Μηχανικών και Μηχανικών Υπολογιστών","CO2e",{"$f":"'Σύνοψη - Πίνακες'!P33","v":39.196171566861736}]
[null,null,"Scope 1","Σταθερή Καύση","Φυσικό Αέριο","Σχολή Ηλεκτρολόγων Μηχανικών και Μηχανικών Υπολογιστών","CO2",{"$f":"'Σύνοψη - Πίνακες'!Q33","v":39.157421304115459}]
[null,null,"Scope 1","Σταθερή Καύση","Φυσικό Αέριο","Σχολή Ηλεκτρολόγων Μηχανικών και Μηχανικών Υπολογιστών","CH4",{"$f":"'Σύνοψη - Πίνακες'!Q34","v":7.0199751351945981E-4}]
[null,null,"Scope 1","Σταθερή Καύση","Φυσικό Αέριο","Σχολή Ηλεκτρολόγων Μηχανικών και Μηχανικών Υπολογιστών","N2O",{"$f":"'Σύνοψη - Πίνακες'!Q35","v":7.0199751351945989E-5}]
[null,null,"Scope 1","Σταθερή Καύση","Φυσικό Αέριο","Σχολή Μηχανικών Μεταλλείων Μεταλλουργών","CO2e",{"$f":"'Σύνοψη - Πίνακες'!R33","v":60.538558210902117}]
[null,null,"Scope 1","Σταθερή Καύση","Φυσικό Αέριο","Σχολή Μηχανικών Μεταλλείων Μεταλλουργών","CO2",{"$f":"'Σύνοψη - Πίνακες'!S33","v":60.478708359674904}]
[null,null,"Scope 1","Σταθερή Καύση","Φυσικό Αέριο","Σχολή Μηχανικών Μεταλλείων Μεταλλουργών","CH4",{"$f":"'Σύνοψη - Πίνακες'!S34","v":1.0842364352756347E-3}]
[null,null,"Scope 1","Σταθερή Καύση","Φυσικό Αέριο","Σχολή Μηχανικών Μεταλλείων Μεταλλουργών","N2O",{"$f":"'Σύνοψη - Πίνακες'!S35","v":1.0842364352756349E-4}]
[null,null,"Scope 1","Σταθερή Καύση","Φυσικό Αέριο","Σχολή Μηχανολόγων Μηχανικών","CO2e",{"$f":"'Σύνοψη - Πίνακες'!T33","v":89.921448085749589}]
[null,null,"Scope 1","Σταθερή Καύση","Φυσικό Αέριο","Σχολή Μηχανολόγων Μηχανικών","CO2",{"$f":"'Σύνοψη - Πίνακες'!U33","v":89.832549614277596}]
[null,null,"Scope 1","Σταθερή Καύση","Φυσικό Αέριο","Σχολή Μηχανολόγων Μηχανικών","CH4",{"$f":"'Σύνοψη - Πίνακες'!U34","v":1.6104795556521622E-3}]
[null,null,"Scope 1","Σταθερή Καύση","Φυσικό Αέριο","Σχολή Μηχανολόγων Μηχανικών","N2O",{"$f":"'Σύνοψη - Πίνακες'!U35","v":1.6104795556521625E-4}]
[null,null,"Scope 1","Σταθερή Καύση","Φυσικό Αέριο","Σχολή Ναυπηγών Μηχανολόγων Μηχανικών","CO2e",{"$f":"'Σύνοψη - Πίνακες'!V33","v":20.183285809684119}]
[null,null,"Scope 1","Σταθερή Καύση","Φυσικό Αέριο","Σχολή Ναυπηγών Μηχανολόγων Μηχανικών","CO2",{"$f":"'Σύνοψη - Πίνακες'!W33","v":20.163332135716896}]
[null,null,"Scope 1","Σταθερή Καύση","Φυσικό Αέριο","Σχολή Ναυπηγών Μηχανολόγων Μηχανικών","CH4",{"$f":"'Σύνοψη - Πίνακες'!W34","v":3.6147960085544819E-4}]
[null,null,"Scope 1","Σταθερή Καύση","Φυσικό Αέριο","Σχολή Ναυπηγών Μηχανολόγων Μηχανικών","N2O",{"$f":"'Σύνοψη - Πίνακες'!W35","v":3.6147960085544823E-5}]
[null,null,"Scope 1","Σταθερή Καύση","Φυσικό Αέριο","Σχολή Πολιτικών Μηχανικών","CO2e",{"$f":"'Σύνοψη - Πίνακες'!X33","v":50.233441702654879}]
[null,null,"Scope 1","Σταθερή Καύση","Φυσικό Αέριο","Σχολή Πολιτικών Μηχανικών","CO2",{"$f":"'Σύνοψη - Πίνακες'!Y33","v":50.183779733467233}]
[null,null,"Scope 1","Σταθερή Καύση","Φυσικό Αέριο","Σχολή Πολιτικών Μηχανικών","CH4",{"$f":"'Σύνοψη - Πίνακες'!Y34","v":8.9967335484882093E-4}]
[null,null,"Scope 1","Σταθερή Καύση","Φυσικό Αέριο","Σχολή Πολιτικών Μηχανικών","N2O",{"$f":"'Σύνοψη - Πίνακες'!Y35","v":8.9967335484882104E-5}]
[null,null,"Scope 1","Σταθερή Καύση","Φυσικό Αέριο","Σχολή Χημικών Μηχανικών","CO2e",{"$f":"'Σύνοψη - Πίνακες'!Z33","v":78.684311869989557}]
[null,null,"Scope 1","Σταθερή Καύση","Φυσικό Αέριο","Σχολή Χημικών Μηχανικών","CO2",{"$f":"'Σύνοψη - Πίνακες'!AA33","v":78.606522697295205}]
[null,null,"Scope 1","Σταθερή Καύση","Φυσικό Αέριο","Σχολή Χημικών Μηχανικών","CH4",{"$f":"'Σύνοψη - Πίνακες'!AA34","v":1.4092241430135391E-3}]
[null,null,"Scope 1","Σταθερή Καύση","Φυσικό Αέριο","Σχολή Χημικών Μηχανικών","N2O",{"$f":"'Σύνοψη - Πίνακες'!AA35","v":1.4092241430135394E-4}]
[null,null,"Scope 1","Σταθερή Καύση","Φυσικό Αέριο","Σχολή Αρχιτεκτόνων Μηχανικών","CO2e",{"$f":"'Σύνοψη - Πίνακες'!AB33","v":66.407775115085698}]
[null,null,"Scope 1","Σταθερή Καύση","Φυσικό Αέριο","Σχολή Αρχιτεκτόνων Μηχανικών","CO2",{"$f":"'Σύνοψη - Πίνακες'!AC33","v":66.342122817138289}]
[null,null,"Scope 1","Σταθερή Καύση","Φυσικό Αέριο","Σχολή Αρχιτεκτόνων Μηχανικών","CH4",{"$f":"'Σύνοψη - Πίνακες'!AC34","v":1.1893532236848029E-3}]
[null,null,"Scope 1","Σταθερή Καύση","Φυσικό Αέριο","Σχολή Αρχιτεκτόνων Μηχανικών","N2O",{"$f":"'Σύνοψη - Πίνακες'!AC35","v":1.1893532236848028E-4}]
[null,null,"Scope 1","Κινητή Καύση","Πετρέλαιο Κίνησης (Επιβατικό)","Βιβλιοθήκη","CO2e",{"$f":"'Σύνοψη - Πίνακες'!F39","v":2.7477980274656253}]
[null,null,"Scope 1","Κινητή Καύση","Πετρέλαιο Κίνησης (Επιβατικό)","Βιβλιοθήκη","CO2",{"$f":"'Σύνοψη - Πίνακες'!G39","v":2.7179772187500002}]
[null,null,"Scope 1","Κινητή Καύση","Πετρέλαιο Κίνησης (Επιβατικό)","Βιβλιοθήκη","CH4",{"$f":"'Σύνοψη - Πίνακες'!G40","v":1.1134687499999999E-6}]
[null,null,"Scope 1","Κινητή Καύση","Πετρέλαιο Κίνησης (Επιβατικό)","Βιβλιοθήκη","N2O",{"$f":"'Σύνοψη - Πίνακες'!G41","v":1.091199375E-4}]
[null,null,"Scope 1","Κινητή Καύση","Πετρέλαιο Κίνησης (Επιβατικό)","Γυμναστήριο","CO2e",{"$f":"'Σύνοψη - Πίνακες'!H39","v":2.7477980274656253}]
[null,null,"Scope 1","Κινητή Καύση","Πετρέλαιο Κίνησης (Επιβατικό)","Γυμναστήριο","CO2",{"$f":"'Σύνοψη - Πίνακες'!I39","v":2.7179772187500002}]
[null,null,"Scope 1","Κινητή Καύση","Πετρέλαιο Κίνησης (Επιβατικό)","Γυμναστήριο","CH4",{"$f":"'Σύνοψη - Πίνακες'!I40","v":1.1134687499999999E-6}]
[null,null,"Scope 1","Κινητή Καύση","Πετρέλαιο Κίνησης (Επιβατικό)","Γυμναστήριο","N2O",{"$f":"'Σύνοψη - Πίνακες'!I41","v":1.091199375E-4}]
[null,null,"Scope 1","Κινητή Καύση","Πετρέλαιο Κίνησης (Επιβατικό)","Διοίκηση","CO2e",{"$f":"'Σύνοψη - Πίνακες'!J39","v":2.7477980274656253}]
[null,null,"Scope 1","Κινητή Καύση","Πετρέλαιο Κίνησης (Επιβατικό)","Διοίκηση","CO2",{"$f":"'Σύνοψη - Πίνακες'!K39","v":2.7179772187500002}]
[null,null,"Scope 1","Κινητή Καύση","Πετρέλαιο Κίνησης (Επιβατικό)","Διοίκηση","CH4",{"$f":"'Σύνοψη - Πίνακες'!K40","v":1.1134687499999999E-6}]
[null,null,"Scope 1","Κινητή Καύση","Πετρέλαιο Κίνησης (Επιβατικό)","Διοίκηση","N2O",{"$f":"'Σύνοψη - Πίνακες'!K41","v":1.091199375E-4}]
[null,null,"Scope 1","Κινητή Καύση","Πετρέλαιο Κίνησης (Επιβατικό)","Σχολή Αγρονόμων και Τοπογράφων Μηχανικών","CO2e",{"$f":"'Σύνοψη - Πίνακες'!L39","v":2.7477980274656253}]
[null,null,"Scope 1","Κινητή Καύση","Πετρέλαιο Κίνησης (Επιβατικό)","Σχολή Αγρονόμων και Τοπογράφων Μηχανικών","CO2",{"$f":"'Σύνοψη - Πίνακες'!M39","v":2.7179772187500002}]
[null,null,"Scope 1","Κινητή Καύση","Πετρέλαιο Κίνησης (Επιβατικό)","Σχολή Αγρονόμων και Τοπογράφων Μηχανικών","CH4",{"$f":"'Σύνοψη - Πίνακες'!M40","v":1.1134687499999999E-6}]
[null,null,"Scope 1","Κινητή Καύση","Πετρέλαιο Κίνησης (Επιβατικό)","Σχολή Αγρονόμων και Τοπογράφων Μηχανικών","N2O",{"$f":"'Σύνοψη - Πίνακες'!M41","v":1.091199375E-4}]
[null,null,"Scope 1","Κινητή Καύση","Πετρέλαιο Κίνησης (Επιβατικό)","Σχολή Εφαρμοσμένων Μαθηματικών και Φυσικών Επιστημών","CO2e",{"$f":"'Σύνοψη - Πίνακες'!N39","v":2.7477980274656253}]
[null,null,"Scope 1","Κινητή Καύση","Πετρέλαιο Κίνησης (Επιβατικό)","Σχολή Εφαρμοσμένων Μαθηματικών και Φυσικών Επιστημών","CO2",{"$f":"'Σύνοψη - Πίνακες'!O39","v":2.7179772187500002}]
[null,null,"Scope 1","Κινητή Καύση","Πετρέλαιο Κίνησης (Επιβατικό)","Σχολή Εφαρμοσμένων Μαθηματικών και Φυσικών Επιστημών","CH4",{"$f":"'Σύνοψη - Πίνακες'!O40","v":1.1134687499999999E-6}]
[null,null,"Scope 1","Κινητή Καύση","Πετρέλαιο Κίνησης (Επιβατικό)","Σχολή Εφαρμοσμένων Μαθηματικών και Φυσικών Επιστημών","N2O",{"$f":"'Σύνοψη - Πίνακες'!O41","v":1.091199375E-4}]
[null,null,"Scope 1","Κινητή Καύση","Πετρέλαιο Κίνησης (Επιβατικό)","Σχολή Ηλεκτρολόγων Μηχανικών και Μηχανικών Υπολογιστών","CO2e",{"$f":"'Σύνοψη - Πίνακες'!P39","v":2.7477980274656253}]
[null,null,"Scope 1","Κινητή Καύση","Πετρέλαιο Κίνησης (Επιβατικό)","Σχολή Ηλεκτρολόγων Μηχανικών και Μηχανικών Υπολογιστών","CO2",{"$f":"'Σύνοψη - Πίνακες'!Q39","v":2.7179772187500002}]
[null,null,"Scope 1","Κινητή Καύση","Πετρέλαιο Κίνησης (Επιβατικό)","Σχολή Ηλεκτρολόγων Μηχανικών και Μηχανικών Υπολογιστών","CH4",{"$f":"'Σύνοψη - Πίνακες'!Q40","v":1.1134687499999999E-6}]
[null,null,"Scope 1","Κινητή Καύση","Πετρέλαιο Κίνησης (Επιβατικό)","Σχολή Ηλεκτρολόγων Μηχανικών και Μηχανικών Υπολογιστών","N2O",{"$f":"'Σύνοψη - Πίνακες'!Q41","v":1.091199375E-4}]
[null,null,"Scope 1","Κινητή Καύση","Πετρέλαιο Κίνησης (Επιβατικό)","Σχολή Μηχανικών Μεταλλείων Μεταλλουργών","CO2e",{"$f":"'Σύνοψη - Πίνακες'!R39","v":2.7477980274656253}]
[null,null,"Scope 1","Κινητή Καύση","Πετρέλαιο Κίνησης (Επιβατικό)","Σχολή Μηχανικών Μεταλλείων Μεταλλουργών","CO2",{"$f":"'Σύνοψη - Πίνακες'!S39","v":2.7179772187500002}]
[null,null,"Scope 1","Κινητή Καύση","Πετρέλαιο Κίνησης (Επιβατικό)","Σχολή Μηχανικών Μεταλλείων Μεταλλουργών","CH4",{"$f":"'Σύνοψη - Πίνακες'!S40","v":1.1134687499999999E-6}]
[null,null,"Scope 1","Κινητή Καύση","Πετρέλαιο Κίνησης (Επιβατικό)","Σχολή Μηχανικών Μεταλλείων Μεταλλουργών","N2O",{"$f":"'Σύνοψη - Πίνακες'!S41","v":1.091199375E-4}]
[null,null,"Scope 1","Κινητή Καύση","Πετρέλαιο Κίνησης (Επιβατικό)","Σχολή Μηχανολόγων Μηχανικών","CO2e",{"$f":"'Σύνοψη - Πίνακες'!T39","v":2.7477980274656253}]
[null,null,"Scope 1","Κινητή Καύση","Πετρέλαιο Κίνησης (Επιβατικό)","Σχολή Μηχανολόγων Μηχανικών","CO2",{"$f":"'Σύνοψη - Πίνακες'!U39","v":2.7179772187500002}]
[null,null,"Scope 1","Κινητή Καύση","Πετρέλαιο Κίνησης (Επιβατικό)","Σχολή Μηχανολόγων Μηχανικών","CH4",{"$f":"'Σύνοψη - Πίνακες'!U40","v":1.1134687499999999E-6}]
[null,null,"Scope 1","Κινητή Καύση","Πετρέλαιο Κίνησης (Επιβατικό)","Σχολή Μηχανολόγων Μηχανικών","N2O",{"$f":"'Σύνοψη - Πίνακες'!U41","v":1.091199375E-4}]
[null,null,"Scope 1","Κινητή Καύση","Πετρέλαιο Κίνησης (Επιβατικό)","Σχολή Ναυπηγών Μηχανολόγων Μηχανικών","CO2e",{"$f":"'Σύνοψη - Πίνακες'!V39","v":2.7477980274656253}]
[null,null,"Scope 1","Κινητή Καύση","Πετρέλαιο Κίνησης (Επιβατικό)","Σχολή Ναυπηγών Μηχανολόγων Μηχανικών","CO2",{"$f":"'Σύνοψη - Πίνακες'!W39","v":2.7179772187500002}]
[null,null,"Scope 1","Κινητή Καύση","Πετρέλαιο Κίνησης (Επιβατικό)","Σχολή Ναυπηγών Μηχανολόγων Μηχανικών","CH4",{"$f":"'Σύνοψη - Πίνακες'!W40","v":1.1134687499999999E-6}]
[null,null,"Scope 1","Κινητή Καύση","Πετρέλαιο Κίνησης (Επιβατικό)","Σχολή Ναυπηγών Μηχανολόγων Μηχανικών","N2O",{"$f":"'Σύνοψη - Πίνακες'!W41","v":1.091199375E-4}]
[null,null,"Scope 1","Κινητή Καύση","Πετρέλαιο Κίνησης (Επιβατικό)","Σχολή Πολιτικών Μηχανικών","CO2e",{"$f":"'Σύνοψη - Πίνακες'!X39","v":2.7477980274656253}]
[null,null,"Scope 1","Κινητή Καύση","Πετρέλαιο Κίνησης (Επιβατικό)","Σχολή Πολιτικών Μηχανικών","CO2",{"$f":"'Σύνοψη - Πίνακες'!Y39","v":2.7179772187500002}]
[null,null,"Scope 1","Κινητή Καύση","Πετρέλαιο Κίνησης (Επιβατικό)","Σχολή Πολιτικών Μηχανικών","CH4",{"$f":"'Σύνοψη - Πίνακες'!Y40","v":1.1134687499999999E-6}]
[null,null,"Scope 1","Κινητή Καύση","Πετρέλαιο Κίνησης (Επιβατικό)","Σχολή Πολιτικών Μηχανικών","N2O",{"$f":"'Σύνοψη - Πίνακες'!Y41","v":1.091199375E-4}]
[null,null,"Scope 1","Κινητή Καύση","Πετρέλαιο Κίνησης (Επιβατικό)","Σχολή Χημικών Μηχανικών","CO2e",{"$f":"'Σύνοψη - Πίνακες'!Z39","v":2.7477980274656253}]
[null,null,"Scope 1","Κινητή Καύση","Πετρέλαιο Κίνησης (Επιβατικό)","Σχολή Χημικών Μηχανικών","CO2",{"$f":"'Σύνοψη - Πίνακες'!AA39","v":2.7179772187500002}]
[null,null,"Scope 1","Κινητή Καύση","Πετρέλαιο Κίνησης (Επιβατικό)","Σχολή Χημικών Μηχανικών","CH4",{"$f":"'Σύνοψη - Πίνακες'!AA40","v":1.1134687499999999E-6}]
[null,null,"Scope 1","Κινητή Καύση","Πετρέλαιο Κίνησης (Επιβατικό)","Σχολή Χημικών Μηχανικών","N2O",{"$f":"'Σύνοψη - Πίνακες'!AA41","v":1.091199375E-4}]
[null,null,"Scope 1","Κινητή Καύση","Πετρέλαιο Κίνησης (Επιβατικό)","Σχολή Αρχιτεκτόνων Μηχανικών","CO2e",{"$f":"'Σύνοψη - Πίνακες'!AB39","v":2.7477980274656253}]
[null,null,"Scope 1","Κινητή Καύση","Πετρέλαιο Κίνησης (Επιβατικό)","Σχολή Αρχιτεκτόνων Μηχανικών","CO2",{"$f":"'Σύνοψη - Πίνακες'!AC39","v":2.7179772187500002}]
[null,null,"Scope 1","Κινητή Καύση","Πετρέλαιο Κίνησης (Επιβατικό)","Σχολή Αρχιτεκτόνων Μηχανικών","CH4",{"$f":"'Σύνοψη - Πίνακες'!AC40","v":1.1134687499999999E-6}]
[null,null,"Scope 1","Κινητή Καύση","Πετρέλαιο Κίνησης (Επιβατικό)","Σχολή Αρχιτεκτόνων Μηχανικών","N2O",{"$f":"'Σύνοψη - Πίνακες'!AC41","v":1.091199375E-4}]
[null,null,"Scope 1","Κινητή Καύση","Βενζίνη (Επιβατικό)","Βιβλιοθήκη","CO2e",{"$f":"'Σύνοψη - Πίνακες'!F42","v":1.0832571416515064}]
[null,null,"Scope 1","Κινητή Καύση","Βενζίνη (Επιβατικό)","Βιβλιοθήκη","CO2",{"$f":"'Σύνοψη - Πίνακες'!G42","v":1.0739939656875002}]
[null,null,"Scope 1","Κινητή Καύση","Βενζίνη (Επιβατικό)","Βιβλιοθήκη","CH4",{"$f":"'Σύνοψη - Πίνακες'!G43","v":1.3692470160416666E-4}]
[null,null,"Scope 1","Κινητή Καύση","Βενζίνη (Επιβατικό)","Βιβλιοθήκη","N2O",{"$f":"'Σύνοψη - Πίνακες'!G44","v":1.993764391666667E-5}]
[null,null,"Scope 1","Κινητή Καύση","Βενζίνη (Επιβατικό)","Γυμναστήριο","CO2e",{"$f":"'Σύνοψη - Πίνακες'!H42","v":1.0832571416515064}]
[null,null,"Scope 1","Κινητή Καύση","Βενζίνη (Επιβατικό)","Γυμναστήριο","CO2",{"$f":"'Σύνοψη - Πίνακες'!I42","v":1.0739939656875002}]
[null,null,"Scope 1","Κινητή Καύση","Βενζίνη (Επιβατικό)","Γυμναστήριο","CH4",{"$f":"'Σύνοψη - Πίνακες'!I43","v":1.3692470160416666E-4}]
[null,null,"Scope 1","Κινητή Καύση","Βενζίνη (Επιβατικό)","Γυμναστήριο","N2O",{"$f":"'Σύνοψη - Πίνακες'!I44","v":1.993764391666667E-5}]
[null,null,"Scope 1","Κινητή Καύση","Βενζίνη (Επιβατικό)","Διοίκηση","CO2e",{"$f":"'Σύνοψη - Πίνακες'!J42","v":1.0832571416515064}]
[null,null,"Scope 1","Κινητή Καύση","Βενζίνη (Επιβατικό)","Διοίκηση","CO2",{"$f":"'Σύνοψη - Πίνακες'!K42","v":1.0739939656875002}]
[null,null,"Scope 1","Κινητή Καύση","Βενζίνη (Επιβατικό)","Διοίκηση","CH4",{"$f":"'Σύνοψη - Πίνακες'!K43","v":1.3692470160416666E-4}]
[null,null,"Scope 1","Κινητή Καύση","Βενζίνη (Επιβατικό)","Διοίκηση","N2O",{"$f":"'Σύνοψη - Πίνακες'!K44","v":1.993764391666667E-5}]
[null,null,"Scope 1","Κινητή Καύση","Βενζίνη (Επιβατικό)","Σχολή Αγρονόμων και Τοπογράφων Μηχανικών","CO2e",{"$f":"'Σύνοψη - Πίνακες'!L42","v":1.0832571416515064}]
[null,null,"Scope 1","Κινητή Καύση","Βενζίνη (Επιβατικό)","Σχολή Αγρονόμων και Τοπογράφων Μηχανικών","CO2",{"$f":"'Σύνοψη - Πίνακες'!M42","v":1.0739939656875002}]
[null,null,"Scope 1","Κινητή Καύση","Βενζίνη (Επιβατικό)","Σχολή Αγρονόμων και Τοπογράφων Μηχανικών","CH4",{"$f":"'Σύνοψη - Πίνακες'!M43","v":1.3692470160416666E-4}]
[null,null,"Scope 1","Κινητή Καύση","Βενζίνη (Επιβατικό)","Σχολή Αγρονόμων και Τοπογράφων Μηχανικών","N2O",{"$f":"'Σύνοψη - Πίνακες'!M44","v":1.993764391666667E-5}]
[null,null,"Scope 1","Κινητή Καύση","Βενζίνη (Επιβατικό)","Σχολή Εφαρμοσμένων Μαθηματικών και Φυσικών Επιστημών","CO2e",{"$f":"'Σύνοψη - Πίνακες'!N42","v":1.0832571416515064}]
[null,null,"Scope 1","Κινητή Καύση","Βενζίνη (Επιβατικό)","Σχολή Εφαρμοσμένων Μαθηματικών και Φυσικών Επιστημών","CO2",{"$f":"'Σύνοψη - Πίνακες'!O42","v":1.0739939656875002}]
[null,null,"Scope 1","Κινητή Καύση","Βενζίνη (Επιβατικό)","Σχολή Εφαρμοσμένων Μαθηματικών και Φυσικών Επιστημών","CH4",{"$f":"'Σύνοψη - Πίνακες'!O43","v":1.3692470160416666E-4}]
[null,null,"Scope 1","Κινητή Καύση","Βενζίνη (Επιβατικό)","Σχολή Εφαρμοσμένων Μαθηματικών και Φυσικών Επιστημών","N2O",{"$f":"'Σύνοψη - Πίνακες'!O44","v":1.993764391666667E-5}]
[null,null,"Scope 1","Κινητή Καύση","Βενζίνη (Επιβατικό)","Σχολή Ηλεκτρολόγων Μηχανικών και Μηχανικών Υπολογιστών","CO2e",{"$f":"'Σύνοψη - Πίνακες'!P42","v":1.0832571416515064}]
[null,null,"Scope 1","Κινητή Καύση","Βενζίνη (Επιβατικό)","Σχολή Ηλεκτρολόγων Μηχανικών και Μηχανικών Υπολογιστών","CO2",{"$f":"'Σύνοψη - Πίνακες'!Q42","v":1.0739939656875002}]
[null,null,"Scope 1","Κινητή Καύση","Βενζίνη (Επιβατικό)","Σχολή Ηλεκτρολόγων Μηχανικών και Μηχανικών Υπολογιστών","CH4",{"$f":"'Σύνοψη - Πίνακες'!Q43","v":1.3692470160416666E-4}]
[null,null,"Scope 1","Κινητή Καύση","Βενζίνη (Επιβατικό)","Σχολή Ηλεκτρολόγων Μηχανικών και Μηχανικών Υπολογιστών","N2O",{"$f":"'Σύνοψη - Πίνακες'!Q44","v":1.993764391666667E-5}]
[null,null,"Scope 1","Κινητή Καύση","Βενζίνη (Επιβατικό)","Σχολή Μηχανικών Μεταλλείων Μεταλλουργών","CO2e",{"$f":"'Σύνοψη - Πίνακες'!R42","v":1.0832571416515064}]
[null,null,"Scope 1","Κινητή Καύση","Βενζίνη (Επιβατικό)","Σχολή Μηχανικών Μεταλλείων Μεταλλουργών","CO2",{"$f":"'Σύνοψη - Πίνακες'!S42","v":1.0739939656875002}]
[null,null,"Scope 1","Κινητή Καύση","Βενζίνη (Επιβατικό)","Σχολή Μηχανικών Μεταλλείων Μεταλλουργών","CH4",{"$f":"'Σύνοψη - Πίνακες'!S43","v":1.3692470160416666E-4}]
[null,null,"Scope 1","Κινητή Καύση","Βενζίνη (Επιβατικό)","Σχολή Μηχανικών Μεταλλείων Μεταλλουργών","N2O",{"$f":"'Σύνοψη - Πίνακες'!S44","v":1.993764391666667E-5}]
[null,null,"Scope 1","Κινητή Καύση","Βενζίνη (Επιβατικό)","Σχολή Μηχανολόγων Μηχανικών","CO2e",{"$f":"'Σύνοψη - Πίνακες'!T42","v":1.0832571416515064}]
[null,null,"Scope 1","Κινητή Καύση","Βενζίνη (Επιβατικό)","Σχολή Μηχανολόγων Μηχανικών","CO2",{"$f":"'Σύνοψη - Πίνακες'!U42","v":1.0739939656875002}]
[null,null,"Scope 1","Κινητή Καύση","Βενζίνη (Επιβατικό)","Σχολή Μηχανολόγων Μηχανικών","CH4",{"$f":"'Σύνοψη - Πίνακες'!U43","v":1.3692470160416666E-4}]
[null,null,"Scope 1","Κινητή Καύση","Βενζίνη (Επιβατικό)","Σχολή Μηχανολόγων Μηχανικών","N2O",{"$f":"'Σύνοψη - Πίνακες'!U44","v":1.993764391666667E-5}]
[null,null,"Scope 1","Κινητή Καύση","Βενζίνη (Επιβατικό)","Σχολή Ναυπηγών Μηχανολόγων Μηχανικών","CO2e",{"$f":"'Σύνοψη - Πίνακες'!V42","v":1.0832571416515064}]
[null,null,"Scope 1","Κινητή Καύση","Βενζίνη (Επιβατικό)","Σχολή Ναυπηγών Μηχανολόγων Μηχανικών","CO2",{"$f":"'Σύνοψη - Πίνακες'!W42","v":1.0739939656875002}]
[null,null,"Scope 1","Κινητή Καύση","Βενζίνη (Επιβατικό)","Σχολή Ναυπηγών Μηχανολόγων Μηχανικών","CH4",{"$f":"'Σύνοψη - Πίνακες'!W43","v":1.3692470160416666E-4}]
[null,null,"Scope 1","Κινητή Καύση","Βενζίνη (Επιβατικό)","Σχολή Ναυπηγών Μηχανολόγων Μηχανικών","N2O",{"$f":"'Σύνοψη - Πίνακες'!W44","v":1.993764391666667E-5}]
[null,null,"Scope 1","Κινητή Καύση","Βενζίνη (Επιβατικό)","Σχολή Πολιτικών Μηχανικών","CO2e",{"$f":"'Σύνοψη - Πίνακες'!X42","v":1.0832571416515064}]
[null,null,"Scope 1","Κινητή Καύση","Βενζίνη (Επιβατικό)","Σχολή Πολιτικών Μηχανικών","CO2",{"$f":"'Σύνοψη - Πίνακες'!Y42","v":1.0739939656875002}]
[null,null,"Scope 1","Κινητή Καύση","Βενζίνη (Επιβατικό)","Σχολή Πολιτικών Μηχανικών","CH4",{"$f":"'Σύνοψη - Πίνακες'!Y43","v":1.3692470160416666E-4}]
[null,null,"Scope 1","Κινητή Καύση","Βενζίνη (Επιβατικό)","Σχολή Πολιτικών Μηχανικών","N2O",{"$f":"'Σύνοψη - Πίνακες'!Y44","v":1.993764391666667E-5}]
[null,null,"Scope 1","Κινητή Καύση","Βενζίνη (Επιβατικό)","Σχολή Χημικών Μηχανικών","CO2e",{"$f":"'Σύνοψη - Πίνακες'!Z42","v":1.0832571416515064}]
[null,null,"Scope 1","Κινητή Καύση","Βενζίνη (Επιβατικό)","Σχολή Χημικών Μηχανικών","CO2",{"$f":"'Σύνοψη - Πίνακες'!AA42","v":1.0739939656875002}]
[null,null,"Scope 1","Κινητή Καύση","Βενζίνη (Επιβατικό)","Σχολή Χημικών Μηχανικών","CH4",{"$f":"'Σύνοψη - Πίνακες'!AA43","v":1.3692470160416666E-4}]
[null,null,"Scope 1","Κινητή Καύση","Βενζίνη (Επιβατικό)","Σχολή Χημικών Μηχανικών","N2O",{"$f":"'Σύνοψη - Πίνακες'!AA44","v":1.993764391666667E-5}]
[null,null,"Scope 1","Κινητή Καύση","Βενζίνη (Επιβατικό)","Σχολή Αρχιτεκτόνων Μηχανικών","CO2e",{"$f":"'Σύνοψη - Πίνακες'!AB42","v":1.0832571416515064}]
[null,null,"Scope 1","Κινητή Καύση","Βενζίνη (Επιβατικό)","Σχολή Αρχιτεκτόνων Μηχανικών","CO2",{"$f":"'Σύνοψη - Πίνακες'!AC42","v":1.0739939656875002}]
[null,null,"Scope 1","Κινητή Καύση","Βενζίνη (Επιβατικό)","Σχολή Αρχιτεκτόνων Μηχανικών","CH4",{"$f":"'Σύνοψη - Πίνακες'!AC43","v":1.3692470160416666E-4}]
[null,null,"Scope 1","Κινητή Καύση","Βενζίνη (Επιβατικό)","Σχολή Αρχιτεκτόνων Μηχανικών","N2O",{"$f":"'Σύνοψη - Πίνακες'!AC44","v":1.993764391666667E-5}]
[null,null,"Scope 1","Ανεξέλεγκτες Εκπομπές Ανθρωπογενών Συστημάτων","R-11","Βιβλιοθήκη","CO2e",{"$f":"'Σύνοψη - Πίνακες'!F48","v":0}]
[null,null,"Scope 1","Ανεξέλεγκτες Εκπομπές Ανθρωπογενών Συστημάτων","R-11","Βιβλιοθήκη","CO2",0]
[null,null,"Scope 1","Ανεξέλεγκτες Εκπομπές Ανθρωπογενών Συστημάτων","R-11","Βιβλιοθήκη","CH4",0]
[null,null,"Scope 1","Ανεξέλεγκτες Εκπομπές Ανθρωπογενών Συστημάτων","R-11","Βιβλιοθήκη","N2O",0]
[null,null,"Scope 1","Ανεξέλεγκτες Εκπομπές Ανθρωπογενών Συστημάτων","R-11","Γυμναστήριο","CO2e",{"$f":"'Σύνοψη - Πίνακες'!H48","v":0}]
[null,null,"Scope 1","Ανεξέλεγκτες Εκπομπές Ανθρωπογενών Συστημάτων","R-11","Γυμναστήριο","CO2",0]
[null,null,"Scope 1","Ανεξέλεγκτες Εκπομπές Ανθρωπογενών Συστημάτων","R-11","Γυμναστήριο","CH4",0]
[null,null,"Scope 1","Ανεξέλεγκτες Εκπομπές Ανθρωπογενών Συστημάτων","R-11","Γυμναστήριο","N2O",0]
[null,null,"Scope 1","Ανεξέλεγκτες Εκπομπές Ανθρωπογενών Συστημάτων","R-11","Διοίκηση","CO2e",{"$f":"'Σύνοψη - Πίνακες'!J48","v":0}]
[null,null,"Scope 1","Ανεξέλεγκτες Εκπομπές Ανθρωπογενών Συστημάτων","R-11","Διοίκηση","CO2",0]
[null,null,"Scope 1","Ανεξέλεγκτες Εκπομπές Ανθρωπογενών Συστημάτων","R-11","Διοίκηση","CH4",0]
[null,null,"Scope 1","Ανεξέλεγκτες Εκπομπές Ανθρωπογενών Συστημάτων","R-11","Διοίκηση","N2O",0]
[null,null,"Scope 1","Ανεξέλεγκτες Εκπομπές Ανθρωπογενών Συστημάτων","R-11","Σχολή Αγρονόμων και Τοπογράφων Μηχανικών","CO2e",{"$f":"'Σύνοψη - Πίνακες'!L48","v":0}]
[null,null,"Scope 1","Ανεξέλεγκτες Εκπομπές Ανθρωπογενών Συστημάτων","R-11","Σχολή Αγρονόμων και Τοπογράφων Μηχανικών","CO2",0]
[null,null,"Scope 1","Ανεξέλεγκτες Εκπομπές Ανθρωπογενών Συστημάτων","R-11","Σχολή Αγρονόμων και Τοπογράφων Μηχανικών","CH4",0]
[null,null,"Scope 1","Ανεξέλεγκτες Εκπομπές Ανθρωπογενών Συστημάτων","R-11","Σχολή Αγρονόμων και Τοπογράφων Μηχανικών","N2O",0]
[null,null,"Scope 1","Ανεξέλεγκτες Εκπομπές Ανθρωπογενών Συστημάτων","R-11","Σχολή Εφαρμοσμένων Μαθηματικών και Φυσικών Επιστημών","CO2e",{"$f":"'Σύνοψη - Πίνακες'!N48","v":0}]
[null,null,"Scope 1","Ανεξέλεγκτες Εκπομπές Ανθρωπογενών Συστημάτων","R-11","Σχολή Εφαρμοσμένων Μαθηματικών και Φυσικών Επιστημών","CO2",0]
[null,null,"Scope 1","Ανεξέλεγκτες Εκπομπές Ανθρωπογενών Συστημάτων","R-11","Σχολή Εφαρμοσμένων Μαθηματικών και Φυσικών Επιστημών","CH4",0]
[null,null,"Scope 1","Ανεξέλεγκτες Εκπομπές Ανθρωπογενών Συστημάτων","R-11","Σχολή Εφαρμοσμένων Μαθηματικών και Φυσικών Επιστημών","N2O",0]
[null,null,"Scope 1","Ανεξέλεγκτες Εκπομπές Ανθρωπογενών Συστημάτων","R-11","Σχολή Ηλεκτρολόγων Μηχανικών και Μηχανικών Υπολογιστών","CO2e",{"$f":"'Σύνοψη - Πίνακες'!P48","v":0}]
[null,null,"Scope 1","Ανεξέλεγκτες Εκπομπές Ανθρωπογενών Συστημάτων","R-11","Σχολή Ηλεκτρολόγων Μηχανικών και Μηχανικών Υπολογιστών","CO2",0]
[null,null,"Scope 1","Ανεξέλεγκτες Εκπομπές Ανθρωπογενών Συστημάτων","R-11","Σχολή Ηλεκτρολόγων Μηχανικών και Μηχανικών Υπολογιστών","CH4",0]
[null,null,"Scope 1","Ανεξέλεγκτες Εκπομπές Ανθρωπογενών Συστημάτων","R-11","Σχολή Ηλεκτρολόγων Μηχανικών και Μηχανικών Υπολογιστών","N2O",0]
[null,null,"Scope 1","Ανεξέλεγκτες Εκπομπές Ανθρωπογενών Συστημάτων","R-11","Σχολή Μηχανικών Μεταλλείων Μεταλλουργών","CO2e",{"$f":"'Σύνοψη - Πίνακες'!R48","v":0}]
[null,null,"Scope 1","Ανεξέλεγκτες Εκπομπές Ανθρωπογενών Συστημάτων","R-11","Σχολή Μηχανικών Μεταλλείων Μεταλλουργών","CO2",0]
[null,null,"Scope 1","Ανεξέλεγκτες Εκπομπές Ανθρωπογενών Συστημάτων","R-11","Σχολή Μηχανικών Μεταλλείων Μεταλλουργών","CH4",0]
[null,null,"Scope 1","Ανεξέλεγκτες Εκπομπές Ανθρωπογενών Συστημάτων","R-11","Σχολή Μηχανικών Μεταλλείων Μεταλλουργών","N2O",0]
[null,null,"Scope 1","Ανεξέλεγκτες Εκπομπές Ανθρωπογενών Συστημάτων","R-11","Σχολή Μηχανολόγων Μηχανικών","CO2e",{"$f":"'Σύνοψη - Πίνακες'!T48","v":0}]
[null,null,"Scope 1","Ανεξέλεγκτες Εκπομπές Ανθρωπογενών Συστημάτων","R-11","Σχολή Μηχανολόγων Μηχανικών","CO2",0]
[null,null,"Scope 1","Ανεξέλεγκτες Εκπομπές Ανθρωπογενών Συστημάτων","R-11","Σχολή Μηχανολόγων Μηχανικών","CH4",0]
[null,null,"Scope 1","Ανεξέλεγκτες Εκπομπές Ανθρωπογενών Συστημάτων","R-11","Σχολή Μηχανολόγων Μηχανικών","N2O",0]
[null,null,"Scope 1","Ανεξέλεγκτες Εκπομπές Ανθρωπογενών Συστημάτων","R-11","Σχολή Ναυπηγών Μηχανολόγων Μηχανικών","CO2e",{"$f":"'Σύνοψη - Πίνακες'!V48","v":0}]
[null,null,"Scope 1","Ανεξέλεγκτες Εκπομπές Ανθρωπογενών Συστημάτων","R-11","Σχολή Ναυπηγών Μηχανολόγων Μηχανικών","CO2",0]
[null,null,"Scope 1","Ανεξέλεγκτες Εκπομπές Ανθρωπογενών Συστημάτων","R-11","Σχολή Ναυπηγών Μηχανολόγων Μηχανικών","CH4",0]
[null,null,"Scope 1","Ανεξέλεγκτες Εκπομπές Ανθρωπογενών Συστημάτων","R-11","Σχολή Ναυπηγών Μηχανολόγων Μηχανικών","N2O",0]
[null,null,"Scope 1","Ανεξέλεγκτες Εκπομπές Ανθρωπογενών Συστημάτων","R-11","Σχολή Πολιτικών Μηχανικών","CO2e",{"$f":"'Σύνοψη - Πίνακες'!X48","v":0}]
[null,null,"Scope 1","Ανεξέλεγκτες Εκπομπές Ανθρωπογενών Συστημάτων","R-11","Σχολή Πολιτικών Μηχανικών","CO2",0]
[null,null,"Scope 1","Ανεξέλεγκτες Εκπομπές Ανθρωπογενών Συστημάτων","R-11","Σχολή Πολιτικών Μηχανικών","CH4",0]
[null,null,"Scope 1","Ανεξέλεγκτες Εκπομπές Ανθρωπογενών Συστημάτων","R-11","Σχολή Πολιτικών Μηχανικών","N2O",0]
[null,null,"Scope 1","Ανεξέλεγκτες Εκπομπές Ανθρωπογενών Συστημάτων","R-11","Σχολή Χημικών Μηχανικών","CO2e",{"$f":"'Σύνοψη - Πίνακες'!Z48","v":0}]
[null,null,"Scope 1","Ανεξέλεγκτες Εκπομπές Ανθρωπογενών Συστημάτων","R-11","Σχολή Χημικών Μηχανικών","CO2",0]
[null,null,"Scope 1","Ανεξέλεγκτες Εκπομπές Ανθρωπογενών Συστημάτων","R-11","Σχολή Χημικών Μηχανικών","CH4",0]
[null,null,"Scope 1","Ανεξέλεγκτες Εκπομπές Ανθρωπογενών Συστημάτων","R-11","Σχολή Χημικών Μηχανικών","N2O",0]
[null,null,"Scope 1","Ανεξέλεγκτες Εκπομπές Ανθρωπογενών Συστημάτων","R-11","Σχολή Αρχιτεκτόνων Μηχανικών","CO2e",{"$f":"'Σύνοψη - Πίνακες'!AB48","v":0}]
[null,null,"Scope 1","Ανεξέλεγκτες Εκπομπές Ανθρωπογενών Συστημάτων","R-11","Σχολή Αρχιτεκτόνων Μηχανικών","CO2",0]
[null,null,"Scope 1","Ανεξέλεγκτες Εκπομπές Ανθρωπογενών Συστημάτων","R-11","Σχολή Αρχιτεκτόνων Μηχανικών","CH4",0]
[null,null,"Scope 1","Ανεξέλεγκτες Εκπομπές Ανθρωπογενών Συστημάτων","R-11","Σχολή Αρχιτεκτόνων Μηχανικών","N2O",0]
[null,null,"Scope 1","Ανεξέλεγκτες Εκπομπές Ανθρωπογενών Συστημάτων","R-12","Βιβλιοθήκη","CO2e",{"$f":"'Σύνοψη - Πίνακες'!F51","v":0}]
[null,null,"Scope 1","Ανεξέλεγκτες Εκπομπές Ανθρωπογενών Συστημάτων","R-12","Βιβλιοθήκη","CO2",0]
[null,null,"Scope 1","Ανεξέλεγκτες Εκπομπές Ανθρωπογενών Συστημάτων","R-12","Βιβλιοθήκη","CH4",0]
[null,null,"Scope 1","Ανεξέλεγκτες Εκπομπές Ανθρωπογενών Συστημάτων","R-12","Βιβλιοθήκη","N2O",0]
[null,null,"Scope 1","Ανεξέλεγκτες Εκπομπές Ανθρωπογενών Συστημάτων","R-12","Γυμναστήριο","CO2e",{"$f":"'Σύνοψη - Πίνακες'!H51","v":0}]
[null,null,"Scope 1","Ανεξέλεγκτες Εκπομπές Ανθρωπογενών Συστημάτων","R-12","Γυμναστήριο","CO2",0]
[null,null,"Scope 1","Ανεξέλεγκτες Εκπομπές Ανθρωπογενών Συστημάτων","R-12","Γυμναστήριο","CH4",0]
[null,null,"Scope 1","Ανεξέλεγκτες Εκπομπές Ανθρωπογενών Συστημάτων","R-12","Γυμναστήριο","N2O",0]
[null,null,"Scope 1","Ανεξέλεγκτες Εκπομπές Ανθρωπογενών Συστημάτων","R-12","Διοίκηση","CO2e",{"$f":"'Σύνοψη - Πίνακες'!J51","v":0}]
[null,null,"Scope 1","Ανεξέλεγκτες Εκπομπές Ανθρωπογενών Συστημάτων","R-12","Διοίκηση","CO2",0]
[null,null,"Scope 1","Ανεξέλεγκτες Εκπομπές Ανθρωπογενών Συστημάτων","R-12","Διοίκηση","CH4",0]
[null,null,"Scope 1","Ανεξέλεγκτες Εκπομπές Ανθρωπογενών Συστημάτων","R-12","Διοίκηση","N2O",0]
[null,null,"Scope 1","Ανεξέλεγκτες Εκπομπές Ανθρωπογενών Συστημάτων","R-12","Σχολή Αγρονόμων και Τοπογράφων Μηχανικών","CO2e",{"$f":"'Σύνοψη - Πίνακες'!L51","v":0}]
[null,null,"Scope 1","Ανεξέλεγκτες Εκπομπές Ανθρωπογενών Συστημάτων","R-12","Σχολή Αγρονόμων και Τοπογράφων Μηχανικών","CO2",0]
[null,null,"Scope 1","Ανεξέλεγκτες Εκπομπές Ανθρωπογενών Συστημάτων","R-12","Σχολή Αγρονόμων και Τοπογράφων Μηχανικών","CH4",0]
[null,null,"Scope 1","Ανεξέλεγκτες Εκπομπές Ανθρωπογενών Συστημάτων","R-12","Σχολή Αγρονόμων και Τοπογράφων Μηχανικών","N2O",0]
[null,null,"Scope 1","Ανεξέλεγκτες Εκπομπές Ανθρωπογενών Συστημάτων","R-12","Σχολή Εφαρμοσμένων Μαθηματικών και Φυσικών Επιστημών","CO2e",{"$f":"'Σύνοψη - Πίνακες'!N51","v":0}]
[null,null,"Scope 1","Ανεξέλεγκτες Εκπομπές Ανθρωπογενών Συστημάτων","R-12","Σχολή Εφαρμοσμένων Μαθηματικών και Φυσικών Επιστημών","CO2",0]
[null,null,"Scope 1","Ανεξέλεγκτες Εκπομπές Ανθρωπογενών Συστημάτων","R-12","Σχολή Εφαρμοσμένων Μαθηματικών και Φυσικών Επιστημών","CH4",0]
[null,null,"Scope 1","Ανεξέλεγκτες Εκπομπές Ανθρωπογενών Συστημάτων","R-12","Σχολή Εφαρμοσμένων Μαθηματικών και Φυσικών Επιστημών","N2O",0]
[null,null,"Scope 1","Ανεξέλεγκτες Εκπομπές Ανθρωπογενών Συστημάτων","R-12","Σχολή Ηλεκτρολόγων Μηχανικών και Μηχανικών Υπολογιστών","CO2e",{"$f":"'Σύνοψη - Πίνακες'!P51","v":0}]
[null,null,"Scope 1","Ανεξέλεγκτες Εκπομπές Ανθρωπογενών Συστημάτων","R-12","Σχολή Ηλεκτρολόγων Μηχανικών και Μηχανικών Υπολογιστών","CO2",0]
[null,null,"Scope 1","Ανεξέλεγκτες Εκπομπές Ανθρωπογενών Συστημάτων","R-12","Σχολή Ηλεκτρολόγων Μηχανικών και Μηχανικών Υπολογιστών","CH4",0]
[null,null,"Scope 1","Ανεξέλεγκτες Εκπομπές Ανθρωπογενών Συστημάτων","R-12","Σχολή Ηλεκτρολόγων Μηχανικών και Μηχανικών Υπολογιστών","N2O",0]
[null,null,"Scope 1","Ανεξέλεγκτες Εκπομπές Ανθρωπογενών Συστημάτων","R-12","Σχολή Μηχανικών Μεταλλείων Μεταλλουργών","CO2e",{"$f":"'Σύνοψη - Πίνακες'!R51","v":0}]
[null,null,"Scope 1","Ανεξέλεγκτες Εκπομπές Ανθρωπογενών Συστημάτων","R-12","Σχολή Μηχανικών Μεταλλείων Μεταλλουργών","CO2",0]
[null,null,"Scope 1","Ανεξέλεγκτες Εκπομπές Ανθρωπογενών Συστημάτων","R-12","Σχολή Μηχανικών Μεταλλείων Μεταλλουργών","CH4",0]
[null,null,"Scope 1","Ανεξέλεγκτες Εκπομπές Ανθρωπογενών Συστημάτων","R-12","Σχολή Μηχανικών Μεταλλείων Μεταλλουργών","N2O",0]
[null,null,"Scope 1","Ανεξέλεγκτες Εκπομπές Ανθρωπογενών Συστημάτων","R-12","Σχολή Μηχανολόγων Μηχανικών","CO2e",{"$f":"'Σύνοψη - Πίνακες'!T51","v":0}]
[null,null,"Scope 1","Ανεξέλεγκτες Εκπομπές Ανθρωπογενών Συστημάτων","R-12","Σχολή Μηχανολόγων Μηχανικών","CO2",0]
[null,null,"Scope 1","Ανεξέλεγκτες Εκπομπές Ανθρωπογενών Συστημάτων","R-12","Σχολή Μηχανολόγων Μηχανικών","CH4",0]
[null,null,"Scope 1","Ανεξέλεγκτες Εκπομπές Ανθρωπογενών Συστημάτων","R-12","Σχολή Μηχανολόγων Μηχανικών","N2O",0]
[null,null,"Scope 1","Ανεξέλεγκτες Εκπομπές Ανθρωπογενών Συστημάτων","R-12","Σχολή Ναυπηγών Μηχανολόγων Μηχανικών","CO2e",{"$f":"'Σύνοψη - Πίνακες'!V51","v":0}]
[null,null,"Scope 1","Ανεξέλεγκτες Εκπομπές Ανθρωπογενών Συστημάτων","R-12","Σχολή Ναυπηγών Μηχανολόγων Μηχανικών","CO2",0]
[null,null,"Scope 1","Ανεξέλεγκτες Εκπομπές Ανθρωπογενών Συστημάτων","R-12","Σχολή Ναυπηγών Μηχανολόγων Μηχανικών","CH4",0]
[null,null,"Scope 1","Ανεξέλεγκτες Εκπομπές Ανθρωπογενών Συστημάτων","R-12","Σχολή Ναυπηγών Μηχανολόγων Μηχανικών","N2O",0]
[null,null,"Scope 1","Ανεξέλεγκτες Εκπομπές Ανθρωπογενών Συστημάτων","R-12","Σχολή Πολιτικών Μηχανικών","CO2e",{"$f":"'Σύνοψη - Πίνακες'!X51","v":0}]
[null,null,"Scope 1","Ανεξέλεγκτες Εκπομπές Ανθρωπογενών Συστημάτων","R-12","Σχολή Πολιτικών Μηχανικών","CO2",0]
[null,null,"Scope 1","Ανεξέλεγκτες Εκπομπές Ανθρωπογενών Συστημάτων","R-12","Σχολή Πολιτικών Μηχανικών","CH4",0]
[null,null,"Scope 1","Ανεξέλεγκτες Εκπομπές Ανθρωπογενών Συστημάτων","R-12","Σχολή Πολιτικών Μηχανικών","N2O",0]
[null,null,"Scope 1","Ανεξέλεγκτες Εκπομπές Ανθρωπογενών Συστημάτων","R-12","Σχολή Χημικών Μηχανικών","CO2e",{"$f":"'Σύνοψη - Πίνακες'!Z51","v":0}]
[null,null,"Scope 1","Ανεξέλεγκτες Εκπομπές Ανθρωπογενών Συστημάτων","R-12","Σχολή Χημικών Μηχανικών","CO2",0]
[null,null,"Scope 1","Ανεξέλεγκτες Εκπομπές Ανθρωπογενών Συστημάτων","R-12","Σχολή Χημικών Μηχανικών","CH4",0]
[null,null,"Scope 1","Ανεξέλεγκτες Εκπομπές Ανθρωπογενών Συστημάτων","R-12","Σχολή Χημικών Μηχανικών","N2O",0]
[null,null,"Scope 1","Ανεξέλεγκτες Εκπομπές Ανθρωπογενών Συστημάτων","R-12","Σχολή Αρχιτεκτόνων Μηχανικών","CO2e",{"$f":"'Σύνοψη - Πίνακες'!AB51","v":0}]
[null,null,"Scope 1","Ανεξέλεγκτες Εκπομπές Ανθρωπογενών Συστημάτων","R-12","Σχολή Αρχιτεκτόνων Μηχανικών","CO2",0]
[null,null,"Scope 1","Ανεξέλεγκτες Εκπομπές Ανθρωπογενών Συστημάτων","R-12","Σχολή Αρχιτεκτόνων Μηχανικών","CH4",0]
[null,null,"Scope 1","Ανεξέλεγκτες Εκπομπές Ανθρωπογενών Συστημάτων","R-12","Σχολή Αρχιτεκτόνων Μηχανικών","N2O",0]
[null,null,"Scope 1","Ανεξέλεγκτες Εκπομπές Ανθρωπογενών Συστημάτων","R-134a","Βιβλιοθήκη","CO2e",{"$f":"'Σύνοψη - Πίνακες'!F54","v":0}]
[null,null,"Scope 1","Ανεξέλεγκτες Εκπομπές Ανθρωπογενών Συστημάτων","R-134a","Βιβλιοθήκη","CO2",0]
[null,null,"Scope 1","Ανεξέλεγκτες Εκπομπές Ανθρωπογενών Συστημάτων","R-134a","Βιβλιοθήκη","CH4",0]
[null,null,"Scope 1","Ανεξέλεγκτες Εκπομπές Ανθρωπογενών Συστημάτων","R-134a","Βιβλιοθήκη","N2O",0]
[null,null,"Scope 1","Ανεξέλεγκτες Εκπομπές Ανθρωπογενών Συστημάτων","R-134a","Γυμναστήριο","CO2e",{"$f":"'Σύνοψη - Πίνακες'!H54","v":0}]
[null,null,"Scope 1","Ανεξέλεγκτες Εκπομπές Ανθρωπογενών Συστημάτων","R-134a","Γυμναστήριο","CO2",0]
[null,null,"Scope 1","Ανεξέλεγκτες Εκπομπές Ανθρωπογενών Συστημάτων","R-134a","Γυμναστήριο","CH4",0]
[null,null,"Scope 1","Ανεξέλεγκτες Εκπομπές Ανθρωπογενών Συστημάτων","R-134a","Γυμναστήριο","N2O",0]
[null,null,"Scope 1","Ανεξέλεγκτες Εκπομπές Ανθρωπογενών Συστημάτων","R-134a","Διοίκηση","CO2e",{"$f":"'Σύνοψη - Πίνακες'!J54","v":0}]
[null,null,"Scope 1","Ανεξέλεγκτες Εκπομπές Ανθρωπογενών Συστημάτων","R-134a","Διοίκηση","CO2",0]
[null,null,"Scope 1","Ανεξέλεγκτες Εκπομπές Ανθρωπογενών Συστημάτων","R-134a","Διοίκηση","CH4",0]
[null,null,"Scope 1","Ανεξέλεγκτες Εκπομπές Ανθρωπογενών Συστημάτων","R-134a","Διοίκηση","N2O",0]
[null,null,"Scope 1","Ανεξέλεγκτες Εκπομπές Ανθρωπογενών Συστημάτων","R-134a","Σχολή Αγρονόμων και Τοπογράφων Μηχανικών","CO2e",{"$f":"'Σύνοψη - Πίνακες'!L54","v":0}]
[null,null,"Scope 1","Ανεξέλεγκτες Εκπομπές Ανθρωπογενών Συστημάτων","R-134a","Σχολή Αγρονόμων και Τοπογράφων Μηχανικών","CO2",0]
[null,null,"Scope 1","Ανεξέλεγκτες Εκπομπές Ανθρωπογενών Συστημάτων","R-134a","Σχολή Αγρονόμων και Τοπογράφων Μηχανικών","CH4",0]
[null,null,"Scope 1","Ανεξέλεγκτες Εκπομπές Ανθρωπογενών Συστημάτων","R-134a","Σχολή Αγρονόμων και Τοπογράφων Μηχανικών","N2O",0]
[null,null,"Scope 1","Ανεξέλεγκτες Εκπομπές Ανθρωπογενών Συστημάτων","R-134a","Σχολή Εφαρμοσμένων Μαθηματικών και Φυσικών Επιστημών","CO2e",{"$f":"'Σύνοψη - Πίνακες'!N54","v":0}]
[null,null,"Scope 1","Ανεξέλεγκτες Εκπομπές Ανθρωπογενών Συστημάτων","R-134a","Σχολή Εφαρμοσμένων Μαθηματικών και Φυσικών Επιστημών","CO2",0]
[null,null,"Scope 1","Ανεξέλεγκτες Εκπομπές Ανθρωπογενών Συστημάτων","R-134a","Σχολή Εφαρμοσμένων Μαθηματικών και Φυσικών Επιστημών","CH4",0]
[null,null,"Scope 1","Ανεξέλεγκτες Εκπομπές Ανθρωπογενών Συστημάτων","R-134a","Σχολή Εφαρμοσμένων Μαθηματικών και Φυσικών Επιστημών","N2O",0]
[null,null,"Scope 1","Ανεξέλεγκτες Εκπομπές Ανθρωπογενών Συστημάτων","R-134a","Σχολή Ηλεκτρολόγων Μηχανικών και Μηχανικών Υπολογιστών","CO2e",{"$f":"'Σύνοψη - Πίνακες'!P54","v":0}]
[null,null,"Scope 1","Ανεξέλεγκτες Εκπομπές Ανθρωπογενών Συστημάτων","R-134a","Σχολή Ηλεκτρολόγων Μηχανικών και Μηχανικών Υπολογιστών","CO2",0]
[null,null,"Scope 1","Ανεξέλεγκτες Εκπομπές Ανθρωπογενών Συστημάτων","R-134a","Σχολή Ηλεκτρολόγων Μηχανικών και Μηχανικών Υπολογιστών","CH4",0]
[null,null,"Scope 1","Ανεξέλεγκτες Εκπομπές Ανθρωπογενών Συστημάτων","R-134a","Σχολή Ηλεκτρολόγων Μηχανικών και Μηχανικών Υπολογιστών","N2O",0]
[null,null,"Scope 1","Ανεξέλεγκτες Εκπομπές Ανθρωπογενών Συστημάτων","R-134a","Σχολή Μηχανικών Μεταλλείων Μεταλλουργών","CO2e",{"$f":"'Σύνοψη - Πίνακες'!R54","v":0}]
[null,null,"Scope 1","Ανεξέλεγκτες Εκπομπές Ανθρωπογενών Συστημάτων","R-134a","Σχολή Μηχανικών Μεταλλείων Μεταλλουργών","CO2",0]
[null,null,"Scope 1","Ανεξέλεγκτες Εκπομπές Ανθρωπογενών Συστημάτων","R-134a","Σχολή Μηχανικών Μεταλλείων Μεταλλουργών","CH4",0]
[null,null,"Scope 1","Ανεξέλεγκτες Εκπομπές Ανθρωπογενών Συστημάτων","R-134a","Σχολή Μηχανικών Μεταλλείων Μεταλλουργών","N2O",0]
[null,null,"Scope 1","Ανεξέλεγκτες Εκπομπές Ανθρωπογενών Συστημάτων","R-134a","Σχολή Μηχανολόγων Μηχανικών","CO2e",{"$f":"'Σύνοψη - Πίνακες'!T54","v":0}]
[null,null,"Scope 1","Ανεξέλεγκτες Εκπομπές Ανθρωπογενών Συστημάτων","R-134a","Σχολή Μηχανολόγων Μηχανικών","CO2",0]
[null,null,"Scope 1","Ανεξέλεγκτες Εκπομπές Ανθρωπογενών Συστημάτων","R-134a","Σχολή Μηχανολόγων Μηχανικών","CH4",0]
[null,null,"Scope 1","Ανεξέλεγκτες Εκπομπές Ανθρωπογενών Συστημάτων","R-134a","Σχολή Μηχανολόγων Μηχανικών","N2O",0]
[null,null,"Scope 1","Ανεξέλεγκτες Εκπομπές Ανθρωπογενών Συστημάτων","R-134a","Σχολή Ναυπηγών Μηχανολόγων Μηχανικών","CO2e",{"$f":"'Σύνοψη - Πίνακες'!V54","v":0}]
[null,null,"Scope 1","Ανεξέλεγκτες Εκπομπές Ανθρωπογενών Συστημάτων","R-134a","Σχολή Ναυπηγών Μηχανολόγων Μηχανικών","CO2",0]
[null,null,"Scope 1","Ανεξέλεγκτες Εκπομπές Ανθρωπογενών Συστημάτων","R-134a","Σχολή Ναυπηγών Μηχανολόγων Μηχανικών","CH4",0]
[null,null,"Scope 1","Ανεξέλεγκτες Εκπομπές Ανθρωπογενών Συστημάτων","R-134a","Σχολή Ναυπηγών Μηχανολόγων Μηχανικών","N2O",0]
[null,null,"Scope 1","Ανεξέλεγκτες Εκπομπές Ανθρωπογενών Συστημάτων","R-134a","Σχολή Πολιτικών Μηχανικών","CO2e",{"$f":"'Σύνοψη - Πίνακες'!X54","v":0}]
[null,null,"Scope 1","Ανεξέλεγκτες Εκπομπές Ανθρωπογενών Συστημάτων","R-134a","Σχολή Πολιτικών Μηχανικών","CO2",0]
[null,null,"Scope 1","Ανεξέλεγκτες Εκπομπές Ανθρωπογενών Συστημάτων","R-134a","Σχολή Πολιτικών Μηχανικών","CH4",0]
[null,null,"Scope 1","Ανεξέλεγκτες Εκπομπές Ανθρωπογενών Συστημάτων","R-134a","Σχολή Πολιτικών Μηχανικών","N2O",0]
[null,null,"Scope 1","Ανεξέλεγκτες Εκπομπές Ανθρωπογενών Συστημάτων","R-134a","Σχολή Χημικών Μηχανικών","CO2e",{"$f":"'Σύνοψη - Πίνακες'!Z54","v":0}]
[null,null,"Scope 1","Ανεξέλεγκτες Εκπομπές Ανθρωπογενών Συστημάτων","R-134a","Σχολή Χημικών Μηχανικών","CO2",0]
[null,null,"Scope 1","Ανεξέλεγκτες Εκπομπές Ανθρωπογενών Συστημάτων","R-134a","Σχολή Χημικών Μηχανικών","CH4",0]
[null,null,"Scope 1","Ανεξέλεγκτες Εκπομπές Ανθρωπογενών Συστημάτων","R-134a","Σχολή Χημικών Μηχανικών","N2O",0]
[null,null,"Scope 1","Ανεξέλεγκτες Εκπομπές Ανθρωπογενών Συστημάτων","R-134a","Σχολή Αρχιτεκτόνων Μηχανικών","CO2e",{"$f":"'Σύνοψη - Πίνακες'!AB54","v":0}]
[null,null,"Scope 1","Ανεξέλεγκτες Εκπομπές Ανθρωπογενών Συστημάτων","R-134a","Σχολή Αρχιτεκτόνων Μηχανικών","CO2",0]
[null,null,"Scope 1","Ανεξέλεγκτες Εκπομπές Ανθρωπογενών Συστημάτων","R-134a","Σχολή Αρχιτεκτόνων Μηχανικών","CH4",0]
[null,null,"Scope 1","Ανεξέλεγκτες Εκπομπές Ανθρωπογενών Συστημάτων","R-134a","Σχολή Αρχιτεκτόνων Μηχανικών","N2O",0]
[null,null,"Scope 1","Ανεξέλεγκτες Εκπομπές Ανθρωπογενών Συστημάτων","R-290","Βιβλιοθήκη","CO2e",{"$f":"'Σύνοψη - Πίνακες'!F57","v":0}]
[null,null,"Scope 1","Ανεξέλεγκτες Εκπομπές Ανθρωπογενών Συστημάτων","R-290","Βιβλιοθήκη","CO2",0]
[null,null,"Scope 1","Ανεξέλεγκτες Εκπομπές Ανθρωπογενών Συστημάτων","R-290","Βιβλιοθήκη","CH4",0]
[null,null,"Scope 1","Ανεξέλεγκτες Εκπομπές Ανθρωπογενών Συστημάτων","R-290","Βιβλιοθήκη","N2O",0]
[null,null,"Scope 1","Ανεξέλεγκτες Εκπομπές Ανθρωπογενών Συστημάτων","R-290","Γυμναστήριο","CO2e",{"$f":"'Σύνοψη - Πίνακες'!H57","v":0}]
[null,null,"Scope 1","Ανεξέλεγκτες Εκπομπές Ανθρωπογενών Συστημάτων","R-290","Γυμναστήριο","CO2",0]
[null,null,"Scope 1","Ανεξέλεγκτες Εκπομπές Ανθρωπογενών Συστημάτων","R-290","Γυμναστήριο","CH4",0]
[null,null,"Scope 1","Ανεξέλεγκτες Εκπομπές Ανθρωπογενών Συστημάτων","R-290","Γυμναστήριο","N2O",0]
[null,null,"Scope 1","Ανεξέλεγκτες Εκπομπές Ανθρωπογενών Συστημάτων","R-290","Διοίκηση","CO2e",{"$f":"'Σύνοψη - Πίνακες'!J57","v":0}]
[null,null,"Scope 1","Ανεξέλεγκτες Εκπομπές Ανθρωπογενών Συστημάτων","R-290","Διοίκηση","CO2",0]
[null,null,"Scope 1","Ανεξέλεγκτες Εκπομπές Ανθρωπογενών Συστημάτων","R-290","Διοίκηση","CH4",0]
[null,null,"Scope 1","Ανεξέλεγκτες Εκπομπές Ανθρωπογενών Συστημάτων","R-290","Διοίκηση","N2O",0]
[null,null,"Scope 1","Ανεξέλεγκτες Εκπομπές Ανθρωπογενών Συστημάτων","R-290","Σχολή Αγρονόμων και Τοπογράφων Μηχανικών","CO2e",{"$f":"'Σύνοψη - Πίνακες'!L57","v":0}]
[null,null,"Scope 1","Ανεξέλεγκτες Εκπομπές Ανθρωπογενών Συστημάτων","R-290","Σχολή Αγρονόμων και Τοπογράφων Μηχανικών","CO2",0]
[null,null,"Scope 1","Ανεξέλεγκτες Εκπομπές Ανθρωπογενών Συστημάτων","R-290","Σχολή Αγρονόμων και Τοπογράφων Μηχανικών","CH4",0]
[null,null,"Scope 1","Ανεξέλεγκτες Εκπομπές Ανθρωπογενών Συστημάτων","R-290","Σχολή Αγρονόμων και Τοπογράφων Μηχανικών","N2O",0]
[null,null,"Scope 1","Ανεξέλεγκτες Εκπομπές Ανθρωπογενών Συστημάτων","R-290","Σχολή Εφαρμοσμένων Μαθηματικών και Φυσικών Επιστημών","CO2e",{"$f":"'Σύνοψη - Πίνακες'!N57","v":0}]
[null,null,"Scope 1","Ανεξέλεγκτες Εκπομπές Ανθρωπογενών Συστημάτων","R-290","Σχολή Εφαρμοσμένων Μαθηματικών και Φυσικών Επιστημών","CO2",0]
[null,null,"Scope 1","Ανεξέλεγκτες Εκπομπές Ανθρωπογενών Συστημάτων","R-290","Σχολή Εφαρμοσμένων Μαθηματικών και Φυσικών Επιστημών","CH4",0]
[null,null,"Scope 1","Ανεξέλεγκτες Εκπομπές Ανθρωπογενών Συστημάτων","R-290","Σχολή Εφαρμοσμένων Μαθηματικών και Φυσικών Επιστημών","N2O",0]
[null,null,"Scope 1","Ανεξέλεγκτες Εκπομπές Ανθρωπογενών Συστημάτων","R-290","Σχολή Ηλεκτρολόγων Μηχανικών και Μηχανικών Υπολογιστών","CO2e",{"$f":"'Σύνοψη - Πίνακες'!P57","v":0}]
[null,null,"Scope 1","Ανεξέλεγκτες Εκπομπές Ανθρωπογενών Συστημάτων","R-290","Σχολή Ηλεκτρολόγων Μηχανικών και Μηχανικών Υπολογιστών","CO2",0]
[null,null,"Scope 1","Ανεξέλεγκτες Εκπομπές Ανθρωπογενών Συστημάτων","R-290","Σχολή Ηλεκτρολόγων Μηχανικών και Μηχανικών Υπολογιστών","CH4",0]
[null,null,"Scope 1","Ανεξέλεγκτες Εκπομπές Ανθρωπογενών Συστημάτων","R-290","Σχολή Ηλεκτρολόγων Μηχανικών και Μηχανικών Υπολογιστών","N2O",0]
[null,null,"Scope 1","Ανεξέλεγκτες Εκπομπές Ανθρωπογενών Συστημάτων","R-290","Σχολή Μηχανικών Μεταλλείων Μεταλλουργών","CO2e",{"$f":"'Σύνοψη - Πίνακες'!R57","v":0}]
[null,null,"Scope 1","Ανεξέλεγκτες Εκπομπές Ανθρωπογενών Συστημάτων","R-290","Σχολή Μηχανικών Μεταλλείων Μεταλλουργών","CO2",0]
[null,null,"Scope 1","Ανεξέλεγκτες Εκπομπές Ανθρωπογενών Συστημάτων","R-290","Σχολή Μηχανικών Μεταλλείων Μεταλλουργών","CH4",0]
[null,null,"Scope 1","Ανεξέλεγκτες Εκπομπές Ανθρωπογενών Συστημάτων","R-290","Σχολή Μηχανικών Μεταλλείων Μεταλλουργών","N2O",0]
[null,null,"Scope 1","Ανεξέλεγκτες Εκπομπές Ανθρωπογενών Συστημάτων","R-290","Σχολή Μηχανολόγων Μηχανικών","CO2e",{"$f":"'Σύνοψη - Πίνακες'!T57","v":0}]
[null,null,"Scope 1","Ανεξέλεγκτες Εκπομπές Ανθρωπογενών Συστημάτων","R-290","Σχολή Μηχανολόγων Μηχανικών","CO2",0]
[null,null,"Scope 1","Ανεξέλεγκτες Εκπομπές Ανθρωπογενών Συστημάτων","R-290","Σχολή Μηχανολόγων Μηχανικών","CH4",0]
[null,null,"Scope 1","Ανεξέλεγκτες Εκπομπές Ανθρωπογενών Συστημάτων","R-290","Σχολή Μηχανολόγων Μηχανικών","N2O",0]
[null,null,"Scope 1","Ανεξέλεγκτες Εκπομπές Ανθρωπογενών Συστημάτων","R-290","Σχολή Ναυπηγών Μηχανολόγων Μηχανικών","CO2e",{"$f":"'Σύνοψη - Πίνακες'!V57","v":0}]
[null,null,"Scope 1","Ανεξέλεγκτες Εκπομπές Ανθρωπογενών Συστημάτων","R-290","Σχολή Ναυπηγών Μηχανολόγων Μηχανικών","CO2",0]
[null,null,"Scope 1","Ανεξέλεγκτες Εκπομπές Ανθρωπογενών Συστημάτων","R-290","Σχολή Ναυπηγών Μηχανολόγων Μηχανικών","CH4",0]
[null,null,"Scope 1","Ανεξέλεγκτες Εκπομπές Ανθρωπογενών Συστημάτων","R-290","Σχολή Ναυπηγών Μηχανολόγων Μηχανικών","N2O",0]
[null,null,"Scope 1","Ανεξέλεγκτες Εκπομπές Ανθρωπογενών Συστημάτων","R-290","Σχολή Πολιτικών Μηχανικών","CO2e",{"$f":"'Σύνοψη - Πίνακες'!X57","v":0}]
[null,null,"Scope 1","Ανεξέλεγκτες Εκπομπές Ανθρωπογενών Συστημάτων","R-290","Σχολή Πολιτικών Μηχανικών","CO2",0]
[null,null,"Scope 1","Ανεξέλεγκτες Εκπομπές Ανθρωπογενών Συστημάτων","R-290","Σχολή Πολιτικών Μηχανικών","CH4",0]
[null,null,"Scope 1","Ανεξέλεγκτες Εκπομπές Ανθρωπογενών Συστημάτων","R-290","Σχολή Πολιτικών Μηχανικών","N2O",0]
[null,null,"Scope 1","Ανεξέλεγκτες Εκπομπές Ανθρωπογενών Συστημάτων","R-290","Σχολή Χημικών Μηχανικών","CO2e",{"$f":"'Σύνοψη - Πίνακες'!Z57","v":0}]
[null,null,"Scope 1","Ανεξέλεγκτες Εκπομπές Ανθρωπογενών Συστημάτων","R-290","Σχολή Χημικών Μηχανικών","CO2",0]
[null,null,"Scope 1","Ανεξέλεγκτες Εκπομπές Ανθρωπογενών Συστημάτων","R-290","Σχολή Χημικών Μηχανικών","CH4",0]
[null,null,"Scope 1","Ανεξέλεγκτες Εκπομπές Ανθρωπογενών Συστημάτων","R-290","Σχολή Χημικών Μηχανικών","N2O",0]
[null,null,"Scope 1","Ανεξέλεγκτες Εκπομπές Ανθρωπογενών Συστημάτων","R-290","Σχολή Αρχιτεκτόνων Μηχανικών","CO2e",{"$f":"'Σύνοψη - Πίνακες'!AB57","v":0}]
[null,null,"Scope 1","Ανεξέλεγκτες Εκπομπές Ανθρωπογενών Συστημάτων","R-290","Σχολή Αρχιτεκτόνων Μηχανικών","CO2",0]
[null,null,"Scope 1","Ανεξέλεγκτες Εκπομπές Ανθρωπογενών Συστημάτων","R-290","Σχολή Αρχιτεκτόνων Μηχανικών","CH4",0]
[null,null,"Scope 1","Ανεξέλεγκτες Εκπομπές Ανθρωπογενών Συστημάτων","R-290","Σχολή Αρχιτεκτόνων Μηχανικών","N2O",0]
[null,null,"Scope 1","Ανεξέλεγκτες Εκπομπές Ανθρωπογενών Συστημάτων","R-404a","Βιβλιοθήκη","CO2e",{"$f":"'Σύνοψη - Πίνακες'!F60","v":0}]
[null,null,"Scope 1","Ανεξέλεγκτες Εκπομπές Ανθρωπογενών Συστημάτων","R-404a","Βιβλιοθήκη","CO2",0]
[null,null,"Scope 1","Ανεξέλεγκτες Εκπομπές Ανθρωπογενών Συστημάτων","R-404a","Βιβλιοθήκη","CH4",0]
[null,null,"Scope 1","Ανεξέλεγκτες Εκπομπές Ανθρωπογενών Συστημάτων","R-404a","Βιβλιοθήκη","N2O",0]
[null,null,"Scope 1","Ανεξέλεγκτες Εκπομπές Ανθρωπογενών Συστημάτων","R-404a","Γυμναστήριο","CO2e",{"$f":"'Σύνοψη - Πίνακες'!H60","v":0}]
[null,null,"Scope 1","Ανεξέλεγκτες Εκπομπές Ανθρωπογενών Συστημάτων","R-404a","Γυμναστήριο","CO2",0]
[null,null,"Scope 1","Ανεξέλεγκτες Εκπομπές Ανθρωπογενών Συστημάτων","R-404a","Γυμναστήριο","CH4",0]
[null,null,"Scope 1","Ανεξέλεγκτες Εκπομπές Ανθρωπογενών Συστημάτων","R-404a","Γυμναστήριο","N2O",0]
[null,null,"Scope 1","Ανεξέλεγκτες Εκπομπές Ανθρωπογενών Συστημάτων","R-404a","Διοίκηση","CO2e",{"$f":"'Σύνοψη - Πίνακες'!J60","v":0}]
[null,null,"Scope 1","Ανεξέλεγκτες Εκπομπές Ανθρωπογενών Συστημάτων","R-404a","Διοίκηση","CO2",0]
[null,null,"Scope 1","Ανεξέλεγκτες Εκπομπές Ανθρωπογενών Συστημάτων","R-404a","Διοίκηση","CH4",0]
[null,null,"Scope 1","Ανεξέλεγκτες Εκπομπές Ανθρωπογενών Συστημάτων","R-404a","Διοίκηση","N2O",0]
[null,null,"Scope 1","Ανεξέλεγκτες Εκπομπές Ανθρωπογενών Συστημάτων","R-404a","Σχολή Αγρονόμων και Τοπογράφων Μηχανικών","CO2e",{"$f":"'Σύνοψη - Πίνακες'!L60","v":0}]
[null,null,"Scope 1","Ανεξέλεγκτες Εκπομπές Ανθρωπογενών Συστημάτων","R-404a","Σχολή Αγρονόμων και Τοπογράφων Μηχανικών","CO2",0]
[null,null,"Scope 1","Ανεξέλεγκτες Εκπομπές Ανθρωπογενών Συστημάτων","R-404a","Σχολή Αγρονόμων και Τοπογράφων Μηχανικών","CH4",0]
[null,null,"Scope 1","Ανεξέλεγκτες Εκπομπές Ανθρωπογενών Συστημάτων","R-404a","Σχολή Αγρονόμων και Τοπογράφων Μηχανικών","N2O",0]
[null,null,"Scope 1","Ανεξέλεγκτες Εκπομπές Ανθρωπογενών Συστημάτων","R-404a","Σχολή Εφαρμοσμένων Μαθηματικών και Φυσικών Επιστημών","CO2e",{"$f":"'Σύνοψη - Πίνακες'!N60","v":0}]
[null,null,"Scope 1","Ανεξέλεγκτες Εκπομπές Ανθρωπογενών Συστημάτων","R-404a","Σχολή Εφαρμοσμένων Μαθηματικών και Φυσικών Επιστημών","CO2",0]
[null,null,"Scope 1","Ανεξέλεγκτες Εκπομπές Ανθρωπογενών Συστημάτων","R-404a","Σχολή Εφαρμοσμένων Μαθηματικών και Φυσικών Επιστημών","CH4",0]
[null,null,"Scope 1","Ανεξέλεγκτες Εκπομπές Ανθρωπογενών Συστημάτων","R-404a","Σχολή Εφαρμοσμένων Μαθηματικών και Φυσικών Επιστημών","N2O",0]
[null,null,"Scope 1","Ανεξέλεγκτες Εκπομπές Ανθρωπογενών Συστημάτων","R-404a","Σχολή Ηλεκτρολόγων Μηχανικών και Μηχανικών Υπολογιστών","CO2e",{"$f":"'Σύνοψη - Πίνακες'!P60","v":0}]
[null,null,"Scope 1","Ανεξέλεγκτες Εκπομπές Ανθρωπογενών Συστημάτων","R-404a","Σχολή Ηλεκτρολόγων Μηχανικών και Μηχανικών Υπολογιστών","CO2",0]
[null,null,"Scope 1","Ανεξέλεγκτες Εκπομπές Ανθρωπογενών Συστημάτων","R-404a","Σχολή Ηλεκτρολόγων Μηχανικών και Μηχανικών Υπολογιστών","CH4",0]
[null,null,"Scope 1","Ανεξέλεγκτες Εκπομπές Ανθρωπογενών Συστημάτων","R-404a","Σχολή Ηλεκτρολόγων Μηχανικών και Μηχανικών Υπολογιστών","N2O",0]
[null,null,"Scope 1","Ανεξέλεγκτες Εκπομπές Ανθρωπογενών Συστημάτων","R-404a","Σχολή Μηχανικών Μεταλλείων Μεταλλουργών","CO2e",{"$f":"'Σύνοψη - Πίνακες'!R60","v":0}]
[null,null,"Scope 1","Ανεξέλεγκτες Εκπομπές Ανθρωπογενών Συστημάτων","R-404a","Σχολή Μηχανικών Μεταλλείων Μεταλλουργών","CO2",0]
[null,null,"Scope 1","Ανεξέλεγκτες Εκπομπές Ανθρωπογενών Συστημάτων","R-404a","Σχολή Μηχανικών Μεταλλείων Μεταλλουργών","CH4",0]
[null,null,"Scope 1","Ανεξέλεγκτες Εκπομπές Ανθρωπογενών Συστημάτων","R-404a","Σχολή Μηχανικών Μεταλλείων Μεταλλουργών","N2O",0]
[null,null,"Scope 1","Ανεξέλεγκτες Εκπομπές Ανθρωπογενών Συστημάτων","R-404a","Σχολή Μηχανολόγων Μηχανικών","CO2e",{"$f":"'Σύνοψη - Πίνακες'!T60","v":0}]
[null,null,"Scope 1","Ανεξέλεγκτες Εκπομπές Ανθρωπογενών Συστημάτων","R-404a","Σχολή Μηχανολόγων Μηχανικών","CO2",0]
[null,null,"Scope 1","Ανεξέλεγκτες Εκπομπές Ανθρωπογενών Συστημάτων","R-404a","Σχολή Μηχανολόγων Μηχανικών","CH4",0]
[null,null,"Scope 1","Ανεξέλεγκτες Εκπομπές Ανθρωπογενών Συστημάτων","R-404a","Σχολή Μηχανολόγων Μηχανικών","N2O",0]
[null,null,"Scope 1","Ανεξέλεγκτες Εκπομπές Ανθρωπογενών Συστημάτων","R-404a","Σχολή Ναυπηγών Μηχανολόγων Μηχανικών","CO2e",{"$f":"'Σύνοψη - Πίνακες'!V60","v":0}]
[null,null,"Scope 1","Ανεξέλεγκτες Εκπομπές Ανθρωπογενών Συστημάτων","R-404a","Σχολή Ναυπηγών Μηχανολόγων Μηχανικών","CO2",0]
[null,null,"Scope 1","Ανεξέλεγκτες Εκπομπές Ανθρωπογενών Συστημάτων","R-404a","Σχολή Ναυπηγών Μηχανολόγων Μηχανικών","CH4",0]
[null,null,"Scope 1","Ανεξέλεγκτες Εκπομπές Ανθρωπογενών Συστημάτων","R-404a","Σχολή Ναυπηγών Μηχανολόγων Μηχανικών","N2O",0]
[null,null,"Scope 1","Ανεξέλεγκτες Εκπομπές Ανθρωπογενών Συστημάτων","R-404a","Σχολή Πολιτικών Μηχανικών","CO2e",{"$f":"'Σύνοψη - Πίνακες'!X60","v":0}]
[null,null,"Scope 1","Ανεξέλεγκτες Εκπομπές Ανθρωπογενών Συστημάτων","R-404a","Σχολή Πολιτικών Μηχανικών","CO2",0]
[null,null,"Scope 1","Ανεξέλεγκτες Εκπομπές Ανθρωπογενών Συστημάτων","R-404a","Σχολή Πολιτικών Μηχανικών","CH4",0]
[null,null,"Scope 1","Ανεξέλεγκτες Εκπομπές Ανθρωπογενών Συστημάτων","R-404a","Σχολή Πολιτικών Μηχανικών","N2O",0]
[null,null,"Scope 1","Ανεξέλεγκτες Εκπομπές Ανθρωπογενών Συστημάτων","R-404a","Σχολή Χημικών Μηχανικών","CO2e",{"$f":"'Σύνοψη - Πίνακες'!Z60","v":0}]
[null,null,"Scope 1","Ανεξέλεγκτες Εκπομπές Ανθρωπογενών Συστημάτων","R-404a","Σχολή Χημικών Μηχανικών","CO2",0]
[null,null,"Scope 1","Ανεξέλεγκτες Εκπομπές Ανθρωπογενών Συστημάτων","R-404a","Σχολή Χημικών Μηχανικών","CH4",0]
[null,null,"Scope 1","Ανεξέλεγκτες Εκπομπές Ανθρωπογενών Συστημάτων","R-404a","Σχολή Χημικών Μηχανικών","N2O",0]
[null,null,"Scope 1","Ανεξέλεγκτες Εκπομπές Ανθρωπογενών Συστημάτων","R-404a","Σχολή Αρχιτεκτόνων Μηχανικών","CO2e",{"$f":"'Σύνοψη - Πίνακες'!AB60","v":0}]
[null,null,"Scope 1","Ανεξέλεγκτες Εκπομπές Ανθρωπογενών Συστημάτων","R-404a","Σχολή Αρχιτεκτόνων Μηχανικών","CO2",0]
[null,null,"Scope 1","Ανεξέλεγκτες Εκπομπές Ανθρωπογενών Συστημάτων","R-404a","Σχολή Αρχιτεκτόνων Μηχανικών","CH4",0]
[null,null,"Scope 1","Ανεξέλεγκτες Εκπομπές Ανθρωπογενών Συστημάτων","R-404a","Σχολή Αρχιτεκτόνων Μηχανικών","N2O",0]
[null,null,"Scope 1","Ανεξέλεγκτες Εκπομπές Ανθρωπογενών Συστημάτων","R-410a","Βιβλιοθήκη","CO2e",{"$f":"'Σύνοψη - Πίνακες'!F63","v":0}]
[null,null,"Scope 1","Ανεξέλεγκτες Εκπομπές Ανθρωπογενών Συστημάτων","R-410a","Βιβλιοθήκη","CO2",0]
[null,null,"Scope 1","Ανεξέλεγκτες Εκπομπές Ανθρωπογενών Συστημάτων","R-410a","Βιβλιοθήκη","CH4",0]
[null,null,"Scope 1","Ανεξέλεγκτες Εκπομπές Ανθρωπογενών Συστημάτων","R-410a","Βιβλιοθήκη","N2O",0]
[null,null,"Scope 1","Ανεξέλεγκτες Εκπομπές Ανθρωπογενών Συστημάτων","R-410a","Γυμναστήριο","CO2e",{"$f":"'Σύνοψη - Πίνακες'!H63","v":0}]
[null,null,"Scope 1","Ανεξέλεγκτες Εκπομπές Ανθρωπογενών Συστημάτων","R-410a","Γυμναστήριο","CO2",0]
[null,null,"Scope 1","Ανεξέλεγκτες Εκπομπές Ανθρωπογενών Συστημάτων","R-410a","Γυμναστήριο","CH4",0]
[null,null,"Scope 1","Ανεξέλεγκτες Εκπομπές Ανθρωπογενών Συστημάτων","R-410a","Γυμναστήριο","N2O",0]
[null,null,"Scope 1","Ανεξέλεγκτες Εκπομπές Ανθρωπογενών Συστημάτων","R-410a","Διοίκηση","CO2e",{"$f":"'Σύνοψη - Πίνακες'!J63","v":0}]
[null,null,"Scope 1","Ανεξέλεγκτες Εκπομπές Ανθρωπογενών Συστημάτων","R-410a","Διοίκηση","CO2",0]
[null,null,"Scope 1","Ανεξέλεγκτες Εκπομπές Ανθρωπογενών Συστημάτων","R-410a","Διοίκηση","CH4",0]
[null,null,"Scope 1","Ανεξέλεγκτες Εκπομπές Ανθρωπογενών Συστημάτων","R-410a","Διοίκηση","N2O",0]
[null,null,"Scope 1","Ανεξέλεγκτες Εκπομπές Ανθρωπογενών Συστημάτων","R-410a","Σχολή Αγρονόμων και Τοπογράφων Μηχανικών","CO2e",{"$f":"'Σύνοψη - Πίνακες'!L63","v":0}]
[null,null,"Scope 1","Ανεξέλεγκτες Εκπομπές Ανθρωπογενών Συστημάτων","R-410a","Σχολή Αγρονόμων και Τοπογράφων Μηχανικών","CO2",0]
[null,null,"Scope 1","Ανεξέλεγκτες Εκπομπές Ανθρωπογενών Συστημάτων","R-410a","Σχολή Αγρονόμων και Τοπογράφων Μηχανικών","CH4",0]
[null,null,"Scope 1","Ανεξέλεγκτες Εκπομπές Ανθρωπογενών Συστημάτων","R-410a","Σχολή Αγρονόμων και Τοπογράφων Μηχανικών","N2O",0]
[null,null,"Scope 1","Ανεξέλεγκτες Εκπομπές Ανθρωπογενών Συστημάτων","R-410a","Σχολή Εφαρμοσμένων Μαθηματικών και Φυσικών Επιστημών","CO2e",{"$f":"'Σύνοψη - Πίνακες'!N63","v":0}]
[null,null,"Scope 1","Ανεξέλεγκτες Εκπομπές Ανθρωπογενών Συστημάτων","R-410a","Σχολή Εφαρμοσμένων Μαθηματικών και Φυσικών Επιστημών","CO2",0]
[null,null,"Scope 1","Ανεξέλεγκτες Εκπομπές Ανθρωπογενών Συστημάτων","R-410a","Σχολή Εφαρμοσμένων Μαθηματικών και Φυσικών Επιστημών","CH4",0]
[null,null,"Scope 1","Ανεξέλεγκτες Εκπομπές Ανθρωπογενών Συστημάτων","R-410a","Σχολή Εφαρμοσμένων Μαθηματικών και Φυσικών Επιστημών","N2O",0]
[null,null,"Scope 1","Ανεξέλεγκτες Εκπομπές Ανθρωπογενών Συστημάτων","R-410a","Σχολή Ηλεκτρολόγων Μηχανικών και Μηχανικών Υπολογιστών","CO2e",{"$f":"'Σύνοψη - Πίνακες'!P63","v":0}]
[null,null,"Scope 1","Ανεξέλεγκτες Εκπομπές Ανθρωπογενών Συστημάτων","R-410a","Σχολή Ηλεκτρολόγων Μηχανικών και Μηχανικών Υπολογιστών","CO2",0]
[null,null,"Scope 1","Ανεξέλεγκτες Εκπομπές Ανθρωπογενών Συστημάτων","R-410a","Σχολή Ηλεκτρολόγων Μηχανικών και Μηχανικών Υπολογιστών","CH4",0]
[null,null,"Scope 1","Ανεξέλεγκτες Εκπομπές Ανθρωπογενών Συστημάτων","R-410a","Σχολή Ηλεκτρολόγων Μηχανικών και Μηχανικών Υπολογιστών","N2O",0]
[null,null,"Scope 1","Ανεξέλεγκτες Εκπομπές Ανθρωπογενών Συστημάτων","R-410a","Σχολή Μηχανικών Μεταλλείων Μεταλλουργών","CO2e",{"$f":"'Σύνοψη - Πίνακες'!R63","v":0}]
[null,null,"Scope 1","Ανεξέλεγκτες Εκπομπές Ανθρωπογενών Συστημάτων","R-410a","Σχολή Μηχανικών Μεταλλείων Μεταλλουργών","CO2",0]
[null,null,"Scope 1","Ανεξέλεγκτες Εκπομπές Ανθρωπογενών Συστημάτων","R-410a","Σχολή Μηχανικών Μεταλλείων Μεταλλουργών","CH4",0]
[null,null,"Scope 1","Ανεξέλεγκτες Εκπομπές Ανθρωπογενών Συστημάτων","R-410a","Σχολή Μηχανικών Μεταλλείων Μεταλλουργών","N2O",0]
[null,null,"Scope 1","Ανεξέλεγκτες Εκπομπές Ανθρωπογενών Συστημάτων","R-410a","Σχολή Μηχανολόγων Μηχανικών","CO2e",{"$f":"'Σύνοψη - Πίνακες'!T63","v":0}]
[null,null,"Scope 1","Ανεξέλεγκτες Εκπομπές Ανθρωπογενών Συστημάτων","R-410a","Σχολή Μηχανολόγων Μηχανικών","CO2",0]
[null,null,"Scope 1","Ανεξέλεγκτες Εκπομπές Ανθρωπογενών Συστημάτων","R-410a","Σχολή Μηχανολόγων Μηχανικών","CH4",0]
[null,null,"Scope 1","Ανεξέλεγκτες Εκπομπές Ανθρωπογενών Συστημάτων","R-410a","Σχολή Μηχανολόγων Μηχανικών","N2O",0]
[null,null,"Scope 1","Ανεξέλεγκτες Εκπομπές Ανθρωπογενών Συστημάτων","R-410a","Σχολή Ναυπηγών Μηχανολόγων Μηχανικών","CO2e",{"$f":"'Σύνοψη - Πίνακες'!V63","v":0}]
[null,null,"Scope 1","Ανεξέλεγκτες Εκπομπές Ανθρωπογενών Συστημάτων","R-410a","Σχολή Ναυπηγών Μηχανολόγων Μηχανικών","CO2",0]
[null,null,"Scope 1","Ανεξέλεγκτες Εκπομπές Ανθρωπογενών Συστημάτων","R-410a","Σχολή Ναυπηγών Μηχανολόγων Μηχανικών","CH4",0]
[null,null,"Scope 1","Ανεξέλεγκτες Εκπομπές Ανθρωπογενών Συστημάτων","R-410a","Σχολή Ναυπηγών Μηχανολόγων Μηχανικών","N2O",0]
[null,null,"Scope 1","Ανεξέλεγκτες Εκπομπές Ανθρωπογενών Συστημάτων","R-410a","Σχολή Πολιτικών Μηχανικών","CO2e",{"$f":"'Σύνοψη - Πίνακες'!X63","v":0}]
[null,null,"Scope 1","Ανεξέλεγκτες Εκπομπές Ανθρωπογενών Συστημάτων","R-410a","Σχολή Πολιτικών Μηχανικών","CO2",0]
[null,null,"Scope 1","Ανεξέλεγκτες Εκπομπές Ανθρωπογενών Συστημάτων","R-410a","Σχολή Πολιτικών Μηχανικών","CH4",0]
[null,null,"Scope 1","Ανεξέλεγκτες Εκπομπές Ανθρωπογενών Συστημάτων","R-410a","Σχολή Πολιτικών Μηχανικών","N2O",0]
[null,null,"Scope 1","Ανεξέλεγκτες Εκπομπές Ανθρωπογενών Συστημάτων","R-410a","Σχολή Χημικών Μηχανικών","CO2e",{"$f":"'Σύνοψη - Πίνακες'!Z63","v":0}]
[null,null,"Scope 1","Ανεξέλεγκτες Εκπομπές Ανθρωπογενών Συστημάτων","R-410a","Σχολή Χημικών Μηχανικών","CO2",0]
[null,null,"Scope 1","Ανεξέλεγκτες Εκπομπές Ανθρωπογενών Συστημάτων","R-410a","Σχολή Χημικών Μηχανικών","CH4",0]
[null,null,"Scope 1","Ανεξέλεγκτες Εκπομπές Ανθρωπογενών Συστημάτων","R-410a","Σχολή Χημικών Μηχανικών","N2O",0]
[null,null,"Scope 1","Ανεξέλεγκτες Εκπομπές Ανθρωπογενών Συστημάτων","R-410a","Σχολή Αρχιτεκτόνων Μηχανικών","CO2e",{"$f":"'Σύνοψη - Πίνακες'!AB63","v":0}]
[null,null,"Scope 1","Ανεξέλεγκτες Εκπομπές Ανθρωπογενών Συστημάτων","R-410a","Σχολή Αρχιτεκτόνων Μηχανικών","CO2",0]
[null,null,"Scope 1","Ανεξέλεγκτες Εκπομπές Ανθρωπογενών Συστημάτων","R-410a","Σχολή Αρχιτεκτόνων Μηχανικών","CH4",0]
[null,null,"Scope 1","Ανεξέλεγκτες Εκπομπές Ανθρωπογενών Συστημάτων","R-410a","Σχολή Αρχιτεκτόνων Μηχανικών","N2O",0]
[null,null,"Scope 2","Εισαγόμενη Ηλεκτρική Ενέργεια","Εισαγόμενη Ηλεκτρική Ενέργεια","Βιβλιοθήκη","CO2e",{"$f":"'Σύνοψη - Πίνακες'!F69","v":119.43907456774659}]
[null,null,"Scope 2","Εισαγόμενη Ηλεκτρική Ενέργεια","Εισαγόμενη Ηλεκτρική Ενέργεια","Βιβλιοθήκη","CO2",{"$f":"'Σύνοψη - Πίνακες'!G69","v":119.06635139946837}]
[null,null,"Scope 2","Εισαγόμενη Ηλεκτρική Ενέργεια","Εισαγόμενη Ηλεκτρική Ενέργεια","Βιβλιοθήκη","CH4",{"$f":"'Σύνοψη - Πίνακες'!G70","v":2.6852040233248421E-3}]
[null,null,"Scope 2","Εισαγόμενη Ηλεκτρική Ενέργεια","Εισαγόμενη Ηλεκτρική Ενέργεια","Βιβλιοθήκη","N2O",{"$f":"'Σύνοψη - Πίνακες'!G71","v":1.0908643810529791E-3}]
[null,null,"Scope 2","Εισαγόμενη Ηλεκτρική Ενέργεια","Εισαγόμενη Ηλεκτρική Ενέργεια","Γυμναστήριο","CO2e",{"$f":"'Σύνοψη - Πίνακες'!H69","v":44.093489172455378}]
[null,null,"Scope 2","Εισαγόμενη Ηλεκτρική Ενέργεια","Εισαγόμενη Ηλεκτρική Ενέργεια","Γυμναστήριο","CO2",{"$f":"'Σύνοψη - Πίνακες'!I69","v":43.955890442355738}]
[null,null,"Scope 2","Εισαγόμενη Ηλεκτρική Ενέργεια","Εισαγόμενη Ηλεκτρική Ενέργεια","Γυμναστήριο","CH4",{"$f":"'Σύνοψη - Πίνακες'!I70","v":9.9130050158878556E-4}]
[null,null,"Scope 2","Εισαγόμενη Ηλεκτρική Ενέργεια","Εισαγόμενη Ηλεκτρική Ενέργεια","Γυμναστήριο","N2O",{"$f":"'Σύνοψη - Πίνακες'!I71","v":4.0271591979971463E-4}]
[null,null,"Scope 2","Εισαγόμενη Ηλεκτρική Ενέργεια","Εισαγόμενη Ηλεκτρική Ενέργεια","Διοίκηση","CO2e",{"$f":"'Σύνοψη - Πίνακες'!J69","v":99.451646347103733}]
[null,null,"Scope 2","Εισαγόμενη Ηλεκτρική Ενέργεια","Εισαγόμενη Ηλεκτρική Ενέργεια","Διοίκηση","CO2",{"$f":"'Σύνοψη - Πίνακες'!K69","v":99.141296213773202}]
[null,null,"Scope 2","Εισαγόμενη Ηλεκτρική Ενέργεια","Εισαγόμενη Ηλεκτρική Ενέργεια","Διοίκηση","CH4",{"$f":"'Σύνοψη - Πίνακες'!K70","v":2.235850887692964E-3}]
[null,null,"Scope 2","Εισαγόμενη Ηλεκτρική Ενέργεια","Εισαγόμενη Ηλεκτρική Ενέργεια","Διοίκηση","N2O",{"$f":"'Σύνοψη - Πίνακες'!K71","v":9.0831462843927069E-4}]
[null,null,"Scope 2","Εισαγόμενη Ηλεκτρική Ενέργεια","Εισαγόμενη Ηλεκτρική Ενέργεια","Σχολή Αγρονόμων και Τοπογράφων Μηχανικών","CO2e",{"$f":"'Σύνοψη - Πίνακες'!L69","v":203.11794801716334}]
[null,null,"Scope 2","Εισαγόμενη Ηλεκτρική Ενέργεια","Εισαγόμενη Ηλεκτρική Ενέργεια","Σχολή Αγρονόμων και Τοπογράφων Μηχανικών","CO2",{"$f":"'Σύνοψη - Πίνακες'!M69","v":202.48409544091797}]
[null,null,"Scope 2","Εισαγόμενη Ηλεκτρική Ενέργεια","Εισαγόμενη Ηλεκτρική Ενέργεια","Σχολή Αγρονόμων και Τοπογράφων Μηχανικών","CH4",{"$f":"'Σύνοψη - Πίνακες'!M70","v":4.5664547653189603E-3}]
[null,null,"Scope 2","Εισαγόμενη Ηλεκτρική Ενέργεια","Εισαγόμενη Ηλεκτρική Ενέργεια","Σχολή Αγρονόμων και Τοπογράφων Μηχανικών","N2O",{"$f":"'Σύνοψη - Πίνακες'!M71","v":1.855122667739826E-3}]
[null,null,"Scope 2","Εισαγόμενη Ηλεκτρική Ενέργεια","Εισαγόμενη Ηλεκτρική Ενέργεια","Σχολή Εφαρμοσμένων Μαθηματικών και Φυσικών Επιστημών","CO2e",{"$f":"'Σύνοψη - Πίνακες'!N69","v":353.817333129757}]
[null,null,"Scope 2","Εισαγόμενη Ηλεκτρική Ενέργεια","Εισαγόμενη Ηλεκτρική Ενέργεια","Σχολή Εφαρμοσμένων Μαθηματικών και Φυσικών Επιστημών","CO2",{"$f":"'Σύνοψη - Πίνακες'!O69","v":352.71320604343174}]
[null,null,"Scope 2","Εισαγόμενη Ηλεκτρική Ενέργεια","Εισαγόμενη Ηλεκτρική Ενέργεια","Σχολή Εφαρμοσμένων Μαθηματικών και Φυσικών Επιστημών","CH4",{"$f":"'Σύνοψη - Πίνακες'!O70","v":7.9544464814419076E-3}]
[null,null,"Scope 2","Εισαγόμενη Ηλεκτρική Ενέργεια","Εισαγόμενη Ηλεκτρική Ενέργεια","Σχολή Εφαρμοσμένων Μαθηματικών και Φυσικών Επιστημών","N2O",{"$f":"'Σύνοψη - Πίνακες'!O71","v":3.2314946135277136E-3}]
[null,null,"Scope 2","Εισαγόμενη Ηλεκτρική Ενέργεια","Εισαγόμενη Ηλεκτρική Ενέργεια","Σχολή Ηλεκτρολόγων Μηχανικών και Μηχανικών Υπολογιστών","CO2e",{"$f":"'Σύνοψη - Πίνακες'!P69","v":217.64200234290567}]
[null,null,"Scope 2","Εισαγόμενη Ηλεκτρική Ενέργεια","Εισαγόμενη Ηλεκτρική Ενέργεια","Σχολή Ηλεκτρολόγων Μηχανικών και Μηχανικών Υπολογιστών","CO2",{"$f":"'Σύνοψη - Πίνακες'!Q69","v":216.96282580911856}]
[null,null,"Scope 2","Εισαγόμενη Ηλεκτρική Ενέργεια","Εισαγόμενη Ηλεκτρική Ενέργεια","Σχολή Ηλεκτρολόγων Μηχανικών και Μηχανικών Υπολογιστών","CH4",{"$f":"'Σύνοψη - Πίνακες'!Q70","v":4.8929814840800879E-3}]
[null,null,"Scope 2","Εισαγόμενη Ηλεκτρική Ενέργεια","Εισαγόμενη Ηλεκτρική Ενέργεια","Σχολή Ηλεκτρολόγων Μηχανικών και Μηχανικών Υπολογιστών","N2O",{"$f":"'Σύνοψη - Πίνακες'!Q71","v":1.9877741772208715E-3}]
[null,null,"Scope 2","Εισαγόμενη Ηλεκτρική Ενέργεια","Εισαγόμενη Ηλεκτρική Ενέργεια","Σχολή Μηχανικών Μεταλλείων Μεταλλουργών","CO2e",{"$f":"'Σύνοψη - Πίνακες'!R69","v":336.14846810989741}]
[null,null,"Scope 2","Εισαγόμενη Ηλεκτρική Ενέργεια","Εισαγόμενη Ηλεκτρική Ενέργεια","Σχολή Μηχανικών Μεταλλείων Μεταλλουργών","CO2",{"$f":"'Σύνοψη - Πίνακες'!S69","v":335.0994787192879}]
[null,null,"Scope 2","Εισαγόμενη Ηλεκτρική Ενέργεια","Εισαγόμενη Ηλεκτρική Ενέργεια","Σχολή Μηχανικών Μεταλλείων Μεταλλουργών","CH4",{"$f":"'Σύνοψη - Πίνακες'!S70","v":7.5572187935130323E-3}]
[null,null,"Scope 2","Εισαγόμενη Ηλεκτρική Ενέργεια","Εισαγόμενη Ηλεκτρική Ενέργεια","Σχολή Μηχανικών Μεταλλείων Μεταλλουργών","N2O",{"$f":"'Σύνοψη - Πίνακες'!S71","v":3.070120828829933E-3}]
[null,null,"Scope 2","Εισαγόμενη Ηλεκτρική Ενέργεια","Εισαγόμενη Ηλεκτρική Ενέργεια","Σχολή Μηχανολόγων Μηχανικών","CO2e",{"$f":"'Σύνοψη - Πίνακες'!T69","v":499.30090701771883}]
[null,null,"Scope 2","Εισαγόμενη Ηλεκτρική Ενέργεια","Εισαγόμενη Ηλεκτρική Ενέργεια","Σχολή Μηχανολόγων Μηχανικών","CO2",{"$f":"'Σύνοψη - Πίνακες'!U69","v":497.74278195135059}]
[null,null,"Scope 2","Εισαγόμενη Ηλεκτρική Ενέργεια","Εισαγόμενη Ηλεκτρική Ενέργεια","Σχολή Μηχανολόγων Μηχανικών","CH4",{"$f":"'Σύνοψη - Πίνακες'!U70","v":1.1225177432308839E-2}]
[null,null,"Scope 2","Εισαγόμενη Ηλεκτρική Ενέργεια","Εισαγόμενη Ηλεκτρική Ενέργεια","Σχολή Μηχανολόγων Μηχανικών","N2O",{"$f":"'Σύνοψη - Πίνακες'!U71","v":4.5602293626625092E-3}]
[null,null,"Scope 2","Εισαγόμενη Ηλεκτρική Ενέργεια","Εισαγόμενη Ηλεκτρική Ενέργεια","Σχολή Ναυπηγών Μηχανολόγων Μηχανικών","CO2e",{"$f":"'Σύνοψη - Πίνακες'!V69","v":112.07040284497133}]
[null,null,"Scope 2","Εισαγόμενη Ηλεκτρική Ενέργεια","Εισαγόμενη Ηλεκτρική Ενέργεια","Σχολή Ναυπηγών Μηχανολόγων Μηχανικών","CO2",{"$f":"'Σύνοψη - Πίνακες'!W69","v":111.72067445189927}]
[null,null,"Scope 2","Εισαγόμενη Ηλεκτρική Ενέργεια","Εισαγόμενη Ηλεκτρική Ενέργεια","Σχολή Ναυπηγών Μηχανολόγων Μηχανικών","CH4",{"$f":"'Σύνοψη - Πίνακες'!W70","v":2.5195431034946807E-3}]
[null,null,"Scope 2","Εισαγόμενη Ηλεκτρική Ενέργεια","Εισαγόμενη Ηλεκτρική Ενέργεια","Σχολή Ναυπηγών Μηχανολόγων Μηχανικών","N2O",{"$f":"'Σύνοψη - Πίνακες'!W71","v":1.0235646171596437E-3}]
[null,null,"Scope 2","Εισαγόμενη Ηλεκτρική Ενέργεια","Εισαγόμενη Ηλεκτρική Ενέργεια","Σχολή Πολιτικών Μηχανικών","CO2e",{"$f":"'Σύνοψη - Πίνακες'!X69","v":278.92792585857075}]
[null,null,"Scope 2","Εισαγόμενη Ηλεκτρική Ενέργεια","Εισαγόμενη Ηλεκτρική Ενέργεια","Σχολή Πολιτικών Μηχανικών","CO2",{"$f":"'Σύνοψη - Πίνακες'!Y69","v":278.05749965488894}]
[null,null,"Scope 2","Εισαγόμενη Ηλεκτρική Ενέργεια","Εισαγόμενη Ηλεκτρική Ενέργεια","Σχολή Πολιτικών Μηχανικών","CH4",{"$f":"'Σύνοψη - Πίνακες'!Y70","v":6.2707986598494808E-3}]
[null,null,"Scope 2","Εισαγόμενη Ηλεκτρική Ενέργεια","Εισαγόμενη Ηλεκτρική Ενέργεια","Σχολή Πολιτικών Μηχανικών","N2O",{"$f":"'Σύνοψη - Πίνακες'!Y71","v":2.5475125313995611E-3}]
[null,null,"Scope 2","Εισαγόμενη Ηλεκτρική Ενέργεια","Εισαγόμενη Ηλεκτρική Ενέργεια","Σχολή Χημικών Μηχανικών","CO2e",{"$f":"'Σύνοψη - Πίνακες'!Z69","v":436.90520027309168}]
[null,null,"Scope 2","Εισαγόμενη Ηλεκτρική Ενέργεια","Εισαγόμενη Ηλεκτρική Ενέργεια","Σχολή Χημικών Μηχανικών","CO2",{"$f":"'Σύνοψη - Πίνακες'!AA69","v":435.54178808095639}]
[null,null,"Scope 2","Εισαγόμενη Ηλεκτρική Ενέργεια","Εισαγόμενη Ηλεκτρική Ενέργεια","Σχολή Χημικών Μηχανικών","CH4",{"$f":"'Σύνοψη - Πίνακες'!AA70","v":9.8224103446097697E-3}]
[null,null,"Scope 2","Εισαγόμενη Ηλεκτρική Ενέργεια","Εισαγόμενη Ηλεκτρική Ενέργεια","Σχολή Χημικών Μηχανικών","N2O",{"$f":"'Σύνοψη - Πίνακες'!AA71","v":3.9903551044712842E-3}]
[null,null,"Scope 2","Εισαγόμενη Ηλεκτρική Ενέργεια","Εισαγόμενη Ηλεκτρική Ενέργεια","Σχολή Αρχιτεκτόνων Μηχανικών","CO2e",{"$f":"'Σύνοψη - Πίνακες'!AB69","v":368.73808255814384}]
[null,null,"Scope 2","Εισαγόμενη Ηλεκτρική Ενέργεια","Εισαγόμενη Ηλεκτρική Ενέργεια","Σχολή Αρχιτεκτόνων Μηχανικών","CO2",{"$f":"'Σύνοψη - Πίνακες'!AC69","v":367.58739358225137}]
[null,null,"Scope 2","Εισαγόμενη Ηλεκτρική Ενέργεια","Εισαγόμενη Ηλεκτρική Ενέργεια","Σχολή Αρχιτεκτόνων Μηχανικών","CH4",{"$f":"'Σύνοψη - Πίνακες'!AC70","v":8.2898916156337408E-3}]
[null,null,"Scope 2","Εισαγόμενη Ηλεκτρική Ενέργεια","Εισαγόμενη Ηλεκτρική Ενέργεια","Σχολή Αρχιτεκτόνων Μηχανικών","N2O",{"$f":"'Σύνοψη - Πίνακες'!AC71","v":3.3677692300964454E-3}]
[null,null,"Scope 3","Μετακίνηση Φοιτητών","Πετρέλαιο Κίνησης (Επιβατικό)","Βιβλιοθήκη","CO2e",0]
[null,null,"Scope 3","Μετακίνηση Φοιτητών","Πετρέλαιο Κίνησης (Επιβατικό)","Βιβλιοθήκη","CO2",0]
[null,null,"Scope 3","Μετακίνηση Φοιτητών","Πετρέλαιο Κίνησης (Επιβατικό)","Βιβλιοθήκη","CH4",0]
[null,null,"Scope 3","Μετακίνηση Φοιτητών","Πετρέλαιο Κίνησης (Επιβατικό)","Βιβλιοθήκη","N2O",0]
[null,null,"Scope 3","Μετακίνηση Φοιτητών","Πετρέλαιο Κίνησης (Επιβατικό)","Γυμναστήριο","CO2e",0]
[null,null,"Scope 3","Μετακίνηση Φοιτητών","Πετρέλαιο Κίνησης (Επιβατικό)","Γυμναστήριο","CO2",0]
[null,null,"Scope 3","Μετακίνηση Φοιτητών","Πετρέλαιο Κίνησης (Επιβατικό)","Γυμναστήριο","CH4",0]
[null,null,"Scope 3","Μετακίνηση Φοιτητών","Πετρέλαιο Κίνησης (Επιβατικό)","Γυμναστήριο","N2O",0]
[null,null,"Scope 3","Μετακίνηση Φοιτητών","Πετρέλαιο Κίνησης (Επιβατικό)","Διοίκηση","CO2e",0]
[null,null,"Scope 3","Μετακίνηση Φοιτητών","Πετρέλαιο Κίνησης (Επιβατικό)","Διοίκηση","CO2",0]
[null,null,"Scope 3","Μετακίνηση Φοιτητών","Πετρέλαιο Κίνησης (Επιβατικό)","Διοίκηση","CH4",0]
[null,null,"Scope 3","Μετακίνηση Φοιτητών","Πετρέλαιο Κίνησης (Επιβατικό)","Διοίκηση","N2O",0]
[null,null,"Scope 3","Μετακίνηση Φοιτητών","Πετρέλαιο Κίνησης (Επιβατικό)","Σχολή Αγρονόμων και Τοπογράφων Μηχανικών","CO2e",{"$f":"'Σύνοψη - Πίνακες'!L78","v":3.4412255642337581}]
[null,null,"Scope 3","Μετακίνηση Φοιτητών","Πετρέλαιο Κίνησης (Επιβατικό)","Σχολή Αγρονόμων και Τοπογράφων Μηχανικών","CO2",{"$f":"'Σύνοψη - Πίνακες'!M78","v":3.4038792497402643}]
[null,null,"Scope 3","Μετακίνηση Φοιτητών","Πετρέλαιο Κίνησης (Επιβατικό)","Σχολή Αγρονόμων και Τοπογράφων Μηχανικών","CH4",{"$f":"'Σύνοψη - Πίνακες'!M79","v":1.3944609790005177E-6}]
[null,null,"Scope 3","Μετακίνηση Φοιτητών","Πετρέλαιο Κίνησης (Επιβατικό)","Σχολή Αγρονόμων και Τοπογράφων Μηχανικών","N2O",{"$f":"'Σύνοψη - Πίνακες'!M80","v":1.3665717594205074E-4}]
[null,null,"Scope 3","Μετακίνηση Φοιτητών","Πετρέλαιο Κίνησης (Επιβατικό)","Σχολή Εφαρμοσμένων Μαθηματικών και Φυσικών Επιστημών","CO2e",{"$f":"'Σύνοψη - Πίνακες'!N78","v":3.4777566211789148}]
[null,null,"Scope 3","Μετακίνηση Φοιτητών","Πετρέλαιο Κίνησης (Επιβατικό)","Σχολή Εφαρμοσμένων Μαθηματικών και Φυσικών Επιστημών","CO2",{"$f":"'Σύνοψη - Πίνακες'!O78","v":3.4400138489944068}]
[null,null,"Scope 3","Μετακίνηση Φοιτητών","Πετρέλαιο Κίνησης (Επιβατικό)","Σχολή Εφαρμοσμένων Μαθηματικών και Φυσικών Επιστημών","CH4",{"$f":"'Σύνοψη - Πίνακες'!O79","v":1.4092641741066805E-6}]
[null,null,"Scope 3","Μετακίνηση Φοιτητών","Πετρέλαιο Κίνησης (Επιβατικό)","Σχολή Εφαρμοσμένων Μαθηματικών και Φυσικών Επιστημών","N2O",{"$f":"'Σύνοψη - Πίνακες'!O80","v":1.3810788906245468E-4}]
[null,null,"Scope 3","Μετακίνηση Φοιτητών","Πετρέλαιο Κίνησης (Επιβατικό)","Σχολή Ηλεκτρολόγων Μηχανικών και Μηχανικών Υπολογιστών","CO2e",{"$f":"'Σύνοψη - Πίνακες'!P78","v":5.58925171260897}]
[null,null,"Scope 3","Μετακίνηση Φοιτητών","Πετρέλαιο Κίνησης (Επιβατικό)","Σχολή Ηλεκτρολόγων Μηχανικών και Μηχανικών Υπολογιστών","CO2",{"$f":"'Σύνοψη - Πίνακες'!Q78","v":5.5285936858838678}]
[null,null,"Scope 3","Μετακίνηση Φοιτητών","Πετρέλαιο Κίνησης (Επιβατικό)","Σχολή Ηλεκτρολόγων Μηχανικών και Μηχανικών Υπολογιστών","CH4",{"$f":"'Σύνοψη - Πίνακες'!Q79","v":2.2648888512428791E-6}]
[null,null,"Scope 3","Μετακίνηση Φοιτητών","Πετρέλαιο Κίνησης (Επιβατικό)","Σχολή Ηλεκτρολόγων Μηχανικών και Μηχανικών Υπολογιστών","N2O",{"$f":"'Σύνοψη - Πίνακες'!Q80","v":2.2195910742180215E-4}]
[null,null,"Scope 3","Μετακίνηση Φοιτητών","Πετρέλαιο Κίνησης (Επιβατικό)","Σχολή Μηχανικών Μεταλλείων Μεταλλουργών","CO2e",{"$f":"'Σύνοψη - Πίνακες'!R78","v":9.0816207565659486}]
[null,null,"Scope 3","Μετακίνηση Φοιτητών","Πετρέλαιο Κίνησης (Επιβατικό)","Σχολή Μηχανικών Μεταλλείων Μεταλλουργών","CO2",{"$f":"'Σύνοψη - Πίνακες'!S78","v":8.9830613745799326}]
[null,null,"Scope 3","Μετακίνηση Φοιτητών","Πετρέλαιο Κίνησης (Επιβατικό)","Σχολή Μηχανικών Μεταλλείων Μεταλλουργών","CH4",{"$f":"'Σύνοψη - Πίνακες'!S79","v":3.6800743033920244E-6}]
[null,null,"Scope 3","Μετακίνηση Φοιτητών","Πετρέλαιο Κίνησης (Επιβατικό)","Σχολή Μηχανικών Μεταλλείων Μεταλλουργών","N2O",{"$f":"'Σύνοψη - Πίνακες'!S80","v":3.6064728173241839E-4}]
[null,null,"Scope 3","Μετακίνηση Φοιτητών","Πετρέλαιο Κίνησης (Επιβατικό)","Σχολή Μηχανολόγων Μηχανικών","CO2e",{"$f":"'Σύνοψη - Πίνακες'!T78","v":3.6531056945156668}]
[null,null,"Scope 3","Μετακίνηση Φοιτητών","Πετρέλαιο Κίνησης (Επιβατικό)","Σχολή Μηχανολόγων Μηχανικών","CO2",{"$f":"'Σύνοψη - Πίνακες'!U78","v":3.613459925414293}]
[null,null,"Scope 3","Μετακίνηση Φοιτητών","Πετρέλαιο Κίνησης (Επιβατικό)","Σχολή Μηχανολόγων Μηχανικών","CH4",{"$f":"'Σύνοψη - Πίνακες'!U79","v":1.480319510616261E-6}]
[null,null,"Scope 3","Μετακίνηση Φοιτητών","Πετρέλαιο Κίνησης (Επιβατικό)","Σχολή Μηχανολόγων Μηχανικών","N2O",{"$f":"'Σύνοψη - Πίνακες'!U80","v":1.4507131204039356E-4}]
[null,null,"Scope 3","Μετακίνηση Φοιτητών","Πετρέλαιο Κίνησης (Επιβατικό)","Σχολή Ναυπηγών Μηχανολόγων Μηχανικών","CO2e",{"$f":"'Σύνοψη - Πίνακες'!V78","v":4.5809945409226467}]
[null,null,"Scope 3","Μετακίνηση Φοιτητών","Πετρέλαιο Κίνησης (Επιβατικό)","Σχολή Ναυπηγών Μηχανολόγων Μηχανικών","CO2",{"$f":"'Σύνοψη - Πίνακες'!W78","v":4.531278746469523}]
[null,null,"Scope 3","Μετακίνηση Φοιτητών","Πετρέλαιο Κίνησης (Επιβατικό)","Σχολή Ναυπηγών Μηχανολόγων Μηχανικών","CH4",{"$f":"'Σύνοψη - Πίνακες'!W79","v":1.8563206663127914E-6}]
[null,null,"Scope 3","Μετακίνηση Φοιτητών","Πετρέλαιο Κίνησης (Επιβατικό)","Σχολή Ναυπηγών Μηχανολόγων Μηχανικών","N2O",{"$f":"'Σύνοψη - Πίνακες'!W80","v":1.819194252986535E-4}]
[null,null,"Scope 3","Μετακίνηση Φοιτητών","Πετρέλαιο Κίνησης (Επιβατικό)","Σχολή Πολιτικών Μηχανικών","CO2e",{"$f":"'Σύνοψη - Πίνακες'!X78","v":3.4777566211789148}]
[null,null,"Scope 3","Μετακίνηση Φοιτητών","Πετρέλαιο Κίνησης (Επιβατικό)","Σχολή Πολιτικών Μηχανικών","CO2",{"$f":"'Σύνοψη - Πίνακες'!Y78","v":3.4400138489944068}]
[null,null,"Scope 3","Μετακίνηση Φοιτητών","Πετρέλαιο Κίνησης (Επιβατικό)","Σχολή Πολιτικών Μηχανικών","CH4",{"$f":"'Σύνοψη - Πίνακες'!Y79","v":1.4092641741066805E-6}]
[null,null,"Scope 3","Μετακίνηση Φοιτητών","Πετρέλαιο Κίνησης (Επιβατικό)","Σχολή Πολιτικών Μηχανικών","N2O",{"$f":"'Σύνοψη - Πίνακες'!Y80","v":1.3810788906245468E-4}]
[null,null,"Scope 3","Μετακίνηση Φοιτητών","Πετρέλαιο Κίνησης (Επιβατικό)","Σχολή Χημικών Μηχανικών","CO2e",{"$f":"'Σύνοψη - Πίνακες'!Z78","v":4.5809945409226467}]
[null,null,"Scope 3","Μετακίνηση Φοιτητών","Πετρέλαιο Κίνησης (Επιβατικό)","Σχολή Χημικών Μηχανικών","CO2",{"$f":"'Σύνοψη - Πίνακες'!AA78","v":4.531278746469523}]
[null,null,"Scope 3","Μετακίνηση Φοιτητών","Πετρέλαιο Κίνησης (Επιβατικό)","Σχολή Χημικών Μηχανικών","CH4",{"$f":"'Σύνοψη - Πίνακες'!AA79","v":1.8563206663127914E-6}]
[null,null,"Scope 3","Μετακίνηση Φοιτητών","Πετρέλαιο Κίνησης (Επιβατικό)","Σχολή Χημικών Μηχανικών","N2O",{"$f":"'Σύνοψη - Πίνακες'!AA80","v":1.819194252986535E-4}]
[null,null,"Scope 3","Μετακίνηση Φοιτητών","Πετρέλαιο Κίνησης (Επιβατικό)","Σχολή Αρχιτεκτόνων Μηχανικών","CO2e",{"$f":"'Σύνοψη - Πίνακες'!AB78","v":4.4421765245310514}]
[null,null,"Scope 3","Μετακίνηση Φοιτητών","Πετρέλαιο Κίνησης (Επιβατικό)","Σχολή Αρχιτεκτόνων Μηχανικών","CO2",{"$f":"'Σύνοψη - Πίνακες'!AC78","v":4.3939672693037801}]
[null,null,"Scope 3","Μετακίνηση Φοιτητών","Πετρέλαιο Κίνησης (Επιβατικό)","Σχολή Αρχιτεκτόνων Μηχανικών","CH4",{"$f":"'Σύνοψη - Πίνακες'!AC79","v":1.8000685249093734E-6}]
[null,null,"Scope 3","Μετακίνηση Φοιτητών","Πετρέλαιο Κίνησης (Επιβατικό)","Σχολή Αρχιτεκτόνων Μηχανικών","N2O",{"$f":"'Σύνοψη - Πίνακες'!AC80","v":1.7640671544111858E-4}]
[null,null,"Scope 3","Μετακίνηση Φοιτητών","Βενζίνη (Επιβατικό)","Βιβλιοθήκη","CO2e",0]
[null,null,"Scope 3","Μετακίνηση Φοιτητών","Βενζίνη (Επιβατικό)","Βιβλιοθήκη","CO2",0]
[null,null,"Scope 3","Μετακίνηση Φοιτητών","Βενζίνη (Επιβατικό)","Βιβλιοθήκη","CH4",0]
[null,null,"Scope 3","Μετακίνηση Φοιτητών","Βενζίνη (Επιβατικό)","Βιβλιοθήκη","N2O",0]
[null,null,"Scope 3","Μετακίνηση Φοιτητών","Βενζίνη (Επιβατικό)","Γυμναστήριο","CO2e",0]
[null,null,"Scope 3","Μετακίνηση Φοιτητών","Βενζίνη (Επιβατικό)","Γυμναστήριο","CO2",0]
[null,null,"Scope 3","Μετακίνηση Φοιτητών","Βενζίνη (Επιβατικό)","Γυμναστήριο","CH4",0]
[null,null,"Scope 3","Μετακίνηση Φοιτητών","Βενζίνη (Επιβατικό)","Γυμναστήριο","N2O",0]
[null,null,"Scope 3","Μετακίνηση Φοιτητών","Βενζίνη (Επιβατικό)","Διοίκηση","CO2e",0]
[null,null,"Scope 3","Μετακίνηση Φοιτητών","Βενζίνη (Επιβατικό)","Διοίκηση","CO2",0]
[null,null,"Scope 3","Μετακίνηση Φοιτητών","Βενζίνη (Επιβατικό)","Διοίκηση","CH4",0]
[null,null,"Scope 3","Μετακίνηση Φοιτητών","Βενζίνη (Επιβατικό)","Διοίκηση","N2O",0]
[null,null,"Scope 3","Μετακίνηση Φοιτητών","Βενζίνη (Επιβατικό)","Σχολή Αγρονόμων και Τοπογράφων Μηχανικών","CO2e",{"$f":"'Σύνοψη - Πίνακες'!L81","v":30.897726978840787}]
[null,null,"Scope 3","Μετακίνηση Φοιτητών","Βενζίνη (Επιβατικό)","Σχολή Αγρονόμων και Τοπογράφων Μηχανικών","CO2",{"$f":"'Σύνοψη - Πίνακες'!M81","v":30.633513551679368}]
[null,null,"Scope 3","Μετακίνηση Φοιτητών","Βενζίνη (Επιβατικό)","Σχολή Αγρονόμων και Τοπογράφων Μηχανικών","CH4",{"$f":"'Σύνοψη - Πίνακες'!M82","v":3.9055011817183357E-3}]
[null,null,"Scope 3","Μετακίνηση Φοιτητών","Βενζίνη (Επιβατικό)","Σχολή Αγρονόμων και Τοπογράφων Μηχανικών","N2O",{"$f":"'Σύνοψη - Πίνακες'!M83","v":5.686811142544899E-4}]
[null,null,"Scope 3","Μετακίνηση Φοιτητών","Βενζίνη (Επιβατικό)","Σχολή Εφαρμοσμένων Μαθηματικών και Φυσικών Επιστημών","CO2e",{"$f":"'Σύνοψη - Πίνακες'!N81","v":31.225728326811495}]
[null,null,"Scope 3","Μετακίνηση Φοιτητών","Βενζίνη (Επιβατικό)","Σχολή Εφαρμοσμένων Μαθηματικών και Φυσικών Επιστημών","CO2",{"$f":"'Σύνοψη - Πίνακες'!O81","v":30.958710086198256}]
[null,null,"Scope 3","Μετακίνηση Φοιτητών","Βενζίνη (Επιβατικό)","Σχολή Εφαρμοσμένων Μαθηματικών και Φυσικών Επιστημών","CH4",{"$f":"'Σύνοψη - Πίνακες'!O82","v":3.9469608545603559E-3}]
[null,null,"Scope 3","Μετακίνηση Φοιτητών","Βενζίνη (Επιβατικό)","Σχολή Εφαρμοσμένων Μαθηματικών και Φυσικών Επιστημών","N2O",{"$f":"'Σύνοψη - Πίνακες'!O83","v":5.747180687582531E-4}]
[null,null,"Scope 3","Μετακίνηση Φοιτητών","Βενζίνη (Επιβατικό)","Σχολή Ηλεκτρολόγων Μηχανικών και Μηχανικών Υπολογιστών","CO2e",{"$f":"'Σύνοψη - Πίνακες'!P81","v":50.184206239518481}]
[null,null,"Scope 3","Μετακίνηση Φοιτητών","Βενζίνη (Επιβατικό)","Σχολή Ηλεκτρολόγων Μηχανικών και Μηχανικών Υπολογιστών","CO2",{"$f":"'Σύνοψη - Πίνακες'!Q81","v":49.755069781390048}]
[null,null,"Scope 3","Μετακίνηση Φοιτητών","Βενζίνη (Επιβατικό)","Σχολή Ηλεκτρολόγων Μηχανικών και Μηχανικών Υπολογιστών","CH4",{"$f":"'Σύνοψη - Πίνακες'!Q82","v":6.3433299448291437E-3}]
[null,null,"Scope 3","Μετακίνηση Φοιτητών","Βενζίνη (Επιβατικό)","Σχολή Ηλεκτρολόγων Μηχανικών και Μηχανικών Υπολογιστών","N2O",{"$f":"'Σύνοψη - Πίνακες'!Q83","v":9.2365403907576388E-4}]
[null,null,"Scope 3","Μετακίνηση Φοιτητών","Βενζίνη (Επιβατικό)","Σχολή Μηχανικών Μεταλλείων Μεταλλουργών","CO2e",{"$f":"'Σύνοψη - Πίνακες'!R81","v":81.541135105518265}]
[null,null,"Scope 3","Μετακίνηση Φοιτητών","Βενζίνη (Επιβατικό)","Σχολή Μηχανικών Μεταλλείων Μεταλλουργών","CO2",{"$f":"'Σύνοψη - Πίνακες'!S81","v":80.84385848139587}]
[null,null,"Scope 3","Μετακίνηση Φοιτητών","Βενζίνη (Επιβατικό)","Σχολή Μηχανικών Μεταλλείων Μεταλλουργών","CH4",{"$f":"'Σύνοψη - Πίνακες'!S82","v":1.0306874668526308E-2}]
[null,null,"Scope 3","Μετακίνηση Φοιτητών","Βενζίνη (Επιβατικό)","Σχολή Μηχανικών Μεταλλείων Μεταλλουργών","N2O",{"$f":"'Σύνοψη - Πίνακες'!S83","v":1.5007868896355224E-3}]
[null,null,"Scope 3","Μετακίνηση Φοιτητών","Βενζίνη (Επιβατικό)","Σχολή Μηχανολόγων Μηχανικών","CO2e",{"$f":"'Σύνοψη - Πίνακες'!T81","v":32.800134797070896}]
[null,null,"Scope 3","Μετακίνηση Φοιτητών","Βενζίνη (Επιβατικό)","Σχολή Μηχανολόγων Μηχανικών","CO2",{"$f":"'Σύνοψη - Πίνακες'!U81","v":32.519653451888921}]
[null,null,"Scope 3","Μετακίνηση Φοιτητών","Βενζίνη (Επιβατικό)","Σχολή Μηχανολόγων Μηχανικών","CH4",{"$f":"'Σύνοψη - Πίνακες'!U82","v":4.1459672842020538E-3}]
[null,null,"Scope 3","Μετακίνηση Φοιτητών","Βενζίνη (Επιβατικό)","Σχολή Μηχανολόγων Μηχανικών","N2O",{"$f":"'Σύνοψη - Πίνακες'!U83","v":6.0369545037631633E-4}]
[null,null,"Scope 3","Μετακίνηση Φοιτητών","Βενζίνη (Επιβατικό)","Σχολή Ναυπηγών Μηχανολόγων Μηχανικών","CO2e",{"$f":"'Σύνοψη - Πίνακες'!V81","v":41.131369035526909}]
[null,null,"Scope 3","Μετακίνηση Φοιτητών","Βενζίνη (Επιβατικό)","Σχολή Ναυπηγών Μηχανολόγων Μηχανικών","CO2",{"$f":"'Σύνοψη - Πίνακες'!W81","v":40.779645428668708}]
[null,null,"Scope 3","Μετακίνηση Φοιτητών","Βενζίνη (Επιβατικό)","Σχολή Ναυπηγών Μηχανολόγων Μηχανικών","CH4",{"$f":"'Σύνοψη - Πίνακες'!W82","v":5.1990429743893765E-3}]
[null,null,"Scope 3","Μετακίνηση Φοιτητών","Βενζίνη (Επιβατικό)","Σχολή Ναυπηγών Μηχανολόγων Μηχανικών","N2O",{"$f":"'Σύνοψη - Πίνακες'!W83","v":7.5703409477190068E-4}]
[null,null,"Scope 3","Μετακίνηση Φοιτητών","Βενζίνη (Επιβατικό)","Σχολή Πολιτικών Μηχανικών","CO2e",{"$f":"'Σύνοψη - Πίνακες'!X81","v":31.225728326811495}]
[null,null,"Scope 3","Μετακίνηση Φοιτητών","Βενζίνη (Επιβατικό)","Σχολή Πολιτικών Μηχανικών","CO2",{"$f":"'Σύνοψη - Πίνακες'!Y81","v":30.958710086198256}]
[null,null,"Scope 3","Μετακίνηση Φοιτητών","Βενζίνη (Επιβατικό)","Σχολή Πολιτικών Μηχανικών","CH4",{"$f":"'Σύνοψη - Πίνακες'!Y82","v":3.9469608545603559E-3}]
[null,null,"Scope 3","Μετακίνηση Φοιτητών","Βενζίνη (Επιβατικό)","Σχολή Πολιτικών Μηχανικών","N2O",{"$f":"'Σύνοψη - Πίνακες'!Y83","v":5.747180687582531E-4}]
[null,null,"Scope 3","Μετακίνηση Φοιτητών","Βενζίνη (Επιβατικό)","Σχολή Χημικών Μηχανικών","CO2e",{"$f":"'Σύνοψη - Πίνακες'!Z81","v":41.131369035526909}]
[null,null,"Scope 3","Μετακίνηση Φοιτητών","Βενζίνη (Επιβατικό)","Σχολή Χημικών Μηχανικών","CO2",{"$f":"'Σύνοψη - Πίνακες'!AA81","v":40.779645428668708}]
[null,null,"Scope 3","Μετακίνηση Φοιτητών","Βενζίνη (Επιβατικό)","Σχολή Χημικών Μηχανικών","CH4",{"$f":"'Σύνοψη - Πίνακες'!AA82","v":5.1990429743893765E-3}]
[null,null,"Scope 3","Μετακίνηση Φοιτητών","Βενζίνη (Επιβατικό)","Σχολή Χημικών Μηχανικών","N2O",{"$f":"'Σύνοψη - Πίνακες'!AA83","v":7.5703409477190068E-4}]
[null,null,"Scope 3","Μετακίνηση Φοιτητών","Βενζίνη (Επιβατικό)","Σχολή Αρχιτεκτόνων Μηχανικών","CO2e",{"$f":"'Σύνοψη - Πίνακες'!AB81","v":39.884963913238217}]
[null,null,"Scope 3","Μετακίνηση Φοιτητών","Βενζίνη (Επιβατικό)","Σχολή Αρχιτεκτόνων Μηχανικών","CO2",{"$f":"'Σύνοψη - Πίνακες'!AC81","v":39.543898597496934}]
[null,null,"Scope 3","Μετακίνηση Φοιτητών","Βενζίνη (Επιβατικό)","Σχολή Αρχιτεκτόνων Μηχανικών","CH4",{"$f":"'Σύνοψη - Πίνακες'!AC82","v":5.0414962175896983E-3}]
[null,null,"Scope 3","Μετακίνηση Φοιτητών","Βενζίνη (Επιβατικό)","Σχολή Αρχιτεκτόνων Μηχανικών","N2O",{"$f":"'Σύνοψη - Πίνακες'!AC83","v":7.3409366765760065E-4}]
[null,null,"Scope 3","Μετακίνηση Φοιτητών","Βενζίνη (Μοτοσυκλέτα)","Βιβλιοθήκη","CO2e",0]
[null,null,"Scope 3","Μετακίνηση Φοιτητών","Βενζίνη (Μοτοσυκλέτα)","Βιβλιοθήκη","CO2",0]
[null,null,"Scope 3","Μετακίνηση Φοιτητών","Βενζίνη (Μοτοσυκλέτα)","Βιβλιοθήκη","CH4",0]
[null,null,"Scope 3","Μετακίνηση Φοιτητών","Βενζίνη (Μοτοσυκλέτα)","Βιβλιοθήκη","N2O",0]
[null,null,"Scope 3","Μετακίνηση Φοιτητών","Βενζίνη (Μοτοσυκλέτα)","Γυμναστήριο","CO2e",0]
[null,null,"Scope 3","Μετακίνηση Φοιτητών","Βενζίνη (Μοτοσυκλέτα)","Γυμναστήριο","CO2",0]
[null,null,"Scope 3","Μετακίνηση Φοιτητών","Βενζίνη (Μοτοσυκλέτα)","Γυμναστήριο","CH4",0]
[null,null,"Scope 3","Μετακίνηση Φοιτητών","Βενζίνη (Μοτοσυκλέτα)","Γυμναστήριο","N2O",0]
[null,null,"Scope 3","Μετακίνηση Φοιτητών","Βενζίνη (Μοτοσυκλέτα)","Διοίκηση","CO2e",0]
[null,null,"Scope 3","Μετακίνηση Φοιτητών","Βενζίνη (Μοτοσυκλέτα)","Διοίκηση","CO2",0]
[null,null,"Scope 3","Μετακίνηση Φοιτητών","Βενζίνη (Μοτοσυκλέτα)","Διοίκηση","CH4",0]
[null,null,"Scope 3","Μετακίνηση Φοιτητών","Βενζίνη (Μοτοσυκλέτα)","Διοίκηση","N2O",0]
[null,null,"Scope 3","Μετακίνηση Φοιτητών","Βενζίνη (Μοτοσυκλέτα)","Σχολή Αγρονόμων και Τοπογράφων Μηχανικών","CO2e",{"$f":"'Σύνοψη - Πίνακες'!L84","v":7.342764373788798}]
[null,null,"Scope 3","Μετακίνηση Φοιτητών","Βενζίνη (Μοτοσυκλέτα)","Σχολή Αγρονόμων και Τοπογράφων Μηχανικών","CO2",{"$f":"'Σύνοψη - Πίνακες'!M84","v":7.0509092793961168}]
[null,null,"Scope 3","Μετακίνηση Φοιτητών","Βενζίνη (Μοτοσυκλέτα)","Σχολή Αγρονόμων και Τοπογράφων Μηχανικών","CH4",{"$f":"'Σύνοψη - Πίνακες'!M85","v":9.0104576404185684E-3}]
[null,null,"Scope 3","Μετακίνηση Φοιτητών","Βενζίνη (Μοτοσυκλέτα)","Σχολή Αγρονόμων και Τοπογράφων Μηχανικών","N2O",{"$f":"'Σύνοψη - Πίνακες'!M86","v":1.482173121794979E-4}]
[null,null,"Scope 3","Μετακίνηση Φοιτητών","Βενζίνη (Μοτοσυκλέτα)","Σχολή Εφαρμοσμένων Μαθηματικών και Φυσικών Επιστημών","CO2e",{"$f":"'Σύνοψη - Πίνακες'!N84","v":7.4207130401772128}]
[null,null,"Scope 3","Μετακίνηση Φοιτητών","Βενζίνη (Μοτοσυκλέτα)","Σχολή Εφαρμοσμένων Μαθηματικών και Φυσικών Επιστημών","CO2",{"$f":"'Σύνοψη - Πίνακες'!O84","v":7.1257596963748453}]
[null,null,"Scope 3","Μετακίνηση Φοιτητών","Βενζίνη (Μοτοσυκλέτα)","Σχολή Εφαρμοσμένων Μαθηματικών και Φυσικών Επιστημών","CH4",{"$f":"'Σύνοψη - Πίνακες'!O85","v":9.1061100569835209E-3}]
[null,null,"Scope 3","Μετακίνηση Φοιτητών","Βενζίνη (Μοτοσυκλέτα)","Σχολή Εφαρμοσμένων Μαθηματικών και Φυσικών Επιστημών","N2O",{"$f":"'Σύνοψη - Πίνακες'!O86","v":1.4979074436823994E-4}]
[null,null,"Scope 3","Μετακίνηση Φοιτητών","Βενζίνη (Μοτοσυκλέτα)","Σχολή Ηλεκτρολόγων Μηχανικών και Μηχανικών Υπολογιστών","CO2e",{"$f":"'Σύνοψη - Πίνακες'!P84","v":11.926145957427666}]
[null,null,"Scope 3","Μετακίνηση Φοιτητών","Βενζίνη (Μοτοσυκλέτα)","Σχολή Ηλεκτρολόγων Μηχανικών και Μηχανικών Υπολογιστών","CO2",{"$f":"'Σύνοψη - Πίνακες'!Q84","v":11.452113797745286}]
[null,null,"Scope 3","Μετακίνηση Φοιτητών","Βενζίνη (Μοτοσυκλέτα)","Σχολή Ηλεκτρολόγων Μηχανικών και Μηχανικών Υπολογιστών","CH4",{"$f":"'Σύνοψη - Πίνακες'!Q85","v":1.4634819734437803E-2}]
[null,null,"Scope 3","Μετακίνηση Φοιτητών","Βενζίνη (Μοτοσυκλέτα)","Σχολή Ηλεκτρολόγων Μηχανικών και Μηχανικών Υπολογιστών","N2O",{"$f":"'Σύνοψη - Πίνακες'!Q86","v":2.4073512487752849E-4}]
[null,null,"Scope 3","Μετακίνηση Φοιτητών","Βενζίνη (Μοτοσυκλέτα)","Σχολή Μηχανικών Μεταλλείων Μεταλλουργών","CO2e",{"$f":"'Σύνοψη - Πίνακες'!R84","v":19.378038464160245}]
[null,null,"Scope 3","Μετακίνηση Φοιτητών","Βενζίνη (Μοτοσυκλέτα)","Σχολή Μηχανικών Μεταλλείων Μεταλλουργών","CO2",{"$f":"'Σύνοψη - Πίνακες'!S84","v":18.607813660911621}]
[null,null,"Scope 3","Μετακίνηση Φοιτητών","Βενζίνη (Μοτοσυκλέτα)","Σχολή Μηχανικών Μεταλλείων Μεταλλουργών","CH4",{"$f":"'Σύνοψη - Πίνακες'!S85","v":2.3779190758047304E-2}]
[null,null,"Scope 3","Μετακίνηση Φοιτητών","Βενζίνη (Μοτοσυκλέτα)","Σχολή Μηχανικών Μεταλλείων Μεταλλουργών","N2O",{"$f":"'Σύνοψη - Πίνακες'!S86","v":3.9115524212126522E-4}]
[null,null,"Scope 3","Μετακίνηση Φοιτητών","Βενζίνη (Μοτοσυκλέτα)","Σχολή Μηχανολόγων Μηχανικών","CO2e",{"$f":"'Σύνοψη - Πίνακες'!T84","v":7.7948666388416106}]
[null,null,"Scope 3","Μετακίνηση Φοιτητών","Βενζίνη (Μοτοσυκλέτα)","Σχολή Μηχανολόγων Μηχανικών","CO2",{"$f":"'Σύνοψη - Πίνακες'!U84","v":7.4850416978727363}]
[null,null,"Scope 3","Μετακίνηση Φοιτητών","Βενζίνη (Μοτοσυκλέτα)","Σχολή Μηχανολόγων Μηχανικών","CH4",{"$f":"'Σύνοψη - Πίνακες'!U85","v":9.5652416564952943E-3}]
[null,null,"Scope 3","Μετακίνηση Φοιτητών","Βενζίνη (Μοτοσυκλέτα)","Σχολή Μηχανολόγων Μηχανικών","N2O",{"$f":"'Σύνοψη - Πίνακες'!U86","v":1.5734321887420161E-4}]
[null,null,"Scope 3","Μετακίνηση Φοιτητών","Βενζίνη (Μοτοσυκλέτα)","Σχολή Ναυπηγών Μηχανολόγων Μηχανικών","CO2e",{"$f":"'Σύνοψη - Πίνακες'!V84","v":9.7747627651073792}]
[null,null,"Scope 3","Μετακίνηση Φοιτητών","Βενζίνη (Μοτοσυκλέτα)","Σχολή Ναυπηγών Μηχανολόγων Μηχανικών","CO2",{"$f":"'Σύνοψη - Πίνακες'!W84","v":9.3862422891324115}]
[null,null,"Scope 3","Μετακίνηση Φοιτητών","Βενζίνη (Μοτοσυκλέτα)","Σχολή Ναυπηγών Μηχανολόγων Μηχανικών","CH4",{"$f":"'Σύνοψη - Πίνακες'!W85","v":1.1994813037245101E-2}]
[null,null,"Scope 3","Μετακίνηση Φοιτητών","Βενζίνη (Μοτοσυκλέτα)","Σχολή Ναυπηγών Μηχανολόγων Μηχανικών","N2O",{"$f":"'Σύνοψη - Πίνακες'!W86","v":1.9730839646824884E-4}]
[null,null,"Scope 3","Μετακίνηση Φοιτητών","Βενζίνη (Μοτοσυκλέτα)","Σχολή Πολιτικών Μηχανικών","CO2e",{"$f":"'Σύνοψη - Πίνακες'!X84","v":7.4207130401772128}]
[null,null,"Scope 3","Μετακίνηση Φοιτητών","Βενζίνη (Μοτοσυκλέτα)","Σχολή Πολιτικών Μηχανικών","CO2",{"$f":"'Σύνοψη - Πίνακες'!Y84","v":7.1257596963748453}]
[null,null,"Scope 3","Μετακίνηση Φοιτητών","Βενζίνη (Μοτοσυκλέτα)","Σχολή Πολιτικών Μηχανικών","CH4",{"$f":"'Σύνοψη - Πίνακες'!Y85","v":9.1061100569835209E-3}]
[null,null,"Scope 3","Μετακίνηση Φοιτητών","Βενζίνη (Μοτοσυκλέτα)","Σχολή Πολιτικών Μηχανικών","N2O",{"$f":"'Σύνοψη - Πίνακες'!Y86","v":1.4979074436823994E-4}]
[null,null,"Scope 3","Μετακίνηση Φοιτητών","Βενζίνη (Μοτοσυκλέτα)","Σχολή Χημικών Μηχανικών","CO2e",{"$f":"'Σύνοψη - Πίνακες'!Z84","v":9.7747627651073792}]
[null,null,"Scope 3","Μετακίνηση Φοιτητών","Βενζίνη (Μοτοσυκλέτα)","Σχολή Χημικών Μηχανικών","CO2",{"$f":"'Σύνοψη - Πίνακες'!AA84","v":9.3862422891324115}]
[null,null,"Scope 3","Μετακίνηση Φοιτητών","Βενζίνη (Μοτοσυκλέτα)","Σχολή Χημικών Μηχανικών","CH4",{"$f":"'Σύνοψη - Πίνακες'!AA85","v":1.1994813037245101E-2}]
[null,null,"Scope 3","Μετακίνηση Φοιτητών","Βενζίνη (Μοτοσυκλέτα)","Σχολή Χημικών Μηχανικών","N2O",{"$f":"'Σύνοψη - Πίνακες'!AA86","v":1.9730839646824884E-4}]
[null,null,"Scope 3","Μετακίνηση Φοιτητών","Βενζίνη (Μοτοσυκλέτα)","Σχολή Αρχιτεκτόνων Μηχανικών","CO2e",{"$f":"'Σύνοψη - Πίνακες'!AB84","v":9.4785578328313989}]
[null,null,"Scope 3","Μετακίνηση Φοιτητών","Βενζίνη (Μοτοσυκλέτα)","Σχολή Αρχιτεκτόνων Μηχανικών","CO2",{"$f":"'Σύνοψη - Πίνακες'!AC84","v":9.1018107046132464}]
[null,null,"Scope 3","Μετακίνηση Φοιτητών","Βενζίνη (Μοτοσυκλέτα)","Σχολή Αρχιτεκτόνων Μηχανικών","CH4",{"$f":"'Σύνοψη - Πίνακες'!AC85","v":1.163133385429828E-2}]
[null,null,"Scope 3","Μετακίνηση Φοιτητών","Βενζίνη (Μοτοσυκλέτα)","Σχολή Αρχιτεκτόνων Μηχανικών","N2O",{"$f":"'Σύνοψη - Πίνακες'!AC86","v":1.9132935415102918E-4}]
[null,null,"Scope 3","Μετακίνηση Φοιτητών","Πετρέλαιο Κίνησης (Λεωφορείο)","Βιβλιοθήκη","CO2e",0]
[null,null,"Scope 3","Μετακίνηση Φοιτητών","Πετρέλαιο Κίνησης (Λεωφορείο)","Βιβλιοθήκη","CO2",0]
[null,null,"Scope 3","Μετακίνηση Φοιτητών","Πετρέλαιο Κίνησης (Λεωφορείο)","Βιβλιοθήκη","CH4",0]
[null,null,"Scope 3","Μετακίνηση Φοιτητών","Πετρέλαιο Κίνησης (Λεωφορείο)","Βιβλιοθήκη","N2O",0]
[null,null,"Scope 3","Μετακίνηση Φοιτητών","Πετρέλαιο Κίνησης (Λεωφορείο)","Γυμναστήριο","CO2e",0]
[null,null,"Scope 3","Μετακίνηση Φοιτητών","Πετρέλαιο Κίνησης (Λεωφορείο)","Γυμναστήριο","CO2",0]
[null,null,"Scope 3","Μετακίνηση Φοιτητών","Πετρέλαιο Κίνησης (Λεωφορείο)","Γυμναστήριο","CH4",0]
[null,null,"Scope 3","Μετακίνηση Φοιτητών","Πετρέλαιο Κίνησης (Λεωφορείο)","Γυμναστήριο","N2O",0]
[null,null,"Scope 3","Μετακίνηση Φοιτητών","Πετρέλαιο Κίνησης (Λεωφορείο)","Διοίκηση","CO2e",0]
[null,null,"Scope 3","Μετακίνηση Φοιτητών","Πετρέλαιο Κίνησης (Λεωφορείο)","Διοίκηση","CO2",0]
[null,null,"Scope 3","Μετακίνηση Φοιτητών","Πετρέλαιο Κίνησης (Λεωφορείο)","Διοίκηση","CH4",0]
[null,null,"Scope 3","Μετακίνηση Φοιτητών","Πετρέλαιο Κίνησης (Λεωφορείο)","Διοίκηση","N2O",0]
[null,null,"Scope 3","Μετακίνηση Φοιτητών","Πετρέλαιο Κίνησης (Λεωφορείο)","Σχολή Αγρονόμων και Τοπογράφων Μηχανικών","CO2e",{"$f":"'Σύνοψη - Πίνακες'!L87","v":1.5980431246808517}]
[null,null,"Scope 3","Μετακίνηση Φοιτητών","Πετρέλαιο Κίνησης (Λεωφορείο)","Σχολή Αγρονόμων και Τοπογράφων Μηχανικών","CO2",{"$f":"'Σύνοψη - Πίνακες'!M87","v":1.5342489216819135}]
[null,null,"Scope 3","Μετακίνηση Φοιτητών","Πετρέλαιο Κίνησης (Λεωφορείο)","Σχολή Αγρονόμων και Τοπογράφων Μηχανικών","CH4",{"$f":"'Σύνοψη - Πίνακες'!M88","v":5.5348085197760237E-4}]
[null,null,"Scope 3","Μετακίνηση Φοιτητών","Πετρέλαιο Κίνησης (Λεωφορείο)","Σχολή Αγρονόμων και Τοπογράφων Μηχανικών","N2O",{"$f":"'Σύνοψη - Πίνακες'!M89","v":1.7711387263283273E-4}]
[null,null,"Scope 3","Μετακίνηση Φοιτητών","Πετρέλαιο Κίνησης (Λεωφορείο)","Σχολή Εφαρμοσμένων Μαθηματικών και Φυσικών Επιστημών","CO2e",{"$f":"'Σύνοψη - Πίνακες'!N87","v":1.6150074890617525}]
[null,null,"Scope 3","Μετακίνηση Φοιτητών","Πετρέλαιο Κίνησης (Λεωφορείο)","Σχολή Εφαρμοσμένων Μαθηματικών και Φυσικών Επιστημών","CO2",{"$f":"'Σύνοψη - Πίνακες'!O87","v":1.5505360652241842}]
[null,null,"Scope 3","Μετακίνηση Φοιτητών","Πετρέλαιο Κίνησης (Λεωφορείο)","Σχολή Εφαρμοσμένων Μαθηματικών και Φυσικών Επιστημών","CH4",{"$f":"'Σύνοψη - Πίνακες'!O88","v":5.593564448860695E-4}]
[null,null,"Scope 3","Μετακίνηση Φοιτητών","Πετρέλαιο Κίνησης (Λεωφορείο)","Σχολή Εφαρμοσμένων Μαθηματικών και Φυσικών Επιστημών","N2O",{"$f":"'Σύνοψη - Πίνακες'!O89","v":1.789940623635422E-4}]
[null,null,"Scope 3","Μετακίνηση Φοιτητών","Πετρέλαιο Κίνησης (Λεωφορείο)","Σχολή Ηλεκτρολόγων Μηχανικών και Μηχανικών Υπολογιστών","CO2e",{"$f":"'Σύνοψη - Πίνακες'!P87","v":2.5955477502778166}]
[null,null,"Scope 3","Μετακίνηση Φοιτητών","Πετρέλαιο Κίνησης (Λεωφορείο)","Σχολή Ηλεκτρολόγων Μηχανικών και Μηχανικών Υπολογιστών","CO2",{"$f":"'Σύνοψη - Πίνακες'!Q87","v":2.4919329619674389}]
[null,null,"Scope 3","Μετακίνηση Φοιτητών","Πετρέλαιο Κίνησης (Λεωφορείο)","Σχολή Ηλεκτρολόγων Μηχανικών και Μηχανικών Υπολογιστών","CH4",{"$f":"'Σύνοψη - Πίνακες'!Q88","v":8.9896571499546881E-4}]
[null,null,"Scope 3","Μετακίνηση Φοιτητών","Πετρέλαιο Κίνησης (Λεωφορείο)","Σχολή Ηλεκτρολόγων Μηχανικών και Μηχανικών Υπολογιστών","N2O",{"$f":"'Σύνοψη - Πίνακες'!Q89","v":2.8766902879855002E-4}]
[null,null,"Scope 3","Μετακίνηση Φοιτητών","Πετρέλαιο Κίνησης (Λεωφορείο)","Σχολή Μηχανικών Μεταλλείων Μεταλλουργών","CO2e",{"$f":"'Σύνοψη - Πίνακες'!R87","v":4.217340985091929}]
[null,null,"Scope 3","Μετακίνηση Φοιτητών","Πετρέλαιο Κίνησης (Λεωφορείο)","Σχολή Μηχανικών Μεταλλείων Μεταλλουργών","CO2",{"$f":"'Σύνοψη - Πίνακες'!S87","v":4.0489838846085311}]
[null,null,"Scope 3","Μετακίνηση Φοιτητών","Πετρέλαιο Κίνησης (Λεωφορείο)","Σχολή Μηχανικών Μεταλλείων Μεταλλουργών","CH4",{"$f":"'Σύνοψη - Πίνακες'!S88","v":1.460672397044925E-3}]
[null,null,"Scope 3","Μετακίνηση Φοιτητών","Πετρέλαιο Κίνησης (Λεωφορείο)","Σχολή Μηχανικών Μεταλλείων Μεταλλουργών","N2O",{"$f":"'Σύνοψη - Πίνακες'!S89","v":4.6741516705437597E-4}]
[null,null,"Scope 3","Μετακίνηση Φοιτητών","Πετρέλαιο Κίνησης (Λεωφορείο)","Σχολή Μηχανολόγων Μηχανικών","CO2e",{"$f":"'Σύνοψη - Πίνακες'!T87","v":1.696436438090076}]
[null,null,"Scope 3","Μετακίνηση Φοιτητών","Πετρέλαιο Κίνησης (Λεωφορείο)","Σχολή Μηχανολόγων Μηχανικών","CO2",{"$f":"'Σύνοψη - Πίνακες'!U87","v":1.6287143542270841}]
[null,null,"Scope 3","Μετακίνηση Φοιτητών","Πετρέλαιο Κίνησης (Λεωφορείο)","Σχολή Μηχανολόγων Μηχανικών","CH4",{"$f":"'Σύνοψη - Πίνακες'!U88","v":5.875592908467116E-4}]
[null,null,"Scope 3","Μετακίνηση Φοιτητών","Πετρέλαιο Κίνησης (Λεωφορείο)","Σχολή Μηχανολόγων Μηχανικών","N2O",{"$f":"'Σύνοψη - Πίνακες'!U89","v":1.8801897307094769E-4}]
[null,null,"Scope 3","Μετακίνηση Φοιτητών","Πετρέλαιο Κίνησης (Λεωφορείο)","Σχολή Ναυπηγών Μηχανολόγων Μηχανικών","CO2e",{"$f":"'Σύνοψη - Πίνακες'!V87","v":2.1273312933649557}]
[null,null,"Scope 3","Μετακίνηση Φοιτητών","Πετρέλαιο Κίνησης (Λεωφορείο)","Σχολή Ναυπηγών Μηχανολόγων Μηχανικών","CO2",{"$f":"'Σύνοψη - Πίνακες'!W87","v":2.0424078002007637}]
[null,null,"Scope 3","Μετακίνηση Φοιτητών","Πετρέλαιο Κίνησης (Λεωφορείο)","Σχολή Ναυπηγών Μηχανολόγων Μηχανικών","CH4",{"$f":"'Σύνοψη - Πίνακες'!W88","v":7.3679935072177639E-4}]
[null,null,"Scope 3","Μετακίνηση Φοιτητών","Πετρέλαιο Κίνησης (Λεωφορείο)","Σχολή Ναυπηγών Μηχανολόγων Μηχανικών","N2O",{"$f":"'Σύνοψη - Πίνακες'!W89","v":2.3577579223096843E-4}]
[null,null,"Scope 3","Μετακίνηση Φοιτητών","Πετρέλαιο Κίνησης (Λεωφορείο)","Σχολή Πολιτικών Μηχανικών","CO2e",{"$f":"'Σύνοψη - Πίνακες'!X87","v":1.6150074890617525}]
[null,null,"Scope 3","Μετακίνηση Φοιτητών","Πετρέλαιο Κίνησης (Λεωφορείο)","Σχολή Πολιτικών Μηχανικών","CO2",{"$f":"'Σύνοψη - Πίνακες'!Y87","v":1.5505360652241842}]
[null,null,"Scope 3","Μετακίνηση Φοιτητών","Πετρέλαιο Κίνησης (Λεωφορείο)","Σχολή Πολιτικών Μηχανικών","CH4",{"$f":"'Σύνοψη - Πίνακες'!Y88","v":5.593564448860695E-4}]
[null,null,"Scope 3","Μετακίνηση Φοιτητών","Πετρέλαιο Κίνησης (Λεωφορείο)","Σχολή Πολιτικών Μηχανικών","N2O",{"$f":"'Σύνοψη - Πίνακες'!Y89","v":1.789940623635422E-4}]
[null,null,"Scope 3","Μετακίνηση Φοιτητών","Πετρέλαιο Κίνησης (Λεωφορείο)","Σχολή Χημικών Μηχανικών","CO2e",{"$f":"'Σύνοψη - Πίνακες'!Z87","v":2.1273312933649557}]
[null,null,"Scope 3","Μετακίνηση Φοιτητών","Πετρέλαιο Κίνησης (Λεωφορείο)","Σχολή Χημικών Μηχανικών","CO2",{"$f":"'Σύνοψη - Πίνακες'!AA87","v":2.0424078002007637}]
[null,null,"Scope 3","Μετακίνηση Φοιτητών","Πετρέλαιο Κίνησης (Λεωφορείο)","Σχολή Χημικών Μηχανικών","CH4",{"$f":"'Σύνοψη - Πίνακες'!AA88","v":7.3679935072177639E-4}]
[null,null,"Scope 3","Μετακίνηση Φοιτητών","Πετρέλαιο Κίνησης (Λεωφορείο)","Σχολή Χημικών Μηχανικών","N2O",{"$f":"'Σύνοψη - Πίνακες'!AA89","v":2.3577579223096843E-4}]
[null,null,"Scope 3","Μετακίνηση Φοιτητών","Πετρέλαιο Κίνησης (Λεωφορείο)","Σχολή Αρχιτεκτόνων Μηχανικών","CO2e",{"$f":"'Σύνοψη - Πίνακες'!AB87","v":2.0628667087175327}]
[null,null,"Scope 3","Μετακίνηση Φοιτητών","Πετρέλαιο Κίνησης (Λεωφορείο)","Σχολή Αρχιτεκτόνων Μηχανικών","CO2",{"$f":"'Σύνοψη - Πίνακες'!AC87","v":1.9805166547401345}]
[null,null,"Scope 3","Μετακίνηση Φοιτητών","Πετρέλαιο Κίνησης (Λεωφορείο)","Σχολή Αρχιτεκτόνων Μηχανικών","CH4",{"$f":"'Σύνοψη - Πίνακες'!AC88","v":7.1447209766960131E-4}]
[null,null,"Scope 3","Μετακίνηση Φοιτητών","Πετρέλαιο Κίνησης (Λεωφορείο)","Σχολή Αρχιτεκτόνων Μηχανικών","N2O",{"$f":"'Σύνοψη - Πίνακες'!AC89","v":2.2863107125427239E-4}]
[null,null,"Scope 3","Μετακίνηση Φοιτητών","Φυσικό Αέριο Κίνησης (Λεωφορείο)","Βιβλιοθήκη","CO2e",0]
[null,null,"Scope 3","Μετακίνηση Φοιτητών","Φυσικό Αέριο Κίνησης (Λεωφορείο)","Βιβλιοθήκη","CO2",0]
[null,null,"Scope 3","Μετακίνηση Φοιτητών","Φυσικό Αέριο Κίνησης (Λεωφορείο)","Βιβλιοθήκη","CH4",0]
[null,null,"Scope 3","Μετακίνηση Φοιτητών","Φυσικό Αέριο Κίνησης (Λεωφορείο)","Βιβλιοθήκη","N2O",0]
[null,null,"Scope 3","Μετακίνηση Φοιτητών","Φυσικό Αέριο Κίνησης (Λεωφορείο)","Γυμναστήριο","CO2e",0]
[null,null,"Scope 3","Μετακίνηση Φοιτητών","Φυσικό Αέριο Κίνησης (Λεωφορείο)","Γυμναστήριο","CO2",0]
[null,null,"Scope 3","Μετακίνηση Φοιτητών","Φυσικό Αέριο Κίνησης (Λεωφορείο)","Γυμναστήριο","CH4",0]
[null,null,"Scope 3","Μετακίνηση Φοιτητών","Φυσικό Αέριο Κίνησης (Λεωφορείο)","Γυμναστήριο","N2O",0]
[null,null,"Scope 3","Μετακίνηση Φοιτητών","Φυσικό Αέριο Κίνησης (Λεωφορείο)","Διοίκηση","CO2e",0]
[null,null,"Scope 3","Μετακίνηση Φοιτητών","Φυσικό Αέριο Κίνησης (Λεωφορείο)","Διοίκηση","CO2",0]
[null,null,"Scope 3","Μετακίνηση Φοιτητών","Φυσικό Αέριο Κίνησης (Λεωφορείο)","Διοίκηση","CH4",0]
[null,null,"Scope 3","Μετακίνηση Φοιτητών","Φυσικό Αέριο Κίνησης (Λεωφορείο)","Διοίκηση","N2O",0]
[null,null,"Scope 3","Μετακίνηση Φοιτητών","Φυσικό Αέριο Κίνησης (Λεωφορείο)","Σχολή Αγρονόμων και Τοπογράφων Μηχανικών","CO2e",{"$f":"'Σύνοψη - Πίνακες'!L90","v":0.33785645626236355}]
[null,null,"Scope 3","Μετακίνηση Φοιτητών","Φυσικό Αέριο Κίνησης (Λεωφορείο)","Σχολή Αγρονόμων και Τοπογράφων Μηχανικών","CO2",{"$f":"'Σύνοψη - Πίνακες'!M90","v":0.31652940577938893}]
[null,null,"Scope 3","Μετακίνηση Φοιτητών","Φυσικό Αέριο Κίνησης (Λεωφορείο)","Σχολή Αγρονόμων και Τοπογράφων Μηχανικών","CH4",{"$f":"'Σύνοψη - Πίνακες'!M91","v":5.796423478819265E-4}]
[null,null,"Scope 3","Μετακίνηση Φοιτητών","Φυσικό Αέριο Κίνησης (Λεωφορείο)","Σχολή Αγρονόμων και Τοπογράφων Μηχανικών","N2O",{"$f":"'Σύνοψη - Πίνακες'!M92","v":1.8882890025893321E-5}]
[null,null,"Scope 3","Μετακίνηση Φοιτητών","Φυσικό Αέριο Κίνησης (Λεωφορείο)","Σχολή Εφαρμοσμένων Μαθηματικών και Φυσικών Επιστημών","CO2e",{"$f":"'Σύνοψη - Πίνακες'!N90","v":0.34144304284688964}]
[null,null,"Scope 3","Μετακίνηση Φοιτητών","Φυσικό Αέριο Κίνησης (Λεωφορείο)","Σχολή Εφαρμοσμένων Μαθηματικών και Φυσικών Επιστημών","CO2",{"$f":"'Σύνοψη - Πίνακες'!O90","v":0.31988959055411703}]
[null,null,"Scope 3","Μετακίνηση Φοιτητών","Φυσικό Αέριο Κίνησης (Λεωφορείο)","Σχολή Εφαρμοσμένων Μαθηματικών και Φυσικών Επιστημών","CH4",{"$f":"'Σύνοψη - Πίνακες'!O91","v":5.8579566367685139E-4}]
[null,null,"Scope 3","Μετακίνηση Φοιτητών","Φυσικό Αέριο Κίνησης (Λεωφορείο)","Σχολή Εφαρμοσμένων Μαθηματικών και Φυσικών Επιστημών","N2O",{"$f":"'Σύνοψη - Πίνακες'!O92","v":1.9083345334023825E-5}]
[null,null,"Scope 3","Μετακίνηση Φοιτητών","Φυσικό Αέριο Κίνησης (Λεωφορείο)","Σχολή Ηλεκτρολόγων Μηχανικών και Μηχανικών Υπολογιστών","CO2e",{"$f":"'Σύνοψη - Πίνακες'!P90","v":0.54874774743250121}]
[null,null,"Scope 3","Μετακίνηση Φοιτητών","Φυσικό Αέριο Κίνησης (Λεωφορείο)","Σχολή Ηλεκτρολόγων Μηχανικών και Μηχανικών Υπολογιστών","CO2",{"$f":"'Σύνοψη - Πίνακες'!Q90","v":0.51410827053340236}]
[null,null,"Scope 3","Μετακίνηση Φοιτητών","Φυσικό Αέριο Κίνησης (Λεωφορείο)","Σχολή Ηλεκτρολόγων Μηχανικών και Μηχανικών Υπολογιστών","CH4",{"$f":"'Σύνοψη - Πίνακες'!Q91","v":9.414573166235113E-4}]
[null,null,"Scope 3","Μετακίνηση Φοιτητών","Φυσικό Αέριο Κίνησης (Λεωφορείο)","Σχολή Ηλεκτρολόγων Μηχανικών και Μηχανικών Υπολογιστών","N2O",{"$f":"'Σύνοψη - Πίνακες'!Q92","v":3.0669662143966861E-5}]
[null,null,"Scope 3","Μετακίνηση Φοιτητών","Φυσικό Αέριο Κίνησης (Λεωφορείο)","Σχολή Μηχανικών Μεταλλείων Μεταλλουργών","CO2e",{"$f":"'Σύνοψη - Πίνακες'!R90","v":0.89162542491320129}]
[null,null,"Scope 3","Μετακίνηση Φοιτητών","Φυσικό Αέριο Κίνησης (Λεωφορείο)","Σχολή Μηχανικών Μεταλλείων Μεταλλουργών","CO2",{"$f":"'Σύνοψη - Πίνακες'!S90","v":0.83534193499741061}]
[null,null,"Scope 3","Μετακίνηση Φοιτητών","Φυσικό Αέριο Κίνησης (Λεωφορείο)","Σχολή Μηχανικών Μεταλλείων Μεταλλουργών","CH4",{"$f":"'Σύνοψη - Πίνακες'!S91","v":1.5297143066183327E-3}]
[null,null,"Scope 3","Μετακίνηση Φοιτητών","Φυσικό Αέριο Κίνησης (Λεωφορείο)","Σχολή Μηχανικών Μεταλλείων Μεταλλουργών","N2O",{"$f":"'Σύνοψη - Πίνακες'!S92","v":4.9833189601242877E-5}]
[null,null,"Scope 3","Μετακίνηση Φοιτητών","Φυσικό Αέριο Κίνησης (Λεωφορείο)","Σχολή Μηχανολόγων Μηχανικών","CO2e",{"$f":"'Σύνοψη - Πίνακες'!T90","v":0.35865865845261519}]
[null,null,"Scope 3","Μετακίνηση Φοιτητών","Φυσικό Αέριο Κίνησης (Λεωφορείο)","Σχολή Μηχανολόγων Μηχανικών","CO2",{"$f":"'Σύνοψη - Πίνακες'!U90","v":0.33601847747281199}]
[null,null,"Scope 3","Μετακίνηση Φοιτητών","Φυσικό Αέριο Κίνησης (Λεωφορείο)","Σχολή Μηχανολόγων Μηχανικών","CH4",{"$f":"'Σύνοψη - Πίνακες'!U91","v":6.1533157949249099E-4}]
[null,null,"Scope 3","Μετακίνηση Φοιτητών","Φυσικό Αέριο Κίνησης (Λεωφορείο)","Σχολή Μηχανολόγων Μηχανικών","N2O",{"$f":"'Σύνοψη - Πίνακες'!U92","v":2.0045530813050235E-5}]
[null,null,"Scope 3","Μετακίνηση Φοιτητών","Φυσικό Αέριο Κίνησης (Λεωφορείο)","Σχολή Ναυπηγών Μηχανολόγων Μηχανικών","CO2e",{"$f":"'Σύνοψη - Πίνακες'!V90","v":0.44975795769957944}]
[null,null,"Scope 3","Μετακίνηση Φοιτητών","Φυσικό Αέριο Κίνησης (Λεωφορείο)","Σχολή Ναυπηγών Μηχανολόγων Μηχανικών","CO2",{"$f":"'Σύνοψη - Πίνακες'!W90","v":0.42136717075090629}]
[null,null,"Scope 3","Μετακίνηση Φοιτητών","Φυσικό Αέριο Κίνησης (Λεωφορείο)","Σχολή Ναυπηγών Μηχανολόγων Μηχανικών","CH4",{"$f":"'Σύνοψη - Πίνακες'!W91","v":7.7162580068358374E-4}]
[null,null,"Scope 3","Μετακίνηση Φοιτητών","Φυσικό Αέριο Κίνησης (Λεωφορείο)","Σχολή Ναυπηγών Μηχανολόγων Μηχανικών","N2O",{"$f":"'Σύνοψη - Πίνακες'!W92","v":2.5137095639564993E-5}]
[null,null,"Scope 3","Μετακίνηση Φοιτητών","Φυσικό Αέριο Κίνησης (Λεωφορείο)","Σχολή Πολιτικών Μηχανικών","CO2e",{"$f":"'Σύνοψη - Πίνακες'!X90","v":0.34144304284688964}]
[null,null,"Scope 3","Μετακίνηση Φοιτητών","Φυσικό Αέριο Κίνησης (Λεωφορείο)","Σχολή Πολιτικών Μηχανικών","CO2",{"$f":"'Σύνοψη - Πίνακες'!Y90","v":0.31988959055411703}]
[null,null,"Scope 3","Μετακίνηση Φοιτητών","Φυσικό Αέριο Κίνησης (Λεωφορείο)","Σχολή Πολιτικών Μηχανικών","CH4",{"$f":"'Σύνοψη - Πίνακες'!Y91","v":5.8579566367685139E-4}]
[null,null,"Scope 3","Μετακίνηση Φοιτητών","Φυσικό Αέριο Κίνησης (Λεωφορείο)","Σχολή Πολιτικών Μηχανικών","N2O",{"$f":"'Σύνοψη - Πίνακες'!Y92","v":1.9083345334023825E-5}]
[null,null,"Scope 3","Μετακίνηση Φοιτητών","Φυσικό Αέριο Κίνησης (Λεωφορείο)","Σχολή Χημικών Μηχανικών","CO2e",{"$f":"'Σύνοψη - Πίνακες'!Z90","v":0.44975795769957944}]
[null,null,"Scope 3","Μετακίνηση Φοιτητών","Φυσικό Αέριο Κίνησης (Λεωφορείο)","Σχολή Χημικών Μηχανικών","CO2",{"$f":"'Σύνοψη - Πίνακες'!AA90","v":0.42136717075090629}]
[null,null,"Scope 3","Μετακίνηση Φοιτητών","Φυσικό Αέριο Κίνησης (Λεωφορείο)","Σχολή Χημικών Μηχανικών","CH4",{"$f":"'Σύνοψη - Πίνακες'!AA91","v":7.7162580068358374E-4}]
[null,null,"Scope 3","Μετακίνηση Φοιτητών","Φυσικό Αέριο Κίνησης (Λεωφορείο)","Σχολή Χημικών Μηχανικών","N2O",{"$f":"'Σύνοψη - Πίνακες'!AA92","v":2.5137095639564993E-5}]
[null,null,"Scope 3","Μετακίνηση Φοιτητών","Φυσικό Αέριο Κίνησης (Λεωφορείο)","Σχολή Αρχιτεκτόνων Μηχανικών","CO2e",{"$f":"'Σύνοψη - Πίνακες'!AB90","v":0.4361289286783801}]
[null,null,"Scope 3","Μετακίνηση Φοιτητών","Φυσικό Αέριο Κίνησης (Λεωφορείο)","Σχολή Αρχιτεκτόνων Μηχανικών","CO2",{"$f":"'Σύνοψη - Πίνακες'!AC90","v":0.40859846860693944}]
[null,null,"Scope 3","Μετακίνηση Φοιτητών","Φυσικό Αέριο Κίνησης (Λεωφορείο)","Σχολή Αρχιτεκτόνων Μηχανικών","CH4",{"$f":"'Σύνοψη - Πίνακες'!AC91","v":7.4824320066286891E-4}]
[null,null,"Scope 3","Μετακίνηση Φοιτητών","Φυσικό Αέριο Κίνησης (Λεωφορείο)","Σχολή Αρχιτεκτόνων Μηχανικών","N2O",{"$f":"'Σύνοψη - Πίνακες'!AC92","v":2.4375365468669084E-5}]
[null,null,"Scope 3","Μετακίνηση Φοιτητών","Ηλεκτρική Ενέργεια (Επιβατικό)","Βιβλιοθήκη","CO2e",0]
[null,null,"Scope 3","Μετακίνηση Φοιτητών","Ηλεκτρική Ενέργεια (Επιβατικό)","Βιβλιοθήκη","CO2",0]
[null,null,"Scope 3","Μετακίνηση Φοιτητών","Ηλεκτρική Ενέργεια (Επιβατικό)","Βιβλιοθήκη","CH4",0]
[null,null,"Scope 3","Μετακίνηση Φοιτητών","Ηλεκτρική Ενέργεια (Επιβατικό)","Βιβλιοθήκη","N2O",0]
[null,null,"Scope 3","Μετακίνηση Φοιτητών","Ηλεκτρική Ενέργεια (Επιβατικό)","Γυμναστήριο","CO2e",0]
[null,null,"Scope 3","Μετακίνηση Φοιτητών","Ηλεκτρική Ενέργεια (Επιβατικό)","Γυμναστήριο","CO2",0]
[null,null,"Scope 3","Μετακίνηση Φοιτητών","Ηλεκτρική Ενέργεια (Επιβατικό)","Γυμναστήριο","CH4",0]
[null,null,"Scope 3","Μετακίνηση Φοιτητών","Ηλεκτρική Ενέργεια (Επιβατικό)","Γυμναστήριο","N2O",0]
[null,null,"Scope 3","Μετακίνηση Φοιτητών","Ηλεκτρική Ενέργεια (Επιβατικό)","Διοίκηση","CO2e",0]
[null,null,"Scope 3","Μετακίνηση Φοιτητών","Ηλεκτρική Ενέργεια (Επιβατικό)","Διοίκηση","CO2",0]
[null,null,"Scope 3","Μετακίνηση Φοιτητών","Ηλεκτρική Ενέργεια (Επιβατικό)","Διοίκηση","CH4",0]
[null,null,"Scope 3","Μετακίνηση Φοιτητών","Ηλεκτρική Ενέργεια (Επιβατικό)","Διοίκηση","N2O",0]
[null,null,"Scope 3","Μετακίνηση Φοιτητών","Ηλεκτρική Ενέργεια (Επιβατικό)","Σχολή Αγρονόμων και Τοπογράφων Μηχανικών","CO2e",{"$f":"'Σύνοψη - Πίνακες'!L93","v":0.15467635942565147}]
[null,null,"Scope 3","Μετακίνηση Φοιτητών","Ηλεκτρική Ενέργεια (Επιβατικό)","Σχολή Αγρονόμων και Τοπογράφων Μηχανικών","CO2",{"$f":"'Σύνοψη - Πίνακες'!M93","v":0.15441310831693422}]
[null,null,"Scope 3","Μετακίνηση Φοιτητών","Ηλεκτρική Ενέργεια (Επιβατικό)","Σχολή Αγρονόμων και Τοπογράφων Μηχανικών","CH4",{"$f":"'Σύνοψη - Πίνακες'!M94","v":1.8965360794117036E-6}]
[null,null,"Scope 3","Μετακίνηση Φοιτητών","Ηλεκτρική Ενέργεια (Επιβατικό)","Σχολή Αγρονόμων και Τοπογράφων Μηχανικών","N2O",{"$f":"'Σύνοψη - Πίνακες'!M95","v":7.7046795641636454E-7}]
[null,null,"Scope 3","Μετακίνηση Φοιτητών","Ηλεκτρική Ενέργεια (Επιβατικό)","Σχολή Εφαρμοσμένων Μαθηματικών και Φυσικών Επιστημών","CO2e",{"$f":"'Σύνοψη - Πίνακες'!N93","v":0.15631835899492591}]
[null,null,"Scope 3","Μετακίνηση Φοιτητών","Ηλεκτρική Ενέργεια (Επιβατικό)","Σχολή Εφαρμοσμένων Μαθηματικών και Φυσικών Επιστημών","CO2",{"$f":"'Σύνοψη - Πίνακες'!O93","v":0.15605231328845159}]
[null,null,"Scope 3","Μετακίνηση Φοιτητών","Ηλεκτρική Ενέργεια (Επιβατικό)","Σχολή Εφαρμοσμένων Μαθηματικών και Φυσικών Επιστημών","CH4",{"$f":"'Σύνοψη - Πίνακες'!O94","v":1.9166691588109789E-6}]
[null,null,"Scope 3","Μετακίνηση Φοιτητών","Ηλεκτρική Ενέργεια (Επιβατικό)","Σχολή Εφαρμοσμένων Μαθηματικών και Φυσικών Επιστημών","N2O",{"$f":"'Σύνοψη - Πίνακες'!O95","v":7.7864702177110306E-7}]
[null,null,"Scope 3","Μετακίνηση Φοιτητών","Ηλεκτρική Ενέργεια (Επιβατικό)","Σχολή Ηλεκτρολόγων Μηχανικών και Μηχανικών Υπολογιστών","CO2e",{"$f":"'Σύνοψη - Πίνακες'!P93","v":0.25122593409898808}]
[null,null,"Scope 3","Μετακίνηση Φοιτητών","Ηλεκτρική Ενέργεια (Επιβατικό)","Σχολή Ηλεκτρολόγων Μηχανικών και Μηχανικών Υπολογιστών","CO2",{"$f":"'Σύνοψη - Πίνακες'!Q93","v":0.25079836064215433}]
[null,null,"Scope 3","Μετακίνηση Φοιτητών","Ηλεκτρική Ενέργεια (Επιβατικό)","Σχολή Ηλεκτρολόγων Μηχανικών και Μηχανικών Υπολογιστών","CH4",{"$f":"'Σύνοψη - Πίνακες'!Q94","v":3.080361148089073E-6}]
[null,null,"Scope 3","Μετακίνηση Φοιτητών","Ηλεκτρική Ενέργεια (Επιβατικό)","Σχολή Ηλεκτρολόγων Μηχανικών και Μηχανικών Υπολογιστών","N2O",{"$f":"'Σύνοψη - Πίνακες'!Q95","v":1.2513969992749869E-6}]
[null,null,"Scope 3","Μετακίνηση Φοιτητών","Ηλεκτρική Ενέργεια (Επιβατικό)","Σχολή Μηχανικών Μεταλλείων Μεταλλουργών","CO2e",{"$f":"'Σύνοψη - Πίνακες'!R93","v":0.40820109292162376}]
[null,null,"Scope 3","Μετακίνηση Φοιτητών","Ηλεκτρική Ενέργεια (Επιβατικό)","Σχολή Μηχανικών Μεταλλείων Μεταλλουργών","CO2",{"$f":"'Σύνοψη - Πίνακες'!S93","v":0.40750635591921286}]
[null,null,"Scope 3","Μετακίνηση Φοιτητών","Ηλεκτρική Ενέργεια (Επιβατικό)","Σχολή Μηχανικών Μεταλλείων Μεταλλουργών","CH4",{"$f":"'Σύνοψη - Πίνακες'!S94","v":5.0050835386597615E-6}]
[null,null,"Scope 3","Μετακίνηση Φοιτητών","Ηλεκτρική Ενέργεια (Επιβατικό)","Σχολή Μηχανικών Μεταλλείων Μεταλλουργών","N2O",{"$f":"'Σύνοψη - Πίνακες'!S95","v":2.0333156471879856E-6}]
[null,null,"Scope 3","Μετακίνηση Φοιτητών","Ηλεκτρική Ενέργεια (Επιβατικό)","Σχολή Μηχανολόγων Μηχανικών","CO2e",{"$f":"'Σύνοψη - Πίνακες'!T93","v":0.16419995692744319}]
[null,null,"Scope 3","Μετακίνηση Φοιτητών","Ηλεκτρική Ενέργεια (Επιβατικό)","Σχολή Μηχανολόγων Μηχανικών","CO2",{"$f":"'Σύνοψη - Πίνακες'!U93","v":0.16392049715173485}]
[null,null,"Scope 3","Μετακίνηση Φοιτητών","Ηλεκτρική Ενέργεια (Επιβατικό)","Σχολή Μηχανολόγων Μηχανικών","CH4",{"$f":"'Σύνοψη - Πίνακες'!U94","v":2.0133079399274985E-6}]
[null,null,"Scope 3","Μετακίνηση Φοιτητών","Ηλεκτρική Ενέργεια (Επιβατικό)","Σχολή Μηχανολόγων Μηχανικών","N2O",{"$f":"'Σύνοψη - Πίνακες'!U95","v":8.1790653547384783E-7}]
[null,null,"Scope 3","Μετακίνηση Φοιτητών","Ηλεκτρική Ενέργεια (Επιβατικό)","Σχολή Ναυπηγών Μηχανολόγων Μηχανικών","CO2e",{"$f":"'Σύνοψη - Πίνακες'!V93","v":0.20590674598701375}]
[null,null,"Scope 3","Μετακίνηση Φοιτητών","Ηλεκτρική Ενέργεια (Επιβατικό)","Σχολή Ναυπηγών Μηχανολόγων Μηχανικών","CO2",{"$f":"'Σύνοψη - Πίνακες'!W93","v":0.20555630342827549}]
[null,null,"Scope 3","Μετακίνηση Φοιτητών","Ηλεκτρική Ενέργεια (Επιβατικό)","Σχολή Ναυπηγών Μηχανολόγων Μηχανικών","CH4",{"$f":"'Σύνοψη - Πίνακες'!W94","v":2.5246881566690831E-6}]
[null,null,"Scope 3","Μετακίνηση Φοιτητών","Ηλεκτρική Ενέργεια (Επιβατικό)","Σχολή Ναυπηγών Μηχανολόγων Μηχανικών","N2O",{"$f":"'Σύνοψη - Πίνακες'!W95","v":1.0256547954842051E-6}]
[null,null,"Scope 3","Μετακίνηση Φοιτητών","Ηλεκτρική Ενέργεια (Επιβατικό)","Σχολή Πολιτικών Μηχανικών","CO2e",{"$f":"'Σύνοψη - Πίνακες'!X93","v":0.15631835899492591}]
[null,null,"Scope 3","Μετακίνηση Φοιτητών","Ηλεκτρική Ενέργεια (Επιβατικό)","Σχολή Πολιτικών Μηχανικών","CO2",{"$f":"'Σύνοψη - Πίνακες'!Y93","v":0.15605231328845159}]
[null,null,"Scope 3","Μετακίνηση Φοιτητών","Ηλεκτρική Ενέργεια (Επιβατικό)","Σχολή Πολιτικών Μηχανικών","CH4",{"$f":"'Σύνοψη - Πίνακες'!Y94","v":1.9166691588109789E-6}]
[null,null,"Scope 3","Μετακίνηση Φοιτητών","Ηλεκτρική Ενέργεια (Επιβατικό)","Σχολή Πολιτικών Μηχανικών","N2O",{"$f":"'Σύνοψη - Πίνακες'!Y95","v":7.7864702177110306E-7}]
[null,null,"Scope 3","Μετακίνηση Φοιτητών","Ηλεκτρική Ενέργεια (Επιβατικό)","Σχολή Χημικών Μηχανικών","CO2e",{"$f":"'Σύνοψη - Πίνακες'!Z93","v":0.20590674598701375}]
[null,null,"Scope 3","Μετακίνηση Φοιτητών","Ηλεκτρική Ενέργεια (Επιβατικό)","Σχολή Χημικών Μηχανικών","CO2",{"$f":"'Σύνοψη - Πίνακες'!AA93","v":0.20555630342827549}]
[null,null,"Scope 3","Μετακίνηση Φοιτητών","Ηλεκτρική Ενέργεια (Επιβατικό)","Σχολή Χημικών Μηχανικών","CH4",{"$f":"'Σύνοψη - Πίνακες'!AA94","v":2.5246881566690831E-6}]
[null,null,"Scope 3","Μετακίνηση Φοιτητών","Ηλεκτρική Ενέργεια (Επιβατικό)","Σχολή Χημικών Μηχανικών","N2O",{"$f":"'Σύνοψη - Πίνακες'!AA95","v":1.0256547954842051E-6}]
[null,null,"Scope 3","Μετακίνηση Φοιτητών","Ηλεκτρική Ενέργεια (Επιβατικό)","Σχολή Αρχιτεκτόνων Μηχανικών","CO2e",{"$f":"'Σύνοψη - Πίνακες'!AB93","v":0.19966714762377094}]
[null,null,"Scope 3","Μετακίνηση Φοιτητών","Ηλεκτρική Ενέργεια (Επιβατικό)","Σχολή Αρχιτεκτόνων Μηχανικών","CO2",{"$f":"'Σύνοψη - Πίνακες'!AC93","v":0.19932732453650959}]
[null,null,"Scope 3","Μετακίνηση Φοιτητών","Ηλεκτρική Ενέργεια (Επιβατικό)","Σχολή Αρχιτεκτόνων Μηχανικών","CH4",{"$f":"'Σύνοψη - Πίνακες'!AC94","v":2.4481824549518382E-6}]
[null,null,"Scope 3","Μετακίνηση Φοιτητών","Ηλεκτρική Ενέργεια (Επιβατικό)","Σχολή Αρχιτεκτόνων Μηχανικών","N2O",{"$f":"'Σύνοψη - Πίνακες'!AC95","v":9.9457434713619886E-7}]
[null,null,"Scope 3","Μετακίνηση Φοιτητών","Ηλεκτρική Ενέργεια (Λεωφορείο / Τρόλεϊ)","Βιβλιοθήκη","CO2e",0]
[null,null,"Scope 3","Μετακίνηση Φοιτητών","Ηλεκτρική Ενέργεια (Λεωφορείο / Τρόλεϊ)","Βιβλιοθήκη","CO2",0]
[null,null,"Scope 3","Μετακίνηση Φοιτητών","Ηλεκτρική Ενέργεια (Λεωφορείο / Τρόλεϊ)","Βιβλιοθήκη","CH4",0]
[null,null,"Scope 3","Μετακίνηση Φοιτητών","Ηλεκτρική Ενέργεια (Λεωφορείο / Τρόλεϊ)","Βιβλιοθήκη","N2O",0]
[null,null,"Scope 3","Μετακίνηση Φοιτητών","Ηλεκτρική Ενέργεια (Λεωφορείο / Τρόλεϊ)","Γυμναστήριο","CO2e",0]
[null,null,"Scope 3","Μετακίνηση Φοιτητών","Ηλεκτρική Ενέργεια (Λεωφορείο / Τρόλεϊ)","Γυμναστήριο","CO2",0]
[null,null,"Scope 3","Μετακίνηση Φοιτητών","Ηλεκτρική Ενέργεια (Λεωφορείο / Τρόλεϊ)","Γυμναστήριο","CH4",0]
[null,null,"Scope 3","Μετακίνηση Φοιτητών","Ηλεκτρική Ενέργεια (Λεωφορείο / Τρόλεϊ)","Γυμναστήριο","N2O",0]
[null,null,"Scope 3","Μετακίνηση Φοιτητών","Ηλεκτρική Ενέργεια (Λεωφορείο / Τρόλεϊ)","Διοίκηση","CO2e",0]
[null,null,"Scope 3","Μετακίνηση Φοιτητών","Ηλεκτρική Ενέργεια (Λεωφορείο / Τρόλεϊ)","Διοίκηση","CO2",0]
[null,null,"Scope 3","Μετακίνηση Φοιτητών","Ηλεκτρική Ενέργεια (Λεωφορείο / Τρόλεϊ)","Διοίκηση","CH4",0]
[null,null,"Scope 3","Μετακίνηση Φοιτητών","Ηλεκτρική Ενέργεια (Λεωφορείο / Τρόλεϊ)","Διοίκηση","N2O",0]
[null,null,"Scope 3","Μετακίνηση Φοιτητών","Ηλεκτρική Ενέργεια (Λεωφορείο / Τρόλεϊ)","Σχολή Αγρονόμων και Τοπογράφων Μηχανικών","CO2e",{"$f":"'Σύνοψη - Πίνακες'!L96","v":0.28376287997573563}]
[null,null,"Scope 3","Μετακίνηση Φοιτητών","Ηλεκτρική Ενέργεια (Λεωφορείο / Τρόλεϊ)","Σχολή Αγρονόμων και Τοπογράφων Μηχανικών","CO2",{"$f":"'Σύνοψη - Πίνακες'!M96","v":0.2832799303314345}]
[null,null,"Scope 3","Μετακίνηση Φοιτητών","Ηλεκτρική Ενέργεια (Λεωφορείο / Τρόλεϊ)","Σχολή Αγρονόμων και Τοπογράφων Μηχανικών","CH4",{"$f":"'Σύνοψη - Πίνακες'!M97","v":3.4793069986266185E-6}]
[null,null,"Scope 3","Μετακίνηση Φοιτητών","Ηλεκτρική Ενέργεια (Λεωφορείο / Τρόλεϊ)","Σχολή Αγρονόμων και Τοπογράφων Μηχανικών","N2O",{"$f":"'Σύνοψη - Πίνακες'!M98","v":1.4134687876903156E-6}]
[null,null,"Scope 3","Μετακίνηση Φοιτητών","Ηλεκτρική Ενέργεια (Λεωφορείο / Τρόλεϊ)","Σχολή Εφαρμοσμένων Μαθηματικών και Φυσικών Επιστημών","CO2e",{"$f":"'Σύνοψη - Πίνακες'!N96","v":0.28677522477377948}]
[null,null,"Scope 3","Μετακίνηση Φοιτητών","Ηλεκτρική Ενέργεια (Λεωφορείο / Τρόλεϊ)","Σχολή Εφαρμοσμένων Μαθηματικών και Φυσικών Επιστημών","CO2",{"$f":"'Σύνοψη - Πίνακες'!O96","v":0.28628714827550489}]
[null,null,"Scope 3","Μετακίνηση Φοιτητών","Ηλεκτρική Ενέργεια (Λεωφορείο / Τρόλεϊ)","Σχολή Εφαρμοσμένων Μαθηματικών και Φυσικών Επιστημών","CH4",{"$f":"'Σύνοψη - Πίνακες'!O97","v":3.5162423170833768E-6}]
[null,null,"Scope 3","Μετακίνηση Φοιτητών","Ηλεκτρική Ενέργεια (Λεωφορείο / Τρόλεϊ)","Σχολή Εφαρμοσμένων Μαθηματικών και Φυσικών Επιστημών","N2O",{"$f":"'Σύνοψη - Πίνακες'!O98","v":1.4284737642050748E-6}]
[null,null,"Scope 3","Μετακίνηση Φοιτητών","Ηλεκτρική Ενέργεια (Λεωφορείο / Τρόλεϊ)","Σχολή Ηλεκτρολόγων Μηχανικών και Μηχανικών Υπολογιστών","CO2e",{"$f":"'Σύνοψη - Πίνακες'!P96","v":0.46088875410071711}]
[null,null,"Scope 3","Μετακίνηση Φοιτητών","Ηλεκτρική Ενέργεια (Λεωφορείο / Τρόλεϊ)","Σχολή Ηλεκτρολόγων Μηχανικών και Μηχανικών Υπολογιστών","CO2",{"$f":"'Σύνοψη - Πίνακες'!Q96","v":0.46010434544277573}]
[null,null,"Scope 3","Μετακίνηση Φοιτητών","Ηλεκτρική Ενέργεια (Λεωφορείο / Τρόλεϊ)","Σχολή Ηλεκτρολόγων Μηχανικών και Μηχανικών Υπολογιστών","CH4",{"$f":"'Σύνοψη - Πίνακες'!Q97","v":5.6511037238839984E-6}]
[null,null,"Scope 3","Μετακίνηση Φοιτητών","Ηλεκτρική Ενέργεια (Λεωφορείο / Τρόλεϊ)","Σχολή Ηλεκτρολόγων Μηχανικών και Μηχανικών Υπολογιστών","N2O",{"$f":"'Σύνοψη - Πίνακες'!Q98","v":2.295761406758156E-6}]
[null,null,"Scope 3","Μετακίνηση Φοιτητών","Ηλεκτρική Ενέργεια (Λεωφορείο / Τρόλεϊ)","Σχολή Μηχανικών Μεταλλείων Μεταλλουργών","CO2e",{"$f":"'Σύνοψη - Πίνακες'!R96","v":0.74886891679371415}]
[null,null,"Scope 3","Μετακίνηση Φοιτητών","Ηλεκτρική Ενέργεια (Λεωφορείο / Τρόλεϊ)","Σχολή Μηχανικών Μεταλλείων Μεταλλουργών","CO2",{"$f":"'Σύνοψη - Πίνακες'!S96","v":0.74759438089590879}]
[null,null,"Scope 3","Μετακίνηση Φοιτητών","Ηλεκτρική Ενέργεια (Λεωφορείο / Τρόλεϊ)","Σχολή Μηχανικών Μεταλλείων Μεταλλουργών","CH4",{"$f":"'Σύνοψη - Πίνακες'!S97","v":9.1821201683500779E-6}]
[null,null,"Scope 3","Μετακίνηση Φοιτητών","Ηλεκτρική Ενέργεια (Λεωφορείο / Τρόλεϊ)","Σχολή Μηχανικών Μεταλλείων Μεταλλουργών","N2O",{"$f":"'Σύνοψη - Πίνακες'!S98","v":3.7302371615691345E-6}]
[null,null,"Scope 3","Μετακίνηση Φοιτητών","Ηλεκτρική Ενέργεια (Λεωφορείο / Τρόλεϊ)","Σχολή Μηχανολόγων Μηχανικών","CO2e",{"$f":"'Σύνοψη - Πίνακες'!T96","v":0.30123447980439022}]
[null,null,"Scope 3","Μετακίνηση Φοιτητών","Ηλεκτρική Ενέργεια (Λεωφορείο / Τρόλεϊ)","Σχολή Μηχανολόγων Μηχανικών","CO2",{"$f":"'Σύνοψη - Πίνακες'!U96","v":0.30072179440704294}]
[null,null,"Scope 3","Μετακίνηση Φοιτητών","Ηλεκτρική Ενέργεια (Λεωφορείο / Τρόλεϊ)","Σχολή Μηχανολόγων Μηχανικών","CH4",{"$f":"'Σύνοψη - Πίνακες'!U97","v":3.6935318456758159E-6}]
[null,null,"Scope 3","Μετακίνηση Φοιτητών","Ηλεκτρική Ενέργεια (Λεωφορείο / Τρόλεϊ)","Σχολή Μηχανολόγων Μηχανικών","N2O",{"$f":"'Σύνοψη - Πίνακες'!U98","v":1.5004976514759189E-6}]
[null,null,"Scope 3","Μετακίνηση Φοιτητών","Ηλεκτρική Ενέργεια (Λεωφορείο / Τρόλεϊ)","Σχολή Ναυπηγών Μηχανολόγων Μηχανικών","CO2e",{"$f":"'Σύνοψη - Πίνακες'!V96","v":0.37774803767470533}]
[null,null,"Scope 3","Μετακίνηση Φοιτητών","Ηλεκτρική Ενέργεια (Λεωφορείο / Τρόλεϊ)","Σχολή Ναυπηγών Μηχανολόγων Μηχανικών","CO2",{"$f":"'Σύνοψη - Πίνακες'!W96","v":0.37710513018643188}]
[null,null,"Scope 3","Μετακίνηση Φοιτητών","Ηλεκτρική Ενέργεια (Λεωφορείο / Τρόλεϊ)","Σχολή Ναυπηγών Μηχανολόγων Μηχανικών","CH4",{"$f":"'Σύνοψη - Πίνακες'!W97","v":4.6316889344774724E-6}]
[null,null,"Scope 3","Μετακίνηση Φοιτητών","Ηλεκτρική Ενέργεια (Λεωφορείο / Τρόλεϊ)","Σχολή Ναυπηγών Μηχανολόγων Μηχανικών","N2O",{"$f":"'Σύνοψη - Πίνακες'!W98","v":1.8816240549508024E-6}]
[null,null,"Scope 3","Μετακίνηση Φοιτητών","Ηλεκτρική Ενέργεια (Λεωφορείο / Τρόλεϊ)","Σχολή Πολιτικών Μηχανικών","CO2e",{"$f":"'Σύνοψη - Πίνακες'!X96","v":0.28677522477377948}]
[null,null,"Scope 3","Μετακίνηση Φοιτητών","Ηλεκτρική Ενέργεια (Λεωφορείο / Τρόλεϊ)","Σχολή Πολιτικών Μηχανικών","CO2",{"$f":"'Σύνοψη - Πίνακες'!Y96","v":0.28628714827550489}]
[null,null,"Scope 3","Μετακίνηση Φοιτητών","Ηλεκτρική Ενέργεια (Λεωφορείο / Τρόλεϊ)","Σχολή Πολιτικών Μηχανικών","CH4",{"$f":"'Σύνοψη - Πίνακες'!Y97","v":3.5162423170833768E-6}]
[null,null,"Scope 3","Μετακίνηση Φοιτητών","Ηλεκτρική Ενέργεια (Λεωφορείο / Τρόλεϊ)","Σχολή Πολιτικών Μηχανικών","N2O",{"$f":"'Σύνοψη - Πίνακες'!Y98","v":1.4284737642050748E-6}]
[null,null,"Scope 3","Μετακίνηση Φοιτητών","Ηλεκτρική Ενέργεια (Λεωφορείο / Τρόλεϊ)","Σχολή Χημικών Μηχανικών","CO2e",{"$f":"'Σύνοψη - Πίνακες'!Z96","v":0.37774803767470533}]
[null,null,"Scope 3","Μετακίνηση Φοιτητών","Ηλεκτρική Ενέργεια (Λεωφορείο / Τρόλεϊ)","Σχολή Χημικών Μηχανικών","CO2",{"$f":"'Σύνοψη - Πίνακες'!AA96","v":0.37710513018643188}]
[null,null,"Scope 3","Μετακίνηση Φοιτητών","Ηλεκτρική Ενέργεια (Λεωφορείο / Τρόλεϊ)","Σχολή Χημικών Μηχανικών","CH4",{"$f":"'Σύνοψη - Πίνακες'!AA97","v":4.6316889344774724E-6}]
[null,null,"Scope 3","Μετακίνηση Φοιτητών","Ηλεκτρική Ενέργεια (Λεωφορείο / Τρόλεϊ)","Σχολή Χημικών Μηχανικών","N2O",{"$f":"'Σύνοψη - Πίνακες'!AA98","v":1.8816240549508024E-6}]
[null,null,"Scope 3","Μετακίνηση Φοιτητών","Ηλεκτρική Ενέργεια (Λεωφορείο / Τρόλεϊ)","Σχολή Αρχιτεκτόνων Μηχανικών","CO2e",{"$f":"'Σύνοψη - Πίνακες'!AB96","v":0.36630112744213855}]
[null,null,"Scope 3","Μετακίνηση Φοιτητών","Ηλεκτρική Ενέργεια (Λεωφορείο / Τρόλεϊ)","Σχολή Αρχιτεκτόνων Μηχανικών","CO2",{"$f":"'Σύνοψη - Πίνακες'!AC96","v":0.36567770199896427}]
[null,null,"Scope 3","Μετακίνηση Φοιτητών","Ηλεκτρική Ενέργεια (Λεωφορείο / Τρόλεϊ)","Σχολή Αρχιτεκτόνων Μηχανικών","CH4",{"$f":"'Σύνοψη - Πίνακες'!AC97","v":4.491334724341792E-6}]
[null,null,"Scope 3","Μετακίνηση Φοιτητών","Ηλεκτρική Ενέργεια (Λεωφορείο / Τρόλεϊ)","Σχολή Αρχιτεκτόνων Μηχανικών","N2O",{"$f":"'Σύνοψη - Πίνακες'!AC98","v":1.8246051441947175E-6}]
[null,null,"Scope 3","Μετακίνηση Φοιτητών","Ηλεκτρική Ενέργεια (Συρμοί)","Βιβλιοθήκη","CO2e",0]
[null,null,"Scope 3","Μετακίνηση Φοιτητών","Ηλεκτρική Ενέργεια (Συρμοί)","Βιβλιοθήκη","CO2",0]
[null,null,"Scope 3","Μετακίνηση Φοιτητών","Ηλεκτρική Ενέργεια (Συρμοί)","Βιβλιοθήκη","CH4",0]
[null,null,"Scope 3","Μετακίνηση Φοιτητών","Ηλεκτρική Ενέργεια (Συρμοί)","Βιβλιοθήκη","N2O",0]
[null,null,"Scope 3","Μετακίνηση Φοιτητών","Ηλεκτρική Ενέργεια (Συρμοί)","Γυμναστήριο","CO2e",0]
[null,null,"Scope 3","Μετακίνηση Φοιτητών","Ηλεκτρική Ενέργεια (Συρμοί)","Γυμναστήριο","CO2",0]
[null,null,"Scope 3","Μετακίνηση Φοιτητών","Ηλεκτρική Ενέργεια (Συρμοί)","Γυμναστήριο","CH4",0]
[null,null,"Scope 3","Μετακίνηση Φοιτητών","Ηλεκτρική Ενέργεια (Συρμοί)","Γυμναστήριο","N2O",0]
[null,null,"Scope 3","Μετακίνηση Φοιτητών","Ηλεκτρική Ενέργεια (Συρμοί)","Διοίκηση","CO2e",0]
[null,null,"Scope 3","Μετακίνηση Φοιτητών","Ηλεκτρική Ενέργεια (Συρμοί)","Διοίκηση","CO2",0]
[null,null,"Scope 3","Μετακίνηση Φοιτητών","Ηλεκτρική Ενέργεια (Συρμοί)","Διοίκηση","CH4",0]
[null,null,"Scope 3","Μετακίνηση Φοιτητών","Ηλεκτρική Ενέργεια (Συρμοί)","Διοίκηση","N2O",0]
[null,null,"Scope 3","Μετακίνηση Φοιτητών","Ηλεκτρική Ενέργεια (Συρμοί)","Σχολή Αγρονόμων και Τοπογράφων Μηχανικών","CO2e",{"$f":"'Σύνοψη - Πίνακες'!L99","v":23.234273897675433}]
[null,null,"Scope 3","Μετακίνηση Φοιτητών","Ηλεκτρική Ενέργεια (Συρμοί)","Σχολή Αγρονόμων και Τοπογράφων Μηχανικών","CO2",{"$f":"'Σύνοψη - Πίνακες'!M99","v":23.194730373464523}]
[null,null,"Scope 3","Μετακίνηση Φοιτητών","Ηλεκτρική Ενέργεια (Συρμοί)","Σχολή Αγρονόμων και Τοπογράφων Μηχανικών","CH4",{"$f":"'Σύνοψη - Πίνακες'!M100","v":2.8488282818070633E-4}]
[null,null,"Scope 3","Μετακίνηση Φοιτητών","Ηλεκτρική Ενέργεια (Συρμοί)","Σχολή Αγρονόμων και Τοπογράφων Μηχανικών","N2O",{"$f":"'Σύνοψη - Πίνακες'!M101","v":1.1573367510866908E-4}]
[null,null,"Scope 3","Μετακίνηση Φοιτητών","Ηλεκτρική Ενέργεια (Συρμοί)","Σχολή Εφαρμοσμένων Μαθηματικών και Φυσικών Επιστημών","CO2e",{"$f":"'Σύνοψη - Πίνακες'!N99","v":23.480922240538231}]
[null,null,"Scope 3","Μετακίνηση Φοιτητών","Ηλεκτρική Ενέργεια (Συρμοί)","Σχολή Εφαρμοσμένων Μαθηματικών και Φυσικών Επιστημών","CO2",{"$f":"'Σύνοψη - Πίνακες'!O99","v":23.440958933692382}]
[null,null,"Scope 3","Μετακίνηση Φοιτητών","Ηλεκτρική Ενέργεια (Συρμοί)","Σχολή Εφαρμοσμένων Μαθηματικών και Φυσικών Επιστημών","CH4",{"$f":"'Σύνοψη - Πίνακες'!O100","v":2.8790706202551217E-4}]
[null,null,"Scope 3","Μετακίνηση Φοιτητών","Ηλεκτρική Ενέργεια (Συρμοί)","Σχολή Εφαρμοσμένων Μαθηματικών και Φυσικών Επιστημών","N2O",{"$f":"'Σύνοψη - Πίνακες'!O101","v":1.1696227038583118E-4}]
[null,null,"Scope 3","Μετακίνηση Φοιτητών","Ηλεκτρική Ενέργεια (Συρμοί)","Σχολή Ηλεκτρολόγων Μηχανικών και Μηχανικών Υπολογιστών","CO2e",{"$f":"'Σύνοψη - Πίνακες'!P99","v":37.737196458007872}]
[null,null,"Scope 3","Μετακίνηση Φοιτητών","Ηλεκτρική Ενέργεια (Συρμοί)","Σχολή Ηλεκτρολόγων Μηχανικών και Μηχανικών Υπολογιστών","CO2",{"$f":"'Σύνοψη - Πίνακες'!Q99","v":37.672969714862759}]
[null,null,"Scope 3","Μετακίνηση Φοιτητών","Ηλεκτρική Ενέργεια (Συρμοί)","Σχολή Ηλεκτρολόγων Μηχανικών και Μηχανικών Υπολογιστών","CH4",{"$f":"'Σύνοψη - Πίνακες'!Q100","v":4.6270777825528739E-4}]
[null,null,"Scope 3","Μετακίνηση Φοιτητών","Ηλεκτρική Ενέργεια (Συρμοί)","Σχολή Ηλεκτρολόγων Μηχανικών και Μηχανικών Υπολογιστών","N2O",{"$f":"'Σύνοψη - Πίνακες'!Q101","v":1.8797507740580011E-4}]
[null,null,"Scope 3","Μετακίνηση Φοιτητών","Ηλεκτρική Ενέργεια (Συρμοί)","Σχολή Μηχανικών Μεταλλείων Μεταλλουργών","CO2e",{"$f":"'Σύνοψη - Πίνακες'!R99","v":61.316778035691229}]
[null,null,"Scope 3","Μετακίνηση Φοιτητών","Ηλεκτρική Ενέργεια (Συρμοί)","Σχολή Μηχανικών Μεταλλείων Μεταλλουργών","CO2",{"$f":"'Σύνοψη - Πίνακες'!S99","v":61.212420072646296}]
[null,null,"Scope 3","Μετακίνηση Φοιτητών","Ηλεκτρική Ενέργεια (Συρμοί)","Σχολή Μηχανικών Μεταλλείων Μεταλλουργών","CH4",{"$f":"'Σύνοψη - Πίνακες'!S100","v":7.5182453381872187E-4}]
[null,null,"Scope 3","Μετακίνηση Φοιτητών","Ηλεκτρική Ενέργεια (Συρμοί)","Σχολή Μηχανικών Μεταλλείων Μεταλλουργών","N2O",{"$f":"'Σύνοψη - Πίνακες'!S101","v":3.0542878590249613E-4}]
[null,null,"Scope 3","Μετακίνηση Φοιτητών","Ηλεκτρική Ενέργεια (Συρμοί)","Σχολή Μηχανολόγων Μηχανικών","CO2e",{"$f":"'Σύνοψη - Πίνακες'!T99","v":24.664834286279653}]
[null,null,"Scope 3","Μετακίνηση Φοιτητών","Ηλεκτρική Ενέργεια (Συρμοί)","Σχολή Μηχανολόγων Μηχανικών","CO2",{"$f":"'Σύνοψη - Πίνακες'!U99","v":24.62285602278612}]
[null,null,"Scope 3","Μετακίνηση Φοιτητών","Ηλεκτρική Ενέργεια (Συρμοί)","Σχολή Μηχανολόγων Μηχανικών","CH4",{"$f":"'Σύνοψη - Πίνακες'!U100","v":3.0242338448057998E-4}]
[null,null,"Scope 3","Μετακίνηση Φοιτητών","Ηλεκτρική Ενέργεια (Συρμοί)","Σχολή Μηχανολόγων Μηχανικών","N2O",{"$f":"'Σύνοψη - Πίνακες'!U101","v":1.2285952771620923E-4}]
[null,null,"Scope 3","Μετακίνηση Φοιτητών","Ηλεκτρική Ενέργεια (Συρμοί)","Σχολή Ναυπηγών Μηχανολόγων Μηχανικών","CO2e",{"$f":"'Σύνοψη - Πίνακες'!V99","v":30.92970219499469}]
[null,null,"Scope 3","Μετακίνηση Φοιτητών","Ηλεκτρική Ενέργεια (Συρμοί)","Σχολή Ναυπηγών Μηχανολόγων Μηχανικών","CO2",{"$f":"'Σύνοψη - Πίνακες'!W99","v":30.877061452573791}]
[null,null,"Scope 3","Μετακίνηση Φοιτητών","Ηλεκτρική Ενέργεια (Συρμοί)","Σχολή Ναυπηγών Μηχανολόγων Μηχανικών","CH4",{"$f":"'Σύνοψη - Πίνακες'!W100","v":3.7923892413864728E-4}]
[null,null,"Scope 3","Μετακίνηση Φοιτητών","Ηλεκτρική Ενέργεια (Συρμοί)","Σχολή Ναυπηγών Μηχανολόγων Μηχανικών","N2O",{"$f":"'Σύνοψη - Πίνακες'!W101","v":1.5406584775612636E-4}]
[null,null,"Scope 3","Μετακίνηση Φοιτητών","Ηλεκτρική Ενέργεια (Συρμοί)","Σχολή Πολιτικών Μηχανικών","CO2e",{"$f":"'Σύνοψη - Πίνακες'!X99","v":23.480922240538231}]
[null,null,"Scope 3","Μετακίνηση Φοιτητών","Ηλεκτρική Ενέργεια (Συρμοί)","Σχολή Πολιτικών Μηχανικών","CO2",{"$f":"'Σύνοψη - Πίνακες'!Y99","v":23.440958933692382}]
[null,null,"Scope 3","Μετακίνηση Φοιτητών","Ηλεκτρική Ενέργεια (Συρμοί)","Σχολή Πολιτικών Μηχανικών","CH4",{"$f":"'Σύνοψη - Πίνακες'!Y100","v":2.8790706202551217E-4}]
[null,null,"Scope 3","Μετακίνηση Φοιτητών","Ηλεκτρική Ενέργεια (Συρμοί)","Σχολή Πολιτικών Μηχανικών","N2O",{"$f":"'Σύνοψη - Πίνακες'!Y101","v":1.1696227038583118E-4}]
[null,null,"Scope 3","Μετακίνηση Φοιτητών","Ηλεκτρική Ενέργεια (Συρμοί)","Σχολή Χημικών Μηχανικών","CO2e",{"$f":"'Σύνοψη - Πίνακες'!Z99","v":30.92970219499469}]
[null,null,"Scope 3","Μετακίνηση Φοιτητών","Ηλεκτρική Ενέργεια (Συρμοί)","Σχολή Χημικών Μηχανικών","CO2",{"$f":"'Σύνοψη - Πίνακες'!AA99","v":30.877061452573791}]
[null,null,"Scope 3","Μετακίνηση Φοιτητών","Ηλεκτρική Ενέργεια (Συρμοί)","Σχολή Χημικών Μηχανικών","CH4",{"$f":"'Σύνοψη - Πίνακες'!AA100","v":3.7923892413864728E-4}]
[null,null,"Scope 3","Μετακίνηση Φοιτητών","Ηλεκτρική Ενέργεια (Συρμοί)","Σχολή Χημικών Μηχανικών","N2O",{"$f":"'Σύνοψη - Πίνακες'!AA101","v":1.5406584775612636E-4}]
[null,null,"Scope 3","Μετακίνηση Φοιτητών","Ηλεκτρική Ενέργεια (Συρμοί)","Σχολή Αρχιτεκτόνων Μηχανικών","CO2e",{"$f":"'Σύνοψη - Πίνακες'!AB99","v":29.992438492116062}]
[null,null,"Scope 3","Μετακίνηση Φοιτητών","Ηλεκτρική Ενέργεια (Συρμοί)","Σχολή Αρχιτεκτόνων Μηχανικών","CO2",{"$f":"'Σύνοψη - Πίνακες'!AC99","v":29.941392923707923}]
[null,null,"Scope 3","Μετακίνηση Φοιτητών","Ηλεκτρική Ενέργεια (Συρμοί)","Σχολή Αρχιτεκτόνων Μηχανικών","CH4",{"$f":"'Σύνοψη - Πίνακες'!AC100","v":3.6774683552838526E-4}]
[null,null,"Scope 3","Μετακίνηση Φοιτητών","Ηλεκτρική Ενέργεια (Συρμοί)","Σχολή Αρχιτεκτόνων Μηχανικών","N2O",{"$f":"'Σύνοψη - Πίνακες'!AC101","v":1.4939718570291041E-4}]
[null,null,"Scope 3","Μετακίνηση Υπαλλήλων","Πετρέλαιο Κίνησης (Επιβατικό)","Βιβλιοθήκη","CO2e",0]
[null,null,"Scope 3","Μετακίνηση Υπαλλήλων","Πετρέλαιο Κίνησης (Επιβατικό)","Βιβλιοθήκη","CO2",0]
[null,null,"Scope 3","Μετακίνηση Υπαλλήλων","Πετρέλαιο Κίνησης (Επιβατικό)","Βιβλιοθήκη","CH4",0]
[null,null,"Scope 3","Μετακίνηση Υπαλλήλων","Πετρέλαιο Κίνησης (Επιβατικό)","Βιβλιοθήκη","N2O",0]
[null,null,"Scope 3","Μετακίνηση Υπαλλήλων","Πετρέλαιο Κίνησης (Επιβατικό)","Γυμναστήριο","CO2e",0]
[null,null,"Scope 3","Μετακίνηση Υπαλλήλων","Πετρέλαιο Κίνησης (Επιβατικό)","Γυμναστήριο","CO2",0]
[null,null,"Scope 3","Μετακίνηση Υπαλλήλων","Πετρέλαιο Κίνησης (Επιβατικό)","Γυμναστήριο","CH4",0]
[null,null,"Scope 3","Μετακίνηση Υπαλλήλων","Πετρέλαιο Κίνησης (Επιβατικό)","Γυμναστήριο","N2O",0]
[null,null,"Scope 3","Μετακίνηση Υπαλλήλων","Πετρέλαιο Κίνησης (Επιβατικό)","Διοίκηση","CO2e",{"$f":"'Σύνοψη - Πίνακες'!J105","v":25.294162296731891}]
[null,null,"Scope 3","Μετακίνηση Υπαλλήλων","Πετρέλαιο Κίνησης (Επιβατικό)","Διοίκηση","CO2",{"$f":"'Σύνοψη - Πίνακες'!K105","v":25.019654356943999}]
[null,null,"Scope 3","Μετακίνηση Υπαλλήλων","Πετρέλαιο Κίνησης (Επιβατικό)","Διοίκηση","CH4",{"$f":"'Σύνοψη - Πίνακες'!K106","v":1.0249755983999999E-5}]
[null,null,"Scope 3","Μετακίνηση Υπαλλήλων","Πετρέλαιο Κίνησης (Επιβατικό)","Διοίκηση","N2O",{"$f":"'Σύνοψη - Πίνακες'!K107","v":1.0044760864319998E-3}]
[null,null,"Scope 3","Μετακίνηση Υπαλλήλων","Πετρέλαιο Κίνησης (Επιβατικό)","Σχολή Αγρονόμων και Τοπογράφων Μηχανικών","CO2e",{"$f":"'Σύνοψη - Πίνακες'!L105","v":2.7317695280470446}]
[null,null,"Scope 3","Μετακίνηση Υπαλλήλων","Πετρέλαιο Κίνησης (Επιβατικό)","Σχολή Αγρονόμων και Τοπογράφων Μηχανικών","CO2",{"$f":"'Σύνοψη - Πίνακες'!M105","v":2.7021226705499521}]
[null,null,"Scope 3","Μετακίνηση Υπαλλήλων","Πετρέλαιο Κίνησης (Επιβατικό)","Σχολή Αγρονόμων και Τοπογράφων Μηχανικών","CH4",{"$f":"'Σύνοψη - Πίνακες'!M106","v":1.1069736462719999E-6}]
[null,null,"Scope 3","Μετακίνηση Υπαλλήλων","Πετρέλαιο Κίνησης (Επιβατικό)","Σχολή Αγρονόμων και Τοπογράφων Μηχανικών","N2O",{"$f":"'Σύνοψη - Πίνακες'!M107","v":1.0848341733465598E-4}]
[null,null,"Scope 3","Μετακίνηση Υπαλλήλων","Πετρέλαιο Κίνησης (Επιβατικό)","Σχολή Εφαρμοσμένων Μαθηματικών και Φυσικών Επιστημών","CO2e",{"$f":"'Σύνοψη - Πίνακες'!N105","v":4.8058908363790591}]
[null,null,"Scope 3","Μετακίνηση Υπαλλήλων","Πετρέλαιο Κίνησης (Επιβατικό)","Σχολή Εφαρμοσμένων Μαθηματικών και Φυσικών Επιστημών","CO2",{"$f":"'Σύνοψη - Πίνακες'!O105","v":4.7537343278193598}]
[null,null,"Scope 3","Μετακίνηση Υπαλλήλων","Πετρέλαιο Κίνησης (Επιβατικό)","Σχολή Εφαρμοσμένων Μαθηματικών και Φυσικών Επιστημών","CH4",{"$f":"'Σύνοψη - Πίνακες'!O106","v":1.9474536369599996E-6}]
[null,null,"Scope 3","Μετακίνηση Υπαλλήλων","Πετρέλαιο Κίνησης (Επιβατικό)","Σχολή Εφαρμοσμένων Μαθηματικών και Φυσικών Επιστημών","N2O",{"$f":"'Σύνοψη - Πίνακες'!O107","v":1.9085045642207999E-4}]
[null,null,"Scope 3","Μετακίνηση Υπαλλήλων","Πετρέλαιο Κίνησης (Επιβατικό)","Σχολή Ηλεκτρολόγων Μηχανικών και Μηχανικών Υπολογιστών","CO2e",{"$f":"'Σύνοψη - Πίνακες'!P105","v":2.9341228264208996}]
[null,null,"Scope 3","Μετακίνηση Υπαλλήλων","Πετρέλαιο Κίνησης (Επιβατικό)","Σχολή Ηλεκτρολόγων Μηχανικών και Μηχανικών Υπολογιστών","CO2",{"$f":"'Σύνοψη - Πίνακες'!Q105","v":2.902279905405504}]
[null,null,"Scope 3","Μετακίνηση Υπαλλήλων","Πετρέλαιο Κίνησης (Επιβατικό)","Σχολή Ηλεκτρολόγων Μηχανικών και Μηχανικών Υπολογιστών","CH4",{"$f":"'Σύνοψη - Πίνακες'!Q106","v":1.1889716941439998E-6}]
[null,null,"Scope 3","Μετακίνηση Υπαλλήλων","Πετρέλαιο Κίνησης (Επιβατικό)","Σχολή Ηλεκτρολόγων Μηχανικών και Μηχανικών Υπολογιστών","N2O",{"$f":"'Σύνοψη - Πίνακες'!Q107","v":1.16519226026112E-4}]
[null,null,"Scope 3","Μετακίνηση Υπαλλήλων","Πετρέλαιο Κίνησης (Επιβατικό)","Σχολή Μηχανικών Μεταλλείων Μεταλλουργών","CO2e",{"$f":"'Σύνοψη - Πίνακες'!R105","v":4.5529492134117406}]
[null,null,"Scope 3","Μετακίνηση Υπαλλήλων","Πετρέλαιο Κίνησης (Επιβατικό)","Σχολή Μηχανικών Μεταλλείων Μεταλλουργών","CO2",{"$f":"'Σύνοψη - Πίνακες'!S105","v":4.5035377842499198}]
[null,null,"Scope 3","Μετακίνηση Υπαλλήλων","Πετρέλαιο Κίνησης (Επιβατικό)","Σχολή Μηχανικών Μεταλλείων Μεταλλουργών","CH4",{"$f":"'Σύνοψη - Πίνακες'!S106","v":1.8449560771199999E-6}]
[null,null,"Scope 3","Μετακίνηση Υπαλλήλων","Πετρέλαιο Κίνησης (Επιβατικό)","Σχολή Μηχανικών Μεταλλείων Μεταλλουργών","N2O",{"$f":"'Σύνοψη - Πίνακες'!S107","v":1.8080569555775999E-4}]
[null,null,"Scope 3","Μετακίνηση Υπαλλήλων","Πετρέλαιο Κίνησης (Επιβατικό)","Σχολή Μηχανολόγων Μηχανικών","CO2e",{"$f":"'Σύνοψη - Πίνακες'!T105","v":6.67765884633722}]
[null,null,"Scope 3","Μετακίνηση Υπαλλήλων","Πετρέλαιο Κίνησης (Επιβατικό)","Σχολή Μηχανολόγων Μηχανικών","CO2",{"$f":"'Σύνοψη - Πίνακες'!U105","v":6.6051887502332161}]
[null,null,"Scope 3","Μετακίνηση Υπαλλήλων","Πετρέλαιο Κίνησης (Επιβατικό)","Σχολή Μηχανολόγων Μηχανικών","CH4",{"$f":"'Σύνοψη - Πίνακες'!U106","v":2.7059355797759997E-6}]
[null,null,"Scope 3","Μετακίνηση Υπαλλήλων","Πετρέλαιο Κίνησης (Επιβατικό)","Σχολή Μηχανολόγων Μηχανικών","N2O",{"$f":"'Σύνοψη - Πίνακες'!U107","v":2.6518168681804799E-4}]
[null,null,"Scope 3","Μετακίνηση Υπαλλήλων","Πετρέλαιο Κίνησης (Επιβατικό)","Σχολή Ναυπηγών Μηχανολόγων Μηχανικών","CO2e",{"$f":"'Σύνοψη - Πίνακες'!V105","v":1.5176497378039135}]
[null,null,"Scope 3","Μετακίνηση Υπαλλήλων","Πετρέλαιο Κίνησης (Επιβατικό)","Σχολή Ναυπηγών Μηχανολόγων Μηχανικών","CO2",{"$f":"'Σύνοψη - Πίνακες'!W105","v":1.5011792614166399}]
[null,null,"Scope 3","Μετακίνηση Υπαλλήλων","Πετρέλαιο Κίνησης (Επιβατικό)","Σχολή Ναυπηγών Μηχανολόγων Μηχανικών","CH4",{"$f":"'Σύνοψη - Πίνακες'!W106","v":6.1498535904000005E-7}]
[null,null,"Scope 3","Μετακίνηση Υπαλλήλων","Πετρέλαιο Κίνησης (Επιβατικό)","Σχολή Ναυπηγών Μηχανολόγων Μηχανικών","N2O",{"$f":"'Σύνοψη - Πίνακες'!W107","v":6.0268565185919997E-5}]
[null,null,"Scope 3","Μετακίνηση Υπαλλήλων","Πετρέλαιο Κίνησης (Επιβατικό)","Σχολή Πολιτικών Μηχανικών","CO2e",{"$f":"'Σύνοψη - Πίνακες'!X105","v":3.7941243445097839}]
[null,null,"Scope 3","Μετακίνηση Υπαλλήλων","Πετρέλαιο Κίνησης (Επιβατικό)","Σχολή Πολιτικών Μηχανικών","CO2",{"$f":"'Σύνοψη - Πίνακες'!Y105","v":3.7529481535416003}]
[null,null,"Scope 3","Μετακίνηση Υπαλλήλων","Πετρέλαιο Κίνησης (Επιβατικό)","Σχολή Πολιτικών Μηχανικών","CH4",{"$f":"'Σύνοψη - Πίνακες'!Y106","v":1.5374633975999998E-6}]
[null,null,"Scope 3","Μετακίνηση Υπαλλήλων","Πετρέλαιο Κίνησης (Επιβατικό)","Σχολή Πολιτικών Μηχανικών","N2O",{"$f":"'Σύνοψη - Πίνακες'!Y107","v":1.5067141296479998E-4}]
[null,null,"Scope 3","Μετακίνηση Υπαλλήλων","Πετρέλαιο Κίνησης (Επιβατικό)","Σχολή Χημικών Μηχανικών","CO2e",{"$f":"'Σύνοψη - Πίνακες'!Z105","v":5.9188339774352627}]
[null,null,"Scope 3","Μετακίνηση Υπαλλήλων","Πετρέλαιο Κίνησης (Επιβατικό)","Σχολή Χημικών Μηχανικών","CO2",{"$f":"'Σύνοψη - Πίνακες'!AA105","v":5.8545991195248961}]
[null,null,"Scope 3","Μετακίνηση Υπαλλήλων","Πετρέλαιο Κίνησης (Επιβατικό)","Σχολή Χημικών Μηχανικών","CH4",{"$f":"'Σύνοψη - Πίνακες'!AA106","v":2.398442900256E-6}]
[null,null,"Scope 3","Μετακίνηση Υπαλλήλων","Πετρέλαιο Κίνησης (Επιβατικό)","Σχολή Χημικών Μηχανικών","N2O",{"$f":"'Σύνοψη - Πίνακες'!AA107","v":2.3504740422508797E-4}]
[null,null,"Scope 3","Μετακίνηση Υπαλλήλων","Πετρέλαιο Κίνησης (Επιβατικό)","Σχολή Αρχιτεκτόνων Μηχανικών","CO2e",{"$f":"'Σύνοψη - Πίνακες'!AB105","v":5.0082441347529141}]
[null,null,"Scope 3","Μετακίνηση Υπαλλήλων","Πετρέλαιο Κίνησης (Επιβατικό)","Σχολή Αρχιτεκτόνων Μηχανικών","CO2",{"$f":"'Σύνοψη - Πίνακες'!AC105","v":4.9538915626749116}]
[null,null,"Scope 3","Μετακίνηση Υπαλλήλων","Πετρέλαιο Κίνησης (Επιβατικό)","Σχολή Αρχιτεκτόνων Μηχανικών","CH4",{"$f":"'Σύνοψη - Πίνακες'!AC106","v":2.0294516848320001E-6}]
[null,null,"Scope 3","Μετακίνηση Υπαλλήλων","Πετρέλαιο Κίνησης (Επιβατικό)","Σχολή Αρχιτεκτόνων Μηχανικών","N2O",{"$f":"'Σύνοψη - Πίνακες'!AC107","v":1.9888626511353598E-4}]
[null,null,"Scope 3","Μετακίνηση Υπαλλήλων","Βενζίνη (Επιβατικό)","Βιβλιοθήκη","CO2e",0]
[null,null,"Scope 3","Μετακίνηση Υπαλλήλων","Βενζίνη (Επιβατικό)","Βιβλιοθήκη","CO2",0]
[null,null,"Scope 3","Μετακίνηση Υπαλλήλων","Βενζίνη (Επιβατικό)","Βιβλιοθήκη","CH4",0]
[null,null,"Scope 3","Μετακίνηση Υπαλλήλων","Βενζίνη (Επιβατικό)","Βιβλιοθήκη","N2O",0]
[null,null,"Scope 3","Μετακίνηση Υπαλλήλων","Βενζίνη (Επιβατικό)","Γυμναστήριο","CO2e",0]
[null,null,"Scope 3","Μετακίνηση Υπαλλήλων","Βενζίνη (Επιβατικό)","Γυμναστήριο","CO2",0]
[null,null,"Scope 3","Μετακίνηση Υπαλλήλων","Βενζίνη (Επιβατικό)","Γυμναστήριο","CH4",0]
[null,null,"Scope 3","Μετακίνηση Υπαλλήλων","Βενζίνη (Επιβατικό)","Γυμναστήριο","N2O",0]
[null,null,"Scope 3","Μετακίνηση Υπαλλήλων","Βενζίνη (Επιβατικό)","Διοίκηση","CO2e",{"$f":"'Σύνοψη - Πίνακες'!J108","v":226.06024534216724}]
[null,null,"Scope 3","Μετακίνηση Υπαλλήλων","Βενζίνη (Επιβατικό)","Διοίκηση","CO2",{"$f":"'Σύνοψη - Πίνακες'!K108","v":224.12715323452744}]
[null,null,"Scope 3","Μετακίνηση Υπαλλήλων","Βενζίνη (Επιβατικό)","Διοίκηση","CH4",{"$f":"'Σύνοψη - Πίνακες'!K109","v":2.8574223467246598E-2}]
[null,null,"Scope 3","Μετακίνηση Υπαλλήλων","Βενζίνη (Επιβατικό)","Διοίκηση","N2O",{"$f":"'Σύνοψη - Πίνακες'!K110","v":4.1607006333464003E-3}]
[null,null,"Scope 3","Μετακίνηση Υπαλλήλων","Βενζίνη (Επιβατικό)","Σχολή Αγρονόμων και Τοπογράφων Μηχανικών","CO2e",{"$f":"'Σύνοψη - Πίνακες'!L108","v":24.414506496954061}]
[null,null,"Scope 3","Μετακίνηση Υπαλλήλων","Βενζίνη (Επιβατικό)","Σχολή Αγρονόμων και Τοπογράφων Μηχανικών","CO2",{"$f":"'Σύνοψη - Πίνακες'!M108","v":24.205732549328964}]
[null,null,"Scope 3","Μετακίνηση Υπαλλήλων","Βενζίνη (Επιβατικό)","Σχολή Αγρονόμων και Τοπογράφων Μηχανικών","CH4",{"$f":"'Σύνοψη - Πίνακες'!M109","v":3.0860161344626329E-3}]
[null,null,"Scope 3","Μετακίνηση Υπαλλήλων","Βενζίνη (Επιβατικό)","Σχολή Αγρονόμων και Τοπογράφων Μηχανικών","N2O",{"$f":"'Σύνοψη - Πίνακες'!M110","v":4.4935566840141128E-4}]
[null,null,"Scope 3","Μετακίνηση Υπαλλήλων","Βενζίνη (Επιβατικό)","Σχολή Εφαρμοσμένων Μαθηματικών και Φυσικών Επιστημών","CO2e",{"$f":"'Σύνοψη - Πίνακες'!N108","v":42.951446615011768}]
[null,null,"Scope 3","Μετακίνηση Υπαλλήλων","Βενζίνη (Επιβατικό)","Σχολή Εφαρμοσμένων Μαθηματικών και Φυσικών Επιστημών","CO2",{"$f":"'Σύνοψη - Πίνακες'!O108","v":42.584159114560208}]
[null,null,"Scope 3","Μετακίνηση Υπαλλήλων","Βενζίνη (Επιβατικό)","Σχολή Εφαρμοσμένων Μαθηματικών και Φυσικών Επιστημών","CH4",{"$f":"'Σύνοψη - Πίνακες'!O109","v":5.4291024587768541E-3}]
[null,null,"Scope 3","Μετακίνηση Υπαλλήλων","Βενζίνη (Επιβατικό)","Σχολή Εφαρμοσμένων Μαθηματικών και Φυσικών Επιστημών","N2O",{"$f":"'Σύνοψη - Πίνακες'!O110","v":7.9053312033581613E-4}]
[null,null,"Scope 3","Μετακίνηση Υπαλλήλων","Βενζίνη (Επιβατικό)","Σχολή Ηλεκτρολόγων Μηχανικών και Μηχανικών Υπολογιστών","CO2e",{"$f":"'Σύνοψη - Πίνακες'!P108","v":26.2229884596914}]
[null,null,"Scope 3","Μετακίνηση Υπαλλήλων","Βενζίνη (Επιβατικό)","Σχολή Ηλεκτρολόγων Μηχανικών και Μηχανικών Υπολογιστών","CO2",{"$f":"'Σύνοψη - Πίνακες'!Q108","v":25.998749775205184}]
[null,null,"Scope 3","Μετακίνηση Υπαλλήλων","Βενζίνη (Επιβατικό)","Σχολή Ηλεκτρολόγων Μηχανικών και Μηχανικών Υπολογιστών","CH4",{"$f":"'Σύνοψη - Πίνακες'!Q109","v":3.3146099222006059E-3}]
[null,null,"Scope 3","Μετακίνηση Υπαλλήλων","Βενζίνη (Επιβατικό)","Σχολή Ηλεκτρολόγων Μηχανικών και Μηχανικών Υπολογιστών","N2O",{"$f":"'Σύνοψη - Πίνακες'!Q110","v":4.8264127346818252E-4}]
[null,null,"Scope 3","Μετακίνηση Υπαλλήλων","Βενζίνη (Επιβατικό)","Σχολή Μηχανικών Μεταλλείων Μεταλλουργών","CO2e",{"$f":"'Σύνοψη - Πίνακες'!R108","v":40.6908441615901}]
[null,null,"Scope 3","Μετακίνηση Υπαλλήλων","Βενζίνη (Επιβατικό)","Σχολή Μηχανικών Μεταλλείων Μεταλλουργών","CO2",{"$f":"'Σύνοψη - Πίνακες'!S108","v":40.342887582214942}]
[null,null,"Scope 3","Μετακίνηση Υπαλλήλων","Βενζίνη (Επιβατικό)","Σχολή Μηχανικών Μεταλλείων Μεταλλουργών","CH4",{"$f":"'Σύνοψη - Πίνακες'!S109","v":5.1433602241043883E-3}]
[null,null,"Scope 3","Μετακίνηση Υπαλλήλων","Βενζίνη (Επιβατικό)","Σχολή Μηχανικών Μεταλλείων Μεταλλουργών","N2O",{"$f":"'Σύνοψη - Πίνακες'!S110","v":7.4892611400235217E-4}]
[null,null,"Scope 3","Μετακίνηση Υπαλλήλων","Βενζίνη (Επιβατικό)","Σχολή Μηχανολόγων Μηχανικών","CO2e",{"$f":"'Σύνοψη - Πίνακες'!T108","v":59.679904770332143}]
[null,null,"Scope 3","Μετακίνηση Υπαλλήλων","Βενζίνη (Επιβατικό)","Σχολή Μηχανολόγων Μηχανικών","CO2",{"$f":"'Σύνοψη - Πίνακες'!U108","v":59.16956845391524}]
[null,null,"Scope 3","Μετακίνηση Υπαλλήλων","Βενζίνη (Επιβατικό)","Σχολή Μηχανολόγων Μηχανικών","CH4",{"$f":"'Σύνοψη - Πίνακες'!U109","v":7.5435949953531018E-3}]
[null,null,"Scope 3","Μετακίνηση Υπαλλήλων","Βενζίνη (Επιβατικό)","Σχολή Μηχανολόγων Μηχανικών","N2O",{"$f":"'Σύνοψη - Πίνακες'!U110","v":1.0984249672034497E-3}]
[null,null,"Scope 3","Μετακίνηση Υπαλλήλων","Βενζίνη (Επιβατικό)","Σχολή Ναυπηγών Μηχανολόγων Μηχανικών","CO2e",{"$f":"'Σύνοψη - Πίνακες'!V108","v":13.563614720530033}]
[null,null,"Scope 3","Μετακίνηση Υπαλλήλων","Βενζίνη (Επιβατικό)","Σχολή Ναυπηγών Μηχανολόγων Μηχανικών","CO2",{"$f":"'Σύνοψη - Πίνακες'!W108","v":13.447629194071647}]
[null,null,"Scope 3","Μετακίνηση Υπαλλήλων","Βενζίνη (Επιβατικό)","Σχολή Ναυπηγών Μηχανολόγων Μηχανικών","CH4",{"$f":"'Σύνοψη - Πίνακες'!W109","v":1.714453408034796E-3}]
[null,null,"Scope 3","Μετακίνηση Υπαλλήλων","Βενζίνη (Επιβατικό)","Σχολή Ναυπηγών Μηχανολόγων Μηχανικών","N2O",{"$f":"'Σύνοψη - Πίνακες'!W110","v":2.4964203800078406E-4}]
[null,null,"Scope 3","Μετακίνηση Υπαλλήλων","Βενζίνη (Επιβατικό)","Σχολή Πολιτικών Μηχανικών","CO2e",{"$f":"'Σύνοψη - Πίνακες'!X108","v":33.90903680132508}]
[null,null,"Scope 3","Μετακίνηση Υπαλλήλων","Βενζίνη (Επιβατικό)","Σχολή Πολιτικών Μηχανικών","CO2",{"$f":"'Σύνοψη - Πίνακες'!Y108","v":33.619072985179116}]
[null,null,"Scope 3","Μετακίνηση Υπαλλήλων","Βενζίνη (Επιβατικό)","Σχολή Πολιτικών Μηχανικών","CH4",{"$f":"'Σύνοψη - Πίνακες'!Y109","v":4.2861335200869901E-3}]
[null,null,"Scope 3","Μετακίνηση Υπαλλήλων","Βενζίνη (Επιβατικό)","Σχολή Πολιτικών Μηχανικών","N2O",{"$f":"'Σύνοψη - Πίνακες'!Y110","v":6.2410509500196009E-4}]
[null,null,"Scope 3","Μετακίνηση Υπαλλήλων","Βενζίνη (Επιβατικό)","Σχολή Χημικών Μηχανικών","CO2e",{"$f":"'Σύνοψη - Πίνακες'!Z108","v":52.898097410067123}]
[null,null,"Scope 3","Μετακίνηση Υπαλλήλων","Βενζίνη (Επιβατικό)","Σχολή Χημικών Μηχανικών","CO2",{"$f":"'Σύνοψη - Πίνακες'!AA108","v":52.445753856879428}]
[null,null,"Scope 3","Μετακίνηση Υπαλλήλων","Βενζίνη (Επιβατικό)","Σχολή Χημικών Μηχανικών","CH4",{"$f":"'Σύνοψη - Πίνακες'!AA109","v":6.6863682913357054E-3}]
[null,null,"Scope 3","Μετακίνηση Υπαλλήλων","Βενζίνη (Επιβατικό)","Σχολή Χημικών Μηχανικών","N2O",{"$f":"'Σύνοψη - Πίνακες'!AA110","v":9.7360394820305771E-4}]
[null,null,"Scope 3","Μετακίνηση Υπαλλήλων","Βενζίνη (Επιβατικό)","Σχολή Αρχιτεκτόνων Μηχανικών","CO2e",{"$f":"'Σύνοψη - Πίνακες'!AB108","v":44.759928577749108}]
[null,null,"Scope 3","Μετακίνηση Υπαλλήλων","Βενζίνη (Επιβατικό)","Σχολή Αρχιτεκτόνων Μηχανικών","CO2",{"$f":"'Σύνοψη - Πίνακες'!AC108","v":44.377176340436435}]
[null,null,"Scope 3","Μετακίνηση Υπαλλήλων","Βενζίνη (Επιβατικό)","Σχολή Αρχιτεκτόνων Μηχανικών","CH4",{"$f":"'Σύνοψη - Πίνακες'!AC109","v":5.657696246514827E-3}]
[null,null,"Scope 3","Μετακίνηση Υπαλλήλων","Βενζίνη (Επιβατικό)","Σχολή Αρχιτεκτόνων Μηχανικών","N2O",{"$f":"'Σύνοψη - Πίνακες'!AC110","v":8.2381872540258742E-4}]
[null,null,"Scope 3","Μετακίνηση Υπαλλήλων","Βενζίνη (Μοτοσυκλέτα)","Βιβλιοθήκη","CO2e",0]
[null,null,"Scope 3","Μετακίνηση Υπαλλήλων","Βενζίνη (Μοτοσυκλέτα)","Βιβλιοθήκη","CO2",0]
[null,null,"Scope 3","Μετακίνηση Υπαλλήλων","Βενζίνη (Μοτοσυκλέτα)","Βιβλιοθήκη","CH4",0]
[null,null,"Scope 3","Μετακίνηση Υπαλλήλων","Βενζίνη (Μοτοσυκλέτα)","Βιβλιοθήκη","N2O",0]
[null,null,"Scope 3","Μετακίνηση Υπαλλήλων","Βενζίνη (Μοτοσυκλέτα)","Γυμναστήριο","CO2e",0]
[null,null,"Scope 3","Μετακίνηση Υπαλλήλων","Βενζίνη (Μοτοσυκλέτα)","Γυμναστήριο","CO2",0]
[null,null,"Scope 3","Μετακίνηση Υπαλλήλων","Βενζίνη (Μοτοσυκλέτα)","Γυμναστήριο","CH4",0]
[null,null,"Scope 3","Μετακίνηση Υπαλλήλων","Βενζίνη (Μοτοσυκλέτα)","Γυμναστήριο","N2O",0]
[null,null,"Scope 3","Μετακίνηση Υπαλλήλων","Βενζίνη (Μοτοσυκλέτα)","Διοίκηση","CO2e",{"$f":"'Σύνοψη - Πίνακες'!J111","v":29.778895937381691}]
[null,null,"Scope 3","Μετακίνηση Υπαλλήλων","Βενζίνη (Μοτοσυκλέτα)","Διοίκηση","CO2",{"$f":"'Σύνοψη - Πίνακες'!K111","v":28.595265080896805}]
[null,null,"Scope 3","Μετακίνηση Υπαλλήλων","Βενζίνη (Μοτοσυκλέτα)","Διοίκηση","CH4",{"$f":"'Σύνοψη - Πίνακες'!K112","v":3.6542297527621601E-2}]
[null,null,"Scope 3","Μετακίνηση Υπαλλήλων","Βενζίνη (Μοτοσυκλέτα)","Διοίκηση","N2O",{"$f":"'Σύνοψη - Πίνακες'!K113","v":6.0110166836720006E-4}]
[null,null,"Scope 3","Μετακίνηση Υπαλλήλων","Βενζίνη (Μοτοσυκλέτα)","Σχολή Αγρονόμων και Τοπογράφων Μηχανικών","CO2e",{"$f":"'Σύνοψη - Πίνακες'!L111","v":3.2161207612372227}]
[null,null,"Scope 3","Μετακίνηση Υπαλλήλων","Βενζίνη (Μοτοσυκλέτα)","Σχολή Αγρονόμων και Τοπογράφων Μηχανικών","CO2",{"$f":"'Σύνοψη - Πίνακες'!M111","v":3.0882886287368545}]
[null,null,"Scope 3","Μετακίνηση Υπαλλήλων","Βενζίνη (Μοτοσυκλέτα)","Σχολή Αγρονόμων και Τοπογράφων Μηχανικών","CH4",{"$f":"'Σύνοψη - Πίνακες'!M112","v":3.9465681329831324E-3}]
[null,null,"Scope 3","Μετακίνηση Υπαλλήλων","Βενζίνη (Μοτοσυκλέτα)","Σχολή Αγρονόμων και Τοπογράφων Μηχανικών","N2O",{"$f":"'Σύνοψη - Πίνακες'!M113","v":6.4918980183657605E-5}]
[null,null,"Scope 3","Μετακίνηση Υπαλλήλων","Βενζίνη (Μοτοσυκλέτα)","Σχολή Εφαρμοσμένων Μαθηματικών και Φυσικών Επιστημών","CO2e",{"$f":"'Σύνοψη - Πίνακες'!N111","v":5.6579902281025216}]
[null,null,"Scope 3","Μετακίνηση Υπαλλήλων","Βενζίνη (Μοτοσυκλέτα)","Σχολή Εφαρμοσμένων Μαθηματικών και Φυσικών Επιστημών","CO2",{"$f":"'Σύνοψη - Πίνακες'!O111","v":5.4331003653703931}]
[null,null,"Scope 3","Μετακίνηση Υπαλλήλων","Βενζίνη (Μοτοσυκλέτα)","Σχολή Εφαρμοσμένων Μαθηματικών και Φυσικών Επιστημών","CH4",{"$f":"'Σύνοψη - Πίνακες'!O112","v":6.9430365302481038E-3}]
[null,null,"Scope 3","Μετακίνηση Υπαλλήλων","Βενζίνη (Μοτοσυκλέτα)","Σχολή Εφαρμοσμένων Μαθηματικών και Φυσικών Επιστημών","N2O",{"$f":"'Σύνοψη - Πίνακες'!O113","v":1.1420931698976799E-4}]
[null,null,"Scope 3","Μετακίνηση Υπαλλήλων","Βενζίνη (Μοτοσυκλέτα)","Σχολή Ηλεκτρολόγων Μηχανικών και Μηχανικών Υπολογιστών","CO2e",{"$f":"'Σύνοψη - Πίνακες'!P111","v":3.4543519287362758}]
[null,null,"Scope 3","Μετακίνηση Υπαλλήλων","Βενζίνη (Μοτοσυκλέτα)","Σχολή Ηλεκτρολόγων Μηχανικών και Μηχανικών Υπολογιστών","CO2",{"$f":"'Σύνοψη - Πίνακες'!Q111","v":3.3170507493840291}]
[null,null,"Scope 3","Μετακίνηση Υπαλλήλων","Βενζίνη (Μοτοσυκλέτα)","Σχολή Ηλεκτρολόγων Μηχανικών και Μηχανικών Υπολογιστών","CH4",{"$f":"'Σύνοψη - Πίνακες'!Q112","v":4.2389065132041057E-3}]
[null,null,"Scope 3","Μετακίνηση Υπαλλήλων","Βενζίνη (Μοτοσυκλέτα)","Σχολή Ηλεκτρολόγων Μηχανικών και Μηχανικών Υπολογιστών","N2O",{"$f":"'Σύνοψη - Πίνακες'!Q113","v":6.9727793530595202E-5}]
[null,null,"Scope 3","Μετακίνηση Υπαλλήλων","Βενζίνη (Μοτοσυκλέτα)","Σχολή Μηχανικών Μεταλλείων Μεταλλουργών","CO2e",{"$f":"'Σύνοψη - Πίνακες'!R111","v":5.3602012687287042}]
[null,null,"Scope 3","Μετακίνηση Υπαλλήλων","Βενζίνη (Μοτοσυκλέτα)","Σχολή Μηχανικών Μεταλλείων Μεταλλουργών","CO2",{"$f":"'Σύνοψη - Πίνακες'!S111","v":5.1471477145614246}]
[null,null,"Scope 3","Μετακίνηση Υπαλλήλων","Βενζίνη (Μοτοσυκλέτα)","Σχολή Μηχανικών Μεταλλείων Μεταλλουργών","CH4",{"$f":"'Σύνοψη - Πίνακες'!S112","v":6.5776135549718874E-3}]
[null,null,"Scope 3","Μετακίνηση Υπαλλήλων","Βενζίνη (Μοτοσυκλέτα)","Σχολή Μηχανικών Μεταλλείων Μεταλλουργών","N2O",{"$f":"'Σύνοψη - Πίνακες'!S113","v":1.0819830030609601E-4}]
[null,null,"Scope 3","Μετακίνηση Υπαλλήλων","Βενζίνη (Μοτοσυκλέτα)","Σχολή Μηχανολόγων Μηχανικών","CO2e",{"$f":"'Σύνοψη - Πίνακες'!T111","v":7.8616285274687661}]
[null,null,"Scope 3","Μετακίνηση Υπαλλήλων","Βενζίνη (Μοτοσυκλέτα)","Σχολή Μηχανολόγων Μηχανικών","CO2",{"$f":"'Σύνοψη - Πίνακες'!U111","v":7.5491499813567557}]
[null,null,"Scope 3","Μετακίνηση Υπαλλήλων","Βενζίνη (Μοτοσυκλέτα)","Σχολή Μηχανολόγων Μηχανικών","CH4",{"$f":"'Σύνοψη - Πίνακες'!U112","v":9.6471665472921009E-3}]
[null,null,"Scope 3","Μετακίνηση Υπαλλήλων","Βενζίνη (Μοτοσυκλέτα)","Σχολή Μηχανολόγων Μηχανικών","N2O",{"$f":"'Σύνοψη - Πίνακες'!U113","v":1.5869084044894079E-4}]
[null,null,"Scope 3","Μετακίνηση Υπαλλήλων","Βενζίνη (Μοτοσυκλέτα)","Σχολή Ναυπηγών Μηχανολόγων Μηχανικών","CO2e",{"$f":"'Σύνοψη - Πίνακες'!V111","v":1.7867337562429013}]
[null,null,"Scope 3","Μετακίνηση Υπαλλήλων","Βενζίνη (Μοτοσυκλέτα)","Σχολή Ναυπηγών Μηχανολόγων Μηχανικών","CO2",{"$f":"'Σύνοψη - Πίνακες'!W111","v":1.715715904853808}]
[null,null,"Scope 3","Μετακίνηση Υπαλλήλων","Βενζίνη (Μοτοσυκλέτα)","Σχολή Ναυπηγών Μηχανολόγων Μηχανικών","CH4",{"$f":"'Σύνοψη - Πίνακες'!W112","v":2.1925378516572959E-3}]
[null,null,"Scope 3","Μετακίνηση Υπαλλήλων","Βενζίνη (Μοτοσυκλέτα)","Σχολή Ναυπηγών Μηχανολόγων Μηχανικών","N2O",{"$f":"'Σύνοψη - Πίνακες'!W113","v":3.6066100102032E-5}]
[null,null,"Scope 3","Μετακίνηση Υπαλλήλων","Βενζίνη (Μοτοσυκλέτα)","Σχολή Πολιτικών Μηχανικών","CO2e",{"$f":"'Σύνοψη - Πίνακες'!X111","v":4.4668343906072536}]
[null,null,"Scope 3","Μετακίνηση Υπαλλήλων","Βενζίνη (Μοτοσυκλέτα)","Σχολή Πολιτικών Μηχανικών","CO2",{"$f":"'Σύνοψη - Πίνακες'!Y111","v":4.2892897621345201}]
[null,null,"Scope 3","Μετακίνηση Υπαλλήλων","Βενζίνη (Μοτοσυκλέτα)","Σχολή Πολιτικών Μηχανικών","CH4",{"$f":"'Σύνοψη - Πίνακες'!Y112","v":5.4813446291432401E-3}]
[null,null,"Scope 3","Μετακίνηση Υπαλλήλων","Βενζίνη (Μοτοσυκλέτα)","Σχολή Πολιτικών Μηχανικών","N2O",{"$f":"'Σύνοψη - Πίνακες'!Y113","v":9.0165250255079993E-5}]
[null,null,"Scope 3","Μετακίνηση Υπαλλήλων","Βενζίνη (Μοτοσυκλέτα)","Σχολή Χημικών Μηχανικών","CO2e",{"$f":"'Σύνοψη - Πίνακες'!Z111","v":6.9682616493473146}]
[null,null,"Scope 3","Μετακίνηση Υπαλλήλων","Βενζίνη (Μοτοσυκλέτα)","Σχολή Χημικών Μηχανικών","CO2",{"$f":"'Σύνοψη - Πίνακες'!AA111","v":6.6912920289298521}]
[null,null,"Scope 3","Μετακίνηση Υπαλλήλων","Βενζίνη (Μοτοσυκλέτα)","Σχολή Χημικών Μηχανικών","CH4",{"$f":"'Σύνοψη - Πίνακες'!AA112","v":8.5508976214634536E-3}]
[null,null,"Scope 3","Μετακίνηση Υπαλλήλων","Βενζίνη (Μοτοσυκλέτα)","Σχολή Χημικών Μηχανικών","N2O",{"$f":"'Σύνοψη - Πίνακες'!AA113","v":1.406577903979248E-4}]
[null,null,"Scope 3","Μετακίνηση Υπαλλήλων","Βενζίνη (Μοτοσυκλέτα)","Σχολή Αρχιτεκτόνων Μηχανικών","CO2e",{"$f":"'Σύνοψη - Πίνακες'!AB111","v":5.8962213956015743}]
[null,null,"Scope 3","Μετακίνηση Υπαλλήλων","Βενζίνη (Μοτοσυκλέτα)","Σχολή Αρχιτεκτόνων Μηχανικών","CO2",{"$f":"'Σύνοψη - Πίνακες'!AC111","v":5.6618624860175668}]
[null,null,"Scope 3","Μετακίνηση Υπαλλήλων","Βενζίνη (Μοτοσυκλέτα)","Σχολή Αρχιτεκτόνων Μηχανικών","CH4",{"$f":"'Σύνοψη - Πίνακες'!AC112","v":7.2353749104690761E-3}]
[null,null,"Scope 3","Μετακίνηση Υπαλλήλων","Βενζίνη (Μοτοσυκλέτα)","Σχολή Αρχιτεκτόνων Μηχανικών","N2O",{"$f":"'Σύνοψη - Πίνακες'!AC113","v":1.1901813033670561E-4}]
[null,null,"Scope 3","Μετακίνηση Υπαλλήλων","Πετρέλαιο Κίνησης (Λεωφορείο)","Βιβλιοθήκη","CO2e",0]
[null,null,"Scope 3","Μετακίνηση Υπαλλήλων","Πετρέλαιο Κίνησης (Λεωφορείο)","Βιβλιοθήκη","CO2",0]
[null,null,"Scope 3","Μετακίνηση Υπαλλήλων","Πετρέλαιο Κίνησης (Λεωφορείο)","Βιβλιοθήκη","CH4",0]
[null,null,"Scope 3","Μετακίνηση Υπαλλήλων","Πετρέλαιο Κίνησης (Λεωφορείο)","Βιβλιοθήκη","N2O",0]
[null,null,"Scope 3","Μετακίνηση Υπαλλήλων","Πετρέλαιο Κίνησης (Λεωφορείο)","Γυμναστήριο","CO2e",0]
[null,null,"Scope 3","Μετακίνηση Υπαλλήλων","Πετρέλαιο Κίνησης (Λεωφορείο)","Γυμναστήριο","CO2",0]
[null,null,"Scope 3","Μετακίνηση Υπαλλήλων","Πετρέλαιο Κίνησης (Λεωφορείο)","Γυμναστήριο","CH4",0]
[null,null,"Scope 3","Μετακίνηση Υπαλλήλων","Πετρέλαιο Κίνησης (Λεωφορείο)","Γυμναστήριο","N2O",0]
[null,null,"Scope 3","Μετακίνηση Υπαλλήλων","Πετρέλαιο Κίνησης (Λεωφορείο)","Διοίκηση","CO2e",{"$f":"'Σύνοψη - Πίνακες'!J114","v":1.1998985906602497}]
[null,null,"Scope 3","Μετακίνηση Υπαλλήλων","Πετρέλαιο Κίνησης (Λεωφορείο)","Διοίκηση","CO2",{"$f":"'Σύνοψη - Πίνακες'!K114","v":0.23578368}]
[null,null,"Scope 3","Μετακίνηση Υπαλλήλων","Πετρέλαιο Κίνησης (Λεωφορείο)","Διοίκηση","CH4",{"$f":"'Σύνοψη - Πίνακες'!K115","v":4.3177728000000002E-4}]
[null,null,"Scope 3","Μετακίνηση Υπαλλήλων","Πετρέλαιο Κίνησης (Λεωφορείο)","Διοίκηση","N2O",{"$f":"'Σύνοψη - Πίνακες'!K116","v":1.4065919999999998E-5}]
[null,null,"Scope 3","Μετακίνηση Υπαλλήλων","Πετρέλαιο Κίνησης (Λεωφορείο)","Σχολή Αγρονόμων και Τοπογράφων Μηχανικών","CO2e",{"$f":"'Σύνοψη - Πίνακες'!L114","v":0.12958904779130698}]
[null,null,"Scope 3","Μετακίνηση Υπαλλήλων","Πετρέλαιο Κίνησης (Λεωφορείο)","Σχολή Αγρονόμων και Τοπογράφων Μηχανικών","CO2",{"$f":"'Σύνοψη - Πίνακες'!M114","v":2.546463744E-2}]
[null,null,"Scope 3","Μετακίνηση Υπαλλήλων","Πετρέλαιο Κίνησης (Λεωφορείο)","Σχολή Αγρονόμων και Τοπογράφων Μηχανικών","CH4",{"$f":"'Σύνοψη - Πίνακες'!M115","v":4.6631946240000005E-5}]
[null,null,"Scope 3","Μετακίνηση Υπαλλήλων","Πετρέλαιο Κίνησης (Λεωφορείο)","Σχολή Αγρονόμων και Τοπογράφων Μηχανικών","N2O",{"$f":"'Σύνοψη - Πίνακες'!M116","v":1.5191193599999999E-6}]
[null,null,"Scope 3","Μετακίνηση Υπαλλήλων","Πετρέλαιο Κίνησης (Λεωφορείο)","Σχολή Εφαρμοσμένων Μαθηματικών και Φυσικών Επιστημών","CO2e",{"$f":"'Σύνοψη - Πίνακες'!N114","v":0.22798073222544749}]
[null,null,"Scope 3","Μετακίνηση Υπαλλήλων","Πετρέλαιο Κίνησης (Λεωφορείο)","Σχολή Εφαρμοσμένων Μαθηματικών και Φυσικών Επιστημών","CO2",{"$f":"'Σύνοψη - Πίνακες'!O114","v":4.4798899199999999E-2}]
[null,null,"Scope 3","Μετακίνηση Υπαλλήλων","Πετρέλαιο Κίνησης (Λεωφορείο)","Σχολή Εφαρμοσμένων Μαθηματικών και Φυσικών Επιστημών","CH4",{"$f":"'Σύνοψη - Πίνακες'!O115","v":8.2037683200000006E-5}]
[null,null,"Scope 3","Μετακίνηση Υπαλλήλων","Πετρέλαιο Κίνησης (Λεωφορείο)","Σχολή Εφαρμοσμένων Μαθηματικών και Φυσικών Επιστημών","N2O",{"$f":"'Σύνοψη - Πίνακες'!O116","v":2.6725248E-6}]
[null,null,"Scope 3","Μετακίνηση Υπαλλήλων","Πετρέλαιο Κίνησης (Λεωφορείο)","Σχολή Ηλεκτρολόγων Μηχανικών και Μηχανικών Υπολογιστών","CO2e",{"$f":"'Σύνοψη - Πίνακες'!P114","v":0.13918823651658899}]
[null,null,"Scope 3","Μετακίνηση Υπαλλήλων","Πετρέλαιο Κίνησης (Λεωφορείο)","Σχολή Ηλεκτρολόγων Μηχανικών και Μηχανικών Υπολογιστών","CO2",{"$f":"'Σύνοψη - Πίνακες'!Q114","v":2.7350906879999998E-2}]
[null,null,"Scope 3","Μετακίνηση Υπαλλήλων","Πετρέλαιο Κίνησης (Λεωφορείο)","Σχολή Ηλεκτρολόγων Μηχανικών και Μηχανικών Υπολογιστών","CH4",{"$f":"'Σύνοψη - Πίνακες'!Q115","v":5.0086164480000008E-5}]
[null,null,"Scope 3","Μετακίνηση Υπαλλήλων","Πετρέλαιο Κίνησης (Λεωφορείο)","Σχολή Ηλεκτρολόγων Μηχανικών και Μηχανικών Υπολογιστών","N2O",{"$f":"'Σύνοψη - Πίνακες'!Q116","v":1.63164672E-6}]
[null,null,"Scope 3","Μετακίνηση Υπαλλήλων","Πετρέλαιο Κίνησης (Λεωφορείο)","Σχολή Μηχανικών Μεταλλείων Μεταλλουργών","CO2e",{"$f":"'Σύνοψη - Πίνακες'!R114","v":0.21598174631884498}]
[null,null,"Scope 3","Μετακίνηση Υπαλλήλων","Πετρέλαιο Κίνησης (Λεωφορείο)","Σχολή Μηχανικών Μεταλλείων Μεταλλουργών","CO2",{"$f":"'Σύνοψη - Πίνακες'!S114","v":4.24410624E-2}]
[null,null,"Scope 3","Μετακίνηση Υπαλλήλων","Πετρέλαιο Κίνησης (Λεωφορείο)","Σχολή Μηχανικών Μεταλλείων Μεταλλουργών","CH4",{"$f":"'Σύνοψη - Πίνακες'!S115","v":7.7719910400000008E-5}]
[null,null,"Scope 3","Μετακίνηση Υπαλλήλων","Πετρέλαιο Κίνησης (Λεωφορείο)","Σχολή Μηχανικών Μεταλλείων Μεταλλουργών","N2O",{"$f":"'Σύνοψη - Πίνακες'!S116","v":2.5318656E-6}]
[null,null,"Scope 3","Μετακίνηση Υπαλλήλων","Πετρέλαιο Κίνησης (Λεωφορείο)","Σχολή Μηχανολόγων Μηχανικών","CO2e",{"$f":"'Σύνοψη - Πίνακες'!T114","v":0.31677322793430601}]
[null,null,"Scope 3","Μετακίνηση Υπαλλήλων","Πετρέλαιο Κίνησης (Λεωφορείο)","Σχολή Μηχανολόγων Μηχανικών","CO2",{"$f":"'Σύνοψη - Πίνακες'!U114","v":6.224689152E-2}]
[null,null,"Scope 3","Μετακίνηση Υπαλλήλων","Πετρέλαιο Κίνησης (Λεωφορείο)","Σχολή Μηχανολόγων Μηχανικών","CH4",{"$f":"'Σύνοψη - Πίνακες'!U115","v":1.1398920192000002E-4}]
[null,null,"Scope 3","Μετακίνηση Υπαλλήλων","Πετρέλαιο Κίνησης (Λεωφορείο)","Σχολή Μηχανολόγων Μηχανικών","N2O",{"$f":"'Σύνοψη - Πίνακες'!U116","v":3.7134028799999997E-6}]
[null,null,"Scope 3","Μετακίνηση Υπαλλήλων","Πετρέλαιο Κίνησης (Λεωφορείο)","Σχολή Ναυπηγών Μηχανολόγων Μηχανικών","CO2e",{"$f":"'Σύνοψη - Πίνακες'!V114","v":7.1993915439614989E-2}]
[null,null,"Scope 3","Μετακίνηση Υπαλλήλων","Πετρέλαιο Κίνησης (Λεωφορείο)","Σχολή Ναυπηγών Μηχανολόγων Μηχανικών","CO2",{"$f":"'Σύνοψη - Πίνακες'!W114","v":1.4147020799999998E-2}]
[null,null,"Scope 3","Μετακίνηση Υπαλλήλων","Πετρέλαιο Κίνησης (Λεωφορείο)","Σχολή Ναυπηγών Μηχανολόγων Μηχανικών","CH4",{"$f":"'Σύνοψη - Πίνακες'!W115","v":2.5906636800000005E-5}]
[null,null,"Scope 3","Μετακίνηση Υπαλλήλων","Πετρέλαιο Κίνησης (Λεωφορείο)","Σχολή Ναυπηγών Μηχανολόγων Μηχανικών","N2O",{"$f":"'Σύνοψη - Πίνακες'!W116","v":8.439552E-7}]
[null,null,"Scope 3","Μετακίνηση Υπαλλήλων","Πετρέλαιο Κίνησης (Λεωφορείο)","Σχολή Πολιτικών Μηχανικών","CO2e",{"$f":"'Σύνοψη - Πίνακες'!X114","v":0.17998478859903749}]
[null,null,"Scope 3","Μετακίνηση Υπαλλήλων","Πετρέλαιο Κίνησης (Λεωφορείο)","Σχολή Πολιτικών Μηχανικών","CO2",{"$f":"'Σύνοψη - Πίνακες'!Y114","v":3.5367551999999997E-2}]
[null,null,"Scope 3","Μετακίνηση Υπαλλήλων","Πετρέλαιο Κίνησης (Λεωφορείο)","Σχολή Πολιτικών Μηχανικών","CH4",{"$f":"'Σύνοψη - Πίνακες'!Y115","v":6.4766592000000002E-5}]
[null,null,"Scope 3","Μετακίνηση Υπαλλήλων","Πετρέλαιο Κίνησης (Λεωφορείο)","Σχολή Πολιτικών Μηχανικών","N2O",{"$f":"'Σύνοψη - Πίνακες'!Y116","v":2.109888E-6}]
[null,null,"Scope 3","Μετακίνηση Υπαλλήλων","Πετρέλαιο Κίνησης (Λεωφορείο)","Σχολή Χημικών Μηχανικών","CO2e",{"$f":"'Σύνοψη - Πίνακες'!Z114","v":0.28077627021449847}]
[null,null,"Scope 3","Μετακίνηση Υπαλλήλων","Πετρέλαιο Κίνησης (Λεωφορείο)","Σχολή Χημικών Μηχανικών","CO2",{"$f":"'Σύνοψη - Πίνακες'!AA114","v":5.5173381119999997E-2}]
[null,null,"Scope 3","Μετακίνηση Υπαλλήλων","Πετρέλαιο Κίνησης (Λεωφορείο)","Σχολή Χημικών Μηχανικών","CH4",{"$f":"'Σύνοψη - Πίνακες'!AA115","v":1.0103588352000001E-4}]
[null,null,"Scope 3","Μετακίνηση Υπαλλήλων","Πετρέλαιο Κίνησης (Λεωφορείο)","Σχολή Χημικών Μηχανικών","N2O",{"$f":"'Σύνοψη - Πίνακες'!AA116","v":3.2914252800000002E-6}]
[null,null,"Scope 3","Μετακίνηση Υπαλλήλων","Πετρέλαιο Κίνησης (Λεωφορείο)","Σχολή Αρχιτεκτόνων Μηχανικών","CO2e",{"$f":"'Σύνοψη - Πίνακες'!AB114","v":0.2375799209507295}]
[null,null,"Scope 3","Μετακίνηση Υπαλλήλων","Πετρέλαιο Κίνησης (Λεωφορείο)","Σχολή Αρχιτεκτόνων Μηχανικών","CO2",{"$f":"'Σύνοψη - Πίνακες'!AC114","v":4.6685168639999997E-2}]
[null,null,"Scope 3","Μετακίνηση Υπαλλήλων","Πετρέλαιο Κίνησης (Λεωφορείο)","Σχολή Αρχιτεκτόνων Μηχανικών","CH4",{"$f":"'Σύνοψη - Πίνακες'!AC115","v":8.5491901440000009E-5}]
[null,null,"Scope 3","Μετακίνηση Υπαλλήλων","Πετρέλαιο Κίνησης (Λεωφορείο)","Σχολή Αρχιτεκτόνων Μηχανικών","N2O",{"$f":"'Σύνοψη - Πίνακες'!AC116","v":2.7850521599999999E-6}]
[null,null,"Scope 3","Μετακίνηση Υπαλλήλων","Φυσικό Αέριο Κίνησης (Λεωφορείο)","Βιβλιοθήκη","CO2e",0]
[null,null,"Scope 3","Μετακίνηση Υπαλλήλων","Φυσικό Αέριο Κίνησης (Λεωφορείο)","Βιβλιοθήκη","CO2",0]
[null,null,"Scope 3","Μετακίνηση Υπαλλήλων","Φυσικό Αέριο Κίνησης (Λεωφορείο)","Βιβλιοθήκη","CH4",0]
[null,null,"Scope 3","Μετακίνηση Υπαλλήλων","Φυσικό Αέριο Κίνησης (Λεωφορείο)","Βιβλιοθήκη","N2O",0]
[null,null,"Scope 3","Μετακίνηση Υπαλλήλων","Φυσικό Αέριο Κίνησης (Λεωφορείο)","Γυμναστήριο","CO2e",0]
[null,null,"Scope 3","Μετακίνηση Υπαλλήλων","Φυσικό Αέριο Κίνησης (Λεωφορείο)","Γυμναστήριο","CO2",0]
[null,null,"Scope 3","Μετακίνηση Υπαλλήλων","Φυσικό Αέριο Κίνησης (Λεωφορείο)","Γυμναστήριο","CH4",0]
[null,null,"Scope 3","Μετακίνηση Υπαλλήλων","Φυσικό Αέριο Κίνησης (Λεωφορείο)","Γυμναστήριο","N2O",0]
[null,null,"Scope 3","Μετακίνηση Υπαλλήλων","Φυσικό Αέριο Κίνησης (Λεωφορείο)","Διοίκηση","CO2e",{"$f":"'Σύνοψη - Πίνακες'!J117","v":0.25167026227200001}]
[null,null,"Scope 3","Μετακίνηση Υπαλλήλων","Φυσικό Αέριο Κίνησης (Λεωφορείο)","Διοίκηση","CO2",{"$f":"'Σύνοψη - Πίνακες'!K117","v":0.23578368}]
[null,null,"Scope 3","Μετακίνηση Υπαλλήλων","Φυσικό Αέριο Κίνησης (Λεωφορείο)","Διοίκηση","CH4",{"$f":"'Σύνοψη - Πίνακες'!K118","v":4.3177728000000002E-4}]
[null,null,"Scope 3","Μετακίνηση Υπαλλήλων","Φυσικό Αέριο Κίνησης (Λεωφορείο)","Διοίκηση","N2O",{"$f":"'Σύνοψη - Πίνακες'!K119","v":1.4065919999999998E-5}]
[null,null,"Scope 3","Μετακίνηση Υπαλλήλων","Φυσικό Αέριο Κίνησης (Λεωφορείο)","Σχολή Αγρονόμων και Τοπογράφων Μηχανικών","CO2e",{"$f":"'Σύνοψη - Πίνακες'!L117","v":2.7180388325375997E-2}]
[null,null,"Scope 3","Μετακίνηση Υπαλλήλων","Φυσικό Αέριο Κίνησης (Λεωφορείο)","Σχολή Αγρονόμων και Τοπογράφων Μηχανικών","CO2",{"$f":"'Σύνοψη - Πίνακες'!M117","v":2.546463744E-2}]
[null,null,"Scope 3","Μετακίνηση Υπαλλήλων","Φυσικό Αέριο Κίνησης (Λεωφορείο)","Σχολή Αγρονόμων και Τοπογράφων Μηχανικών","CH4",{"$f":"'Σύνοψη - Πίνακες'!M118","v":4.6631946240000005E-5}]
[null,null,"Scope 3","Μετακίνηση Υπαλλήλων","Φυσικό Αέριο Κίνησης (Λεωφορείο)","Σχολή Αγρονόμων και Τοπογράφων Μηχανικών","N2O",{"$f":"'Σύνοψη - Πίνακες'!M119","v":1.5191193599999999E-6}]
[null,null,"Scope 3","Μετακίνηση Υπαλλήλων","Φυσικό Αέριο Κίνησης (Λεωφορείο)","Σχολή Εφαρμοσμένων Μαθηματικών και Φυσικών Επιστημών","CO2e",{"$f":"'Σύνοψη - Πίνακες'!N117","v":4.7817349831680005E-2}]
[null,null,"Scope 3","Μετακίνηση Υπαλλήλων","Φυσικό Αέριο Κίνησης (Λεωφορείο)","Σχολή Εφαρμοσμένων Μαθηματικών και Φυσικών Επιστημών","CO2",{"$f":"'Σύνοψη - Πίνακες'!O117","v":4.4798899199999999E-2}]
[null,null,"Scope 3","Μετακίνηση Υπαλλήλων","Φυσικό Αέριο Κίνησης (Λεωφορείο)","Σχολή Εφαρμοσμένων Μαθηματικών και Φυσικών Επιστημών","CH4",{"$f":"'Σύνοψη - Πίνακες'!O118","v":8.2037683200000006E-5}]
[null,null,"Scope 3","Μετακίνηση Υπαλλήλων","Φυσικό Αέριο Κίνησης (Λεωφορείο)","Σχολή Εφαρμοσμένων Μαθηματικών και Φυσικών Επιστημών","N2O",{"$f":"'Σύνοψη - Πίνακες'!O119","v":2.6725248E-6}]
[null,null,"Scope 3","Μετακίνηση Υπαλλήλων","Φυσικό Αέριο Κίνησης (Λεωφορείο)","Σχολή Ηλεκτρολόγων Μηχανικών και Μηχανικών Υπολογιστών","CO2e",{"$f":"'Σύνοψη - Πίνακες'!P117","v":2.9193750423552E-2}]
[null,null,"Scope 3","Μετακίνηση Υπαλλήλων","Φυσικό Αέριο Κίνησης (Λεωφορείο)","Σχολή Ηλεκτρολόγων Μηχανικών και Μηχανικών Υπολογιστών","CO2",{"$f":"'Σύνοψη - Πίνακες'!Q117","v":2.7350906879999998E-2}]
[null,null,"Scope 3","Μετακίνηση Υπαλλήλων","Φυσικό Αέριο Κίνησης (Λεωφορείο)","Σχολή Ηλεκτρολόγων Μηχανικών και Μηχανικών Υπολογιστών","CH4",{"$f":"'Σύνοψη - Πίνακες'!Q118","v":5.0086164480000008E-5}]
[null,null,"Scope 3","Μετακίνηση Υπαλλήλων","Φυσικό Αέριο Κίνησης (Λεωφορείο)","Σχολή Ηλεκτρολόγων Μηχανικών και Μηχανικών Υπολογιστών","N2O",{"$f":"'Σύνοψη - Πίνακες'!Q119","v":1.63164672E-6}]
[null,null,"Scope 3","Μετακίνηση Υπαλλήλων","Φυσικό Αέριο Κίνησης (Λεωφορείο)","Σχολή Μηχανικών Μεταλλείων Μεταλλουργών","CO2e",{"$f":"'Σύνοψη - Πίνακες'!R117","v":4.5300647208960002E-2}]
[null,null,"Scope 3","Μετακίνηση Υπαλλήλων","Φυσικό Αέριο Κίνησης (Λεωφορείο)","Σχολή Μηχανικών Μεταλλείων Μεταλλουργών","CO2",{"$f":"'Σύνοψη - Πίνακες'!S117","v":4.24410624E-2}]
[null,null,"Scope 3","Μετακίνηση Υπαλλήλων","Φυσικό Αέριο Κίνησης (Λεωφορείο)","Σχολή Μηχανικών Μεταλλείων Μεταλλουργών","CH4",{"$f":"'Σύνοψη - Πίνακες'!S118","v":7.7719910400000008E-5}]
[null,null,"Scope 3","Μετακίνηση Υπαλλήλων","Φυσικό Αέριο Κίνησης (Λεωφορείο)","Σχολή Μηχανικών Μεταλλείων Μεταλλουργών","N2O",{"$f":"'Σύνοψη - Πίνακες'!S119","v":2.5318656E-6}]
[null,null,"Scope 3","Μετακίνηση Υπαλλήλων","Φυσικό Αέριο Κίνησης (Λεωφορείο)","Σχολή Μηχανολόγων Μηχανικών","CO2e",{"$f":"'Σύνοψη - Πίνακες'!T117","v":6.6440949239808006E-2}]
[null,null,"Scope 3","Μετακίνηση Υπαλλήλων","Φυσικό Αέριο Κίνησης (Λεωφορείο)","Σχολή Μηχανολόγων Μηχανικών","CO2",{"$f":"'Σύνοψη - Πίνακες'!U117","v":6.224689152E-2}]
[null,null,"Scope 3","Μετακίνηση Υπαλλήλων","Φυσικό Αέριο Κίνησης (Λεωφορείο)","Σχολή Μηχανολόγων Μηχανικών","CH4",{"$f":"'Σύνοψη - Πίνακες'!U118","v":1.1398920192000002E-4}]
[null,null,"Scope 3","Μετακίνηση Υπαλλήλων","Φυσικό Αέριο Κίνησης (Λεωφορείο)","Σχολή Μηχανολόγων Μηχανικών","N2O",{"$f":"'Σύνοψη - Πίνακες'!U119","v":3.7134028799999997E-6}]
[null,null,"Scope 3","Μετακίνηση Υπαλλήλων","Φυσικό Αέριο Κίνησης (Λεωφορείο)","Σχολή Ναυπηγών Μηχανολόγων Μηχανικών","CO2e",{"$f":"'Σύνοψη - Πίνακες'!V117","v":1.5100215736320002E-2}]
[null,null,"Scope 3","Μετακίνηση Υπαλλήλων","Φυσικό Αέριο Κίνησης (Λεωφορείο)","Σχολή Ναυπηγών Μηχανολόγων Μηχανικών","CO2",{"$f":"'Σύνοψη - Πίνακες'!W117","v":1.4147020799999998E-2}]
[null,null,"Scope 3","Μετακίνηση Υπαλλήλων","Φυσικό Αέριο Κίνησης (Λεωφορείο)","Σχολή Ναυπηγών Μηχανολόγων Μηχανικών","CH4",{"$f":"'Σύνοψη - Πίνακες'!W118","v":2.5906636800000005E-5}]
[null,null,"Scope 3","Μετακίνηση Υπαλλήλων","Φυσικό Αέριο Κίνησης (Λεωφορείο)","Σχολή Ναυπηγών Μηχανολόγων Μηχανικών","N2O",{"$f":"'Σύνοψη - Πίνακες'!W119","v":8.439552E-7}]
[null,null,"Scope 3","Μετακίνηση Υπαλλήλων","Φυσικό Αέριο Κίνησης (Λεωφορείο)","Σχολή Πολιτικών Μηχανικών","CO2e",{"$f":"'Σύνοψη - Πίνακες'!X117","v":3.7750539340799999E-2}]
[null,null,"Scope 3","Μετακίνηση Υπαλλήλων","Φυσικό Αέριο Κίνησης (Λεωφορείο)","Σχολή Πολιτικών Μηχανικών","CO2",{"$f":"'Σύνοψη - Πίνακες'!Y117","v":3.5367551999999997E-2}]
[null,null,"Scope 3","Μετακίνηση Υπαλλήλων","Φυσικό Αέριο Κίνησης (Λεωφορείο)","Σχολή Πολιτικών Μηχανικών","CH4",{"$f":"'Σύνοψη - Πίνακες'!Y118","v":6.4766592000000002E-5}]
[null,null,"Scope 3","Μετακίνηση Υπαλλήλων","Φυσικό Αέριο Κίνησης (Λεωφορείο)","Σχολή Πολιτικών Μηχανικών","N2O",{"$f":"'Σύνοψη - Πίνακες'!Y119","v":2.109888E-6}]
[null,null,"Scope 3","Μετακίνηση Υπαλλήλων","Φυσικό Αέριο Κίνησης (Λεωφορείο)","Σχολή Χημικών Μηχανικών","CO2e",{"$f":"'Σύνοψη - Πίνακες'!Z117","v":5.8890841371648003E-2}]
[null,null,"Scope 3","Μετακίνηση Υπαλλήλων","Φυσικό Αέριο Κίνησης (Λεωφορείο)","Σχολή Χημικών Μηχανικών","CO2",{"$f":"'Σύνοψη - Πίνακες'!AA117","v":5.5173381119999997E-2}]
[null,null,"Scope 3","Μετακίνηση Υπαλλήλων","Φυσικό Αέριο Κίνησης (Λεωφορείο)","Σχολή Χημικών Μηχανικών","CH4",{"$f":"'Σύνοψη - Πίνακες'!AA118","v":1.0103588352000001E-4}]
[null,null,"Scope 3","Μετακίνηση Υπαλλήλων","Φυσικό Αέριο Κίνησης (Λεωφορείο)","Σχολή Χημικών Μηχανικών","N2O",{"$f":"'Σύνοψη - Πίνακες'!AA119","v":3.2914252800000002E-6}]
[null,null,"Scope 3","Μετακίνηση Υπαλλήλων","Φυσικό Αέριο Κίνησης (Λεωφορείο)","Σχολή Αρχιτεκτόνων Μηχανικών","CO2e",{"$f":"'Σύνοψη - Πίνακες'!AB117","v":4.9830711929855998E-2}]
[null,null,"Scope 3","Μετακίνηση Υπαλλήλων","Φυσικό Αέριο Κίνησης (Λεωφορείο)","Σχολή Αρχιτεκτόνων Μηχανικών","CO2",{"$f":"'Σύνοψη - Πίνακες'!AC117","v":4.6685168639999997E-2}]
[null,null,"Scope 3","Μετακίνηση Υπαλλήλων","Φυσικό Αέριο Κίνησης (Λεωφορείο)","Σχολή Αρχιτεκτόνων Μηχανικών","CH4",{"$f":"'Σύνοψη - Πίνακες'!AC118","v":8.5491901440000009E-5}]
[null,null,"Scope 3","Μετακίνηση Υπαλλήλων","Φυσικό Αέριο Κίνησης (Λεωφορείο)","Σχολή Αρχιτεκτόνων Μηχανικών","N2O",{"$f":"'Σύνοψη - Πίνακες'!AC119","v":2.7850521599999999E-6}]
[null,null,"Scope 3","Μετακίνηση Υπαλλήλων","Ηλεκτρική Ενέργεια (Επιβατικό)","Βιβλιοθήκη","CO2e",0]
[null,null,"Scope 3","Μετακίνηση Υπαλλήλων","Ηλεκτρική Ενέργεια (Επιβατικό)","Βιβλιοθήκη","CO2",0]
[null,null,"Scope 3","Μετακίνηση Υπαλλήλων","Ηλεκτρική Ενέργεια (Επιβατικό)","Βιβλιοθήκη","CH4",0]
[null,null,"Scope 3","Μετακίνηση Υπαλλήλων","Ηλεκτρική Ενέργεια (Επιβατικό)","Βιβλιοθήκη","N2O",0]
[null,null,"Scope 3","Μετακίνηση Υπαλλήλων","Ηλεκτρική Ενέργεια (Επιβατικό)","Γυμναστήριο","CO2e",0]
[null,null,"Scope 3","Μετακίνηση Υπαλλήλων","Ηλεκτρική Ενέργεια (Επιβατικό)","Γυμναστήριο","CO2",0]
[null,null,"Scope 3","Μετακίνηση Υπαλλήλων","Ηλεκτρική Ενέργεια (Επιβατικό)","Γυμναστήριο","CH4",0]
[null,null,"Scope 3","Μετακίνηση Υπαλλήλων","Ηλεκτρική Ενέργεια (Επιβατικό)","Γυμναστήριο","N2O",0]
[null,null,"Scope 3","Μετακίνηση Υπαλλήλων","Ηλεκτρική Ενέργεια (Επιβατικό)","Διοίκηση","CO2e",{"$f":"'Σύνοψη - Πίνακες'!J120","v":1.1158736548496027}]
[null,null,"Scope 3","Μετακίνηση Υπαλλήλων","Ηλεκτρική Ενέργεια (Επιβατικό)","Διοίκηση","CO2",{"$f":"'Σύνοψη - Πίνακες'!K120","v":1.113974496}]
[null,null,"Scope 3","Μετακίνηση Υπαλλήλων","Ηλεκτρική Ενέργεια (Επιβατικό)","Διοίκηση","CH4",{"$f":"'Σύνοψη - Πίνακες'!K121","v":1.3682082086400001E-5}]
[null,null,"Scope 3","Μετακίνηση Υπαλλήλων","Ηλεκτρική Ενέργεια (Επιβατικό)","Διοίκηση","N2O",{"$f":"'Σύνοψη - Πίνακες'!K122","v":5.5583471039999996E-6}]
[null,null,"Scope 3","Μετακίνηση Υπαλλήλων","Ηλεκτρική Ενέργεια (Επιβατικό)","Σχολή Αγρονόμων και Τοπογράφων Μηχανικών","CO2e",{"$f":"'Σύνοψη - Πίνακες'!L120","v":0.12051435472375709}]
[null,null,"Scope 3","Μετακίνηση Υπαλλήλων","Ηλεκτρική Ενέργεια (Επιβατικό)","Σχολή Αγρονόμων και Τοπογράφων Μηχανικών","CO2",{"$f":"'Σύνοψη - Πίνακες'!M120","v":0.120309245568}]
[null,null,"Scope 3","Μετακίνηση Υπαλλήλων","Ηλεκτρική Ενέργεια (Επιβατικό)","Σχολή Αγρονόμων και Τοπογράφων Μηχανικών","CH4",{"$f":"'Σύνοψη - Πίνακες'!M121","v":1.4776648653312002E-6}]
[null,null,"Scope 3","Μετακίνηση Υπαλλήλων","Ηλεκτρική Ενέργεια (Επιβατικό)","Σχολή Αγρονόμων και Τοπογράφων Μηχανικών","N2O",{"$f":"'Σύνοψη - Πίνακες'!M122","v":6.0030148723199998E-7}]
[null,null,"Scope 3","Μετακίνηση Υπαλλήλων","Ηλεκτρική Ενέργεια (Επιβατικό)","Σχολή Εφαρμοσμένων Μαθηματικών και Φυσικών Επιστημών","CO2e",{"$f":"'Σύνοψη - Πίνακες'!N120","v":0.21201599442142452}]
[null,null,"Scope 3","Μετακίνηση Υπαλλήλων","Ηλεκτρική Ενέργεια (Επιβατικό)","Σχολή Εφαρμοσμένων Μαθηματικών και Φυσικών Επιστημών","CO2",{"$f":"'Σύνοψη - Πίνακες'!O120","v":0.21165515424}]
[null,null,"Scope 3","Μετακίνηση Υπαλλήλων","Ηλεκτρική Ενέργεια (Επιβατικό)","Σχολή Εφαρμοσμένων Μαθηματικών και Φυσικών Επιστημών","CH4",{"$f":"'Σύνοψη - Πίνακες'!O121","v":2.5995955964160005E-6}]
[null,null,"Scope 3","Μετακίνηση Υπαλλήλων","Ηλεκτρική Ενέργεια (Επιβατικό)","Σχολή Εφαρμοσμένων Μαθηματικών και Φυσικών Επιστημών","N2O",{"$f":"'Σύνοψη - Πίνακες'!O122","v":1.05608594976E-6}]
[null,null,"Scope 3","Μετακίνηση Υπαλλήλων","Ηλεκτρική Ενέργεια (Επιβατικό)","Σχολή Ηλεκτρολόγων Μηχανικών και Μηχανικών Υπολογιστών","CO2e",{"$f":"'Σύνοψη - Πίνακες'!P120","v":0.12944134396255391}]
[null,null,"Scope 3","Μετακίνηση Υπαλλήλων","Ηλεκτρική Ενέργεια (Επιβατικό)","Σχολή Ηλεκτρολόγων Μηχανικών και Μηχανικών Υπολογιστών","CO2",{"$f":"'Σύνοψη - Πίνακες'!Q120","v":0.129221041536}]
[null,null,"Scope 3","Μετακίνηση Υπαλλήλων","Ηλεκτρική Ενέργεια (Επιβατικό)","Σχολή Ηλεκτρολόγων Μηχανικών και Μηχανικών Υπολογιστών","CH4",{"$f":"'Σύνοψη - Πίνακες'!Q121","v":1.5871215220224004E-6}]
[null,null,"Scope 3","Μετακίνηση Υπαλλήλων","Ηλεκτρική Ενέργεια (Επιβατικό)","Σχολή Ηλεκτρολόγων Μηχανικών και Μηχανικών Υπολογιστών","N2O",{"$f":"'Σύνοψη - Πίνακες'!Q122","v":6.4476826406400003E-7}]
[null,null,"Scope 3","Μετακίνηση Υπαλλήλων","Ηλεκτρική Ενέργεια (Επιβατικό)","Σχολή Μηχανικών Μεταλλείων Μεταλλουργών","CO2e",{"$f":"'Σύνοψη - Πίνακες'!R120","v":0.20085725787292846}]
[null,null,"Scope 3","Μετακίνηση Υπαλλήλων","Ηλεκτρική Ενέργεια (Επιβατικό)","Σχολή Μηχανικών Μεταλλείων Μεταλλουργών","CO2",{"$f":"'Σύνοψη - Πίνακες'!S120","v":0.20051540928}]
[null,null,"Scope 3","Μετακίνηση Υπαλλήλων","Ηλεκτρική Ενέργεια (Επιβατικό)","Σχολή Μηχανικών Μεταλλείων Μεταλλουργών","CH4",{"$f":"'Σύνοψη - Πίνακες'!S121","v":2.4627747755520004E-6}]
[null,null,"Scope 3","Μετακίνηση Υπαλλήλων","Ηλεκτρική Ενέργεια (Επιβατικό)","Σχολή Μηχανικών Μεταλλείων Μεταλλουργών","N2O",{"$f":"'Σύνοψη - Πίνακες'!S122","v":1.0005024787200001E-6}]
[null,null,"Scope 3","Μετακίνηση Υπαλλήλων","Ηλεκτρική Ενέργεια (Επιβατικό)","Σχολή Μηχανολόγων Μηχανικών","CO2e",{"$f":"'Σύνοψη - Πίνακες'!T120","v":0.29459064488029513}]
[null,null,"Scope 3","Μετακίνηση Υπαλλήλων","Ηλεκτρική Ενέργεια (Επιβατικό)","Σχολή Μηχανολόγων Μηχανικών","CO2",{"$f":"'Σύνοψη - Πίνακες'!U120","v":0.29408926694399995}]
[null,null,"Scope 3","Μετακίνηση Υπαλλήλων","Ηλεκτρική Ενέργεια (Επιβατικό)","Σχολή Μηχανολόγων Μηχανικών","CH4",{"$f":"'Σύνοψη - Πίνακες'!U121","v":3.6120696708096004E-6}]
[null,null,"Scope 3","Μετακίνηση Υπαλλήλων","Ηλεκτρική Ενέργεια (Επιβατικό)","Σχολή Μηχανολόγων Μηχανικών","N2O",{"$f":"'Σύνοψη - Πίνακες'!U122","v":1.4674036354560001E-6}]
[null,null,"Scope 3","Μετακίνηση Υπαλλήλων","Ηλεκτρική Ενέργεια (Επιβατικό)","Σχολή Ναυπηγών Μηχανολόγων Μηχανικών","CO2e",{"$f":"'Σύνοψη - Πίνακες'!V120","v":6.6952419290976159E-2}]
[null,null,"Scope 3","Μετακίνηση Υπαλλήλων","Ηλεκτρική Ενέργεια (Επιβατικό)","Σχολή Ναυπηγών Μηχανολόγων Μηχανικών","CO2",{"$f":"'Σύνοψη - Πίνακες'!W120","v":6.6838469760000005E-2}]
[null,null,"Scope 3","Μετακίνηση Υπαλλήλων","Ηλεκτρική Ενέργεια (Επιβατικό)","Σχολή Ναυπηγών Μηχανολόγων Μηχανικών","CH4",{"$f":"'Σύνοψη - Πίνακες'!W121","v":8.2092492518400006E-7}]
[null,null,"Scope 3","Μετακίνηση Υπαλλήλων","Ηλεκτρική Ενέργεια (Επιβατικό)","Σχολή Ναυπηγών Μηχανολόγων Μηχανικών","N2O",{"$f":"'Σύνοψη - Πίνακες'!W122","v":3.3350082624E-7}]
[null,null,"Scope 3","Μετακίνηση Υπαλλήλων","Ηλεκτρική Ενέργεια (Επιβατικό)","Σχολή Πολιτικών Μηχανικών","CO2e",{"$f":"'Σύνοψη - Πίνακες'!X120","v":0.1673810482274404}]
[null,null,"Scope 3","Μετακίνηση Υπαλλήλων","Ηλεκτρική Ενέργεια (Επιβατικό)","Σχολή Πολιτικών Μηχανικών","CO2",{"$f":"'Σύνοψη - Πίνακες'!Y120","v":0.16709617439999999}]
[null,null,"Scope 3","Μετακίνηση Υπαλλήλων","Ηλεκτρική Ενέργεια (Επιβατικό)","Σχολή Πολιτικών Μηχανικών","CH4",{"$f":"'Σύνοψη - Πίνακες'!Y121","v":2.05231231296E-6}]
[null,null,"Scope 3","Μετακίνηση Υπαλλήλων","Ηλεκτρική Ενέργεια (Επιβατικό)","Σχολή Πολιτικών Μηχανικών","N2O",{"$f":"'Σύνοψη - Πίνακες'!Y122","v":8.3375206560000006E-7}]
[null,null,"Scope 3","Μετακίνηση Υπαλλήλων","Ηλεκτρική Ενέργεια (Επιβατικό)","Σχολή Χημικών Μηχανικών","CO2e",{"$f":"'Σύνοψη - Πίνακες'!Z120","v":0.26111443523480704}]
[null,null,"Scope 3","Μετακίνηση Υπαλλήλων","Ηλεκτρική Ενέργεια (Επιβατικό)","Σχολή Χημικών Μηχανικών","CO2",{"$f":"'Σύνοψη - Πίνακες'!AA120","v":0.26067003206400002}]
[null,null,"Scope 3","Μετακίνηση Υπαλλήλων","Ηλεκτρική Ενέργεια (Επιβατικό)","Σχολή Χημικών Μηχανικών","CH4",{"$f":"'Σύνοψη - Πίνακες'!AA121","v":3.2016072082176001E-6}]
[null,null,"Scope 3","Μετακίνηση Υπαλλήλων","Ηλεκτρική Ενέργεια (Επιβατικό)","Σχολή Χημικών Μηχανικών","N2O",{"$f":"'Σύνοψη - Πίνακες'!AA122","v":1.300653222336E-6}]
[null,null,"Scope 3","Μετακίνηση Υπαλλήλων","Ηλεκτρική Ενέργεια (Επιβατικό)","Σχολή Αρχιτεκτόνων Μηχανικών","CO2e",{"$f":"'Σύνοψη - Πίνακες'!AB120","v":0.2209429836602213}]
[null,null,"Scope 3","Μετακίνηση Υπαλλήλων","Ηλεκτρική Ενέργεια (Επιβατικό)","Σχολή Αρχιτεκτόνων Μηχανικών","CO2",{"$f":"'Σύνοψη - Πίνακες'!AC120","v":0.22056695020799999}]
[null,null,"Scope 3","Μετακίνηση Υπαλλήλων","Ηλεκτρική Ενέργεια (Επιβατικό)","Σχολή Αρχιτεκτόνων Μηχανικών","CH4",{"$f":"'Σύνοψη - Πίνακες'!AC121","v":2.7090522531072004E-6}]
[null,null,"Scope 3","Μετακίνηση Υπαλλήλων","Ηλεκτρική Ενέργεια (Επιβατικό)","Σχολή Αρχιτεκτόνων Μηχανικών","N2O",{"$f":"'Σύνοψη - Πίνακες'!AC122","v":1.1005527265920001E-6}]
[null,null,"Scope 3","Μετακίνηση Υπαλλήλων","Ηλεκτρική Ενέργεια (Λεωφορείο / Τρόλεϊ)","Βιβλιοθήκη","CO2e",0]
[null,null,"Scope 3","Μετακίνηση Υπαλλήλων","Ηλεκτρική Ενέργεια (Λεωφορείο / Τρόλεϊ)","Βιβλιοθήκη","CO2",0]
[null,null,"Scope 3","Μετακίνηση Υπαλλήλων","Ηλεκτρική Ενέργεια (Λεωφορείο / Τρόλεϊ)","Βιβλιοθήκη","CH4",0]
[null,null,"Scope 3","Μετακίνηση Υπαλλήλων","Ηλεκτρική Ενέργεια (Λεωφορείο / Τρόλεϊ)","Βιβλιοθήκη","N2O",0]
[null,null,"Scope 3","Μετακίνηση Υπαλλήλων","Ηλεκτρική Ενέργεια (Λεωφορείο / Τρόλεϊ)","Γυμναστήριο","CO2e",0]
[null,null,"Scope 3","Μετακίνηση Υπαλλήλων","Ηλεκτρική Ενέργεια (Λεωφορείο / Τρόλεϊ)","Γυμναστήριο","CO2",0]
[null,null,"Scope 3","Μετακίνηση Υπαλλήλων","Ηλεκτρική Ενέργεια (Λεωφορείο / Τρόλεϊ)","Γυμναστήριο","CH4",0]
[null,null,"Scope 3","Μετακίνηση Υπαλλήλων","Ηλεκτρική Ενέργεια (Λεωφορείο / Τρόλεϊ)","Γυμναστήριο","N2O",0]
[null,null,"Scope 3","Μετακίνηση Υπαλλήλων","Ηλεκτρική Ενέργεια (Λεωφορείο / Τρόλεϊ)","Διοίκηση","CO2e",{"$f":"'Σύνοψη - Πίνακες'!J123","v":0.21342282653642111}]
[null,null,"Scope 3","Μετακίνηση Υπαλλήλων","Ηλεκτρική Ενέργεια (Λεωφορείο / Τρόλεϊ)","Διοίκηση","CO2",{"$f":"'Σύνοψη - Πίνακες'!K123","v":0.21305959199999996}]
[null,null,"Scope 3","Μετακίνηση Υπαλλήλων","Ηλεκτρική Ενέργεια (Λεωφορείο / Τρόλεϊ)","Διοίκηση","CH4",{"$f":"'Σύνοψη - Πίνακες'!K124","v":2.6168452127999999E-6}]
[null,null,"Scope 3","Μετακίνηση Υπαλλήλων","Ηλεκτρική Ενέργεια (Λεωφορείο / Τρόλεϊ)","Διοίκηση","N2O",{"$f":"'Σύνοψη - Πίνακες'!K125","v":1.0630936079999999E-6}]
[null,null,"Scope 3","Μετακίνηση Υπαλλήλων","Ηλεκτρική Ενέργεια (Λεωφορείο / Τρόλεϊ)","Σχολή Αγρονόμων και Τοπογράφων Μηχανικών","CO2e",{"$f":"'Σύνοψη - Πίνακες'!L123","v":2.3049665265933477E-2}]
[null,null,"Scope 3","Μετακίνηση Υπαλλήλων","Ηλεκτρική Ενέργεια (Λεωφορείο / Τρόλεϊ)","Σχολή Αγρονόμων και Τοπογράφων Μηχανικών","CO2",{"$f":"'Σύνοψη - Πίνακες'!M123","v":2.3010435935999995E-2}]
[null,null,"Scope 3","Μετακίνηση Υπαλλήλων","Ηλεκτρική Ενέργεια (Λεωφορείο / Τρόλεϊ)","Σχολή Αγρονόμων και Τοπογράφων Μηχανικών","CH4",{"$f":"'Σύνοψη - Πίνακες'!M124","v":2.826192829824E-7}]
[null,null,"Scope 3","Μετακίνηση Υπαλλήλων","Ηλεκτρική Ενέργεια (Λεωφορείο / Τρόλεϊ)","Σχολή Αγρονόμων και Τοπογράφων Μηχανικών","N2O",{"$f":"'Σύνοψη - Πίνακες'!M125","v":1.1481410966400002E-7}]
[null,null,"Scope 3","Μετακίνηση Υπαλλήλων","Ηλεκτρική Ενέργεια (Λεωφορείο / Τρόλεϊ)","Σχολή Εφαρμοσμένων Μαθηματικών και Φυσικών Επιστημών","CO2e",{"$f":"'Σύνοψη - Πίνακες'!N123","v":4.0550337041920008E-2}]
[null,null,"Scope 3","Μετακίνηση Υπαλλήλων","Ηλεκτρική Ενέργεια (Λεωφορείο / Τρόλεϊ)","Σχολή Εφαρμοσμένων Μαθηματικών και Φυσικών Επιστημών","CO2",{"$f":"'Σύνοψη - Πίνακες'!O123","v":4.0481322479999991E-2}]
[null,null,"Scope 3","Μετακίνηση Υπαλλήλων","Ηλεκτρική Ενέργεια (Λεωφορείο / Τρόλεϊ)","Σχολή Εφαρμοσμένων Μαθηματικών και Φυσικών Επιστημών","CH4",{"$f":"'Σύνοψη - Πίνακες'!O124","v":4.9720059043199993E-7}]
[null,null,"Scope 3","Μετακίνηση Υπαλλήλων","Ηλεκτρική Ενέργεια (Λεωφορείο / Τρόλεϊ)","Σχολή Εφαρμοσμένων Μαθηματικών και Φυσικών Επιστημών","N2O",{"$f":"'Σύνοψη - Πίνακες'!O125","v":2.0198778551999999E-7}]
[null,null,"Scope 3","Μετακίνηση Υπαλλήλων","Ηλεκτρική Ενέργεια (Λεωφορείο / Τρόλεϊ)","Σχολή Ηλεκτρολόγων Μηχανικών και Μηχανικών Υπολογιστών","CO2e",{"$f":"'Σύνοψη - Πίνακες'!P123","v":2.4757047878224848E-2}]
[null,null,"Scope 3","Μετακίνηση Υπαλλήλων","Ηλεκτρική Ενέργεια (Λεωφορείο / Τρόλεϊ)","Σχολή Ηλεκτρολόγων Μηχανικών και Μηχανικών Υπολογιστών","CO2",{"$f":"'Σύνοψη - Πίνακες'!Q123","v":2.4714912671999996E-2}]
[null,null,"Scope 3","Μετακίνηση Υπαλλήλων","Ηλεκτρική Ενέργεια (Λεωφορείο / Τρόλεϊ)","Σχολή Ηλεκτρολόγων Μηχανικών και Μηχανικών Υπολογιστών","CH4",{"$f":"'Σύνοψη - Πίνακες'!Q124","v":3.0355404468479998E-7}]
[null,null,"Scope 3","Μετακίνηση Υπαλλήλων","Ηλεκτρική Ενέργεια (Λεωφορείο / Τρόλεϊ)","Σχολή Ηλεκτρολόγων Μηχανικών και Μηχανικών Υπολογιστών","N2O",{"$f":"'Σύνοψη - Πίνακες'!Q125","v":1.2331885852800001E-7}]
[null,null,"Scope 3","Μετακίνηση Υπαλλήλων","Ηλεκτρική Ενέργεια (Λεωφορείο / Τρόλεϊ)","Σχολή Μηχανικών Μεταλλείων Μεταλλουργών","CO2e",{"$f":"'Σύνοψη - Πίνακες'!R123","v":3.8416108776555796E-2}]
[null,null,"Scope 3","Μετακίνηση Υπαλλήλων","Ηλεκτρική Ενέργεια (Λεωφορείο / Τρόλεϊ)","Σχολή Μηχανικών Μεταλλείων Μεταλλουργών","CO2",{"$f":"'Σύνοψη - Πίνακες'!S123","v":3.8350726559999999E-2}]
[null,null,"Scope 3","Μετακίνηση Υπαλλήλων","Ηλεκτρική Ενέργεια (Λεωφορείο / Τρόλεϊ)","Σχολή Μηχανικών Μεταλλείων Μεταλλουργών","CH4",{"$f":"'Σύνοψη - Πίνακες'!S124","v":4.71032138304E-7}]
[null,null,"Scope 3","Μετακίνηση Υπαλλήλων","Ηλεκτρική Ενέργεια (Λεωφορείο / Τρόλεϊ)","Σχολή Μηχανικών Μεταλλείων Μεταλλουργών","N2O",{"$f":"'Σύνοψη - Πίνακες'!S125","v":1.9135684944000002E-7}]
[null,null,"Scope 3","Μετακίνηση Υπαλλήλων","Ηλεκτρική Ενέργεια (Λεωφορείο / Τρόλεϊ)","Σχολή Μηχανολόγων Μηχανικών","CO2e",{"$f":"'Σύνοψη - Πίνακες'!T123","v":5.6343626205615172E-2}]
[null,null,"Scope 3","Μετακίνηση Υπαλλήλων","Ηλεκτρική Ενέργεια (Λεωφορείο / Τρόλεϊ)","Σχολή Μηχανολόγων Μηχανικών","CO2",{"$f":"'Σύνοψη - Πίνακες'!U123","v":5.6247732288000001E-2}]
[null,null,"Scope 3","Μετακίνηση Υπαλλήλων","Ηλεκτρική Ενέργεια (Λεωφορείο / Τρόλεϊ)","Σχολή Μηχανολόγων Μηχανικών","CH4",{"$f":"'Σύνοψη - Πίνακες'!U124","v":6.9084713617919989E-7}]
[null,null,"Scope 3","Μετακίνηση Υπαλλήλων","Ηλεκτρική Ενέργεια (Λεωφορείο / Τρόλεϊ)","Σχολή Μηχανολόγων Μηχανικών","N2O",{"$f":"'Σύνοψη - Πίνακες'!U125","v":2.8065671251200003E-7}]
[null,null,"Scope 3","Μετακίνηση Υπαλλήλων","Ηλεκτρική Ενέργεια (Λεωφορείο / Τρόλεϊ)","Σχολή Ναυπηγών Μηχανολόγων Μηχανικών","CO2e",{"$f":"'Σύνοψη - Πίνακες'!V123","v":1.2805369592185263E-2}]
[null,null,"Scope 3","Μετακίνηση Υπαλλήλων","Ηλεκτρική Ενέργεια (Λεωφορείο / Τρόλεϊ)","Σχολή Ναυπηγών Μηχανολόγων Μηχανικών","CO2",{"$f":"'Σύνοψη - Πίνακες'!W123","v":1.2783575519999998E-2}]
[null,null,"Scope 3","Μετακίνηση Υπαλλήλων","Ηλεκτρική Ενέργεια (Λεωφορείο / Τρόλεϊ)","Σχολή Ναυπηγών Μηχανολόγων Μηχανικών","CH4",{"$f":"'Σύνοψη - Πίνακες'!W124","v":1.57010712768E-7}]
[null,null,"Scope 3","Μετακίνηση Υπαλλήλων","Ηλεκτρική Ενέργεια (Λεωφορείο / Τρόλεϊ)","Σχολή Ναυπηγών Μηχανολόγων Μηχανικών","N2O",{"$f":"'Σύνοψη - Πίνακες'!W125","v":6.3785616480000002E-8}]
[null,null,"Scope 3","Μετακίνηση Υπαλλήλων","Ηλεκτρική Ενέργεια (Λεωφορείο / Τρόλεϊ)","Σχολή Πολιτικών Μηχανικών","CO2e",{"$f":"'Σύνοψη - Πίνακες'!X123","v":3.2013423980463168E-2}]
[null,null,"Scope 3","Μετακίνηση Υπαλλήλων","Ηλεκτρική Ενέργεια (Λεωφορείο / Τρόλεϊ)","Σχολή Πολιτικών Μηχανικών","CO2",{"$f":"'Σύνοψη - Πίνακες'!Y123","v":3.1958938799999996E-2}]
[null,null,"Scope 3","Μετακίνηση Υπαλλήλων","Ηλεκτρική Ενέργεια (Λεωφορείο / Τρόλεϊ)","Σχολή Πολιτικών Μηχανικών","CH4",{"$f":"'Σύνοψη - Πίνακες'!Y124","v":3.9252678192000002E-7}]
[null,null,"Scope 3","Μετακίνηση Υπαλλήλων","Ηλεκτρική Ενέργεια (Λεωφορείο / Τρόλεϊ)","Σχολή Πολιτικών Μηχανικών","N2O",{"$f":"'Σύνοψη - Πίνακες'!Y146","v":3.5541966635999993E-8}]
[null,null,"Scope 3","Μετακίνηση Υπαλλήλων","Ηλεκτρική Ενέργεια (Λεωφορείο / Τρόλεϊ)","Σχολή Χημικών Μηχανικών","CO2e",{"$f":"'Σύνοψη - Πίνακες'!Z123","v":4.994094140952253E-2}]
[null,null,"Scope 3","Μετακίνηση Υπαλλήλων","Ηλεκτρική Ενέργεια (Λεωφορείο / Τρόλεϊ)","Σχολή Χημικών Μηχανικών","CO2",{"$f":"'Σύνοψη - Πίνακες'!AA123","v":4.985594452799999E-2}]
[null,null,"Scope 3","Μετακίνηση Υπαλλήλων","Ηλεκτρική Ενέργεια (Λεωφορείο / Τρόλεϊ)","Σχολή Χημικών Μηχανικών","CH4",{"$f":"'Σύνοψη - Πίνακες'!AA124","v":6.1234177979519991E-7}]
[null,null,"Scope 3","Μετακίνηση Υπαλλήλων","Ηλεκτρική Ενέργεια (Λεωφορείο / Τρόλεϊ)","Σχολή Χημικών Μηχανικών","N2O",{"$f":"'Σύνοψη - Πίνακες'!AA125","v":2.48763904272E-7}]
[null,null,"Scope 3","Μετακίνηση Υπαλλήλων","Ηλεκτρική Ενέργεια (Λεωφορείο / Τρόλεϊ)","Σχολή Αρχιτεκτόνων Μηχανικών","CO2e",{"$f":"'Σύνοψη - Πίνακες'!AB123","v":4.2257719654211379E-2}]
[null,null,"Scope 3","Μετακίνηση Υπαλλήλων","Ηλεκτρική Ενέργεια (Λεωφορείο / Τρόλεϊ)","Σχολή Αρχιτεκτόνων Μηχανικών","CO2",{"$f":"'Σύνοψη - Πίνακες'!AC123","v":4.2185799215999992E-2}]
[null,null,"Scope 3","Μετακίνηση Υπαλλήλων","Ηλεκτρική Ενέργεια (Λεωφορείο / Τρόλεϊ)","Σχολή Αρχιτεκτόνων Μηχανικών","CH4",{"$f":"'Σύνοψη - Πίνακες'!AC124","v":5.1813535213439997E-7}]
[null,null,"Scope 3","Μετακίνηση Υπαλλήλων","Ηλεκτρική Ενέργεια (Λεωφορείο / Τρόλεϊ)","Σχολή Αρχιτεκτόνων Μηχανικών","N2O",{"$f":"'Σύνοψη - Πίνακες'!AC125","v":2.1049253438399999E-7}]
[null,null,"Scope 3","Μετακίνηση Υπαλλήλων","Ηλεκτρική Ενέργεια (Συρμοί)","Βιβλιοθήκη","CO2e",0]
[null,null,"Scope 3","Μετακίνηση Υπαλλήλων","Ηλεκτρική Ενέργεια (Συρμοί)","Βιβλιοθήκη","CO2",0]
[null,null,"Scope 3","Μετακίνηση Υπαλλήλων","Ηλεκτρική Ενέργεια (Συρμοί)","Βιβλιοθήκη","CH4",0]
[null,null,"Scope 3","Μετακίνηση Υπαλλήλων","Ηλεκτρική Ενέργεια (Συρμοί)","Βιβλιοθήκη","N2O",0]
[null,null,"Scope 3","Μετακίνηση Υπαλλήλων","Ηλεκτρική Ενέργεια (Συρμοί)","Γυμναστήριο","CO2e",0]
[null,null,"Scope 3","Μετακίνηση Υπαλλήλων","Ηλεκτρική Ενέργεια (Συρμοί)","Γυμναστήριο","CO2",0]
[null,null,"Scope 3","Μετακίνηση Υπαλλήλων","Ηλεκτρική Ενέργεια (Συρμοί)","Γυμναστήριο","CH4",0]
[null,null,"Scope 3","Μετακίνηση Υπαλλήλων","Ηλεκτρική Ενέργεια (Συρμοί)","Γυμναστήριο","N2O",0]
[null,null,"Scope 3","Μετακίνηση Υπαλλήλων","Ηλεκτρική Ενέργεια (Συρμοί)","Διοίκηση","CO2e",{"$f":"'Σύνοψη - Πίνακες'!J126","v":17.445517562387227}]
[null,null,"Scope 3","Μετακίνηση Υπαλλήλων","Ηλεκτρική Ενέργεια (Συρμοί)","Διοίκηση","CO2",{"$f":"'Σύνοψη - Πίνακες'!K126","v":17.415826199999998}]
[null,null,"Scope 3","Μετακίνηση Υπαλλήλων","Ηλεκτρική Ενέργεια (Συρμοί)","Διοίκηση","CH4",{"$f":"'Σύνοψη - Πίνακες'!K127","v":2.1390504408000001E-4}]
[null,null,"Scope 3","Μετακίνηση Υπαλλήλων","Ηλεκτρική Ενέργεια (Συρμοί)","Διοίκηση","N2O",{"$f":"'Σύνοψη - Πίνακες'!K128","v":8.6898943800000006E-5}]
[null,null,"Scope 3","Μετακίνηση Υπαλλήλων","Ηλεκτρική Ενέργεια (Συρμοί)","Σχολή Αγρονόμων και Τοπογράφων Μηχανικών","CO2e",{"$f":"'Σύνοψη - Πίνακες'!L126","v":1.8841158967378207}]
[null,null,"Scope 3","Μετακίνηση Υπαλλήλων","Ηλεκτρική Ενέργεια (Συρμοί)","Σχολή Αγρονόμων και Τοπογράφων Μηχανικών","CO2",{"$f":"'Σύνοψη - Πίνακες'!M126","v":1.8809092295999998}]
[null,null,"Scope 3","Μετακίνηση Υπαλλήλων","Ηλεκτρική Ενέργεια (Συρμοί)","Σχολή Αγρονόμων και Τοπογράφων Μηχανικών","CH4",{"$f":"'Σύνοψη - Πίνακες'!M127","v":2.3101744760640001E-5}]
[null,null,"Scope 3","Μετακίνηση Υπαλλήλων","Ηλεκτρική Ενέργεια (Συρμοί)","Σχολή Αγρονόμων και Τοπογράφων Μηχανικών","N2O",{"$f":"'Σύνοψη - Πίνακες'!M128","v":9.3850859304E-6}]
[null,null,"Scope 3","Μετακίνηση Υπαλλήλων","Ηλεκτρική Ενέργεια (Συρμοί)","Σχολή Εφαρμοσμένων Μαθηματικών και Φυσικών Επιστημών","CO2e",{"$f":"'Σύνοψη - Πίνακες'!N126","v":3.3146483368535735}]
[null,null,"Scope 3","Μετακίνηση Υπαλλήλων","Ηλεκτρική Ενέργεια (Συρμοί)","Σχολή Εφαρμοσμένων Μαθηματικών και Φυσικών Επιστημών","CO2",{"$f":"'Σύνοψη - Πίνακες'!O126","v":3.3090069779999998}]
[null,null,"Scope 3","Μετακίνηση Υπαλλήλων","Ηλεκτρική Ενέργεια (Συρμοί)","Σχολή Εφαρμοσμένων Μαθηματικών και Φυσικών Επιστημών","CH4",{"$f":"'Σύνοψη - Πίνακες'!O127","v":4.0641958375200007E-5}]
[null,null,"Scope 3","Μετακίνηση Υπαλλήλων","Ηλεκτρική Ενέργεια (Συρμοί)","Σχολή Εφαρμοσμένων Μαθηματικών και Φυσικών Επιστημών","N2O",{"$f":"'Σύνοψη - Πίνακες'!O128","v":1.6510799322E-5}]
[null,null,"Scope 3","Μετακίνηση Υπαλλήλων","Ηλεκτρική Ενέργεια (Συρμοί)","Σχολή Ηλεκτρολόγων Μηχανικών και Μηχανικών Υπολογιστών","CO2e",{"$f":"'Σύνοψη - Πίνακες'!P126","v":2.0236800372369186}]
[null,null,"Scope 3","Μετακίνηση Υπαλλήλων","Ηλεκτρική Ενέργεια (Συρμοί)","Σχολή Ηλεκτρολόγων Μηχανικών και Μηχανικών Υπολογιστών","CO2",{"$f":"'Σύνοψη - Πίνακες'!Q126","v":2.0202358391999997}]
[null,null,"Scope 3","Μετακίνηση Υπαλλήλων","Ηλεκτρική Ενέργεια (Συρμοί)","Σχολή Ηλεκτρολόγων Μηχανικών και Μηχανικών Υπολογιστών","CH4",{"$f":"'Σύνοψη - Πίνακες'!Q127","v":2.4812985113280004E-5}]
[null,null,"Scope 3","Μετακίνηση Υπαλλήλων","Ηλεκτρική Ενέργεια (Συρμοί)","Σχολή Ηλεκτρολόγων Μηχανικών και Μηχανικών Υπολογιστών","N2O",{"$f":"'Σύνοψη - Πίνακες'!Q128","v":1.00802774808E-5}]
[null,null,"Scope 3","Μετακίνηση Υπαλλήλων","Ηλεκτρική Ενέργεια (Συρμοί)","Σχολή Μηχανικών Μεταλλείων Μεταλλουργών","CO2e",{"$f":"'Σύνοψη - Πίνακες'!R126","v":3.1401931612297012}]
[null,null,"Scope 3","Μετακίνηση Υπαλλήλων","Ηλεκτρική Ενέργεια (Συρμοί)","Σχολή Μηχανικών Μεταλλείων Μεταλλουργών","CO2",{"$f":"'Σύνοψη - Πίνακες'!S126","v":3.1348487159999996}]
[null,null,"Scope 3","Μετακίνηση Υπαλλήλων","Ηλεκτρική Ενέργεια (Συρμοί)","Σχολή Μηχανικών Μεταλλείων Μεταλλουργών","CH4",{"$f":"'Σύνοψη - Πίνακες'!S127","v":3.8502907934400004E-5}]
[null,null,"Scope 3","Μετακίνηση Υπαλλήλων","Ηλεκτρική Ενέργεια (Συρμοί)","Σχολή Μηχανικών Μεταλλείων Μεταλλουργών","N2O",{"$f":"'Σύνοψη - Πίνακες'!S128","v":1.5641809884000001E-5}]
[null,null,"Scope 3","Μετακίνηση Υπαλλήλων","Ηλεκτρική Ενέργεια (Συρμοί)","Σχολή Μηχανολόγων Μηχανικών","CO2e",{"$f":"'Σύνοψη - Πίνακες'!T126","v":4.6056166364702289}]
[null,null,"Scope 3","Μετακίνηση Υπαλλήλων","Ηλεκτρική Ενέργεια (Συρμοί)","Σχολή Μηχανολόγων Μηχανικών","CO2",{"$f":"'Σύνοψη - Πίνακες'!U126","v":4.5977781167999998}]
[null,null,"Scope 3","Μετακίνηση Υπαλλήλων","Ηλεκτρική Ενέργεια (Συρμοί)","Σχολή Μηχανολόγων Μηχανικών","CH4",{"$f":"'Σύνοψη - Πίνακες'!U127","v":5.6470931637120002E-5}]
[null,null,"Scope 3","Μετακίνηση Υπαλλήλων","Ηλεκτρική Ενέργεια (Συρμοί)","Σχολή Μηχανολόγων Μηχανικών","N2O",{"$f":"'Σύνοψη - Πίνακες'!U128","v":2.29413211632E-5}]
[null,null,"Scope 3","Μετακίνηση Υπαλλήλων","Ηλεκτρική Ενέργεια (Συρμοί)","Σχολή Ναυπηγών Μηχανολόγων Μηχανικών","CO2e",{"$f":"'Σύνοψη - Πίνακες'!V126","v":1.0467310537432337}]
[null,null,"Scope 3","Μετακίνηση Υπαλλήλων","Ηλεκτρική Ενέργεια (Συρμοί)","Σχολή Ναυπηγών Μηχανολόγων Μηχανικών","CO2",{"$f":"'Σύνοψη - Πίνακες'!W126","v":1.0449495719999999}]
[null,null,"Scope 3","Μετακίνηση Υπαλλήλων","Ηλεκτρική Ενέργεια (Συρμοί)","Σχολή Ναυπηγών Μηχανολόγων Μηχανικών","CH4",{"$f":"'Σύνοψη - Πίνακες'!W127","v":1.2834302644800003E-5}]
[null,null,"Scope 3","Μετακίνηση Υπαλλήλων","Ηλεκτρική Ενέργεια (Συρμοί)","Σχολή Ναυπηγών Μηχανολόγων Μηχανικών","N2O",{"$f":"'Σύνοψη - Πίνακες'!W128","v":5.2139366280000005E-6}]
[null,null,"Scope 3","Μετακίνηση Υπαλλήλων","Ηλεκτρική Ενέργεια (Συρμοί)","Σχολή Πολιτικών Μηχανικών","CO2e",{"$f":"'Σύνοψη - Πίνακες'!X126","v":2.6168276343580845}]
[null,null,"Scope 3","Μετακίνηση Υπαλλήλων","Ηλεκτρική Ενέργεια (Συρμοί)","Σχολή Πολιτικών Μηχανικών","CO2",{"$f":"'Σύνοψη - Πίνακες'!Y126","v":2.61237393}]
[null,null,"Scope 3","Μετακίνηση Υπαλλήλων","Ηλεκτρική Ενέργεια (Συρμοί)","Σχολή Πολιτικών Μηχανικών","CH4",{"$f":"'Σύνοψη - Πίνακες'!Y127","v":3.2085756612000003E-5}]
[null,null,"Scope 3","Μετακίνηση Υπαλλήλων","Ηλεκτρική Ενέργεια (Συρμοί)","Σχολή Πολιτικών Μηχανικών","N2O",{"$f":"'Σύνοψη - Πίνακες'!Y128","v":1.303484157E-5}]
[null,null,"Scope 3","Μετακίνηση Υπαλλήλων","Ηλεκτρική Ενέργεια (Συρμοί)","Σχολή Χημικών Μηχανικών","CO2e",{"$f":"'Σύνοψη - Πίνακες'!Z126","v":4.0822511095986123}]
[null,null,"Scope 3","Μετακίνηση Υπαλλήλων","Ηλεκτρική Ενέργεια (Συρμοί)","Σχολή Χημικών Μηχανικών","CO2",{"$f":"'Σύνοψη - Πίνακες'!AA126","v":4.0753033307999997}]
[null,null,"Scope 3","Μετακίνηση Υπαλλήλων","Ηλεκτρική Ενέργεια (Συρμοί)","Σχολή Χημικών Μηχανικών","CH4",{"$f":"'Σύνοψη - Πίνακες'!AA127","v":5.0053780314720008E-5}]
[null,null,"Scope 3","Μετακίνηση Υπαλλήλων","Ηλεκτρική Ενέργεια (Συρμοί)","Σχολή Χημικών Μηχανικών","N2O",{"$f":"'Σύνοψη - Πίνακες'!AA128","v":2.0334352849199998E-5}]
[null,null,"Scope 3","Μετακίνηση Υπαλλήλων","Ηλεκτρική Ενέργεια (Συρμοί)","Σχολή Αρχιτεκτόνων Μηχανικών","CO2e",{"$f":"'Σύνοψη - Πίνακες'!AB126","v":3.4542124773526717}]
[null,null,"Scope 3","Μετακίνηση Υπαλλήλων","Ηλεκτρική Ενέργεια (Συρμοί)","Σχολή Αρχιτεκτόνων Μηχανικών","CO2",{"$f":"'Σύνοψη - Πίνακες'!AC126","v":3.4483335875999996}]
[null,null,"Scope 3","Μετακίνηση Υπαλλήλων","Ηλεκτρική Ενέργεια (Συρμοί)","Σχολή Αρχιτεκτόνων Μηχανικών","CH4",{"$f":"'Σύνοψη - Πίνακες'!AC127","v":4.2353198727840003E-5}]
[null,null,"Scope 3","Μετακίνηση Υπαλλήλων","Ηλεκτρική Ενέργεια (Συρμοί)","Σχολή Αρχιτεκτόνων Μηχανικών","N2O",{"$f":"'Σύνοψη - Πίνακες'!AC128","v":1.7205990872400002E-5}]
[null,null,"Scope 3","Επαγγελματικά Ταξίδια","Πετρέλαιο Κίνησης (Επιβατικό)","Βιβλιοθήκη","CO2e",0]
[null,null,"Scope 3","Επαγγελματικά Ταξίδια","Πετρέλαιο Κίνησης (Επιβατικό)","Βιβλιοθήκη","CO2",0]
[null,null,"Scope 3","Επαγγελματικά Ταξίδια","Πετρέλαιο Κίνησης (Επιβατικό)","Βιβλιοθήκη","CH4",0]
[null,null,"Scope 3","Επαγγελματικά Ταξίδια","Πετρέλαιο Κίνησης (Επιβατικό)","Βιβλιοθήκη","N2O",0]
[null,null,"Scope 3","Επαγγελματικά Ταξίδια","Πετρέλαιο Κίνησης (Επιβατικό)","Γυμναστήριο","CO2e",0]
[null,null,"Scope 3","Επαγγελματικά Ταξίδια","Πετρέλαιο Κίνησης (Επιβατικό)","Γυμναστήριο","CO2",0]
[null,null,"Scope 3","Επαγγελματικά Ταξίδια","Πετρέλαιο Κίνησης (Επιβατικό)","Γυμναστήριο","CH4",0]
[null,null,"Scope 3","Επαγγελματικά Ταξίδια","Πετρέλαιο Κίνησης (Επιβατικό)","Γυμναστήριο","N2O",0]
[null,null,"Scope 3","Επαγγελματικά Ταξίδια","Πετρέλαιο Κίνησης (Επιβατικό)","Διοίκηση","CO2e",{"$f":"'Σύνοψη - Πίνακες'!J132","v":1.0357607038927898}]
[null,null,"Scope 3","Επαγγελματικά Ταξίδια","Πετρέλαιο Κίνησης (Επιβατικό)","Διοίκηση","CO2",{"$f":"'Σύνοψη - Πίνακες'!K132","v":1.0245199862282399}]
[null,null,"Scope 3","Επαγγελματικά Ταξίδια","Πετρέλαιο Κίνησης (Επιβατικό)","Διοίκηση","CH4",{"$f":"'Σύνοψη - Πίνακες'!K133","v":4.1971322663999993E-7}]
[null,null,"Scope 3","Επαγγελματικά Ταξίδια","Πετρέλαιο Κίνησης (Επιβατικό)","Διοίκηση","N2O",{"$f":"'Σύνοψη - Πίνακες'!K134","v":4.1131896210719999E-5}]
[null,null,"Scope 3","Επαγγελματικά Ταξίδια","Πετρέλαιο Κίνησης (Επιβατικό)","Σχολή Αγρονόμων και Τοπογράφων Μηχανικών","CO2e",{"$f":"'Σύνοψη - Πίνακες'!L132","v":0.11186215602042129}]
[null,null,"Scope 3","Επαγγελματικά Ταξίδια","Πετρέλαιο Κίνησης (Επιβατικό)","Σχολή Αγρονόμων και Τοπογράφων Μηχανικών","CO2",{"$f":"'Σύνοψη - Πίνακες'!M132","v":0.11064815851264991}]
[null,null,"Scope 3","Επαγγελματικά Ταξίδια","Πετρέλαιο Κίνησης (Επιβατικό)","Σχολή Αγρονόμων και Τοπογράφων Μηχανικών","CH4",{"$f":"'Σύνοψη - Πίνακες'!M133","v":4.5329028477119992E-8}]
[null,null,"Scope 3","Επαγγελματικά Ταξίδια","Πετρέλαιο Κίνησης (Επιβατικό)","Σχολή Αγρονόμων και Τοπογράφων Μηχανικών","N2O",{"$f":"'Σύνοψη - Πίνακες'!M134","v":4.4422447907577604E-6}]
[null,null,"Scope 3","Επαγγελματικά Ταξίδια","Πετρέλαιο Κίνησης (Επιβατικό)","Σχολή Εφαρμοσμένων Μαθηματικών και Φυσικών Επιστημών","CO2e",{"$f":"'Σύνοψη - Πίνακες'!N132","v":0.19679453373963007}]
[null,null,"Scope 3","Επαγγελματικά Ταξίδια","Πετρέλαιο Κίνησης (Επιβατικό)","Σχολή Εφαρμοσμένων Μαθηματικών και Φυσικών Επιστημών","CO2",{"$f":"'Σύνοψη - Πίνακες'!O132","v":0.19465879738336558}]
[null,null,"Scope 3","Επαγγελματικά Ταξίδια","Πετρέλαιο Κίνησης (Επιβατικό)","Σχολή Εφαρμοσμένων Μαθηματικών και Φυσικών Επιστημών","CH4",{"$f":"'Σύνοψη - Πίνακες'!O133","v":7.9745513061599993E-8}]
[null,null,"Scope 3","Επαγγελματικά Ταξίδια","Πετρέλαιο Κίνησης (Επιβατικό)","Σχολή Εφαρμοσμένων Μαθηματικών και Φυσικών Επιστημών","N2O",{"$f":"'Σύνοψη - Πίνακες'!O134","v":7.8150602800368E-6}]
[null,null,"Scope 3","Επαγγελματικά Ταξίδια","Πετρέλαιο Κίνησης (Επιβατικό)","Σχολή Ηλεκτρολόγων Μηχανικών και Μηχανικών Υπολογιστών","CO2e",{"$f":"'Σύνοψη - Πίνακες'!P132","v":0.12014824165156363}]
[null,null,"Scope 3","Επαγγελματικά Ταξίδια","Πετρέλαιο Κίνησης (Επιβατικό)","Σχολή Ηλεκτρολόγων Μηχανικών και Μηχανικών Υπολογιστών","CO2",{"$f":"'Σύνοψη - Πίνακες'!Q132","v":0.11884431840247585}]
[null,null,"Scope 3","Επαγγελματικά Ταξίδια","Πετρέλαιο Κίνησης (Επιβατικό)","Σχολή Ηλεκτρολόγων Μηχανικών και Μηχανικών Υπολογιστών","CH4",{"$f":"'Σύνοψη - Πίνακες'!Q133","v":4.8686734290239994E-8}]
[null,null,"Scope 3","Επαγγελματικά Ταξίδια","Πετρέλαιο Κίνησης (Επιβατικό)","Σχολή Ηλεκτρολόγων Μηχανικών και Μηχανικών Υπολογιστών","N2O",{"$f":"'Σύνοψη - Πίνακες'!Q134","v":4.7712999604435194E-6}]
[null,null,"Scope 3","Επαγγελματικά Ταξίδια","Πετρέλαιο Κίνησης (Επιβατικό)","Σχολή Μηχανικών Μεταλλείων Μεταλλουργών","CO2e",{"$f":"'Σύνοψη - Πίνακες'!R132","v":0.18643692670070217}]
[null,null,"Scope 3","Επαγγελματικά Ταξίδια","Πετρέλαιο Κίνησης (Επιβατικό)","Σχολή Μηχανικών Μεταλλείων Μεταλλουργών","CO2",{"$f":"'Σύνοψη - Πίνακες'!S132","v":0.18441359752108319}]
[null,null,"Scope 3","Επαγγελματικά Ταξίδια","Πετρέλαιο Κίνησης (Επιβατικό)","Σχολή Μηχανικών Μεταλλείων Μεταλλουργών","CH4",{"$f":"'Σύνοψη - Πίνακες'!S133","v":7.5548380795199995E-8}]
[null,null,"Scope 3","Επαγγελματικά Ταξίδια","Πετρέλαιο Κίνησης (Επιβατικό)","Σχολή Μηχανικών Μεταλλείων Μεταλλουργών","N2O",{"$f":"'Σύνοψη - Πίνακες'!S134","v":7.403741317929599E-6}]
[null,null,"Scope 3","Επαγγελματικά Ταξίδια","Πετρέλαιο Κίνησης (Επιβατικό)","Σχολή Μηχανολόγων Μηχανικών","CO2e",{"$f":"'Σύνοψη - Πίνακες'!T132","v":0.27344082582769652}]
[null,null,"Scope 3","Επαγγελματικά Ταξίδια","Πετρέλαιο Κίνησης (Επιβατικό)","Σχολή Μηχανολόγων Μηχανικών","CO2",{"$f":"'Σύνοψη - Πίνακες'!U132","v":0.27047327636425533}]
[null,null,"Scope 3","Επαγγελματικά Ταξίδια","Πετρέλαιο Κίνησης (Επιβατικό)","Σχολή Μηχανολόγων Μηχανικών","CH4",{"$f":"'Σύνοψη - Πίνακες'!U133","v":1.1080429183295999E-7}]
[null,null,"Scope 3","Επαγγελματικά Ταξίδια","Πετρέλαιο Κίνησης (Επιβατικό)","Σχολή Μηχανολόγων Μηχανικών","N2O",{"$f":"'Σύνοψη - Πίνακες'!U134","v":1.085882059963008E-5}]
[null,null,"Scope 3","Επαγγελματικά Ταξίδια","Πετρέλαιο Κίνησης (Επιβατικό)","Σχολή Ναυπηγών Μηχανολόγων Μηχανικών","CO2e",{"$f":"'Σύνοψη - Πίνακες'!V132","v":6.2145642233567389E-2}]
[null,null,"Scope 3","Επαγγελματικά Ταξίδια","Πετρέλαιο Κίνησης (Επιβατικό)","Σχολή Ναυπηγών Μηχανολόγων Μηχανικών","CO2",{"$f":"'Σύνοψη - Πίνακες'!W132","v":6.1471199173694403E-2}]
[null,null,"Scope 3","Επαγγελματικά Ταξίδια","Πετρέλαιο Κίνησης (Επιβατικό)","Σχολή Ναυπηγών Μηχανολόγων Μηχανικών","CH4",{"$f":"'Σύνοψη - Πίνακες'!W133","v":2.5182793598399999E-8}]
[null,null,"Scope 3","Επαγγελματικά Ταξίδια","Πετρέλαιο Κίνησης (Επιβατικό)","Σχολή Ναυπηγών Μηχανολόγων Μηχανικών","N2O",{"$f":"'Σύνοψη - Πίνακες'!W134","v":2.4679137726431997E-6}]
[null,null,"Scope 3","Επαγγελματικά Ταξίδια","Πετρέλαιο Κίνησης (Επιβατικό)","Σχολή Πολιτικών Μηχανικών","CO2e",{"$f":"'Σύνοψη - Πίνακες'!X132","v":0.1553641055839185}]
[null,null,"Scope 3","Επαγγελματικά Ταξίδια","Πετρέλαιο Κίνησης (Επιβατικό)","Σχολή Πολιτικών Μηχανικών","CO2",{"$f":"'Σύνοψη - Πίνακες'!Y132","v":0.15367799793423598}]
[null,null,"Scope 3","Επαγγελματικά Ταξίδια","Πετρέλαιο Κίνησης (Επιβατικό)","Σχολή Πολιτικών Μηχανικών","CH4",{"$f":"'Σύνοψη - Πίνακες'!Y133","v":6.2956983996E-8}]
[null,null,"Scope 3","Επαγγελματικά Ταξίδια","Πετρέλαιο Κίνησης (Επιβατικό)","Σχολή Πολιτικών Μηχανικών","N2O",{"$f":"'Σύνοψη - Πίνακες'!Y134","v":6.169784431608E-6}]
[null,null,"Scope 3","Επαγγελματικά Ταξίδια","Πετρέλαιο Κίνησης (Επιβατικό)","Σχολή Χημικών Μηχανικών","CO2e",{"$f":"'Σύνοψη - Πίνακες'!Z132","v":0.24236800471091283}]
[null,null,"Scope 3","Επαγγελματικά Ταξίδια","Πετρέλαιο Κίνησης (Επιβατικό)","Σχολή Χημικών Μηχανικών","CO2",{"$f":"'Σύνοψη - Πίνακες'!AA132","v":0.23973767677740815}]
[null,null,"Scope 3","Επαγγελματικά Ταξίδια","Πετρέλαιο Κίνησης (Επιβατικό)","Σχολή Χημικών Μηχανικών","CH4",{"$f":"'Σύνοψη - Πίνακες'!AA133","v":9.8212895033759991E-8}]
[null,null,"Scope 3","Επαγγελματικά Ταξίδια","Πετρέλαιο Κίνησης (Επιβατικό)","Σχολή Χημικών Μηχανικών","N2O",{"$f":"'Σύνοψη - Πίνακες'!AA134","v":9.6248637133084783E-6}]
[null,null,"Scope 3","Επαγγελματικά Ταξίδια","Πετρέλαιο Κίνησης (Επιβατικό)","Σχολή Αρχιτεκτόνων Μηχανικών","CO2e",{"$f":"'Σύνοψη - Πίνακες'!AB132","v":0.2050806193707724}]
[null,null,"Scope 3","Επαγγελματικά Ταξίδια","Πετρέλαιο Κίνησης (Επιβατικό)","Σχολή Αρχιτεκτόνων Μηχανικών","CO2",{"$f":"'Σύνοψη - Πίνακες'!AC132","v":0.2028549572731915}]
[null,null,"Scope 3","Επαγγελματικά Ταξίδια","Πετρέλαιο Κίνησης (Επιβατικό)","Σχολή Αρχιτεκτόνων Μηχανικών","CH4",{"$f":"'Σύνοψη - Πίνακες'!AC133","v":8.3103218874719989E-8}]
[null,null,"Scope 3","Επαγγελματικά Ταξίδια","Πετρέλαιο Κίνησης (Επιβατικό)","Σχολή Αρχιτεκτόνων Μηχανικών","N2O",{"$f":"'Σύνοψη - Πίνακες'!AC134","v":8.1441154497225599E-6}]
[null,null,"Scope 3","Επαγγελματικά Ταξίδια","Βενζίνη (Επιβατικό)","Βιβλιοθήκη","CO2e",0]
[null,null,"Scope 3","Επαγγελματικά Ταξίδια","Βενζίνη (Επιβατικό)","Βιβλιοθήκη","CO2",0]
[null,null,"Scope 3","Επαγγελματικά Ταξίδια","Βενζίνη (Επιβατικό)","Βιβλιοθήκη","CH4",0]
[null,null,"Scope 3","Επαγγελματικά Ταξίδια","Βενζίνη (Επιβατικό)","Βιβλιοθήκη","N2O",0]
[null,null,"Scope 3","Επαγγελματικά Ταξίδια","Βενζίνη (Επιβατικό)","Γυμναστήριο","CO2e",0]
[null,null,"Scope 3","Επαγγελματικά Ταξίδια","Βενζίνη (Επιβατικό)","Γυμναστήριο","CO2",0]
[null,null,"Scope 3","Επαγγελματικά Ταξίδια","Βενζίνη (Επιβατικό)","Γυμναστήριο","CH4",0]
[null,null,"Scope 3","Επαγγελματικά Ταξίδια","Βενζίνη (Επιβατικό)","Γυμναστήριο","N2O",0]
[null,null,"Scope 3","Επαγγελματικά Ταξίδια","Βενζίνη (Επιβατικό)","Διοίκηση","CO2e",{"$f":"'Σύνοψη - Πίνακες'!J135","v":9.2638480568480244}]
[null,null,"Scope 3","Επαγγελματικά Ταξίδια","Βενζίνη (Επιβατικό)","Διοίκηση","CO2",{"$f":"'Σύνοψη - Πίνακες'!K135","v":9.1846308042171554}]
[null,null,"Scope 3","Επαγγελματικά Ταξίδια","Βενζίνη (Επιβατικό)","Διοίκηση","CH4",{"$f":"'Σύνοψη - Πίνακες'!K136","v":1.1709589368193861E-3}]
[null,null,"Scope 3","Επαγγελματικά Ταξίδια","Βενζίνη (Επιβατικό)","Διοίκηση","N2O",{"$f":"'Σύνοψη - Πίνακες'!K137","v":1.7050365675314402E-4}]
[null,null,"Scope 3","Επαγγελματικά Ταξίδια","Βενζίνη (Επιβατικό)","Σχολή Αγρονόμων και Τοπογράφων Μηχανικών","CO2e",{"$f":"'Σύνοψη - Πίνακες'!L135","v":1.0004955901395867}]
[null,null,"Scope 3","Επαγγελματικά Ταξίδια","Βενζίνη (Επιβατικό)","Σχολή Αγρονόμων και Τοπογράφων Μηχανικών","CO2",{"$f":"'Σύνοψη - Πίνακες'!M135","v":0.99194012685545274}]
[null,null,"Scope 3","Επαγγελματικά Ταξίδια","Βενζίνη (Επιβατικό)","Σχολή Αγρονόμων και Τοπογράφων Μηχανικών","CH4",{"$f":"'Σύνοψη - Πίνακες'!M136","v":1.2646356517649368E-4}]
[null,null,"Scope 3","Επαγγελματικά Ταξίδια","Βενζίνη (Επιβατικό)","Σχολή Αγρονόμων και Τοπογράφων Μηχανικών","N2O",{"$f":"'Σύνοψη - Πίνακες'!M137","v":1.8414394929339557E-5}]
[null,null,"Scope 3","Επαγγελματικά Ταξίδια","Βενζίνη (Επιβατικό)","Σχολή Εφαρμοσμένων Μαθηματικών και Φυσικών Επιστημών","CO2e",{"$f":"'Σύνοψη - Πίνακες'!N135","v":1.7601311308011245}]
[null,null,"Scope 3","Επαγγελματικά Ταξίδια","Βενζίνη (Επιβατικό)","Σχολή Εφαρμοσμένων Μαθηματικών και Φυσικών Επιστημών","CO2",{"$f":"'Σύνοψη - Πίνακες'!O135","v":1.7450798528012597}]
[null,null,"Scope 3","Επαγγελματικά Ταξίδια","Βενζίνη (Επιβατικό)","Σχολή Εφαρμοσμένων Μαθηματικών και Φυσικών Επιστημών","CH4",{"$f":"'Σύνοψη - Πίνακες'!O136","v":2.2248219799568333E-4}]
[null,null,"Scope 3","Επαγγελματικά Ταξίδια","Βενζίνη (Επιβατικό)","Σχολή Εφαρμοσμένων Μαθηματικών και Φυσικών Επιστημών","N2O",{"$f":"'Σύνοψη - Πίνακες'!O137","v":3.2395694783097365E-5}]
[null,null,"Scope 3","Επαγγελματικά Ταξίδια","Βενζίνη (Επιβατικό)","Σχολή Ηλεκτρολόγων Μηχανικών και Μηχανικών Υπολογιστών","CO2e",{"$f":"'Σύνοψη - Πίνακες'!P135","v":1.074606374594371}]
[null,null,"Scope 3","Επαγγελματικά Ταξίδια","Βενζίνη (Επιβατικό)","Σχολή Ηλεκτρολόγων Μηχανικών και Μηχανικών Υπολογιστών","CO2",{"$f":"'Σύνοψη - Πίνακες'!Q135","v":1.0654171732891899}]
[null,null,"Scope 3","Επαγγελματικά Ταξίδια","Βενζίνη (Επιβατικό)","Σχολή Ηλεκτρολόγων Μηχανικών και Μηχανικών Υπολογιστών","CH4",{"$f":"'Σύνοψη - Πίνακες'!Q136","v":1.3583123667104877E-4}]
[null,null,"Scope 3","Επαγγελματικά Ταξίδια","Βενζίνη (Επιβατικό)","Σχολή Ηλεκτρολόγων Μηχανικών και Μηχανικών Υπολογιστών","N2O",{"$f":"'Σύνοψη - Πίνακες'!Q137","v":1.9778424183364706E-5}]
[null,null,"Scope 3","Επαγγελματικά Ταξίδια","Βενζίνη (Επιβατικό)","Σχολή Μηχανικών Μεταλλείων Μεταλλουργών","CO2e",{"$f":"'Σύνοψη - Πίνακες'!R135","v":1.6674926502326446}]
[null,null,"Scope 3","Επαγγελματικά Ταξίδια","Βενζίνη (Επιβατικό)","Σχολή Μηχανικών Μεταλλείων Μεταλλουργών","CO2",{"$f":"'Σύνοψη - Πίνακες'!S135","v":1.6532335447590882}]
[null,null,"Scope 3","Επαγγελματικά Ταξίδια","Βενζίνη (Επιβατικό)","Σχολή Μηχανικών Μεταλλείων Μεταλλουργών","CH4",{"$f":"'Σύνοψη - Πίνακες'!S136","v":2.1077260862748947E-4}]
[null,null,"Scope 3","Επαγγελματικά Ταξίδια","Βενζίνη (Επιβατικό)","Σχολή Μηχανικών Μεταλλείων Μεταλλουργών","N2O",{"$f":"'Σύνοψη - Πίνακες'!S137","v":3.0690658215565927E-5}]
[null,null,"Scope 3","Επαγγελματικά Ταξίδια","Βενζίνη (Επιβατικό)","Σχολή Μηχανολόγων Μηχανικών","CO2e",{"$f":"'Σύνοψη - Πίνακες'!T135","v":2.4456558870078786}]
[null,null,"Scope 3","Επαγγελματικά Ταξίδια","Βενζίνη (Επιβατικό)","Σχολή Μηχανολόγων Μηχανικών","CO2",{"$f":"'Σύνοψη - Πίνακες'!U135","v":2.4247425323133291}]
[null,null,"Scope 3","Επαγγελματικά Ταξίδια","Βενζίνη (Επιβατικό)","Σχολή Μηχανολόγων Μηχανικών","CH4",{"$f":"'Σύνοψη - Πίνακες'!U136","v":3.0913315932031791E-4}]
[null,null,"Scope 3","Επαγγελματικά Ταξίδια","Βενζίνη (Επιβατικό)","Σχολή Μηχανολόγων Μηχανικών","N2O",{"$f":"'Σύνοψη - Πίνακες'!U137","v":4.501296538283002E-5}]
[null,null,"Scope 3","Επαγγελματικά Ταξίδια","Βενζίνη (Επιβατικό)","Σχολή Ναυπηγών Μηχανολόγων Μηχανικών","CO2e",{"$f":"'Σύνοψη - Πίνακες'!V135","v":0.55583088341088149}]
[null,null,"Scope 3","Επαγγελματικά Ταξίδια","Βενζίνη (Επιβατικό)","Σχολή Ναυπηγών Μηχανολόγων Μηχανικών","CO2",{"$f":"'Σύνοψη - Πίνακες'!W135","v":0.5510778482530293}]
[null,null,"Scope 3","Επαγγελματικά Ταξίδια","Βενζίνη (Επιβατικό)","Σχολή Ναυπηγών Μηχανολόγων Μηχανικών","CH4",{"$f":"'Σύνοψη - Πίνακες'!W136","v":7.025753620916316E-5}]
[null,null,"Scope 3","Επαγγελματικά Ταξίδια","Βενζίνη (Επιβατικό)","Σχολή Ναυπηγών Μηχανολόγων Μηχανικών","N2O",{"$f":"'Σύνοψη - Πίνακες'!W137","v":1.0230219405188642E-5}]
[null,null,"Scope 3","Επαγγελματικά Ταξίδια","Βενζίνη (Επιβατικό)","Σχολή Πολιτικών Μηχανικών","CO2e",{"$f":"'Σύνοψη - Πίνακες'!X135","v":1.3895772085272038}]
[null,null,"Scope 3","Επαγγελματικά Ταξίδια","Βενζίνη (Επιβατικό)","Σχολή Πολιτικών Μηχανικών","CO2",{"$f":"'Σύνοψη - Πίνακες'!Y135","v":1.3776946206325735}]
[null,null,"Scope 3","Επαγγελματικά Ταξίδια","Βενζίνη (Επιβατικό)","Σχολή Πολιτικών Μηχανικών","CH4",{"$f":"'Σύνοψη - Πίνακες'!Y136","v":1.7564384052290791E-4}]
[null,null,"Scope 3","Επαγγελματικά Ταξίδια","Βενζίνη (Επιβατικό)","Σχολή Πολιτικών Μηχανικών","N2O",{"$f":"'Σύνοψη - Πίνακες'!Y137","v":2.5575548512971604E-5}]
[null,null,"Scope 3","Επαγγελματικά Ταξίδια","Βενζίνη (Επιβατικό)","Σχολή Χημικών Μηχανικών","CO2e",{"$f":"'Σύνοψη - Πίνακες'!Z135","v":2.1677404453024378}]
[null,null,"Scope 3","Επαγγελματικά Ταξίδια","Βενζίνη (Επιβατικό)","Σχολή Χημικών Μηχανικών","CO2",{"$f":"'Σύνοψη - Πίνακες'!AA135","v":2.1492036081868142}]
[null,null,"Scope 3","Επαγγελματικά Ταξίδια","Βενζίνη (Επιβατικό)","Σχολή Χημικών Μηχανικών","CH4",{"$f":"'Σύνοψη - Πίνακες'!AA136","v":2.7400439121573635E-4}]
[null,null,"Scope 3","Επαγγελματικά Ταξίδια","Βενζίνη (Επιβατικό)","Σχολή Χημικών Μηχανικών","N2O",{"$f":"'Σύνοψη - Πίνακες'!AA137","v":3.9897855680235707E-5}]
[null,null,"Scope 3","Επαγγελματικά Ταξίδια","Βενζίνη (Επιβατικό)","Σχολή Αρχιτεκτόνων Μηχανικών","CO2e",{"$f":"'Σύνοψη - Πίνακες'!AB135","v":1.8342419152559091}]
[null,null,"Scope 3","Επαγγελματικά Ταξίδια","Βενζίνη (Επιβατικό)","Σχολή Αρχιτεκτόνων Μηχανικών","CO2",{"$f":"'Σύνοψη - Πίνακες'!AC135","v":1.8185568992349967}]
[null,null,"Scope 3","Επαγγελματικά Ταξίδια","Βενζίνη (Επιβατικό)","Σχολή Αρχιτεκτόνων Μηχανικών","CH4",{"$f":"'Σύνοψη - Πίνακες'!AC136","v":2.3184986949023844E-4}]
[null,null,"Scope 3","Επαγγελματικά Ταξίδια","Βενζίνη (Επιβατικό)","Σχολή Αρχιτεκτόνων Μηχανικών","N2O",{"$f":"'Σύνοψη - Πίνακες'!AC137","v":3.375972403712252E-5}]
[null,null,"Scope 3","Επαγγελματικά Ταξίδια","Πετρέλαιο Κίνησης (Τρένο)","Βιβλιοθήκη","CO2e",0]
[null,null,"Scope 3","Επαγγελματικά Ταξίδια","Πετρέλαιο Κίνησης (Τρένο)","Βιβλιοθήκη","CO2",0]
[null,null,"Scope 3","Επαγγελματικά Ταξίδια","Πετρέλαιο Κίνησης (Τρένο)","Βιβλιοθήκη","CH4",0]
[null,null,"Scope 3","Επαγγελματικά Ταξίδια","Πετρέλαιο Κίνησης (Τρένο)","Βιβλιοθήκη","N2O",0]
[null,null,"Scope 3","Επαγγελματικά Ταξίδια","Πετρέλαιο Κίνησης (Τρένο)","Γυμναστήριο","CO2e",0]
[null,null,"Scope 3","Επαγγελματικά Ταξίδια","Πετρέλαιο Κίνησης (Τρένο)","Γυμναστήριο","CO2",0]
[null,null,"Scope 3","Επαγγελματικά Ταξίδια","Πετρέλαιο Κίνησης (Τρένο)","Γυμναστήριο","CH4",0]
[null,null,"Scope 3","Επαγγελματικά Ταξίδια","Πετρέλαιο Κίνησης (Τρένο)","Γυμναστήριο","N2O",0]
[null,null,"Scope 3","Επαγγελματικά Ταξίδια","Πετρέλαιο Κίνησης (Τρένο)","Διοίκηση","CO2e",{"$f":"'Σύνοψη - Πίνακες'!J138","v":0}]
[null,null,"Scope 3","Επαγγελματικά Ταξίδια","Πετρέλαιο Κίνησης (Τρένο)","Διοίκηση","CO2",{"$f":"'Σύνοψη - Πίνακες'!K138","v":0}]
[null,null,"Scope 3","Επαγγελματικά Ταξίδια","Πετρέλαιο Κίνησης (Τρένο)","Διοίκηση","CH4",{"$f":"'Σύνοψη - Πίνακες'!K139","v":0}]
[null,null,"Scope 3","Επαγγελματικά Ταξίδια","Πετρέλαιο Κίνησης (Τρένο)","Διοίκηση","N2O",{"$f":"'Σύνοψη - Πίνακες'!K140","v":0}]
[null,null,"Scope 3","Επαγγελματικά Ταξίδια","Πετρέλαιο Κίνησης (Τρένο)","Σχολή Αγρονόμων και Τοπογράφων Μηχανικών","CO2e",{"$f":"'Σύνοψη - Πίνακες'!L138","v":0}]
[null,null,"Scope 3","Επαγγελματικά Ταξίδια","Πετρέλαιο Κίνησης (Τρένο)","Σχολή Αγρονόμων και Τοπογράφων Μηχανικών","CO2",{"$f":"'Σύνοψη - Πίνακες'!M138","v":0}]
[null,null,"Scope 3","Επαγγελματικά Ταξίδια","Πετρέλαιο Κίνησης (Τρένο)","Σχολή Αγρονόμων και Τοπογράφων Μηχανικών","CH4",{"$f":"'Σύνοψη - Πίνακες'!M139","v":0}]
[null,null,"Scope 3","Επαγγελματικά Ταξίδια","Πετρέλαιο Κίνησης (Τρένο)","Σχολή Αγρονόμων και Τοπογράφων Μηχανικών","N2O",{"$f":"'Σύνοψη - Πίνακες'!M140","v":0}]
[null,null,"Scope 3","Επαγγελματικά Ταξίδια","Πετρέλαιο Κίνησης (Τρένο)","Σχολή Εφαρμοσμένων Μαθηματικών και Φυσικών Επιστημών","CO2e",{"$f":"'Σύνοψη - Πίνακες'!N138","v":0}]
[null,null,"Scope 3","Επαγγελματικά Ταξίδια","Πετρέλαιο Κίνησης (Τρένο)","Σχολή Εφαρμοσμένων Μαθηματικών και Φυσικών Επιστημών","CO2",{"$f":"'Σύνοψη - Πίνακες'!O138","v":0}]
[null,null,"Scope 3","Επαγγελματικά Ταξίδια","Πετρέλαιο Κίνησης (Τρένο)","Σχολή Εφαρμοσμένων Μαθηματικών και Φυσικών Επιστημών","CH4",{"$f":"'Σύνοψη - Πίνακες'!O139","v":0}]
[null,null,"Scope 3","Επαγγελματικά Ταξίδια","Πετρέλαιο Κίνησης (Τρένο)","Σχολή Εφαρμοσμένων Μαθηματικών και Φυσικών Επιστημών","N2O",{"$f":"'Σύνοψη - Πίνακες'!O140","v":0}]
[null,null,"Scope 3","Επαγγελματικά Ταξίδια","Πετρέλαιο Κίνησης (Τρένο)","Σχολή Ηλεκτρολόγων Μηχανικών και Μηχανικών Υπολογιστών","CO2e",{"$f":"'Σύνοψη - Πίνακες'!P138","v":0}]
[null,null,"Scope 3","Επαγγελματικά Ταξίδια","Πετρέλαιο Κίνησης (Τρένο)","Σχολή Ηλεκτρολόγων Μηχανικών και Μηχανικών Υπολογιστών","CO2",{"$f":"'Σύνοψη - Πίνακες'!Q138","v":0}]
[null,null,"Scope 3","Επαγγελματικά Ταξίδια","Πετρέλαιο Κίνησης (Τρένο)","Σχολή Ηλεκτρολόγων Μηχανικών και Μηχανικών Υπολογιστών","CH4",{"$f":"'Σύνοψη - Πίνακες'!Q139","v":0}]
[null,null,"Scope 3","Επαγγελματικά Ταξίδια","Πετρέλαιο Κίνησης (Τρένο)","Σχολή Ηλεκτρολόγων Μηχανικών και Μηχανικών Υπολογιστών","N2O",{"$f":"'Σύνοψη - Πίνακες'!Q140","v":0}]
[null,null,"Scope 3","Επαγγελματικά Ταξίδια","Πετρέλαιο Κίνησης (Τρένο)","Σχολή Μηχανικών Μεταλλείων Μεταλλουργών","CO2e",{"$f":"'Σύνοψη - Πίνακες'!R138","v":0}]
[null,null,"Scope 3","Επαγγελματικά Ταξίδια","Πετρέλαιο Κίνησης (Τρένο)","Σχολή Μηχανικών Μεταλλείων Μεταλλουργών","CO2",{"$f":"'Σύνοψη - Πίνακες'!S138","v":0}]
[null,null,"Scope 3","Επαγγελματικά Ταξίδια","Πετρέλαιο Κίνησης (Τρένο)","Σχολή Μηχανικών Μεταλλείων Μεταλλουργών","CH4",{"$f":"'Σύνοψη - Πίνακες'!S139","v":0}]
[null,null,"Scope 3","Επαγγελματικά Ταξίδια","Πετρέλαιο Κίνησης (Τρένο)","Σχολή Μηχανικών Μεταλλείων Μεταλλουργών","N2O",{"$f":"'Σύνοψη - Πίνακες'!S140","v":0}]
[null,null,"Scope 3","Επαγγελματικά Ταξίδια","Πετρέλαιο Κίνησης (Τρένο)","Σχολή Μηχανολόγων Μηχανικών","CO2e",{"$f":"'Σύνοψη - Πίνακες'!T138","v":0}]
[null,null,"Scope 3","Επαγγελματικά Ταξίδια","Πετρέλαιο Κίνησης (Τρένο)","Σχολή Μηχανολόγων Μηχανικών","CO2",{"$f":"'Σύνοψη - Πίνακες'!U138","v":0}]
[null,null,"Scope 3","Επαγγελματικά Ταξίδια","Πετρέλαιο Κίνησης (Τρένο)","Σχολή Μηχανολόγων Μηχανικών","CH4",{"$f":"'Σύνοψη - Πίνακες'!U139","v":0}]
[null,null,"Scope 3","Επαγγελματικά Ταξίδια","Πετρέλαιο Κίνησης (Τρένο)","Σχολή Μηχανολόγων Μηχανικών","N2O",{"$f":"'Σύνοψη - Πίνακες'!U140","v":0}]
[null,null,"Scope 3","Επαγγελματικά Ταξίδια","Πετρέλαιο Κίνησης (Τρένο)","Σχολή Ναυπηγών Μηχανολόγων Μηχανικών","CO2e",{"$f":"'Σύνοψη - Πίνακες'!V138","v":0}]
[null,null,"Scope 3","Επαγγελματικά Ταξίδια","Πετρέλαιο Κίνησης (Τρένο)","Σχολή Ναυπηγών Μηχανολόγων Μηχανικών","CO2",{"$f":"'Σύνοψη - Πίνακες'!W138","v":0}]
[null,null,"Scope 3","Επαγγελματικά Ταξίδια","Πετρέλαιο Κίνησης (Τρένο)","Σχολή Ναυπηγών Μηχανολόγων Μηχανικών","CH4",{"$f":"'Σύνοψη - Πίνακες'!W139","v":0}]
[null,null,"Scope 3","Επαγγελματικά Ταξίδια","Πετρέλαιο Κίνησης (Τρένο)","Σχολή Ναυπηγών Μηχανολόγων Μηχανικών","N2O",{"$f":"'Σύνοψη - Πίνακες'!W140","v":0}]
[null,null,"Scope 3","Επαγγελματικά Ταξίδια","Πετρέλαιο Κίνησης (Τρένο)","Σχολή Πολιτικών Μηχανικών","CO2e",{"$f":"'Σύνοψη - Πίνακες'!X138","v":0}]
[null,null,"Scope 3","Επαγγελματικά Ταξίδια","Πετρέλαιο Κίνησης (Τρένο)","Σχολή Πολιτικών Μηχανικών","CO2",{"$f":"'Σύνοψη - Πίνακες'!Y138","v":0}]
[null,null,"Scope 3","Επαγγελματικά Ταξίδια","Πετρέλαιο Κίνησης (Τρένο)","Σχολή Πολιτικών Μηχανικών","CH4",{"$f":"'Σύνοψη - Πίνακες'!Y139","v":0}]
[null,null,"Scope 3","Επαγγελματικά Ταξίδια","Πετρέλαιο Κίνησης (Τρένο)","Σχολή Πολιτικών Μηχανικών","N2O",{"$f":"'Σύνοψη - Πίνακες'!Y140","v":0}]
[null,null,"Scope 3","Επαγγελματικά Ταξίδια","Πετρέλαιο Κίνησης (Τρένο)","Σχολή Χημικών Μηχανικών","CO2e",{"$f":"'Σύνοψη - Πίνακες'!Z138","v":0}]
[null,null,"Scope 3","Επαγγελματικά Ταξίδια","Πετρέλαιο Κίνησης (Τρένο)","Σχολή Χημικών Μηχανικών","CO2",{"$f":"'Σύνοψη - Πίνακες'!AA138","v":0}]
[null,null,"Scope 3","Επαγγελματικά Ταξίδια","Πετρέλαιο Κίνησης (Τρένο)","Σχολή Χημικών Μηχανικών","CH4",{"$f":"'Σύνοψη - Πίνακες'!AA139","v":0}]
[null,null,"Scope 3","Επαγγελματικά Ταξίδια","Πετρέλαιο Κίνησης (Τρένο)","Σχολή Χημικών Μηχανικών","N2O",{"$f":"'Σύνοψη - Πίνακες'!AA140","v":0}]
[null,null,"Scope 3","Επαγγελματικά Ταξίδια","Πετρέλαιο Κίνησης (Τρένο)","Σχολή Αρχιτεκτόνων Μηχανικών","CO2e",{"$f":"'Σύνοψη - Πίνακες'!AB138","v":0}]
[null,null,"Scope 3","Επαγγελματικά Ταξίδια","Πετρέλαιο Κίνησης (Τρένο)","Σχολή Αρχιτεκτόνων Μηχανικών","CO2",{"$f":"'Σύνοψη - Πίνακες'!AC138","v":0}]
[null,null,"Scope 3","Επαγγελματικά Ταξίδια","Πετρέλαιο Κίνησης (Τρένο)","Σχολή Αρχιτεκτόνων Μηχανικών","CH4",{"$f":"'Σύνοψη - Πίνακες'!AC139","v":0}]
[null,null,"Scope 3","Επαγγελματικά Ταξίδια","Πετρέλαιο Κίνησης (Τρένο)","Σχολή Αρχιτεκτόνων Μηχανικών","N2O",{"$f":"'Σύνοψη - Πίνακες'!AC140","v":0}]
[null,null,"Scope 3","Επαγγελματικά Ταξίδια","Κηροζίνη (Αεροσκάφος)","Βιβλιοθήκη","CO2e",0]
[null,null,"Scope 3","Επαγγελματικά Ταξίδια","Κηροζίνη (Αεροσκάφος)","Βιβλιοθήκη","CO2",0]
[null,null,"Scope 3","Επαγγελματικά Ταξίδια","Κηροζίνη (Αεροσκάφος)","Βιβλιοθήκη","CH4",0]
[null,null,"Scope 3","Επαγγελματικά Ταξίδια","Κηροζίνη (Αεροσκάφος)","Βιβλιοθήκη","N2O",0]
[null,null,"Scope 3","Επαγγελματικά Ταξίδια","Κηροζίνη (Αεροσκάφος)","Γυμναστήριο","CO2e",0]
[null,null,"Scope 3","Επαγγελματικά Ταξίδια","Κηροζίνη (Αεροσκάφος)","Γυμναστήριο","CO2",0]
[null,null,"Scope 3","Επαγγελματικά Ταξίδια","Κηροζίνη (Αεροσκάφος)","Γυμναστήριο","CH4",0]
[null,null,"Scope 3","Επαγγελματικά Ταξίδια","Κηροζίνη (Αεροσκάφος)","Γυμναστήριο","N2O",0]
[null,null,"Scope 3","Επαγγελματικά Ταξίδια","Κηροζίνη (Αεροσκάφος)","Διοίκηση","CO2e",{"$f":"'Σύνοψη - Πίνακες'!J141","v":194.37291576579119}]
[null,null,"Scope 3","Επαγγελματικά Ταξίδια","Κηροζίνη (Αεροσκάφος)","Διοίκηση","CO2",{"$f":"'Σύνοψη - Πίνακες'!K141","v":192.913418692242}]
[null,null,"Scope 3","Επαγγελματικά Ταξίδια","Κηροζίνη (Αεροσκάφος)","Διοίκηση","CH4",{"$f":"'Σύνοψη - Πίνακες'!K142","v":1.3032387477000002E-3}]
[null,null,"Scope 3","Επαγγελματικά Ταξίδια","Κηροζίνη (Αεροσκάφος)","Διοίκηση","N2O",{"$f":"'Σύνοψη - Πίνακες'!K143","v":5.2129549908000007E-3}]
[null,null,"Scope 3","Επαγγελματικά Ταξίδια","Κηροζίνη (Αεροσκάφος)","Σχολή Αγρονόμων και Τοπογράφων Μηχανικών","CO2e",{"$f":"'Σύνοψη - Πίνακες'!L141","v":20.99227490270545}]
[null,null,"Scope 3","Επαγγελματικά Ταξίδια","Κηροζίνη (Αεροσκάφος)","Σχολή Αγρονόμων και Τοπογράφων Μηχανικών","CO2",{"$f":"'Σύνοψη - Πίνακες'!M141","v":20.834649218762138}]
[null,null,"Scope 3","Επαγγελματικά Ταξίδια","Κηροζίνη (Αεροσκάφος)","Σχολή Αγρονόμων και Τοπογράφων Μηχανικών","CH4",{"$f":"'Σύνοψη - Πίνακες'!M142","v":1.4074978475160004E-4}]
[null,null,"Scope 3","Επαγγελματικά Ταξίδια","Κηροζίνη (Αεροσκάφος)","Σχολή Αγρονόμων και Τοπογράφων Μηχανικών","N2O",{"$f":"'Σύνοψη - Πίνακες'!M143","v":5.6299913900640015E-4}]
[null,null,"Scope 3","Επαγγελματικά Ταξίδια","Κηροζίνη (Αεροσκάφος)","Σχολή Εφαρμοσμένων Μαθηματικών και Φυσικών Επιστημών","CO2e",{"$f":"'Σύνοψη - Πίνακες'!N141","v":36.930853995500328}]
[null,null,"Scope 3","Επαγγελματικά Ταξίδια","Κηροζίνη (Αεροσκάφος)","Σχολή Εφαρμοσμένων Μαθηματικών και Φυσικών Επιστημών","CO2",{"$f":"'Σύνοψη - Πίνακες'!O141","v":36.653549551525977}]
[null,null,"Scope 3","Επαγγελματικά Ταξίδια","Κηροζίνη (Αεροσκάφος)","Σχολή Εφαρμοσμένων Μαθηματικών και Φυσικών Επιστημών","CH4",{"$f":"'Σύνοψη - Πίνακες'!O142","v":2.4761536206300004E-4}]
[null,null,"Scope 3","Επαγγελματικά Ταξίδια","Κηροζίνη (Αεροσκάφος)","Σχολή Εφαρμοσμένων Μαθηματικών και Φυσικών Επιστημών","N2O",{"$f":"'Σύνοψη - Πίνακες'!O143","v":9.9046144825200018E-4}]
[null,null,"Scope 3","Επαγγελματικά Ταξίδια","Κηροζίνη (Αεροσκάφος)","Σχολή Ηλεκτρολόγων Μηχανικών και Μηχανικών Υπολογιστών","CO2e",{"$f":"'Σύνοψη - Πίνακες'!P141","v":22.54725822883178}]
[null,null,"Scope 3","Επαγγελματικά Ταξίδια","Κηροζίνη (Αεροσκάφος)","Σχολή Ηλεκτρολόγων Μηχανικών και Μηχανικών Υπολογιστών","CO2",{"$f":"'Σύνοψη - Πίνακες'!Q141","v":22.377956568300071}]
[null,null,"Scope 3","Επαγγελματικά Ταξίδια","Κηροζίνη (Αεροσκάφος)","Σχολή Ηλεκτρολόγων Μηχανικών και Μηχανικών Υπολογιστών","CH4",{"$f":"'Σύνοψη - Πίνακες'!Q142","v":1.5117569473320001E-4}]
[null,null,"Scope 3","Επαγγελματικά Ταξίδια","Κηροζίνη (Αεροσκάφος)","Σχολή Ηλεκτρολόγων Μηχανικών και Μηχανικών Υπολογιστών","N2O",{"$f":"'Σύνοψη - Πίνακες'!Q143","v":6.0470277893280003E-4}]
[null,null,"Scope 3","Επαγγελματικά Ταξίδια","Κηροζίνη (Αεροσκάφος)","Σχολή Μηχανικών Μεταλλείων Μεταλλουργών","CO2e",{"$f":"'Σύνοψη - Πίνακες'!R141","v":34.987124837842416}]
[null,null,"Scope 3","Επαγγελματικά Ταξίδια","Κηροζίνη (Αεροσκάφος)","Σχολή Μηχανικών Μεταλλείων Μεταλλουργών","CO2",{"$f":"'Σύνοψη - Πίνακες'!S141","v":34.724415364603558}]
[null,null,"Scope 3","Επαγγελματικά Ταξίδια","Κηροζίνη (Αεροσκάφος)","Σχολή Μηχανικών Μεταλλείων Μεταλλουργών","CH4",{"$f":"'Σύνοψη - Πίνακες'!S142","v":2.3458297458600001E-4}]
[null,null,"Scope 3","Επαγγελματικά Ταξίδια","Κηροζίνη (Αεροσκάφος)","Σχολή Μηχανικών Μεταλλείων Μεταλλουργών","N2O",{"$f":"'Σύνοψη - Πίνακες'!S143","v":9.3833189834400003E-4}]
[null,null,"Scope 3","Επαγγελματικά Ταξίδια","Κηροζίνη (Αεροσκάφος)","Σχολή Μηχανολόγων Μηχανικών","CO2e",{"$f":"'Σύνοψη - Πίνακες'!T141","v":51.314449762168884}]
[null,null,"Scope 3","Επαγγελματικά Ταξίδια","Κηροζίνη (Αεροσκάφος)","Σχολή Μηχανολόγων Μηχανικών","CO2",{"$f":"'Σύνοψη - Πίνακες'!U141","v":50.92914253475189}]
[null,null,"Scope 3","Επαγγελματικά Ταξίδια","Κηροζίνη (Αεροσκάφος)","Σχολή Μηχανολόγων Μηχανικών","CH4",{"$f":"'Σύνοψη - Πίνακες'!U142","v":3.440550293928E-4}]
[null,null,"Scope 3","Επαγγελματικά Ταξίδια","Κηροζίνη (Αεροσκάφος)","Σχολή Μηχανολόγων Μηχανικών","N2O",{"$f":"'Σύνοψη - Πίνακες'!U143","v":1.3762201175712E-3}]
[null,null,"Scope 3","Επαγγελματικά Ταξίδια","Κηροζίνη (Αεροσκάφος)","Σχολή Ναυπηγών Μηχανολόγων Μηχανικών","CO2e",{"$f":"'Σύνοψη - Πίνακες'!V141","v":11.662374945947473}]
[null,null,"Scope 3","Επαγγελματικά Ταξίδια","Κηροζίνη (Αεροσκάφος)","Σχολή Ναυπηγών Μηχανολόγων Μηχανικών","CO2",{"$f":"'Σύνοψη - Πίνακες'!W141","v":11.574805121534521}]
[null,null,"Scope 3","Επαγγελματικά Ταξίδια","Κηροζίνη (Αεροσκάφος)","Σχολή Ναυπηγών Μηχανολόγων Μηχανικών","CH4",{"$f":"'Σύνοψη - Πίνακες'!W142","v":7.8194324862000003E-5}]
[null,null,"Scope 3","Επαγγελματικά Ταξίδια","Κηροζίνη (Αεροσκάφος)","Σχολή Ναυπηγών Μηχανολόγων Μηχανικών","N2O",{"$f":"'Σύνοψη - Πίνακες'!W143","v":3.1277729944800001E-4}]
[null,null,"Scope 3","Επαγγελματικά Ταξίδια","Κηροζίνη (Αεροσκάφος)","Σχολή Πολιτικών Μηχανικών","CO2e",{"$f":"'Σύνοψη - Πίνακες'!X141","v":29.155937364868681}]
[null,null,"Scope 3","Επαγγελματικά Ταξίδια","Κηροζίνη (Αεροσκάφος)","Σχολή Πολιτικών Μηχανικών","CO2",{"$f":"'Σύνοψη - Πίνακες'!Y141","v":28.9370128038363}]
[null,null,"Scope 3","Επαγγελματικά Ταξίδια","Κηροζίνη (Αεροσκάφος)","Σχολή Πολιτικών Μηχανικών","CH4",{"$f":"'Σύνοψη - Πίνακες'!Y142","v":1.9548581215500003E-4}]
[null,null,"Scope 3","Επαγγελματικά Ταξίδια","Κηροζίνη (Αεροσκάφος)","Σχολή Πολιτικών Μηχανικών","N2O",{"$f":"'Σύνοψη - Πίνακες'!Y143","v":7.8194324862000013E-4}]
[null,null,"Scope 3","Επαγγελματικά Ταξίδια","Κηροζίνη (Αεροσκάφος)","Σχολή Χημικών Μηχανικών","CO2e",{"$f":"'Σύνοψη - Πίνακες'!Z141","v":45.483262289195139}]
[null,null,"Scope 3","Επαγγελματικά Ταξίδια","Κηροζίνη (Αεροσκάφος)","Σχολή Χημικών Μηχανικών","CO2",{"$f":"'Σύνοψη - Πίνακες'!AA141","v":45.141739973984627}]
[null,null,"Scope 3","Επαγγελματικά Ταξίδια","Κηροζίνη (Αεροσκάφος)","Σχολή Χημικών Μηχανικών","CH4",{"$f":"'Σύνοψη - Πίνακες'!AA142","v":3.0495786696180005E-4}]
[null,null,"Scope 3","Επαγγελματικά Ταξίδια","Κηροζίνη (Αεροσκάφος)","Σχολή Χημικών Μηχανικών","N2O",{"$f":"'Σύνοψη - Πίνακες'!AA143","v":1.2198314678472002E-3}]
[null,null,"Scope 3","Επαγγελματικά Ταξίδια","Κηροζίνη (Αεροσκάφος)","Σχολή Αρχιτεκτόνων Μηχανικών","CO2e",{"$f":"'Σύνοψη - Πίνακες'!AB141","v":38.485837321626654}]
[null,null,"Scope 3","Επαγγελματικά Ταξίδια","Κηροζίνη (Αεροσκάφος)","Σχολή Αρχιτεκτόνων Μηχανικών","CO2",{"$f":"'Σύνοψη - Πίνακες'!AC141","v":38.196856901063917}]
[null,null,"Scope 3","Επαγγελματικά Ταξίδια","Κηροζίνη (Αεροσκάφος)","Σχολή Αρχιτεκτόνων Μηχανικών","CH4",{"$f":"'Σύνοψη - Πίνακες'!AC142","v":2.5804127204459999E-4}]
[null,null,"Scope 3","Επαγγελματικά Ταξίδια","Κηροζίνη (Αεροσκάφος)","Σχολή Αρχιτεκτόνων Μηχανικών","N2O",{"$f":"'Σύνοψη - Πίνακες'!AC143","v":1.0321650881783999E-3}]
[null,null,"Scope 3","Επαγγελματικά Ταξίδια","Ηλεκτρική Ενέργεια (Επιβατικό)","Βιβλιοθήκη","CO2e",0]
[null,null,"Scope 3","Επαγγελματικά Ταξίδια","Ηλεκτρική Ενέργεια (Επιβατικό)","Βιβλιοθήκη","CO2",0]
[null,null,"Scope 3","Επαγγελματικά Ταξίδια","Ηλεκτρική Ενέργεια (Επιβατικό)","Βιβλιοθήκη","CH4",0]
[null,null,"Scope 3","Επαγγελματικά Ταξίδια","Ηλεκτρική Ενέργεια (Επιβατικό)","Βιβλιοθήκη","N2O",0]
[null,null,"Scope 3","Επαγγελματικά Ταξίδια","Ηλεκτρική Ενέργεια (Επιβατικό)","Γυμναστήριο","CO2e",0]
[null,null,"Scope 3","Επαγγελματικά Ταξίδια","Ηλεκτρική Ενέργεια (Επιβατικό)","Γυμναστήριο","CO2",0]
[null,null,"Scope 3","Επαγγελματικά Ταξίδια","Ηλεκτρική Ενέργεια (Επιβατικό)","Γυμναστήριο","CH4",0]
[null,null,"Scope 3","Επαγγελματικά Ταξίδια","Ηλεκτρική Ενέργεια (Επιβατικό)","Γυμναστήριο","N2O",0]
[null,null,"Scope 3","Επαγγελματικά Ταξίδια","Ηλεκτρική Ενέργεια (Επιβατικό)","Διοίκηση","CO2e",{"$f":"'Σύνοψη - Πίνακες'!J144","v":4.7568510888323666E-2}]
[null,null,"Scope 3","Επαγγελματικά Ταξίδια","Ηλεκτρική Ενέργεια (Επιβατικό)","Διοίκηση","CO2",{"$f":"'Σύνοψη - Πίνακες'!K144","v":4.7487551760000003E-2}]
[null,null,"Scope 3","Επαγγελματικά Ταξίδια","Ηλεκτρική Ενέργεια (Επιβατικό)","Διοίκηση","CH4",{"$f":"'Σύνοψη - Πίνακες'!K145","v":5.8325265398399995E-7}]
[null,null,"Scope 3","Επαγγελματικά Ταξίδια","Ηλεκτρική Ενέργεια (Επιβατικό)","Διοίκηση","N2O",{"$f":"'Σύνοψη - Πίνακες'!K146","v":2.3694644423999999E-7}]
[null,null,"Scope 3","Επαγγελματικά Ταξίδια","Ηλεκτρική Ενέργεια (Επιβατικό)","Σχολή Αγρονόμων και Τοπογράφων Μηχανικών","CO2e",{"$f":"'Σύνοψη - Πίνακες'!L144","v":5.1373991759389561E-3}]
[null,null,"Scope 3","Επαγγελματικά Ταξίδια","Ηλεκτρική Ενέργεια (Επιβατικό)","Σχολή Αγρονόμων και Τοπογράφων Μηχανικών","CO2",{"$f":"'Σύνοψη - Πίνακες'!M144","v":5.1286555900800007E-3}]
[null,null,"Scope 3","Επαγγελματικά Ταξίδια","Ηλεκτρική Ενέργεια (Επιβατικό)","Σχολή Αγρονόμων και Τοπογράφων Μηχανικών","CH4",{"$f":"'Σύνοψη - Πίνακες'!M145","v":6.2991286630271991E-8}]
[null,null,"Scope 3","Επαγγελματικά Ταξίδια","Ηλεκτρική Ενέργεια (Επιβατικό)","Σχολή Αγρονόμων και Τοπογράφων Μηχανικών","N2O",{"$f":"'Σύνοψη - Πίνακες'!M146","v":2.5590215977919997E-8}]
[null,null,"Scope 3","Επαγγελματικά Ταξίδια","Ηλεκτρική Ενέργεια (Επιβατικό)","Σχολή Εφαρμοσμένων Μαθηματικών και Φυσικών Επιστημών","CO2e",{"$f":"'Σύνοψη - Πίνακες'!N144","v":9.0380170687814967E-3}]
[null,null,"Scope 3","Επαγγελματικά Ταξίδια","Ηλεκτρική Ενέργεια (Επιβατικό)","Σχολή Εφαρμοσμένων Μαθηματικών και Φυσικών Επιστημών","CO2",{"$f":"'Σύνοψη - Πίνακες'!O144","v":9.0226348344000003E-3}]
[null,null,"Scope 3","Επαγγελματικά Ταξίδια","Ηλεκτρική Ενέργεια (Επιβατικό)","Σχολή Εφαρμοσμένων Μαθηματικών και Φυσικών Επιστημών","CH4",{"$f":"'Σύνοψη - Πίνακες'!O145","v":1.1081800425695999E-7}]
[null,null,"Scope 3","Επαγγελματικά Ταξίδια","Ηλεκτρική Ενέργεια (Επιβατικό)","Σχολή Εφαρμοσμένων Μαθηματικών και Φυσικών Επιστημών","N2O",{"$f":"'Σύνοψη - Πίνακες'!O146","v":4.5019824405599999E-8}]
[null,null,"Scope 3","Επαγγελματικά Ταξίδια","Ηλεκτρική Ενέργεια (Επιβατικό)","Σχολή Ηλεκτρολόγων Μηχανικών και Μηχανικών Υπολογιστών","CO2e",{"$f":"'Σύνοψη - Πίνακες'!P144","v":5.5179472630455459E-3}]
[null,null,"Scope 3","Επαγγελματικά Ταξίδια","Ηλεκτρική Ενέργεια (Επιβατικό)","Σχολή Ηλεκτρολόγων Μηχανικών και Μηχανικών Υπολογιστών","CO2",{"$f":"'Σύνοψη - Πίνακες'!Q144","v":5.5085560041600009E-3}]
[null,null,"Scope 3","Επαγγελματικά Ταξίδια","Ηλεκτρική Ενέργεια (Επιβατικό)","Σχολή Ηλεκτρολόγων Μηχανικών και Μηχανικών Υπολογιστών","CH4",{"$f":"'Σύνοψη - Πίνακες'!Q145","v":6.7657307862143999E-8}]
[null,null,"Scope 3","Επαγγελματικά Ταξίδια","Ηλεκτρική Ενέργεια (Επιβατικό)","Σχολή Ηλεκτρολόγων Μηχανικών και Μηχανικών Υπολογιστών","N2O",{"$f":"'Σύνοψη - Πίνακες'!Q146","v":2.748578753184E-8}]
[null,null,"Scope 3","Επαγγελματικά Ταξίδια","Ηλεκτρική Ενέργεια (Επιβατικό)","Σχολή Μηχανικών Μεταλλείων Μεταλλουργών","CO2e",{"$f":"'Σύνοψη - Πίνακες'!R144","v":8.562331959898261E-3}]
[null,null,"Scope 3","Επαγγελματικά Ταξίδια","Ηλεκτρική Ενέργεια (Επιβατικό)","Σχολή Μηχανικών Μεταλλείων Μεταλλουργών","CO2",{"$f":"'Σύνοψη - Πίνακες'!S144","v":8.5477593167999997E-3}]
[null,null,"Scope 3","Επαγγελματικά Ταξίδια","Ηλεκτρική Ενέργεια (Επιβατικό)","Σχολή Μηχανικών Μεταλλείων Μεταλλουργών","CH4",{"$f":"'Σύνοψη - Πίνακες'!S145","v":1.0498547771711998E-7}]
[null,null,"Scope 3","Επαγγελματικά Ταξίδια","Ηλεκτρική Ενέργεια (Επιβατικό)","Σχολή Μηχανικών Μεταλλείων Μεταλλουργών","N2O",{"$f":"'Σύνοψη - Πίνακες'!S146","v":4.2650359963199996E-8}]
[null,null,"Scope 3","Επαγγελματικά Ταξίδια","Ηλεκτρική Ενέργεια (Επιβατικό)","Σχολή Μηχανολόγων Μηχανικών","CO2e",{"$f":"'Σύνοψη - Πίνακες'!T144","v":1.2558086874517448E-2}]
[null,null,"Scope 3","Επαγγελματικά Ταξίδια","Ηλεκτρική Ενέργεια (Επιβατικό)","Σχολή Μηχανολόγων Μηχανικών","CO2",{"$f":"'Σύνοψη - Πίνακες'!U144","v":1.2536713664640001E-2}]
[null,null,"Scope 3","Επαγγελματικά Ταξίδια","Ηλεκτρική Ενέργεια (Επιβατικό)","Σχολή Μηχανολόγων Μηχανικών","CH4",{"$f":"'Σύνοψη - Πίνακες'!U145","v":1.5397870065177597E-7}]
[null,null,"Scope 3","Επαγγελματικά Ταξίδια","Ηλεκτρική Ενέργεια (Επιβατικό)","Σχολή Μηχανολόγων Μηχανικών","N2O",{"$f":"'Σύνοψη - Πίνακες'!U146","v":6.2553861279359993E-8}]
[null,null,"Scope 3","Επαγγελματικά Ταξίδια","Ηλεκτρική Ενέργεια (Επιβατικό)","Σχολή Ναυπηγών Μηχανολόγων Μηχανικών","CO2e",{"$f":"'Σύνοψη - Πίνακες'!V144","v":2.8541106532994198E-3}]
[null,null,"Scope 3","Επαγγελματικά Ταξίδια","Ηλεκτρική Ενέργεια (Επιβατικό)","Σχολή Ναυπηγών Μηχανολόγων Μηχανικών","CO2",{"$f":"'Σύνοψη - Πίνακες'!W144","v":2.8492531056E-3}]
[null,null,"Scope 3","Επαγγελματικά Ταξίδια","Ηλεκτρική Ενέργεια (Επιβατικό)","Σχολή Ναυπηγών Μηχανολόγων Μηχανικών","CH4",{"$f":"'Σύνοψη - Πίνακες'!W145","v":3.4995159239039995E-8}]
[null,null,"Scope 3","Επαγγελματικά Ταξίδια","Ηλεκτρική Ενέργεια (Επιβατικό)","Σχολή Ναυπηγών Μηχανολόγων Μηχανικών","N2O",{"$f":"'Σύνοψη - Πίνακες'!W146","v":1.4216786654399997E-8}]
[null,null,"Scope 3","Επαγγελματικά Ταξίδια","Ηλεκτρική Ενέργεια (Επιβατικό)","Σχολή Πολιτικών Μηχανικών","CO2e",{"$f":"'Σύνοψη - Πίνακες'!X144","v":7.1352766332485502E-3}]
[null,null,"Scope 3","Επαγγελματικά Ταξίδια","Ηλεκτρική Ενέργεια (Επιβατικό)","Σχολή Πολιτικών Μηχανικών","CO2",{"$f":"'Σύνοψη - Πίνακες'!Y144","v":7.1231327640000003E-3}]
[null,null,"Scope 3","Επαγγελματικά Ταξίδια","Ηλεκτρική Ενέργεια (Επιβατικό)","Σχολή Πολιτικών Μηχανικών","CH4",{"$f":"'Σύνοψη - Πίνακες'!Y145","v":8.748789809759999E-8}]
[null,null,"Scope 3","Επαγγελματικά Ταξίδια","Ηλεκτρική Ενέργεια (Επιβατικό)","Σχολή Πολιτικών Μηχανικών","N2O",{"$f":"'Σύνοψη - Πίνακες'!Y146","v":3.5541966635999993E-8}]
[null,null,"Scope 3","Επαγγελματικά Ταξίδια","Ηλεκτρική Ενέργεια (Επιβατικό)","Σχολή Χημικών Μηχανικών","CO2e",{"$f":"'Σύνοψη - Πίνακες'!Z144","v":1.1131031547867739E-2}]
[null,null,"Scope 3","Επαγγελματικά Ταξίδια","Ηλεκτρική Ενέργεια (Επιβατικό)","Σχολή Χημικών Μηχανικών","CO2",{"$f":"'Σύνοψη - Πίνακες'!AA144","v":1.111208711184E-2}]
[null,null,"Scope 3","Επαγγελματικά Ταξίδια","Ηλεκτρική Ενέργεια (Επιβατικό)","Σχολή Χημικών Μηχανικών","CH4",{"$f":"'Σύνοψη - Πίνακες'!AA145","v":1.3648112103225597E-7}]
[null,null,"Scope 3","Επαγγελματικά Ταξίδια","Ηλεκτρική Ενέργεια (Επιβατικό)","Σχολή Χημικών Μηχανικών","N2O",{"$f":"'Σύνοψη - Πίνακες'!AA146","v":5.5445467952159991E-8}]
[null,null,"Scope 3","Επαγγελματικά Ταξίδια","Ηλεκτρική Ενέργεια (Επιβατικό)","Σχολή Αρχιτεκτόνων Μηχανικών","CO2e",{"$f":"'Σύνοψη - Πίνακες'!AB144","v":9.4185651558880857E-3}]
[null,null,"Scope 3","Επαγγελματικά Ταξίδια","Ηλεκτρική Ενέργεια (Επιβατικό)","Σχολή Αρχιτεκτόνων Μηχανικών","CO2",{"$f":"'Σύνοψη - Πίνακες'!AC144","v":9.4025352484800005E-3}]
[null,null,"Scope 3","Επαγγελματικά Ταξίδια","Ηλεκτρική Ενέργεια (Επιβατικό)","Σχολή Αρχιτεκτόνων Μηχανικών","CH4",{"$f":"'Σύνοψη - Πίνακες'!AC145","v":1.1548402548883199E-7}]
[null,null,"Scope 3","Επαγγελματικά Ταξίδια","Ηλεκτρική Ενέργεια (Επιβατικό)","Σχολή Αρχιτεκτόνων Μηχανικών","N2O",{"$f":"'Σύνοψη - Πίνακες'!AC146","v":4.6915395959519992E-8}]
[null,null,"Scope 3","Επαγγελματικά Ταξίδια","Ηλεκτρική Ενέργεια (Τρένο)","Βιβλιοθήκη","CO2e",0]
[null,null,"Scope 3","Επαγγελματικά Ταξίδια","Ηλεκτρική Ενέργεια (Τρένο)","Βιβλιοθήκη","CO2",0]
[null,null,"Scope 3","Επαγγελματικά Ταξίδια","Ηλεκτρική Ενέργεια (Τρένο)","Βιβλιοθήκη","CH4",0]
[null,null,"Scope 3","Επαγγελματικά Ταξίδια","Ηλεκτρική Ενέργεια (Τρένο)","Βιβλιοθήκη","N2O",0]
[null,null,"Scope 3","Επαγγελματικά Ταξίδια","Ηλεκτρική Ενέργεια (Τρένο)","Γυμναστήριο","CO2e",0]
[null,null,"Scope 3","Επαγγελματικά Ταξίδια","Ηλεκτρική Ενέργεια (Τρένο)","Γυμναστήριο","CO2",0]
[null,null,"Scope 3","Επαγγελματικά Ταξίδια","Ηλεκτρική Ενέργεια (Τρένο)","Γυμναστήριο","CH4",0]
[null,null,"Scope 3","Επαγγελματικά Ταξίδια","Ηλεκτρική Ενέργεια (Τρένο)","Γυμναστήριο","N2O",0]
[null,null,"Scope 3","Επαγγελματικά Ταξίδια","Ηλεκτρική Ενέργεια (Τρένο)","Διοίκηση","CO2e",{"$f":"'Σύνοψη - Πίνακες'!J147","v":0}]
[null,null,"Scope 3","Επαγγελματικά Ταξίδια","Ηλεκτρική Ενέργεια (Τρένο)","Διοίκηση","CO2",{"$f":"'Σύνοψη - Πίνακες'!K147","v":0}]
[null,null,"Scope 3","Επαγγελματικά Ταξίδια","Ηλεκτρική Ενέργεια (Τρένο)","Διοίκηση","CH4",{"$f":"'Σύνοψη - Πίνακες'!K148","v":0}]
[null,null,"Scope 3","Επαγγελματικά Ταξίδια","Ηλεκτρική Ενέργεια (Τρένο)","Διοίκηση","N2O",{"$f":"'Σύνοψη - Πίνακες'!K149","v":0}]
[null,null,"Scope 3","Επαγγελματικά Ταξίδια","Ηλεκτρική Ενέργεια (Τρένο)","Σχολή Αγρονόμων και Τοπογράφων Μηχανικών","CO2e",{"$f":"'Σύνοψη - Πίνακες'!L147","v":0}]
[null,null,"Scope 3","Επαγγελματικά Ταξίδια","Ηλεκτρική Ενέργεια (Τρένο)","Σχολή Αγρονόμων και Τοπογράφων Μηχανικών","CO2",{"$f":"'Σύνοψη - Πίνακες'!M147","v":0}]
[null,null,"Scope 3","Επαγγελματικά Ταξίδια","Ηλεκτρική Ενέργεια (Τρένο)","Σχολή Αγρονόμων και Τοπογράφων Μηχανικών","CH4",{"$f":"'Σύνοψη - Πίνακες'!M148","v":0}]
[null,null,"Scope 3","Επαγγελματικά Ταξίδια","Ηλεκτρική Ενέργεια (Τρένο)","Σχολή Αγρονόμων και Τοπογράφων Μηχανικών","N2O",{"$f":"'Σύνοψη - Πίνακες'!M149","v":0}]
[null,null,"Scope 3","Επαγγελματικά Ταξίδια","Ηλεκτρική Ενέργεια (Τρένο)","Σχολή Εφαρμοσμένων Μαθηματικών και Φυσικών Επιστημών","CO2e",{"$f":"'Σύνοψη - Πίνακες'!N147","v":0}]
[null,null,"Scope 3","Επαγγελματικά Ταξίδια","Ηλεκτρική Ενέργεια (Τρένο)","Σχολή Εφαρμοσμένων Μαθηματικών και Φυσικών Επιστημών","CO2",{"$f":"'Σύνοψη - Πίνακες'!O147","v":0}]
[null,null,"Scope 3","Επαγγελματικά Ταξίδια","Ηλεκτρική Ενέργεια (Τρένο)","Σχολή Εφαρμοσμένων Μαθηματικών και Φυσικών Επιστημών","CH4",{"$f":"'Σύνοψη - Πίνακες'!O148","v":0}]
[null,null,"Scope 3","Επαγγελματικά Ταξίδια","Ηλεκτρική Ενέργεια (Τρένο)","Σχολή Εφαρμοσμένων Μαθηματικών και Φυσικών Επιστημών","N2O",{"$f":"'Σύνοψη - Πίνακες'!O149","v":0}]
[null,null,"Scope 3","Επαγγελματικά Ταξίδια","Ηλεκτρική Ενέργεια (Τρένο)","Σχολή Ηλεκτρολόγων Μηχανικών και Μηχανικών Υπολογιστών","CO2e",{"$f":"'Σύνοψη - Πίνακες'!P147","v":0}]
[null,null,"Scope 3","Επαγγελματικά Ταξίδια","Ηλεκτρική Ενέργεια (Τρένο)","Σχολή Ηλεκτρολόγων Μηχανικών και Μηχανικών Υπολογιστών","CO2",{"$f":"'Σύνοψη - Πίνακες'!Q147","v":0}]
[null,null,"Scope 3","Επαγγελματικά Ταξίδια","Ηλεκτρική Ενέργεια (Τρένο)","Σχολή Ηλεκτρολόγων Μηχανικών και Μηχανικών Υπολογιστών","CH4",{"$f":"'Σύνοψη - Πίνακες'!Q148","v":0}]
[null,null,"Scope 3","Επαγγελματικά Ταξίδια","Ηλεκτρική Ενέργεια (Τρένο)","Σχολή Ηλεκτρολόγων Μηχανικών και Μηχανικών Υπολογιστών","N2O",{"$f":"'Σύνοψη - Πίνακες'!Q149","v":0}]
[null,null,"Scope 3","Επαγγελματικά Ταξίδια","Ηλεκτρική Ενέργεια (Τρένο)","Σχολή Μηχανικών Μεταλλείων Μεταλλουργών","CO2e",{"$f":"'Σύνοψη - Πίνακες'!R147","v":0}]
[null,null,"Scope 3","Επαγγελματικά Ταξίδια","Ηλεκτρική Ενέργεια (Τρένο)","Σχολή Μηχανικών Μεταλλείων Μεταλλουργών","CO2",{"$f":"'Σύνοψη - Πίνακες'!S147","v":0}]
[null,null,"Scope 3","Επαγγελματικά Ταξίδια","Ηλεκτρική Ενέργεια (Τρένο)","Σχολή Μηχανικών Μεταλλείων Μεταλλουργών","CH4",{"$f":"'Σύνοψη - Πίνακες'!O148","v":0}]
[null,null,"Scope 3","Επαγγελματικά Ταξίδια","Ηλεκτρική Ενέργεια (Τρένο)","Σχολή Μηχανικών Μεταλλείων Μεταλλουργών","N2O",{"$f":"'Σύνοψη - Πίνακες'!O149","v":0}]
[null,null,"Scope 3","Επαγγελματικά Ταξίδια","Ηλεκτρική Ενέργεια (Τρένο)","Σχολή Μηχανολόγων Μηχανικών","CO2e",{"$f":"'Σύνοψη - Πίνακες'!T147","v":0}]
[null,null,"Scope 3","Επαγγελματικά Ταξίδια","Ηλεκτρική Ενέργεια (Τρένο)","Σχολή Μηχανολόγων Μηχανικών","CO2",{"$f":"'Σύνοψη - Πίνακες'!U147","v":0}]
[null,null,"Scope 3","Επαγγελματικά Ταξίδια","Ηλεκτρική Ενέργεια (Τρένο)","Σχολή Μηχανολόγων Μηχανικών","CH4",{"$f":"'Σύνοψη - Πίνακες'!U148","v":0}]
[null,null,"Scope 3","Επαγγελματικά Ταξίδια","Ηλεκτρική Ενέργεια (Τρένο)","Σχολή Μηχανολόγων Μηχανικών","N2O",{"$f":"'Σύνοψη - Πίνακες'!U149","v":0}]
[null,null,"Scope 3","Επαγγελματικά Ταξίδια","Ηλεκτρική Ενέργεια (Τρένο)","Σχολή Ναυπηγών Μηχανολόγων Μηχανικών","CO2e",{"$f":"'Σύνοψη - Πίνακες'!V147","v":0}]
[null,null,"Scope 3","Επαγγελματικά Ταξίδια","Ηλεκτρική Ενέργεια (Τρένο)","Σχολή Ναυπηγών Μηχανολόγων Μηχανικών","CO2",{"$f":"'Σύνοψη - Πίνακες'!W147","v":0}]
[null,null,"Scope 3","Επαγγελματικά Ταξίδια","Ηλεκτρική Ενέργεια (Τρένο)","Σχολή Ναυπηγών Μηχανολόγων Μηχανικών","CH4",{"$f":"'Σύνοψη - Πίνακες'!W148","v":0}]
[null,null,"Scope 3","Επαγγελματικά Ταξίδια","Ηλεκτρική Ενέργεια (Τρένο)","Σχολή Ναυπηγών Μηχανολόγων Μηχανικών","N2O",{"$f":"'Σύνοψη - Πίνακες'!W149","v":0}]
[null,null,"Scope 3","Επαγγελματικά Ταξίδια","Ηλεκτρική Ενέργεια (Τρένο)","Σχολή Πολιτικών Μηχανικών","CO2e",{"$f":"'Σύνοψη - Πίνακες'!X147","v":0}]
[null,null,"Scope 3","Επαγγελματικά Ταξίδια","Ηλεκτρική Ενέργεια (Τρένο)","Σχολή Πολιτικών Μηχανικών","CO2",{"$f":"'Σύνοψη - Πίνακες'!Y147","v":0}]
[null,null,"Scope 3","Επαγγελματικά Ταξίδια","Ηλεκτρική Ενέργεια (Τρένο)","Σχολή Πολιτικών Μηχανικών","CH4",{"$f":"'Σύνοψη - Πίνακες'!Y148","v":0}]
[null,null,"Scope 3","Επαγγελματικά Ταξίδια","Ηλεκτρική Ενέργεια (Τρένο)","Σχολή Πολιτικών Μηχανικών","N2O",{"$f":"'Σύνοψη - Πίνακες'!Y149","v":0}]
[null,null,"Scope 3","Επαγγελματικά Ταξίδια","Ηλεκτρική Ενέργεια (Τρένο)","Σχολή Χημικών Μηχανικών","CO2e",{"$f":"'Σύνοψη - Πίνακες'!Z147","v":0}]
[null,null,"Scope 3","Επαγγελματικά Ταξίδια","Ηλεκτρική Ενέργεια (Τρένο)","Σχολή Χημικών Μηχανικών","CO2",{"$f":"'Σύνοψη - Πίνακες'!AA147","v":0}]
[null,null,"Scope 3","Επαγγελματικά Ταξίδια","Ηλεκτρική Ενέργεια (Τρένο)","Σχολή Χημικών Μηχανικών","CH4",{"$f":"'Σύνοψη - Πίνακες'!AA148","v":0}]
[null,null,"Scope 3","Επαγγελματικά Ταξίδια","Ηλεκτρική Ενέργεια (Τρένο)","Σχολή Χημικών Μηχανικών","N2O",{"$f":"'Σύνοψη - Πίνακες'!AA149","v":0}]
[null,null,"Scope 3","Επαγγελματικά Ταξίδια","Ηλεκτρική Ενέργεια (Τρένο)","Σχολή Αρχιτεκτόνων Μηχανικών","CO2e",{"$f":"'Σύνοψη - Πίνακες'!AB147","v":0}]
[null,null,"Scope 3","Επαγγελματικά Ταξίδια","Ηλεκτρική Ενέργεια (Τρένο)","Σχολή Αρχιτεκτόνων Μηχανικών","CO2",{"$f":"'Σύνοψη - Πίνακες'!AC147","v":0}]
[null,null,"Scope 3","Επαγγελματικά Ταξίδια","Ηλεκτρική Ενέργεια (Τρένο)","Σχολή Αρχιτεκτόνων Μηχανικών","CH4",{"$f":"'Σύνοψη - Πίνακες'!AC148","v":0}]
[null,null,"Scope 3","Επαγγελματικά Ταξίδια","Ηλεκτρική Ενέργεια (Τρένο)","Σχολή Αρχιτεκτόνων Μηχανικών","N2O",{"$f":"'Σύνοψη - Πίνακες'!AC149","v":0}]
[null,null,"Scope 3","Τελική Διάθεση Στερεών Αποβλήτων","Τελική Διάθεση Στερεών Αποβλήτων","Βιβλιοθήκη","CO2e",0]
[null,null,"Scope 3","Τελική Διάθεση Στερεών Αποβλήτων","Τελική Διάθεση Στερεών Αποβλήτων","Βιβλιοθήκη","CO2",0]
[null,null,"Scope 3","Τελική Διάθεση Στερεών Αποβλήτων","Τελική Διάθεση Στερεών Αποβλήτων","Βιβλιοθήκη","CH4",0]
[null,null,"Scope 3","Τελική Διάθεση Στερεών Αποβλήτων","Τελική Διάθεση Στερεών Αποβλήτων","Βιβλιοθήκη","N2O",0]
[null,null,"Scope 3","Τελική Διάθεση Στερεών Αποβλήτων","Τελική Διάθεση Στερεών Αποβλήτων","Γυμναστήριο","CO2e",0]
[null,null,"Scope 3","Τελική Διάθεση Στερεών Αποβλήτων","Τελική Διάθεση Στερεών Αποβλήτων","Γυμναστήριο","CO2",0]
[null,null,"Scope 3","Τελική Διάθεση Στερεών Αποβλήτων","Τελική Διάθεση Στερεών Αποβλήτων","Γυμναστήριο","CH4",0]
[null,null,"Scope 3","Τελική Διάθεση Στερεών Αποβλήτων","Τελική Διάθεση Στερεών Αποβλήτων","Γυμναστήριο","N2O",0]
[null,null,"Scope 3","Τελική Διάθεση Στερεών Αποβλήτων","Τελική Διάθεση Στερεών Αποβλήτων","Διοίκηση","CO2e",{"$f":"'Σύνοψη - Πίνακες'!J150","v":5.846969209427801}]
[null,null,"Scope 3","Τελική Διάθεση Στερεών Αποβλήτων","Τελική Διάθεση Στερεών Αποβλήτων","Διοίκηση","CO2",{"$f":"'Σύνοψη - Πίνακες'!K150","v":0}]
[null,null,"Scope 3","Τελική Διάθεση Στερεών Αποβλήτων","Τελική Διάθεση Στερεών Αποβλήτων","Διοίκηση","CH4",{"$f":"'Σύνοψη - Πίνακες'!K151","v":0.20956878886837996}]
[null,null,"Scope 3","Τελική Διάθεση Στερεών Αποβλήτων","Τελική Διάθεση Στερεών Αποβλήτων","Διοίκηση","N2O",{"$f":"'Σύνοψη - Πίνακες'!K152","v":0}]
[null,null,"Scope 3","Τελική Διάθεση Στερεών Αποβλήτων","Τελική Διάθεση Στερεών Αποβλήτων","Σχολή Αγρονόμων και Τοπογράφων Μηχανικών","CO2e",{"$f":"'Σύνοψη - Πίνακες'!L150","v":6.1393176698991914}]
[null,null,"Scope 3","Τελική Διάθεση Στερεών Αποβλήτων","Τελική Διάθεση Στερεών Αποβλήτων","Σχολή Αγρονόμων και Τοπογράφων Μηχανικών","CO2",{"$f":"'Σύνοψη - Πίνακες'!M150","v":0}]
[null,null,"Scope 3","Τελική Διάθεση Στερεών Αποβλήτων","Τελική Διάθεση Στερεών Αποβλήτων","Σχολή Αγρονόμων και Τοπογράφων Μηχανικών","CH4",{"$f":"'Σύνοψη - Πίνακες'!M151","v":0.22004722831179896}]
[null,null,"Scope 3","Τελική Διάθεση Στερεών Αποβλήτων","Τελική Διάθεση Στερεών Αποβλήτων","Σχολή Αγρονόμων και Τοπογράφων Μηχανικών","N2O",{"$f":"'Σύνοψη - Πίνακες'!M152","v":0}]
[null,null,"Scope 3","Τελική Διάθεση Στερεών Αποβλήτων","Τελική Διάθεση Στερεών Αποβλήτων","Σχολή Εφαρμοσμένων Μαθηματικών και Φυσικών Επιστημών","CO2e",{"$f":"'Σύνοψη - Πίνακες'!N150","v":6.6772388371665485}]
[null,null,"Scope 3","Τελική Διάθεση Στερεών Αποβλήτων","Τελική Διάθεση Στερεών Αποβλήτων","Σχολή Εφαρμοσμένων Μαθηματικών και Φυσικών Επιστημών","CO2",{"$f":"'Σύνοψη - Πίνακες'!O150","v":0}]
[null,null,"Scope 3","Τελική Διάθεση Στερεών Αποβλήτων","Τελική Διάθεση Στερεών Αποβλήτων","Σχολή Εφαρμοσμένων Μαθηματικών και Φυσικών Επιστημών","CH4",{"$f":"'Σύνοψη - Πίνακες'!O151","v":0.23932755688768992}]
[null,null,"Scope 3","Τελική Διάθεση Στερεών Αποβλήτων","Τελική Διάθεση Στερεών Αποβλήτων","Σχολή Εφαρμοσμένων Μαθηματικών και Φυσικών Επιστημών","N2O",{"$f":"'Σύνοψη - Πίνακες'!O152","v":0}]
[null,null,"Scope 3","Τελική Διάθεση Στερεών Αποβλήτων","Τελική Διάθεση Στερεών Αποβλήτων","Σχολή Ηλεκτρολόγων Μηχανικών και Μηχανικών Υπολογιστών","CO2e",{"$f":"'Σύνοψη - Πίνακες'!P150","v":9.6241113187181604}]
[null,null,"Scope 3","Τελική Διάθεση Στερεών Αποβλήτων","Τελική Διάθεση Στερεών Αποβλήτων","Σχολή Ηλεκτρολόγων Μηχανικών και Μηχανικών Υπολογιστών","CO2",{"$f":"'Σύνοψη - Πίνακες'!Q150","v":0}]
[null,null,"Scope 3","Τελική Διάθεση Στερεών Αποβλήτων","Τελική Διάθεση Στερεών Αποβλήτων","Σχολή Ηλεκτρολόγων Μηχανικών και Μηχανικών Υπολογιστών","CH4",{"$f":"'Σύνοψη - Πίνακες'!Q151","v":0.34495022647735341}]
[null,null,"Scope 3","Τελική Διάθεση Στερεών Αποβλήτων","Τελική Διάθεση Στερεών Αποβλήτων","Σχολή Ηλεκτρολόγων Μηχανικών και Μηχανικών Υπολογιστών","N2O",{"$f":"'Σύνοψη - Πίνακες'!Q152","v":0}]
[null,null,"Scope 3","Τελική Διάθεση Στερεών Αποβλήτων","Τελική Διάθεση Στερεών Αποβλήτων","Σχολή Μηχανικών Μεταλλείων Μεταλλουργών","CO2e",{"$f":"'Σύνοψη - Πίνακες'!R150","v":15.588019912334516}]
[null,null,"Scope 3","Τελική Διάθεση Στερεών Αποβλήτων","Τελική Διάθεση Στερεών Αποβλήτων","Σχολή Μηχανικών Μεταλλείων Μεταλλουργών","CO2",{"$f":"'Σύνοψη - Πίνακες'!S150","v":0}]
[null,null,"Scope 3","Τελική Διάθεση Στερεών Αποβλήτων","Τελική Διάθεση Στερεών Αποβλήτων","Σχολή Μηχανικών Μεταλλείων Μεταλλουργών","CH4",{"$f":"'Σύνοψη - Πίνακες'!S151","v":0.55871039112310095}]
[null,null,"Scope 3","Τελική Διάθεση Στερεών Αποβλήτων","Τελική Διάθεση Στερεών Αποβλήτων","Σχολή Μηχανικών Μεταλλείων Μεταλλουργών","N2O",{"$f":"'Σύνοψη - Πίνακες'!S152","v":0}]
[null,null,"Scope 3","Τελική Διάθεση Στερεών Αποβλήτων","Τελική Διάθεση Στερεών Αποβλήτων","Σχολή Μηχανολόγων Μηχανικών","CO2e",{"$f":"'Σύνοψη - Πίνακες'!T150","v":7.3905690807167401}]
[null,null,"Scope 3","Τελική Διάθεση Στερεών Αποβλήτων","Τελική Διάθεση Στερεών Αποβλήτων","Σχολή Μηχανολόγων Μηχανικών","CO2",{"$f":"'Σύνοψη - Πίνακες'!U150","v":0}]
[null,null,"Scope 3","Τελική Διάθεση Στερεών Αποβλήτων","Τελική Διάθεση Στερεών Αποβλήτων","Σχολή Μηχανολόγων Μηχανικών","CH4",{"$f":"'Σύνοψη - Πίνακες'!U151","v":0.26489494912963224}]
[null,null,"Scope 3","Τελική Διάθεση Στερεών Αποβλήτων","Τελική Διάθεση Στερεών Αποβλήτων","Σχολή Μηχανολόγων Μηχανικών","N2O",{"$f":"'Σύνοψη - Πίνακες'!U152","v":0}]
[null,null,"Scope 3","Τελική Διάθεση Στερεών Αποβλήτων","Τελική Διάθεση Στερεών Αποβλήτων","Σχολή Ναυπηγών Μηχανολόγων Μηχανικών","CO2e",{"$f":"'Σύνοψη - Πίνακες'!V150","v":7.6829175411881305}]
[null,null,"Scope 3","Τελική Διάθεση Στερεών Αποβλήτων","Τελική Διάθεση Στερεών Αποβλήτων","Σχολή Ναυπηγών Μηχανολόγων Μηχανικών","CO2",{"$f":"'Σύνοψη - Πίνακες'!W150","v":0}]
[null,null,"Scope 3","Τελική Διάθεση Στερεών Αποβλήτων","Τελική Διάθεση Στερεών Αποβλήτων","Σχολή Ναυπηγών Μηχανολόγων Μηχανικών","CH4",{"$f":"'Σύνοψη - Πίνακες'!W151","v":0.27537338857305127}]
[null,null,"Scope 3","Τελική Διάθεση Στερεών Αποβλήτων","Τελική Διάθεση Στερεών Αποβλήτων","Σχολή Ναυπηγών Μηχανολόγων Μηχανικών","N2O",{"$f":"'Σύνοψη - Πίνακες'!W152","v":0}]
[null,null,"Scope 3","Τελική Διάθεση Στερεών Αποβλήτων","Τελική Διάθεση Στερεών Αποβλήτων","Σχολή Πολιτικών Μηχανικών","CO2e",{"$f":"'Σύνοψη - Πίνακες'!X150","v":6.4433600687894357}]
[null,null,"Scope 3","Τελική Διάθεση Στερεών Αποβλήτων","Τελική Διάθεση Στερεών Αποβλήτων","Σχολή Πολιτικών Μηχανικών","CO2",{"$f":"'Σύνοψη - Πίνακες'!Y150","v":0}]
[null,null,"Scope 3","Τελική Διάθεση Στερεών Αποβλήτων","Τελική Διάθεση Στερεών Αποβλήτων","Σχολή Πολιτικών Μηχανικών","CH4",{"$f":"'Σύνοψη - Πίνακες'!Y151","v":0.23094480533295472}]
[null,null,"Scope 3","Τελική Διάθεση Στερεών Αποβλήτων","Τελική Διάθεση Στερεών Αποβλήτων","Σχολή Πολιτικών Μηχανικών","N2O",{"$f":"'Σύνοψη - Πίνακες'!Y152","v":0}]
[null,null,"Scope 3","Τελική Διάθεση Στερεών Αποβλήτων","Τελική Διάθεση Στερεών Αποβλήτων","Σχολή Χημικών Μηχανικών","CO2e",{"$f":"'Σύνοψη - Πίνακες'!Z150","v":8.7002901836285673}]
[null,null,"Scope 3","Τελική Διάθεση Στερεών Αποβλήτων","Τελική Διάθεση Στερεών Αποβλήτων","Σχολή Χημικών Μηχανικών","CO2",{"$f":"'Σύνοψη - Πίνακες'!AA150","v":0}]
[null,null,"Scope 3","Τελική Διάθεση Στερεών Αποβλήτων","Τελική Διάθεση Στερεών Αποβλήτων","Σχολή Χημικών Μηχανικών","CH4",{"$f":"'Σύνοψη - Πίνακες'!AA151","v":0.31183835783614938}]
[null,null,"Scope 3","Τελική Διάθεση Στερεών Αποβλήτων","Τελική Διάθεση Στερεών Αποβλήτων","Σχολή Χημικών Μηχανικών","N2O",{"$f":"'Σύνοψη - Πίνακες'!AA152","v":0}]
[null,null,"Scope 3","Τελική Διάθεση Στερεών Αποβλήτων","Τελική Διάθεση Στερεών Αποβλήτων","Σχολή Αρχιτεκτόνων Μηχανικών","CO2e",{"$f":"'Σύνοψη - Πίνακες'!AB150","v":8.2676144621309096}]
[null,null,"Scope 3","Τελική Διάθεση Στερεών Αποβλήτων","Τελική Διάθεση Στερεών Αποβλήτων","Σχολή Αρχιτεκτόνων Μηχανικών","CO2",{"$f":"'Σύνοψη - Πίνακες'!AC150","v":0}]
[null,null,"Scope 3","Τελική Διάθεση Στερεών Αποβλήτων","Τελική Διάθεση Στερεών Αποβλήτων","Σχολή Αρχιτεκτόνων Μηχανικών","CH4",{"$f":"'Σύνοψη - Πίνακες'!AC151","v":0.29633026745988922}]
[null,null,"Scope 3","Τελική Διάθεση Στερεών Αποβλήτων","Τελική Διάθεση Στερεών Αποβλήτων","Σχολή Αρχιτεκτόνων Μηχανικών","N2O",{"$f":"'Σύνοψη - Πίνακες'!AC152","v":0}]
[null,null,"Scope 3","Διαχείριση Λυμάτων","Διαχείριση Λυμάτων","Βιβλιοθήκη","CO2e",0]
[null,null,"Scope 3","Διαχείριση Λυμάτων","Διαχείριση Λυμάτων","Βιβλιοθήκη","CO2",0]
[null,null,"Scope 3","Διαχείριση Λυμάτων","Διαχείριση Λυμάτων","Βιβλιοθήκη","CH4",0]
[null,null,"Scope 3","Διαχείριση Λυμάτων","Διαχείριση Λυμάτων","Βιβλιοθήκη","N2O",0]
[null,null,"Scope 3","Διαχείριση Λυμάτων","Διαχείριση Λυμάτων","Γυμναστήριο","CO2e",0]
[null,null,"Scope 3","Διαχείριση Λυμάτων","Διαχείριση Λυμάτων","Γυμναστήριο","CO2",0]
[null,null,"Scope 3","Διαχείριση Λυμάτων","Διαχείριση Λυμάτων","Γυμναστήριο","CH4",0]
[null,null,"Scope 3","Διαχείριση Λυμάτων","Διαχείριση Λυμάτων","Γυμναστήριο","N2O",0]
[null,null,"Scope 3","Διαχείριση Λυμάτων","Διαχείριση Λυμάτων","Διοίκηση","CO2e",{"$f":"'Σύνοψη - Πίνακες'!J153","v":0}]
[null,null,"Scope 3","Διαχείριση Λυμάτων","Διαχείριση Λυμάτων","Διοίκηση","CO2",{"$f":"'Σύνοψη - Πίνακες'!K153","v":0}]
[null,null,"Scope 3","Διαχείριση Λυμάτων","Διαχείριση Λυμάτων","Διοίκηση","CH4",{"$f":"'Σύνοψη - Πίνακες'!K154","v":0}]
[null,null,"Scope 3","Διαχείριση Λυμάτων","Διαχείριση Λυμάτων","Διοίκηση","N2O",{"$f":"'Σύνοψη - Πίνακες'!K155","v":0}]
[null,null,"Scope 3","Διαχείριση Λυμάτων","Διαχείριση Λυμάτων","Σχολή Αγρονόμων και Τοπογράφων Μηχανικών","CO2e",{"$f":"'Σύνοψη - Πίνακες'!L153","v":1.2157940984297149}]
[null,null,"Scope 3","Διαχείριση Λυμάτων","Διαχείριση Λυμάτων","Σχολή Αγρονόμων και Τοπογράφων Μηχανικών","CO2",{"$f":"'Σύνοψη - Πίνακες'!M153","v":0}]
[null,null,"Scope 3","Διαχείριση Λυμάτων","Διαχείριση Λυμάτων","Σχολή Αγρονόμων και Τοπογράφων Μηχανικών","CH4",{"$f":"'Σύνοψη - Πίνακες'!M154","v":5.7771879949249086E-3}]
[null,null,"Scope 3","Διαχείριση Λυμάτων","Διαχείριση Λυμάτων","Σχολή Αγρονόμων και Τοπογράφων Μηχανικών","N2O",{"$f":"'Σύνοψη - Πίνακες'!M155","v":3.8630423200414288E-3}]
[null,null,"Scope 3","Διαχείριση Λυμάτων","Διαχείριση Λυμάτων","Σχολή Εφαρμοσμένων Μαθηματικών και Φυσικών Επιστημών","CO2e",{"$f":"'Σύνοψη - Πίνακες'!N153","v":1.2287006175213255}]
[null,null,"Scope 3","Διαχείριση Λυμάτων","Διαχείριση Λυμάτων","Σχολή Εφαρμοσμένων Μαθηματικών και Φυσικών Επιστημών","CO2",{"$f":"'Σύνοψη - Πίνακες'!O153","v":0}]
[null,null,"Scope 3","Διαχείριση Λυμάτων","Διαχείριση Λυμάτων","Σχολή Εφαρμοσμένων Μαθηματικών και Φυσικών Επιστημών","CH4",{"$f":"'Σύνοψη - Πίνακες'!O154","v":5.83851695453133E-3}]
[null,null,"Scope 3","Διαχείριση Λυμάτων","Διαχείριση Λυμάτων","Σχολή Εφαρμοσμένων Μαθηματικών και Φυσικών Επιστημών","N2O",{"$f":"'Σύνοψη - Πίνακες'!O155","v":3.9040512618677709E-3}]
[null,null,"Scope 3","Διαχείριση Λυμάτων","Διαχείριση Λυμάτων","Σχολή Ηλεκτρολόγων Μηχανικών και Μηχανικών Υπολογιστών","CO2e",{"$f":"'Σύνοψη - Πίνακες'!P153","v":1.9746974210164161}]
[null,null,"Scope 3","Διαχείριση Λυμάτων","Διαχείριση Λυμάτων","Σχολή Ηλεκτρολόγων Μηχανικών και Μηχανικών Υπολογιστών","CO2",{"$f":"'Σύνοψη - Πίνακες'!Q153","v":0}]
[null,null,"Scope 3","Διαχείριση Λυμάτων","Διαχείριση Λυμάτων","Σχολή Ηλεκτρολόγων Μηχανικών και Μηχανικών Υπολογιστών","CH4",{"$f":"'Σύνοψη - Πίνακες'!Q154","v":9.3833308197824941E-3}]
[null,null,"Scope 3","Διαχείριση Λυμάτων","Διαχείριση Λυμάτων","Σχολή Ηλεκτρολόγων Μηχανικών και Μηχανικών Υπολογιστών","N2O",{"$f":"'Σύνοψη - Πίνακες'!Q155","v":6.2743680994303466E-3}]
[null,null,"Scope 3","Διαχείριση Λυμάτων","Διαχείριση Λυμάτων","Σχολή Μηχανικών Μεταλλείων Μεταλλουργών","CO2e",{"$f":"'Σύνοψη - Πίνακες'!R153","v":3.2085606461743859}]
[null,null,"Scope 3","Διαχείριση Λυμάτων","Διαχείριση Λυμάτων","Σχολή Μηχανικών Μεταλλείων Μεταλλουργών","CO2",{"$f":"'Σύνοψη - Πίνακες'!S153","v":0}]
[null,null,"Scope 3","Διαχείριση Λυμάτων","Διαχείριση Λυμάτων","Σχολή Μηχανικών Μεταλλείων Μεταλλουργών","CH4",{"$f":"'Σύνοψη - Πίνακες'!S154","v":1.5246379358156394E-2}]
[null,null,"Scope 3","Διαχείριση Λυμάτων","Διαχείριση Λυμάτων","Σχολή Μηχανικών Μεταλλείων Μεταλλουργών","N2O",{"$f":"'Σύνοψη - Πίνακες'!S155","v":1.0194822938028654E-2}]
[null,null,"Scope 3","Διαχείριση Λυμάτων","Διαχείριση Λυμάτων","Σχολή Μηχανολόγων Μηχανικών","CO2e",{"$f":"'Σύνοψη - Πίνακες'!T153","v":1.2906519091610562}]
[null,null,"Scope 3","Διαχείριση Λυμάτων","Διαχείριση Λυμάτων","Σχολή Μηχανολόγων Μηχανικών","CO2",{"$f":"'Σύνοψη - Πίνακες'!U153","v":0}]
[null,null,"Scope 3","Διαχείριση Λυμάτων","Διαχείριση Λυμάτων","Σχολή Μηχανολόγων Μηχανικών","CH4",{"$f":"'Σύνοψη - Πίνακες'!U154","v":6.1328959606421528E-3}]
[null,null,"Scope 3","Διαχείριση Λυμάτων","Διαχείριση Λυμάτων","Σχολή Μηχανολόγων Μηχανικών","N2O",{"$f":"'Σύνοψη - Πίνακες'!U155","v":4.1008941826342132E-3}]
[null,null,"Scope 3","Διαχείριση Λυμάτων","Διαχείριση Λυμάτων","Σχολή Ναυπηγών Μηχανολόγων Μηχανικών","CO2e",{"$f":"'Σύνοψη - Πίνακες'!V153","v":1.6184774940879647}]
[null,null,"Scope 3","Διαχείριση Λυμάτων","Διαχείριση Λυμάτων","Σχολή Ναυπηγών Μηχανολόγων Μηχανικών","CO2",{"$f":"'Σύνοψη - Πίνακες'!W153","v":0}]
[null,null,"Scope 3","Διαχείριση Λυμάτων","Διαχείριση Λυμάτων","Σχολή Ναυπηγών Μηχανολόγων Μηχανικών","CH4",{"$f":"'Σύνοψη - Πίνακες'!W154","v":7.690651534645261E-3}]
[null,null,"Scope 3","Διαχείριση Λυμάτων","Διαχείριση Λυμάτων","Σχολή Ναυπηγών Μηχανολόγων Μηχανικών","N2O",{"$f":"'Σύνοψη - Πίνακες'!W155","v":5.1425213050233032E-3}]
[null,null,"Scope 3","Διαχείριση Λυμάτων","Διαχείριση Λυμάτων","Σχολή Πολιτικών Μηχανικών","CO2e",{"$f":"'Σύνοψη - Πίνακες'!X153","v":1.2287006175213255}]
[null,null,"Scope 3","Διαχείριση Λυμάτων","Διαχείριση Λυμάτων","Σχολή Πολιτικών Μηχανικών","CO2",{"$f":"'Σύνοψη - Πίνακες'!Y153","v":0}]
[null,null,"Scope 3","Διαχείριση Λυμάτων","Διαχείριση Λυμάτων","Σχολή Πολιτικών Μηχανικών","CH4",{"$f":"'Σύνοψη - Πίνακες'!Y154","v":5.83851695453133E-3}]
[null,null,"Scope 3","Διαχείριση Λυμάτων","Διαχείριση Λυμάτων","Σχολή Πολιτικών Μηχανικών","N2O",{"$f":"'Σύνοψη - Πίνακες'!Y155","v":3.9040512618677709E-3}]
[null,null,"Scope 3","Διαχείριση Λυμάτων","Διαχείριση Λυμάτων","Σχολή Χημικών Μηχανικών","CO2e",{"$f":"'Σύνοψη - Πίνακες'!Z153","v":1.6184774940879647}]
[null,null,"Scope 3","Διαχείριση Λυμάτων","Διαχείριση Λυμάτων","Σχολή Χημικών Μηχανικών","CO2",{"$f":"'Σύνοψη - Πίνακες'!AA153","v":0}]
[null,null,"Scope 3","Διαχείριση Λυμάτων","Διαχείριση Λυμάτων","Σχολή Χημικών Μηχανικών","CH4",{"$f":"'Σύνοψη - Πίνακες'!AA154","v":7.690651534645261E-3}]
[null,null,"Scope 3","Διαχείριση Λυμάτων","Διαχείριση Λυμάτων","Σχολή Χημικών Μηχανικών","N2O",{"$f":"'Σύνοψη - Πίνακες'!AA155","v":5.1425213050233032E-3}]
[null,null,"Scope 3","Διαχείριση Λυμάτων","Διαχείριση Λυμάτων","Σχολή Αρχιτεκτόνων Μηχανικών","CO2e",{"$f":"'Σύνοψη - Πίνακες'!AB153","v":1.5694327215398445}]
[null,null,"Scope 3","Διαχείριση Λυμάτων","Διαχείριση Λυμάτων","Σχολή Αρχιτεκτόνων Μηχανικών","CO2",{"$f":"'Σύνοψη - Πίνακες'!AC153","v":0}]
[null,null,"Scope 3","Διαχείριση Λυμάτων","Διαχείριση Λυμάτων","Σχολή Αρχιτεκτόνων Μηχανικών","CH4",{"$f":"'Σύνοψη - Πίνακες'!AC154","v":7.4576014881408588E-3}]
[null,null,"Scope 3","Διαχείριση Λυμάτων","Διαχείριση Λυμάτων","Σχολή Αρχιτεκτόνων Μηχανικών","N2O",{"$f":"'Σύνοψη - Πίνακες'!AC155","v":4.986687326083203E-3}]
[null,null,"Scope 3","Προμήθεια Χαρτιών","Προμήθεια Χαρτιών","Βιβλιοθήκη","CO2e",0]
[null,null,"Scope 3","Προμήθεια Χαρτιών","Προμήθεια Χαρτιών","Βιβλιοθήκη","CO2",0]
[null,null,"Scope 3","Προμήθεια Χαρτιών","Προμήθεια Χαρτιών","Βιβλιοθήκη","CH4",0]
[null,null,"Scope 3","Προμήθεια Χαρτιών","Προμήθεια Χαρτιών","Βιβλιοθήκη","N2O",0]
[null,null,"Scope 3","Προμήθεια Χαρτιών","Προμήθεια Χαρτιών","Γυμναστήριο","CO2e",0]
[null,null,"Scope 3","Προμήθεια Χαρτιών","Προμήθεια Χαρτιών","Γυμναστήριο","CO2",0]
[null,null,"Scope 3","Προμήθεια Χαρτιών","Προμήθεια Χαρτιών","Γυμναστήριο","CH4",0]
[null,null,"Scope 3","Προμήθεια Χαρτιών","Προμήθεια Χαρτιών","Γυμναστήριο","N2O",0]
[null,null,"Scope 3","Προμήθεια Χαρτιών","Προμήθεια Χαρτιών","Διοίκηση","CO2e",{"$f":"'Σύνοψη - Πίνακες'!J156","v":1.2004827488286243}]
[null,null,"Scope 3","Προμήθεια Χαρτιών","Προμήθεια Χαρτιών","Διοίκηση","CO2",0]
[null,null,"Scope 3","Προμήθεια Χαρτιών","Προμήθεια Χαρτιών","Διοίκηση","CH4",0]
[null,null,"Scope 3","Προμήθεια Χαρτιών","Προμήθεια Χαρτιών","Διοίκηση","N2O",0]
[null,null,"Scope 3","Προμήθεια Χαρτιών","Προμήθεια Χαρτιών","Σχολή Αγρονόμων και Τοπογράφων Μηχανικών","CO2e",{"$f":"'Σύνοψη - Πίνακες'!L156","v":1.2605068862700555}]
[null,null,"Scope 3","Προμήθεια Χαρτιών","Προμήθεια Χαρτιών","Σχολή Αγρονόμων και Τοπογράφων Μηχανικών","CO2",0]
[null,null,"Scope 3","Προμήθεια Χαρτιών","Προμήθεια Χαρτιών","Σχολή Αγρονόμων και Τοπογράφων Μηχανικών","CH4",0]
[null,null,"Scope 3","Προμήθεια Χαρτιών","Προμήθεια Χαρτιών","Σχολή Αγρονόμων και Τοπογράφων Μηχανικών","N2O",0]
[null,null,"Scope 3","Προμήθεια Χαρτιών","Προμήθεια Χαρτιών","Σχολή Εφαρμοσμένων Μαθηματικών και Φυσικών Επιστημών","CO2e",{"$f":"'Σύνοψη - Πίνακες'!N156","v":1.370951299162289}]
[null,null,"Scope 3","Προμήθεια Χαρτιών","Προμήθεια Χαρτιών","Σχολή Εφαρμοσμένων Μαθηματικών και Φυσικών Επιστημών","CO2",0]
[null,null,"Scope 3","Προμήθεια Χαρτιών","Προμήθεια Χαρτιών","Σχολή Εφαρμοσμένων Μαθηματικών και Φυσικών Επιστημών","CH4",0]
[null,null,"Scope 3","Προμήθεια Χαρτιών","Προμήθεια Χαρτιών","Σχολή Εφαρμοσμένων Μαθηματικών και Φυσικών Επιστημών","N2O",0]
[null,null,"Scope 3","Προμήθεια Χαρτιών","Προμήθεια Χαρτιών","Σχολή Ηλεκτρολόγων Μηχανικών και Μηχανικών Υπολογιστών","CO2e",{"$f":"'Σύνοψη - Πίνακες'!P156","v":1.9759946045719154}]
[null,null,"Scope 3","Προμήθεια Χαρτιών","Προμήθεια Χαρτιών","Σχολή Ηλεκτρολόγων Μηχανικών και Μηχανικών Υπολογιστών","CO2",0]
[null,null,"Scope 3","Προμήθεια Χαρτιών","Προμήθεια Χαρτιών","Σχολή Ηλεκτρολόγων Μηχανικών και Μηχανικών Υπολογιστών","CH4",0]
[null,null,"Scope 3","Προμήθεια Χαρτιών","Προμήθεια Χαρτιών","Σχολή Ηλεκτρολόγων Μηχανικών και Μηχανικών Υπολογιστών","N2O",0]
[null,null,"Scope 3","Προμήθεια Χαρτιών","Προμήθεια Χαρτιών","Σχολή Μηχανικών Μεταλλείων Μεταλλουργών","CO2e",{"$f":"'Σύνοψη - Πίνακες'!R156","v":3.2004870083771118}]
[null,null,"Scope 3","Προμήθεια Χαρτιών","Προμήθεια Χαρτιών","Σχολή Μηχανικών Μεταλλείων Μεταλλουργών","CO2",0]
[null,null,"Scope 3","Προμήθεια Χαρτιών","Προμήθεια Χαρτιών","Σχολή Μηχανικών Μεταλλείων Μεταλλουργών","CH4",0]
[null,null,"Scope 3","Προμήθεια Χαρτιών","Προμήθεια Χαρτιών","Σχολή Μηχανικών Μεταλλείων Μεταλλουργών","N2O",0]
[null,null,"Scope 3","Προμήθεια Χαρτιών","Προμήθεια Χαρτιών","Σχολή Μηχανολόγων Μηχανικών","CO2e",{"$f":"'Σύνοψη - Πίνακες'!T156","v":1.517410194519381}]
[null,null,"Scope 3","Προμήθεια Χαρτιών","Προμήθεια Χαρτιών","Σχολή Μηχανολόγων Μηχανικών","CO2",0]
[null,null,"Scope 3","Προμήθεια Χαρτιών","Προμήθεια Χαρτιών","Σχολή Μηχανολόγων Μηχανικών","CH4",0]
[null,null,"Scope 3","Προμήθεια Χαρτιών","Προμήθεια Χαρτιών","Σχολή Μηχανολόγων Μηχανικών","N2O",0]
[null,null,"Scope 3","Προμήθεια Χαρτιών","Προμήθεια Χαρτιών","Σχολή Ναυπηγών Μηχανολόγων Μηχανικών","CO2e",{"$f":"'Σύνοψη - Πίνακες'!V156","v":1.5774343319608122}]
[null,null,"Scope 3","Προμήθεια Χαρτιών","Προμήθεια Χαρτιών","Σχολή Ναυπηγών Μηχανολόγων Μηχανικών","CO2",0]
[null,null,"Scope 3","Προμήθεια Χαρτιών","Προμήθεια Χαρτιών","Σχολή Ναυπηγών Μηχανολόγων Μηχανικών","CH4",0]
[null,null,"Scope 3","Προμήθεια Χαρτιών","Προμήθεια Χαρτιών","Σχολή Ναυπηγών Μηχανολόγων Μηχανικών","N2O",0]
[null,null,"Scope 3","Προμήθεια Χαρτιών","Προμήθεια Χαρτιών","Σχολή Πολιτικών Μηχανικών","CO2e",{"$f":"'Σύνοψη - Πίνακες'!X156","v":1.3229319892091438}]
[null,null,"Scope 3","Προμήθεια Χαρτιών","Προμήθεια Χαρτιών","Σχολή Πολιτικών Μηχανικών","CO2",0]
[null,null,"Scope 3","Προμήθεια Χαρτιών","Προμήθεια Χαρτιών","Σχολή Πολιτικών Μηχανικών","CH4",0]
[null,null,"Scope 3","Προμήθεια Χαρτιών","Προμήθεια Χαρτιών","Σχολή Πολιτικών Μηχανικών","N2O",0]
[null,null,"Scope 3","Προμήθεια Χαρτιών","Προμήθεια Χαρτιών","Σχολή Χημικών Μηχανικών","CO2e",{"$f":"'Σύνοψη - Πίνακες'!Z156","v":1.7863183302569929}]
[null,null,"Scope 3","Προμήθεια Χαρτιών","Προμήθεια Χαρτιών","Σχολή Χημικών Μηχανικών","CO2",0]
[null,null,"Scope 3","Προμήθεια Χαρτιών","Προμήθεια Χαρτιών","Σχολή Χημικών Μηχανικών","CH4",0]
[null,null,"Scope 3","Προμήθεια Χαρτιών","Προμήθεια Χαρτιών","Σχολή Χημικών Μηχανικών","N2O",0]
[null,null,"Scope 3","Προμήθεια Χαρτιών","Προμήθεια Χαρτιών","Σχολή Αρχιτεκτόνων Μηχανικών","CO2e",{"$f":"'Σύνοψη - Πίνακες'!AB156","v":1.6974826068436746}]
[null,null,"Scope 3","Προμήθεια Χαρτιών","Προμήθεια Χαρτιών","Σχολή Αρχιτεκτόνων Μηχανικών","CO2",0]
[null,null,"Scope 3","Προμήθεια Χαρτιών","Προμήθεια Χαρτιών","Σχολή Αρχιτεκτόνων Μηχανικών","CH4",0]
[null,null,"Scope 3","Προμήθεια Χαρτιών","Προμήθεια Χαρτιών","Σχολή Αρχιτεκτόνων Μηχανικών","N2O",0]

{"sheet":"Διάγραμμα 1","index":15,"n_rows":9,"n_cols":22,"rows_kept":9,"cut":false,"hidden":true,"merged":[]}
[]
[]
["Sum of Εκπομπές (tn)","Column Labels"]
[null,"Ανεξέλεγκτες Εκπομπές Ανθρωπογενών Συστημάτων","Ανεξέλεγκτες Εκπομπές Ανθρωπογενών Συστημάτων Total","Διαχείριση Λυμάτων","Διαχείριση Λυμάτων Total","Εισαγόμενη Ηλεκτρική Ενέργεια","Εισαγόμενη Ηλεκτρική Ενέργεια Total","Επαγγελματικά Ταξίδια","Επαγγελματικά Ταξίδια Total","Κινητή Καύση","Κινητή Καύση Total","Μετακίνηση Υπαλλήλων","Μετακίνηση Υπαλλήλων Total","Μετακίνηση Φοιτητών","Μετακίνηση Φοιτητών Total","Προμήθεια Χαρτιών","Προμήθεια Χαρτιών Total","Σταθερή Καύση","Σταθερή Καύση Total","Τελική Διάθεση Στερεών Αποβλήτων","Τελική Διάθεση Στερεών Αποβλήτων Total","Grand Total"]
["Row Labels","CO2e",null,"CO2e",null,"CO2e",null,"CO2e",null,"CO2e",null,"CO2e",null,"CO2e",null,"CO2e",null,"CO2e",null,"CO2e"]
["Scope 1",0,0,null,null,null,null,null,null,3.831055169117132,3.831055169117132,null,null,null,null,null,null,63.720627192325047,63.720627192325047,null,null,67.551682361442175]
["Scope 2",null,null,null,null,472.7293849960144,472.7293849960144,null,null,null,null,null,null,null,null,null,null,null,null,null,null,472.7293849960144]
["Scope 3",null,null,1.2287006175213255,1.2287006175213255,null,null,38.896817677109865,38.896817677109865,null,null,57.258340429867395,57.258340429867395,68.004664344383201,68.004664344383201,1.9327791770682947,1.9327791770682947,null,null,6.6772388371665485,6.6772388371665485,173.99854108311663]
["Grand Total",0,0,1.2287006175213255,1.2287006175213255,472.7293849960144,472.7293849960144,38.896817677109865,38.896817677109865,3.831055169117132,3.831055169117132,57.258340429867395,57.258340429867395,68.004664344383201,68.004664344383201,1.9327791770682947,1.9327791770682947,63.720627192325047,63.720627192325047,6.6772388371665485,6.6772388371665485,714.27960844057316]

{"sheet":"Διάγραμμα 2","index":16,"n_rows":15,"n_cols":3,"rows_kept":15,"cut":false,"hidden":true,"merged":[]}
[]
[]
["Sum of Εκπομπές (tn)","Column Labels"]
["Row Labels","CO2e","Grand Total"]
["Scope 3",827.62819442649572,827.62819442649572]
["Μετακίνηση Φοιτητών",827.62819442649572,827.62819442649572]
["Βενζίνη (Επιβατικό)",380.0223617588635,380.0223617588635]
["Βενζίνη (Μοτοσυκλέτα)",90.311324877618901,90.311324877618901]
["Ηλεκτρική Ενέργεια (Επιβατικό)",1.902420700961357,1.902420700961357]
["Ηλεκτρική Ενέργεια (Λεωφορείο / Τρόλεϊ)",3.4901026830136654,3.4901026830136654]
["Ηλεκτρική Ενέργεια (Συρμοί)",285.76677004083609,285.76677004083609]
["Πετρέλαιο Κίνησης (Επιβατικό)",42.324882576658517,42.324882576658517]
["Φυσικό Αέριο Κίνησης (Λεωφορείο)",4.1554192168319997,4.1554192168319997]
["Πετρέλαιο Κίνησης (Λεωφορείο)",19.654912571711623,19.654912571711623]
["Grand Total",827.62819442649572,827.62819442649572]

{"sheet":"Διάγραμμα 3","index":17,"n_rows":17,"n_cols":3,"rows_kept":17,"cut":false,"hidden":true,"merged":[]}
[]
[]
["Sum of Εκπομπές (tn)","Column Labels"]
["Row Labels","CO2e","Grand Total"]
["Βιβλιοθήκη",184.92193740730818,184.92193740730818]
["Γυμναστήριο",70.684627872168932,70.684627872168932]
["Διοίκηση",668.23664080446542,668.23664080446542]
["Σχολή Αγρονόμων και Τοπογράφων Μηχανικών",442.87312517841201,442.87312517841201]
["Σχολή Αρχιτεκτόνων Μηχανικών",762.20064759835896,762.20064759835896]
["Σχολή Εφαρμοσμένων Μαθηματικών και Φυσικών Επιστημών",714.27960844057316,714.27960844057316]
["Σχολή Ηλεκτρολόγων Μηχανικών και Μηχανικών Υπολογιστών",516.19809199109091,516.19809199109091]
["Σχολή Μηχανικών Μεταλλείων Μεταλλουργών",805.47854947605867,805.47854947605867]
["Σχολή Μηχανολόγων Μηχανικών",976.71905516755942,976.71905516755942]
["Σχολή Ναυπηγών Μηχανολόγων Μηχανικών",305.21735552165603,305.21735552165603]
["Σχολή Πολιτικών Μηχανικών",580.18917809061475,580.18917809061475]
["Σχολή Χημικών Μηχανικών",887.09442909734821,887.09442909734821]
["Grand Total",6914.0932466456143,6914.0932466456143]

{"sheet":"ΔΑ 5","index":18,"n_rows":8,"n_cols":8,"rows_kept":8,"cut":false,"hidden":true,"merged":[]}
[]
[]
["Sum of Κατανάλωση Ενέργειας (kWh)","Column Labels"]
["Row Labels","Εισαγόμενη Ηλεκτρική Ενέργεια","Επαγγελματικά Ταξίδια","Κινητή Καύση","Μετακίνηση Υπαλλήλων","Μετακίνηση Φοιτητών","Σταθερή Καύση","Grand Total"]
["Scope 1",null,null,172585.52430555559,null,null,2750296.8499999996,2922882.3743055551]
["Scope 2",11266091.65,null,null,null,null,null,11266091.65]
["Scope 3",null,1907070.1734277089,null,2744669.0781041663,2616161.0706874989,null,7267900.3222193737]
["Grand Total",11266091.65,1907070.1734277089,172585.52430555559,2744669.0781041663,2616161.0706874989,2750296.8499999996,21456874.346524931]

{"sheet":"ΔΑ 6","index":19,"n_rows":11,"n_cols":2,"rows_kept":11,"cut":false,"hidden":true,"merged":[]}
[]
[]
["Row Labels","Sum of Κατανάλωση Ενέργειας (kWh)"]
["Scope 1",2922882.3743055551]
["Κινητή Καύση",172585.52430555553]
["Βενζίνη (Επιβατικό)",48866.77430555554]
["Πετρέλαιο Κίνησης (Επιβατικό)",123718.74999999999]
["Σταθερή Καύση",2750296.8499999996]
["Πετρέλαιο Θέρμανσης",0]
["Φυσικό Αέριο",2750296.8499999996]
["Grand Total",2922882.3743055551]

{"sheet":"ΔΑ 7","index":20,"n_rows":30,"n_cols":2,"rows_kept":30,"cut":false,"hidden":true,"merged":[]}
[]
[]
["Row Labels","Sum of Κατανάλωση Ενέργειας (kWh)"]
["Scope 3",7267900.3222193737]
["Επαγγελματικά Ταξίδια",1907070.1734277084]
["Βενζίνη (Επιβατικό)",87062.733227708362]
["Ηλεκτρική Ενέργεια (Επιβατικό)",238.03999999999994]
["Ηλεκτρική Ενέργεια (Τρένο)",0]
["Κηροζίνη (Αεροσκάφος)",1810053.8162500001]
["Πετρέλαιο Κίνησης (Επιβατικό)",9715.5839500000002]
["Πετρέλαιο Κίνησης (Τρένο)",0]
["Μετακίνηση Υπαλλήλων",2744669.0781041663]
["Βενζίνη (Επιβατικό)",2124540.7645763885]
["Βενζίνη (Μοτοσυκλέτα)",271059.55463888892]
["Ηλεκτρική Ενέργεια (Επιβατικό)",5584]
["Ηλεκτρική Ενέργεια (Λεωφορείο / Τρόλεϊ)",1068]
["Ηλεκτρική Ενέργεια (Συρμοί)",87299.999999999985]
["Πετρέλαιο Κίνησης (Επιβατικό)",237262.86999999997]
["Φυσικό Αέριο Κίνησης (Λεωφορείο)",2933.3333333333335]
["Πετρέλαιο Κίνησης (Λεωφορείο)",14920.555555555555]
["Μετακίνηση Φοιτητών",2616161.0706875003]
["Βενζίνη (Επιβατικό)",1428597.9346527776]
["Βενζίνη (Μοτοσυκλέτα)",328820.08186805551]
["Ηλεκτρική Ενέργεια (Επιβατικό)",3807.9999999999991]
["Ηλεκτρική Ενέργεια (Λεωφορείο / Τρόλεϊ)",6986]
["Ηλεκτρική Ενέργεια (Συρμοί)",572008.00000000012]
["Πετρέλαιο Κίνησης (Επιβατικό)",158805.38750000001]
["Φυσικό Αέριο Κίνησης (Λεωφορείο)",19373.333333333336]
["Πετρέλαιο Κίνησης (Λεωφορείο)",97762.333333333343]
["Grand Total",7267900.3222193737]

{"sheet":"ΔΑ 8","index":21,"n_rows":16,"n_cols":2,"rows_kept":16,"cut":false,"hidden":true,"merged":[]}
[]
[]
["Row Labels","Sum of Κατανάλωση Ενέργειας (kWh)"]
["Βιβλιοθήκη",559754.76513314061]
["Γυμναστήριο",215718.10187609261]
["Διοίκηση",838086.17203253717]
["Σχολή Αγρονόμων και Τοπογράφων Μηχανικών",1502708.9539879204]
["Σχολή Αρχιτεκτόνων Μηχανικών",2422089.2474866072]
["Σχολή Εφαρμοσμένων Μαθηματικών και Φυσικών Επιστημών",2196773.7877058932]
["Σχολή Ηλεκτρολόγων Μηχανικών και Μηχανικών Υπολογιστών",1919122.6469645142]
["Σχολή Μηχανικών Μεταλλείων Μεταλλουργών",3029439.2527372222]
["Σχολή Μηχανολόγων Μηχανικών",2889647.8224086855]
["Σχολή Ναυπηγών Μηχανολόγων Μηχανικών",1272740.1144337961]
["Σχολή Πολιτικών Μηχανικών",1854820.0865606207]
["Σχολή Χημικών Μηχανικών",2755973.3951978986]
["Grand Total",21456874.346524928]

{"sheet":"Πίνακας Ενέργειας","index":22,"n_rows":325,"n_cols":7,"rows_kept":325,"cut":false,"hidden":true,"merged":[]}
[null,null,"Scope","Κατηγορία","Υποκατηγορία","Κτίριο","Κατανάλωση Ενέργειας (kWh)"]
[null,null,"Scope 1","Σταθερή Καύση","Πετρέλαιο Θέρμανσης","Βιβλιοθήκη",{"$f":"'Σύνοψη - Πίνακες'!F167","v":0}]
[null,null,"Scope 1","Σταθερή Καύση","Πετρέλαιο Θέρμανσης","Γυμναστήριο",{"$f":"'Σύνοψη - Πίνακες'!H167","v":0}]
[null,null,"Scope 1","Σταθερή Καύση","Πετρέλαιο Θέρμανσης","Διοίκηση",{"$f":"'Σύνοψη - Πίνακες'!J167","v":0}]
[null,null,"Scope 1","Σταθερή Καύση","Πετρέλαιο Θέρμανσης","Σχολή Αγρονόμων και Τοπογράφων Μηχανικών",{"$f":"'Σύνοψη - Πίνακες'!L167","v":0}]
[null,null,"Scope 1","Σταθερή Καύση","Πετρέλαιο Θέρμανσης","Σχολή Εφαρμοσμένων Μαθηματικών και Φυσικών Επιστημών",{"$f":"'Σύνοψη - Πίνακες'!N167","v":0}]
[null,null,"Scope 1","Σταθερή Καύση","Πετρέλαιο Θέρμανσης","Σχολή Ηλεκτρολόγων Μηχανικών και Μηχανικών Υπολογιστών",{"$f":"'Σύνοψη - Πίνακες'!P167","v":0}]
[null,null,"Scope 1","Σταθερή Καύση","Πετρέλαιο Θέρμανσης","Σχολή Μηχανικών Μεταλλείων Μεταλλουργών",{"$f":"'Σύνοψη - Πίνακες'!R167","v":0}]
[null,null,"Scope 1","Σταθερή Καύση","Πετρέλαιο Θέρμανσης","Σχολή Μηχανολόγων Μηχανικών",{"$f":"'Σύνοψη - Πίνακες'!T167","v":0}]
[null,null,"Scope 1","Σταθερή Καύση","Πετρέλαιο Θέρμανσης","Σχολή Ναυπηγών Μηχανολόγων Μηχανικών",{"$f":"'Σύνοψη - Πίνακες'!V167","v":0}]
[null,null,"Scope 1","Σταθερή Καύση","Πετρέλαιο Θέρμανσης","Σχολή Πολιτικών Μηχανικών",{"$f":"'Σύνοψη - Πίνακες'!X167","v":0}]
[null,null,"Scope 1","Σταθερή Καύση","Πετρέλαιο Θέρμανσης","Σχολή Χημικών Μηχανικών",{"$f":"'Σύνοψη - Πίνακες'!Z167","v":0}]
[null,null,"Scope 1","Σταθερή Καύση","Πετρέλαιο Θέρμανσης","Σχολή Αρχιτεκτόνων Μηχανικών",{"$f":"'Σύνοψη - Πίνακες'!AB167","v":0}]
[null,null,"Scope 1","Σταθερή Καύση","Φυσικό Αέριο","Βιβλιοθήκη",{"$f":"'Σύνοψη - Πίνακες'!F168","v":107013.06179289591}]
[null,null,"Scope 1","Σταθερή Καύση","Φυσικό Αέριο","Γυμναστήριο",{"$f":"'Σύνοψη - Πίνακες'!H168","v":39506.160764833672}]
[null,null,"Scope 1","Σταθερή Καύση","Φυσικό Αέριο","Διοίκηση",{"$f":"'Σύνοψη - Πίνακες'!J168","v":89105.053890142794}]
[null,null,"Scope 1","Σταθερή Καύση","Φυσικό Αέριο","Σχολή Αγρονόμων και Τοπογράφων Μηχανικών",{"$f":"'Σύνοψη - Πίνακες'!L168","v":181986.28548547541}]
[null,null,"Scope 1","Σταθερή Καύση","Φυσικό Αέριο","Σχολή Εφαρμοσμένων Μαθηματικών και Φυσικών Επιστημών",{"$f":"'Σύνοψη - Πίνακες'!N168","v":317007.44727502175}]
[null,null,"Scope 1","Σταθερή Καύση","Φυσικό Αέριο","Σχολή Ηλεκτρολόγων Μηχανικών και Μηχανικών Υπολογιστών",{"$f":"'Σύνοψη - Πίνακες'!P168","v":194999.30931096105}]
[null,null,"Scope 1","Σταθερή Καύση","Φυσικό Αέριο","Σχολή Μηχανικών Μεταλλείων Μεταλλουργών",{"$f":"'Σύνοψη - Πίνακες'!R168","v":301176.78757656523}]
[null,null,"Scope 1","Σταθερή Καύση","Φυσικό Αέριο","Σχολή Μηχανολόγων Μηχανικών",{"$f":"'Σύνοψη - Πίνακες'!T168","v":447355.43212560064}]
[null,null,"Scope 1","Σταθερή Καύση","Φυσικό Αέριο","Σχολή Ναυπηγών Μηχανολόγων Μηχανικών",{"$f":"'Σύνοψη - Πίνακες'!V168","v":100411.0002376245}]
[null,null,"Scope 1","Σταθερή Καύση","Φυσικό Αέριο","Σχολή Πολιτικών Μηχανικών",{"$f":"'Σύνοψη - Πίνακες'!X168","v":249909.26523578359}]
[null,null,"Scope 1","Σταθερή Καύση","Φυσικό Αέριο","Σχολή Χημικών Μηχανικών",{"$f":"'Σύνοψη - Πίνακες'!Z168","v":391451.15083709423}]
[null,null,"Scope 1","Σταθερή Καύση","Φυσικό Αέριο","Σχολή Αρχιτεκτόνων Μηχανικών",{"$f":"'Σύνοψη - Πίνακες'!AB168","v":330375.89546800079}]
[null,null,"Scope 1","Κινητή Καύση","Πετρέλαιο Κίνησης (Επιβατικό)","Βιβλιοθήκη",{"$f":"'Σύνοψη - Πίνακες'!F170","v":10309.895833333334}]
[null,null,"Scope 1","Κινητή Καύση","Πετρέλαιο Κίνησης (Επιβατικό)","Γυμναστήριο",{"$f":"'Σύνοψη - Πίνακες'!J170","v":10309.895833333334}]
[null,null,"Scope 1","Κινητή Καύση","Πετρέλαιο Κίνησης (Επιβατικό)","Διοίκηση",{"$f":"'Σύνοψη - Πίνακες'!L170","v":10309.895833333334}]
[null,null,"Scope 1","Κινητή Καύση","Πετρέλαιο Κίνησης (Επιβατικό)","Σχολή Αγρονόμων και Τοπογράφων Μηχανικών",{"$f":"'Σύνοψη - Πίνακες'!N170","v":10309.895833333334}]
[null,null,"Scope 1","Κινητή Καύση","Πετρέλαιο Κίνησης (Επιβατικό)","Σχολή Εφαρμοσμένων Μαθηματικών και Φυσικών Επιστημών",{"$f":"'Σύνοψη - Πίνακες'!P170","v":10309.895833333334}]
[null,null,"Scope 1","Κινητή Καύση","Πετρέλαιο Κίνησης (Επιβατικό)","Σχολή Ηλεκτρολόγων Μηχανικών και Μηχανικών Υπολογιστών",{"$f":"'Σύνοψη - Πίνακες'!R170","v":10309.895833333334}]
[null,null,"Scope 1","Κινητή Καύση","Πετρέλαιο Κίνησης (Επιβατικό)","Σχολή Μηχανικών Μεταλλείων Μεταλλουργών",{"$f":"'Σύνοψη - Πίνακες'!T170","v":10309.895833333334}]
[null,null,"Scope 1","Κινητή Καύση","Πετρέλαιο Κίνησης (Επιβατικό)","Σχολή Μηχανολόγων Μηχανικών",{"$f":"'Σύνοψη - Πίνακες'!V170","v":10309.895833333334}]
[null,null,"Scope 1","Κινητή Καύση","Πετρέλαιο Κίνησης (Επιβατικό)","Σχολή Ναυπηγών Μηχανολόγων Μηχανικών",{"$f":"'Σύνοψη - Πίνακες'!V170","v":10309.895833333334}]
[null,null,"Scope 1","Κινητή Καύση","Πετρέλαιο Κίνησης (Επιβατικό)","Σχολή Πολιτικών Μηχανικών",{"$f":"'Σύνοψη - Πίνακες'!X170","v":10309.895833333334}]
[null,null,"Scope 1","Κινητή Καύση","Πετρέλαιο Κίνησης (Επιβατικό)","Σχολή Χημικών Μηχανικών",{"$f":"'Σύνοψη - Πίνακες'!Z170","v":10309.895833333334}]
[null,null,"Scope 1","Κινητή Καύση","Πετρέλαιο Κίνησης (Επιβατικό)","Σχολή Αρχιτεκτόνων Μηχανικών",{"$f":"'Σύνοψη - Πίνακες'!AB170","v":10309.895833333334}]
[null,null,"Scope 1","Κινητή Καύση","Βενζίνη (Επιβατικό)","Βιβλιοθήκη",{"$f":"'Σύνοψη - Πίνακες'!F171","v":4072.2311921296296}]
[null,null,"Scope 1","Κινητή Καύση","Βενζίνη (Επιβατικό)","Γυμναστήριο",{"$f":"'Σύνοψη - Πίνακες'!H171","v":4072.2311921296296}]
[null,null,"Scope 1","Κινητή Καύση","Βενζίνη (Επιβατικό)","Διοίκηση",{"$f":"'Σύνοψη - Πίνακες'!J171","v":4072.2311921296296}]
[null,null,"Scope 1","Κινητή Καύση","Βενζίνη (Επιβατικό)","Σχολή Αγρονόμων και Τοπογράφων Μηχανικών",{"$f":"'Σύνοψη - Πίνακες'!L171","v":4072.2311921296296}]
[null,null,"Scope 1","Κινητή Καύση","Βενζίνη (Επιβατικό)","Σχολή Εφαρμοσμένων Μαθηματικών και Φυσικών Επιστημών",{"$f":"'Σύνοψη - Πίνακες'!N171","v":4072.2311921296296}]
[null,null,"Scope 1","Κινητή Καύση","Βενζίνη (Επιβατικό)","Σχολή Ηλεκτρολόγων Μηχανικών και Μηχανικών Υπολογιστών",{"$f":"'Σύνοψη - Πίνακες'!P171","v":4072.2311921296296}]
[null,null,"Scope 1","Κινητή Καύση","Βενζίνη (Επιβατικό)","Σχολή Μηχανικών Μεταλλείων Μεταλλουργών",{"$f":"'Σύνοψη - Πίνακες'!R171","v":4072.2311921296296}]
[null,null,"Scope 1","Κινητή Καύση","Βενζίνη (Επιβατικό)","Σχολή Μηχανολόγων Μηχανικών",{"$f":"'Σύνοψη - Πίνακες'!T171","v":4072.2311921296296}]
[null,null,"Scope 1","Κινητή Καύση","Βενζίνη (Επιβατικό)","Σχολή Ναυπηγών Μηχανολόγων Μηχανικών",{"$f":"'Σύνοψη - Πίνακες'!V171","v":4072.2311921296296}]
[null,null,"Scope 1","Κινητή Καύση","Βενζίνη (Επιβατικό)","Σχολή Πολιτικών Μηχανικών",{"$f":"'Σύνοψη - Πίνακες'!X171","v":4072.2311921296296}]
[null,null,"Scope 1","Κινητή Καύση","Βενζίνη (Επιβατικό)","Σχολή Χημικών Μηχανικών",{"$f":"'Σύνοψη - Πίνακες'!Z171","v":4072.2311921296296}]
[null,null,"Scope 1","Κινητή Καύση","Βενζίνη (Επιβατικό)","Σχολή Αρχιτεκτόνων Μηχανικών",{"$f":"'Σύνοψη - Πίνακες'!AB171","v":4072.2311921296296}]
[null,null,"Scope 2","Εισαγόμενη Ηλεκτρική Ενέργεια","Εισαγόμενη Ηλεκτρική Ενέργεια","Βιβλιοθήκη",{"$f":"'Σύνοψη - Πίνακες'!F173","v":438359.57631478173}]
[null,null,"Scope 2","Εισαγόμενη Ηλεκτρική Ενέργεια","Εισαγόμενη Ηλεκτρική Ενέργεια","Γυμναστήριο",{"$f":"'Σύνοψη - Πίνακες'!H173","v":161829.81408579598}]
[null,null,"Scope 2","Εισαγόμενη Ηλεκτρική Ενέργεια","Εισαγόμενη Ηλεκτρική Ενέργεια","Διοίκηση",{"$f":"'Σύνοψη - Πίνακες'!J173","v":365002.67365849542}]
[null,null,"Scope 2","Εισαγόμενη Ηλεκτρική Ενέργεια","Εισαγόμενη Ηλεκτρική Ενέργεια","Σχολή Αγρονόμων και Τοπογράφων Μηχανικών",{"$f":"'Σύνοψη - Πίνακες'!L173","v":745473.77361190342}]
[null,null,"Scope 2","Εισαγόμενη Ηλεκτρική Ενέργεια","Εισαγόμενη Ηλεκτρική Ενέργεια","Σχολή Εφαρμοσμένων Μαθηματικών και Φυσικών Επιστημών",{"$f":"'Σύνοψη - Πίνακες'!N173","v":1298563.445881465}]
[null,null,"Scope 2","Εισαγόμενη Ηλεκτρική Ενέργεια","Εισαγόμενη Ηλεκτρική Ενέργεια","Σχολή Ηλεκτρολόγων Μηχανικών και Μηχανικών Υπολογιστών",{"$f":"'Σύνοψη - Πίνακες'!P173","v":798779.26282175165}]
[null,null,"Scope 2","Εισαγόμενη Ηλεκτρική Ενέργεια","Εισαγόμενη Ηλεκτρική Ενέργεια","Σχολή Μηχανικών Μεταλλείων Μεταλλουργών",{"$f":"'Σύνοψη - Πίνακες'!R173","v":1233716.0229413656}]
[null,null,"Scope 2","Εισαγόμενη Ηλεκτρική Ενέργεια","Εισαγόμενη Ηλεκτρική Ενέργεια","Σχολή Μηχανολόγων Μηχανικών",{"$f":"'Σύνοψη - Πίνακες'!T173","v":1832510.2973711265}]
[null,null,"Scope 2","Εισαγόμενη Ηλεκτρική Ενέργεια","Εισαγόμενη Ηλεκτρική Ενέργεια","Σχολή Ναυπηγών Μηχανολόγων Μηχανικών",{"$f":"'Σύνοψη - Πίνακες'!V173","v":411315.42994904332}]
[null,null,"Scope 2","Εισαγόμενη Ηλεκτρική Ενέργεια","Εισαγόμενη Ηλεκτρική Ενέργεια","Σχολή Πολιτικών Μηχανικών",{"$f":"'Σύνοψη - Πίνακες'!X173","v":1023707.9267754306}]
[null,null,"Scope 2","Εισαγόμενη Ηλεκτρική Ενέργεια","Εισαγόμενη Ηλεκτρική Ενέργεια","Σχολή Χημικών Μηχανικών",{"$f":"'Σύνοψη - Πίνακες'!Z173","v":1603508.5601136759}]
[null,null,"Scope 2","Εισαγόμενη Ηλεκτρική Ενέργεια","Εισαγόμενη Ηλεκτρική Ενέργεια","Σχολή Αρχιτεκτόνων Μηχανικών",{"$f":"'Σύνοψη - Πίνακες'!AB173","v":1353324.8664751651}]
[null,null,"Scope 3","Μετακίνηση Φοιτητών","Πετρέλαιο Κίνησης (Επιβατικό)","Βιβλιοθήκη",0]
[null,null,"Scope 3","Μετακίνηση Φοιτητών","Πετρέλαιο Κίνησης (Επιβατικό)","Γυμναστήριο",0]
[null,null,"Scope 3","Μετακίνηση Φοιτητών","Πετρέλαιο Κίνησης (Επιβατικό)","Διοίκηση",0]
[null,null,"Scope 3","Μετακίνηση Φοιτητών","Πετρέλαιο Κίνησης (Επιβατικό)","Σχολή Αγρονόμων και Τοπογράφων Μηχανικών",{"$f":"'Σύνοψη - Πίνακες'!L176","v":12911.675731486277}]
[null,null,"Scope 3","Μετακίνηση Φοιτητών","Πετρέλαιο Κίνησης (Επιβατικό)","Σχολή Εφαρμοσμένων Μαθηματικών και Φυσικών Επιστημών",{"$f":"'Σύνοψη - Πίνακες'!N176","v":13048.742352839634}]
[null,null,"Scope 3","Μετακίνηση Φοιτητών","Πετρέλαιο Κίνησης (Επιβατικό)","Σχολή Ηλεκτρολόγων Μηχανικών και Μηχανικών Υπολογιστών",{"$f":"'Σύνοψη - Πίνακες'!P176","v":20971.193067063701}]
[null,null,"Scope 3","Μετακίνηση Φοιτητών","Πετρέλαιο Κίνησης (Επιβατικό)","Σχολή Μηχανικών Μεταλλείων Μεταλλουργών",{"$f":"'Σύνοψη - Πίνακες'!R176","v":34074.762068444681}]
[null,null,"Scope 3","Μετακίνηση Φοιτητών","Πετρέλαιο Κίνησης (Επιβατικό)","Σχολή Μηχανολόγων Μηχανικών",{"$f":"'Σύνοψη - Πίνακες'!T176","v":13706.66213533575}]
[null,null,"Scope 3","Μετακίνηση Φοιτητών","Πετρέλαιο Κίνησης (Επιβατικό)","Σχολή Ναυπηγών Μηχανολόγων Μηχανικών",{"$f":"'Σύνοψη - Πίνακες'!V176","v":17188.154317711032}]
[null,null,"Scope 3","Μετακίνηση Φοιτητών","Πετρέλαιο Κίνησης (Επιβατικό)","Σχολή Πολιτικών Μηχανικών",{"$f":"'Σύνοψη - Πίνακες'!X176","v":13048.742352839634}]
[null,null,"Scope 3","Μετακίνηση Φοιτητών","Πετρέλαιο Κίνησης (Επιβατικό)","Σχολή Χημικών Μηχανικών",{"$f":"'Σύνοψη - Πίνακες'!Z176","v":17188.154317711032}]
[null,null,"Scope 3","Μετακίνηση Φοιτητών","Πετρέλαιο Κίνησης (Επιβατικό)","Σχολή Αρχιτεκτόνων Μηχανικών",{"$f":"'Σύνοψη - Πίνακες'!AB176","v":16667.301156568272}]
[null,null,"Scope 3","Μετακίνηση Φοιτητών","Βενζίνη (Επιβατικό)","Βιβλιοθήκη",0]
[null,null,"Scope 3","Μετακίνηση Φοιτητών","Βενζίνη (Επιβατικό)","Γυμναστήριο",0]
[null,null,"Scope 3","Μετακίνηση Φοιτητών","Βενζίνη (Επιβατικό)","Διοίκηση",0]
[null,null,"Scope 3","Μετακίνηση Φοιτητών","Βενζίνη (Επιβατικό)","Σχολή Αγρονόμων και Τοπογράφων Μηχανικών",{"$f":"'Σύνοψη - Πίνακες'!L177","v":116152.18836897261}]
[null,null,"Scope 3","Μετακίνηση Φοιτητών","Βενζίνη (Επιβατικό)","Σχολή Εφαρμοσμένων Μαθηματικών και Φυσικών Επιστημών",{"$f":"'Σύνοψη - Πίνακες'!N177","v":117385.22646206147}]
[null,null,"Scope 3","Μετακίνηση Φοιτητών","Βενζίνη (Επιβατικό)","Σχολή Ηλεκτρολόγων Μηχανικών και Μηχανικών Υπολογιστών",{"$f":"'Σύνοψη - Πίνακες'!P177","v":188654.8282425988}]
[null,null,"Scope 3","Μετακίνηση Φοιτητών","Βενζίνη (Επιβατικό)","Σχολή Μηχανικών Μεταλλείων Μεταλλουργών",{"$f":"'Σύνοψη - Πίνακες'!R177","v":306533.26994189585}]
[null,null,"Scope 3","Μετακίνηση Φοιτητών","Βενζίνη (Επιβατικό)","Σχολή Μηχανολόγων Μηχανικών",{"$f":"'Σύνοψη - Πίνακες'!T177","v":123303.80930888811}]
[null,null,"Scope 3","Μετακίνηση Φοιτητών","Βενζίνη (Επιβατικό)","Σχολή Ναυπηγών Μηχανολόγων Μηχανικών",{"$f":"'Σύνοψη - Πίνακες'!V177","v":154622.97687334567}]
[null,null,"Scope 3","Μετακίνηση Φοιτητών","Βενζίνη (Επιβατικό)","Σχολή Πολιτικών Μηχανικών",{"$f":"'Σύνοψη - Πίνακες'!X177","v":117385.22646206147}]
[null,null,"Scope 3","Μετακίνηση Φοιτητών","Βενζίνη (Επιβατικό)","Σχολή Χημικών Μηχανικών",{"$f":"'Σύνοψη - Πίνακες'!Z177","v":154622.97687334567}]
[null,null,"Scope 3","Μετακίνηση Φοιτητών","Βενζίνη (Επιβατικό)","Σχολή Αρχιτεκτόνων Μηχανικών",{"$f":"'Σύνοψη - Πίνακες'!AB177","v":149937.43211960795}]
[null,null,"Scope 3","Μετακίνηση Φοιτητών","Βενζίνη (Μοτοσυκλέτα)","Βιβλιοθήκη",0]
[null,null,"Scope 3","Μετακίνηση Φοιτητών","Βενζίνη (Μοτοσυκλέτα)","Γυμναστήριο",0]
[null,null,"Scope 3","Μετακίνηση Φοιτητών","Βενζίνη (Μοτοσυκλέτα)","Διοίκηση",0]
[null,null,"Scope 3","Μετακίνηση Φοιτητών","Βενζίνη (Μοτοσυκλέτα)","Σχολή Αγρονόμων και Τοπογράφων Μηχανικών",{"$f":"'Σύνοψη - Πίνακες'!L178","v":26734.724419101356}]
[null,null,"Scope 3","Μετακίνηση Φοιτητών","Βενζίνη (Μοτοσυκλέτα)","Σχολή Εφαρμοσμένων Μαθηματικών και Φυσικών Επιστημών",{"$f":"'Σύνοψη - Πίνακες'!N178","v":27018.532533953807}]
[null,null,"Scope 3","Μετακίνηση Φοιτητών","Βενζίνη (Μοτοσυκλέτα)","Σχολή Ηλεκτρολόγων Μηχανικών και Μηχανικών Υπολογιστών",{"$f":"'Σύνοψη - Πίνακες'!P178","v":43422.641572425768}]
[null,null,"Scope 3","Μετακίνηση Φοιτητών","Βενζίνη (Μοτοσυκλέτα)","Σχολή Μηχανικών Μεταλλείων Μεταλλουργών",{"$f":"'Σύνοψη - Πίνακες'!R178","v":70554.697352320552}]
[null,null,"Scope 3","Μετακίνηση Φοιτητών","Βενζίνη (Μοτοσυκλέτα)","Σχολή Μηχανολόγων Μηχανικών",{"$f":"'Σύνοψη - Πίνακες'!T178","v":28380.811485245598}]
[null,null,"Scope 3","Μετακίνηση Φοιτητών","Βενζίνη (Μοτοσυκλέτα)","Σχολή Ναυπηγών Μηχανολόγων Μηχανικών",{"$f":"'Σύνοψη - Πίνακες'!V178","v":35589.537602497985}]
[null,null,"Scope 3","Μετακίνηση Φοιτητών","Βενζίνη (Μοτοσυκλέτα)","Σχολή Πολιτικών Μηχανικών",{"$f":"'Σύνοψη - Πίνακες'!X178","v":27018.532533953807}]
[null,null,"Scope 3","Μετακίνηση Φοιτητών","Βενζίνη (Μοτοσυκλέτα)","Σχολή Χημικών Μηχανικών",{"$f":"'Σύνοψη - Πίνακες'!Z178","v":35589.537602497985}]
[null,null,"Scope 3","Μετακίνηση Φοιτητών","Βενζίνη (Μοτοσυκλέτα)","Σχολή Αρχιτεκτόνων Μηχανικών",{"$f":"'Σύνοψη - Πίνακες'!AB178","v":34511.066766058648}]
[null,null,"Scope 3","Μετακίνηση Φοιτητών","Πετρέλαιο Κίνησης (Λεωφορείο)","Βιβλιοθήκη",0]
[null,null,"Scope 3","Μετακίνηση Φοιτητών","Πετρέλαιο Κίνησης (Λεωφορείο)","Γυμναστήριο",0]
[null,null,"Scope 3","Μετακίνηση Φοιτητών","Πετρέλαιο Κίνησης (Λεωφορείο)","Διοίκηση",0]
[null,null,"Scope 3","Μετακίνηση Φοιτητών","Πετρέλαιο Κίνησης (Λεωφορείο)","Σχολή Αγρονόμων και Τοπογράφων Μηχανικών",{"$f":"'Σύνοψη - Πίνακες'!L179","v":7948.5687899188679}]
[null,null,"Scope 3","Μετακίνηση Φοιτητών","Πετρέλαιο Κίνησης (Λεωφορείο)","Σχολή Εφαρμοσμένων Μαθηματικών και Φυσικών Επιστημών",{"$f":"'Σύνοψη - Πίνακες'!N179","v":8032.948501064503}]
[null,null,"Scope 3","Μετακίνηση Φοιτητών","Πετρέλαιο Κίνησης (Λεωφορείο)","Σχολή Ηλεκτρολόγων Μηχανικών και Μηχανικών Υπολογιστών",{"$f":"'Σύνοψη - Πίνακες'!P179","v":12910.095805282237}]
[null,null,"Scope 3","Μετακίνηση Φοιτητών","Πετρέλαιο Κίνησης (Λεωφορείο)","Σχολή Μηχανικών Μεταλλείων Μεταλλουργών",{"$f":"'Σύνοψη - Πίνακες'!R179","v":20976.796190804995}]
[null,null,"Scope 3","Μετακίνηση Φοιτητών","Πετρέλαιο Κίνησης (Λεωφορείο)","Σχολή Μηχανολόγων Μηχανικών",{"$f":"'Σύνοψη - Πίνακες'!T179","v":8437.9711145635538}]
[null,null,"Scope 3","Μετακίνηση Φοιτητών","Πετρέλαιο Κίνησης (Λεωφορείο)","Σχολή Ναυπηγών Μηχανολόγων Μηχανικών",{"$f":"'Σύνοψη - Πίνακες'!V179","v":10581.215777662695}]
[null,null,"Scope 3","Μετακίνηση Φοιτητών","Πετρέλαιο Κίνησης (Λεωφορείο)","Σχολή Πολιτικών Μηχανικών",{"$f":"'Σύνοψη - Πίνακες'!X179","v":8032.948501064503}]
[null,null,"Scope 3","Μετακίνηση Φοιτητών","Πετρέλαιο Κίνησης (Λεωφορείο)","Σχολή Χημικών Μηχανικών",{"$f":"'Σύνοψη - Πίνακες'!Z179","v":10581.215777662695}]
[null,null,"Scope 3","Μετακίνηση Φοιτητών","Πετρέλαιο Κίνησης (Λεωφορείο)","Σχολή Αρχιτεκτόνων Μηχανικών",{"$f":"'Σύνοψη - Πίνακες'!AB179","v":10260.572875309281}]
[null,null,"Scope 3","Μετακίνηση Φοιτητών","Φυσικό Αέριο Κίνησης (Λεωφορείο)","Βιβλιοθήκη",0]
[null,null,"Scope 3","Μετακίνηση Φοιτητών","Φυσικό Αέριο Κίνησης (Λεωφορείο)","Γυμναστήριο",0]
[null,null,"Scope 3","Μετακίνηση Φοιτητών","Φυσικό Αέριο Κίνησης (Λεωφορείο)","Διοίκηση",0]
[null,null,"Scope 3","Μετακίνηση Φοιτητών","Φυσικό Αέριο Κίνησης (Λεωφορείο)","Σχολή Αγρονόμων και Τοπογράφων Μηχανικών",{"$f":"'Σύνοψη - Πίνακες'!L180","v":1575.1493181425858}]
[null,null,"Scope 3","Μετακίνηση Φοιτητών","Φυσικό Αέριο Κίνησης (Λεωφορείο)","Σχολή Εφαρμοσμένων Μαθηματικών και Φυσικών Επιστημών",{"$f":"'Σύνοψη - Πίνακες'!N180","v":1591.8706484838021}]
[null,null,"Scope 3","Μετακίνηση Φοιτητών","Φυσικό Αέριο Κίνησης (Λεωφορείο)","Σχολή Ηλεκτρολόγων Μηχανικών και Μηχανικών Υπολογιστών",{"$f":"'Σύνοψη - Πίνακες'!P180","v":2558.3635422061107}]
[null,null,"Scope 3","Μετακίνηση Φοιτητών","Φυσικό Αέριο Κίνησης (Λεωφορείο)","Σχολή Μηχανικών Μεταλλείων Μεταλλουργών",{"$f":"'Σύνοψη - Πίνακες'!R180","v":4156.9227228263999}]
[null,null,"Scope 3","Μετακίνηση Φοιτητών","Φυσικό Αέριο Κίνησης (Λεωφορείο)","Σχολή Μηχανολόγων Μηχανικών",{"$f":"'Σύνοψη - Πίνακες'!T180","v":1672.133034121641}]
[null,null,"Scope 3","Μετακίνηση Φοιτητών","Φυσικό Αέριο Κίνησης (Λεωφορείο)","Σχολή Ναυπηγών Μηχανολόγων Μηχανικών",{"$f":"'Σύνοψη - Πίνακες'!V180","v":2096.8548247885378}]
[null,null,"Scope 3","Μετακίνηση Φοιτητών","Φυσικό Αέριο Κίνησης (Λεωφορείο)","Σχολή Πολιτικών Μηχανικών",{"$f":"'Σύνοψη - Πίνακες'!X180","v":1591.8706484838021}]
[null,null,"Scope 3","Μετακίνηση Φοιτητών","Φυσικό Αέριο Κίνησης (Λεωφορείο)","Σχολή Χημικών Μηχανικών",{"$f":"'Σύνοψη - Πίνακες'!Z180","v":2096.8548247885378}]
[null,null,"Scope 3","Μετακίνηση Φοιτητών","Φυσικό Αέριο Κίνησης (Λεωφορείο)","Σχολή Αρχιτεκτόνων Μηχανικών",{"$f":"'Σύνοψη - Πίνακες'!AB180","v":2033.3137694919155}]
[null,null,"Scope 3","Μετακίνηση Φοιτητών","Ηλεκτρική Ενέργεια (Επιβατικό)","Βιβλιοθήκη",0]
[null,null,"Scope 3","Μετακίνηση Φοιτητών","Ηλεκτρική Ενέργεια (Επιβατικό)","Γυμναστήριο",0]
[null,null,"Scope 3","Μετακίνηση Φοιτητών","Ηλεκτρική Ενέργεια (Επιβατικό)","Διοίκηση",0]
[null,null,"Scope 3","Μετακίνηση Φοιτητών","Ηλεκτρική Ενέργεια (Επιβατικό)","Σχολή Αγρονόμων και Τοπογράφων Μηχανικών",{"$f":"'Σύνοψη - Πίνακες'!L181","v":309.60952874158465}]
[null,null,"Scope 3","Μετακίνηση Φοιτητών","Ηλεκτρική Ενέργεια (Επιβατικό)","Σχολή Εφαρμοσμένων Μαθηματικών και Φυσικών Επιστημών",{"$f":"'Σύνοψη - Πίνακες'!N181","v":312.8962540997756}]
[null,null,"Scope 3","Μετακίνηση Φοιτητών","Ηλεκτρική Ενέργεια (Επιβατικό)","Σχολή Ηλεκτρολόγων Μηχανικών και Μηχανικών Υπολογιστών",{"$f":"'Σύνοψη - Πίνακες'!P181","v":502.86897980321078}]
[null,null,"Scope 3","Μετακίνηση Φοιτητών","Ηλεκτρική Ενέργεια (Επιβατικό)","Σχολή Μηχανικών Μεταλλείων Μεταλλουργών",{"$f":"'Σύνοψη - Πίνακες'!R181","v":817.0799240462627}]
[null,null,"Scope 3","Μετακίνηση Φοιτητών","Ηλεκτρική Ενέργεια (Επιβατικό)","Σχολή Μηχανολόγων Μηχανικών",{"$f":"'Σύνοψη - Πίνακες'!T181","v":328.67253581909199}]
[null,null,"Scope 3","Μετακίνηση Φοιτητών","Ηλεκτρική Ενέργεια (Επιβατικό)","Σχολή Ναυπηγών Μηχανολόγων Μηχανικών",{"$f":"'Σύνοψη - Πίνακες'!V181","v":412.15535991714137}]
[null,null,"Scope 3","Μετακίνηση Φοιτητών","Ηλεκτρική Ενέργεια (Επιβατικό)","Σχολή Πολιτικών Μηχανικών",{"$f":"'Σύνοψη - Πίνακες'!X181","v":312.8962540997756}]
[null,null,"Scope 3","Μετακίνηση Φοιτητών","Ηλεκτρική Ενέργεια (Επιβατικό)","Σχολή Χημικών Μηχανικών",{"$f":"'Σύνοψη - Πίνακες'!Z181","v":412.15535991714137}]
[null,null,"Scope 3","Μετακίνηση Φοιτητών","Ηλεκτρική Ενέργεια (Επιβατικό)","Σχολή Αρχιτεκτόνων Μηχανικών",{"$f":"'Σύνοψη - Πίνακες'!AB181","v":399.66580355601587}]
[null,null,"Scope 3","Μετακίνηση Φοιτητών","Ηλεκτρική Ενέργεια (Λεωφορείο / Τρόλεϊ)","Βιβλιοθήκη",0]
[null,null,"Scope 3","Μετακίνηση Φοιτητών","Ηλεκτρική Ενέργεια (Λεωφορείο / Τρόλεϊ)","Γυμναστήριο",0]
[null,null,"Scope 3","Μετακίνηση Φοιτητών","Ηλεκτρική Ενέργεια (Λεωφορείο / Τρόλεϊ)","Διοίκηση",0]
[null,null,"Scope 3","Μετακίνηση Φοιτητών","Ηλεκτρική Ενέργεια (Λεωφορείο / Τρόλεϊ)","Σχολή Αγρονόμων και Τοπογράφων Μηχανικών",{"$f":"'Σύνοψη - Πίνακες'!L182","v":567.99689280165717}]
[null,null,"Scope 3","Μετακίνηση Φοιτητών","Ηλεκτρική Ενέργεια (Λεωφορείο / Τρόλεϊ)","Σχολή Εφαρμοσμένων Μαθηματικών και Φυσικών Επιστημών",{"$f":"'Σύνοψη - Πίνακες'!N182","v":574.02658380804417}]
[null,null,"Scope 3","Μετακίνηση Φοιτητών","Ηλεκτρική Ενέργεια (Λεωφορείο / Τρόλεϊ)","Σχολή Ηλεκτρολόγων Μηχανικών και Μηχανικών Υπολογιστών",{"$f":"'Σύνοψη - Πίνακες'!P182","v":922.54272397721388}]
[null,null,"Scope 3","Μετακίνηση Φοιτητών","Ηλεκτρική Ενέργεια (Λεωφορείο / Τρόλεϊ)","Σχολή Μηχανικών Μεταλλείων Μεταλλουργών",{"$f":"'Σύνοψη - Πίνακες'!R182","v":1498.9811841878129}]
[null,null,"Scope 3","Μετακίνηση Φοιτητών","Ηλεκτρική Ενέργεια (Λεωφορείο / Τρόλεϊ)","Σχολή Μηχανολόγων Μηχανικών",{"$f":"'Σύνοψη - Πίνακες'!T182","v":602.96910063870189}]
[null,null,"Scope 3","Μετακίνηση Φοιτητών","Ηλεκτρική Ενέργεια (Λεωφορείο / Τρόλεϊ)","Σχολή Ναυπηγών Μηχανολόγων Μηχανικών",{"$f":"'Σύνοψη - Πίνακες'!V182","v":756.12325220093214}]
[null,null,"Scope 3","Μετακίνηση Φοιτητών","Ηλεκτρική Ενέργεια (Λεωφορείο / Τρόλεϊ)","Σχολή Πολιτικών Μηχανικών",{"$f":"'Σύνοψη - Πίνακες'!X182","v":574.02658380804417}]
[null,null,"Scope 3","Μετακίνηση Φοιτητών","Ηλεκτρική Ενέργεια (Λεωφορείο / Τρόλεϊ)","Σχολή Χημικών Μηχανικών",{"$f":"'Σύνοψη - Πίνακες'!Z182","v":756.12325220093214}]
[null,null,"Scope 3","Μετακίνηση Φοιτητών","Ηλεκτρική Ενέργεια (Λεωφορείο / Τρόλεϊ)","Σχολή Αρχιτεκτόνων Μηχανικών",{"$f":"'Σύνοψη - Πίνακες'!AB182","v":733.21042637666153}]
[null,null,"Scope 3","Μετακίνηση Φοιτητών","Ηλεκτρική Ενέργεια (Συρμοί)","Βιβλιοθήκη",0]
[null,null,"Scope 3","Μετακίνηση Φοιτητών","Ηλεκτρική Ενέργεια (Συρμοί)","Γυμναστήριο",0]
[null,null,"Scope 3","Μετακίνηση Φοιτητών","Ηλεκτρική Ενέργεια (Συρμοί)","Διοίκηση",0]
[null,null,"Scope 3","Μετακίνηση Φοιτητών","Ηλεκτρική Ενέργεια (Συρμοί)","Σχολή Αγρονόμων και Τοπογράφων Μηχανικών",{"$f":"'Σύνοψη - Πίνακες'!L183","v":46507.123770067323}]
[null,null,"Scope 3","Μετακίνηση Φοιτητών","Ηλεκτρική Ενέργεια (Συρμοί)","Σχολή Εφαρμοσμένων Μαθηματικών και Φυσικών Επιστημών",{"$f":"'Σύνοψη - Πίνακες'!N183","v":47000.829967201797}]
[null,null,"Scope 3","Μετακίνηση Φοιτητών","Ηλεκτρική Ενέργεια (Συρμοί)","Σχολή Ηλεκτρολόγων Μηχανικών και Μηχανικών Υπολογιστών",{"$f":"'Σύνοψη - Πίνακες'!P183","v":75537.048161574319}]
[null,null,"Scope 3","Μετακίνηση Φοιτητών","Ηλεκτρική Ενέργεια (Συρμοί)","Σχολή Μηχανικών Μεταλλείων Μεταλλουργών",{"$f":"'Σύνοψη - Πίνακες'!R183","v":122735.3606076299}]
[null,null,"Scope 3","Μετακίνηση Φοιτητών","Ηλεκτρική Ενέργεια (Συρμοί)","Σχολή Μηχανολόγων Μηχανικών",{"$f":"'Σύνοψη - Πίνακες'!T183","v":49370.61971344726}]
[null,null,"Scope 3","Μετακίνηση Φοιτητών","Ηλεκτρική Ενέργεια (Συρμοί)","Σχολή Ναυπηγών Μηχανολόγων Μηχανικών",{"$f":"'Σύνοψη - Πίνακες'!V183","v":61910.757120662871}]
[null,null,"Scope 3","Μετακίνηση Φοιτητών","Ηλεκτρική Ενέργεια (Συρμοί)","Σχολή Πολιτικών Μηχανικών",{"$f":"'Σύνοψη - Πίνακες'!X183","v":47000.829967201797}]
[null,null,"Scope 3","Μετακίνηση Φοιτητών","Ηλεκτρική Ενέργεια (Συρμοί)","Σχολή Χημικών Μηχανικών",{"$f":"'Σύνοψη - Πίνακες'!Z183","v":61910.757120662871}]
[null,null,"Scope 3","Μετακίνηση Φοιτητών","Ηλεκτρική Ενέργεια (Συρμοί)","Σχολή Αρχιτεκτόνων Μηχανικών",{"$f":"'Σύνοψη - Πίνακες'!AB183","v":60034.673571551873}]
[null,null,"Scope 3","Μετακίνηση Υπαλλήλων","Πετρέλαιο Κίνησης (Επιβατικό)","Βιβλιοθήκη",0]
[null,null,"Scope 3","Μετακίνηση Υπαλλήλων","Πετρέλαιο Κίνησης (Επιβατικό)","Γυμναστήριο",0]
[null,null,"Scope 3","Μετακίνηση Υπαλλήλων","Πετρέλαιο Κίνησης (Επιβατικό)","Διοίκηση",{"$f":"'Σύνοψη - Πίνακες'!J185","v":18851.332432861909}]
[null,null,"Scope 3","Μετακίνηση Υπαλλήλων","Πετρέλαιο Κίνησης (Επιβατικό)","Σχολή Αγρονόμων και Τοπογράφων Μηχανικών",{"$f":"'Σύνοψη - Πίνακες'!L185","v":17757.955151755919}]
[null,null,"Scope 3","Μετακίνηση Υπαλλήλων","Πετρέλαιο Κίνησης (Επιβατικό)","Σχολή Εφαρμοσμένων Μαθηματικών και Φυσικών Επιστημών",{"$f":"'Σύνοψη - Πίνακες'!N185","v":17946.468476084538}]
[null,null,"Scope 3","Μετακίνηση Υπαλλήλων","Πετρέλαιο Κίνησης (Επιβατικό)","Σχολή Ηλεκτρολόγων Μηχανικών και Μηχανικών Υπολογιστών",{"$f":"'Σύνοψη - Πίνακες'!P185","v":28842.53862227872}]
[null,null,"Scope 3","Μετακίνηση Υπαλλήλων","Πετρέλαιο Κίνησης (Επιβατικό)","Σχολή Μηχανικών Μεταλλείων Μεταλλουργών",{"$f":"'Σύνοψη - Πίνακες'!R185","v":46864.4124280947}]
[null,null,"Scope 3","Μετακίνηση Υπαλλήλων","Πετρέλαιο Κίνησης (Επιβατικό)","Σχολή Μηχανολόγων Μηχανικών",{"$f":"'Σύνοψη - Πίνακες'!T185","v":18851.332432861909}]
[null,null,"Scope 3","Μετακίνηση Υπαλλήλων","Πετρέλαιο Κίνησης (Επιβατικό)","Σχολή Ναυπηγών Μηχανολόγων Μηχανικών",{"$f":"'Σύνοψη - Πίνακες'!V185","v":23639.570870808835}]
[null,null,"Scope 3","Μετακίνηση Υπαλλήλων","Πετρέλαιο Κίνησης (Επιβατικό)","Σχολή Πολιτικών Μηχανικών",{"$f":"'Σύνοψη - Πίνακες'!X185","v":17946.468476084538}]
[null,null,"Scope 3","Μετακίνηση Υπαλλήλων","Πετρέλαιο Κίνησης (Επιβατικό)","Σχολή Χημικών Μηχανικών",{"$f":"'Σύνοψη - Πίνακες'!Z185","v":23639.570870808835}]
[null,null,"Scope 3","Μετακίνηση Υπαλλήλων","Πετρέλαιο Κίνησης (Επιβατικό)","Σχολή Αρχιτεκτόνων Μηχανικών",{"$f":"'Σύνοψη - Πίνακες'!AB185","v":22923.220238360085}]
[null,null,"Scope 3","Μετακίνηση Υπαλλήλων","Βενζίνη (Επιβατικό)","Βιβλιοθήκη",0]
[null,null,"Scope 3","Μετακίνηση Υπαλλήλων","Βενζίνη (Επιβατικό)","Γυμναστήριο",0]
[null,null,"Scope 3","Μετακίνηση Υπαλλήλων","Βενζίνη (Επιβατικό)","Διοίκηση",{"$f":"'Σύνοψη - Πίνακες'!J186","v":168801.90406613611}]
[null,null,"Scope 3","Μετακίνηση Υπαλλήλων","Βενζίνη (Επιβατικό)","Σχολή Αγρονόμων και Τοπογράφων Μηχανικών",{"$f":"'Σύνοψη - Πίνακες'!L186","v":159011.39363030021}]
[null,null,"Scope 3","Μετακίνηση Υπαλλήλων","Βενζίνη (Επιβατικό)","Σχολή Εφαρμοσμένων Μαθηματικών και Φυσικών Επιστημών",{"$f":"'Σύνοψη - Πίνακες'!N186","v":160699.41267096158}]
[null,null,"Scope 3","Μετακίνηση Υπαλλήλων","Βενζίνη (Επιβατικό)","Σχολή Ηλεκτρολόγων Μηχανικών και Μηχανικών Υπολογιστών",{"$f":"'Σύνοψη - Πίνακες'!P186","v":258266.91322118824}]
[null,null,"Scope 3","Μετακίνηση Υπαλλήλων","Βενζίνη (Επιβατικό)","Σχολή Μηχανικών Μεταλλείων Μεταλλουργών",{"$f":"'Σύνοψη - Πίνακες'!R186","v":419641.53350841434}]
[null,null,"Scope 3","Μετακίνηση Υπαλλήλων","Βενζίνη (Επιβατικό)","Σχολή Μηχανολόγων Μηχανικών",{"$f":"'Σύνοψη - Πίνακες'!T186","v":168801.90406613611}]
[null,null,"Scope 3","Μετακίνηση Υπαλλήλων","Βενζίνη (Επιβατικό)","Σχολή Ναυπηγών Μηχανολόγων Μηχανικών",{"$f":"'Σύνοψη - Πίνακες'!V186","v":211677.58769893469}]
[null,null,"Scope 3","Μετακίνηση Υπαλλήλων","Βενζίνη (Επιβατικό)","Σχολή Πολιτικών Μηχανικών",{"$f":"'Σύνοψη - Πίνακες'!X186","v":160699.41267096158}]
[null,null,"Scope 3","Μετακίνηση Υπαλλήλων","Βενζίνη (Επιβατικό)","Σχολή Χημικών Μηχανικών",{"$f":"'Σύνοψη - Πίνακες'!Z186","v":211677.58769893469}]
[null,null,"Scope 3","Μετακίνηση Υπαλλήλων","Βενζίνη (Επιβατικό)","Σχολή Αρχιτεκτόνων Μηχανικών",{"$f":"'Σύνοψη - Πίνακες'!AB186","v":205263.11534442147}]
[null,null,"Scope 3","Μετακίνηση Υπαλλήλων","Βενζίνη (Μοτοσυκλέτα)","Βιβλιοθήκη",0]
[null,null,"Scope 3","Μετακίνηση Υπαλλήλων","Βενζίνη (Μοτοσυκλέτα)","Γυμναστήριο",0]
[null,null,"Scope 3","Μετακίνηση Υπαλλήλων","Βενζίνη (Μοτοσυκλέτα)","Διοίκηση",{"$f":"'Σύνοψη - Πίνακες'!J187","v":21536.592613927292}]
[null,null,"Scope 3","Μετακίνηση Υπαλλήλων","Βενζίνη (Μοτοσυκλέτα)","Σχολή Αγρονόμων και Τοπογράφων Μηχανικών",{"$f":"'Σύνοψη - Πίνακες'!L187","v":20287.470242319512}]
[null,null,"Scope 3","Μετακίνηση Υπαλλήλων","Βενζίνη (Μοτοσυκλέτα)","Σχολή Εφαρμοσμένων Μαθηματικών και Φυσικών Επιστημών",{"$f":"'Σύνοψη - Πίνακες'!N187","v":20502.836168458784}]
[null,null,"Scope 3","Μετακίνηση Υπαλλήλων","Βενζίνη (Μοτοσυκλέτα)","Σχολή Ηλεκτρολόγων Μηχανικών και Μηχανικών Υπολογιστών",{"$f":"'Σύνοψη - Πίνακες'!P187","v":32950.986699308756}]
[null,null,"Scope 3","Μετακίνηση Υπαλλήλων","Βενζίνη (Μοτοσυκλέτα)","Σχολή Μηχανικών Μεταλλείων Μεταλλουργών",{"$f":"'Σύνοψη - Πίνακες'!R187","v":53539.969238223253}]
[null,null,"Scope 3","Μετακίνηση Υπαλλήλων","Βενζίνη (Μοτοσυκλέτα)","Σχολή Μηχανολόγων Μηχανικών",{"$f":"'Σύνοψη - Πίνακες'!T187","v":21536.592613927292}]
[null,null,"Scope 3","Μετακίνηση Υπαλλήλων","Βενζίνη (Μοτοσυκλέτα)","Σχολή Ναυπηγών Μηχανολόγων Μηχανικών",{"$f":"'Σύνοψη - Πίνακες'!V187","v":27006.887137864829}]
[null,null,"Scope 3","Μετακίνηση Υπαλλήλων","Βενζίνη (Μοτοσυκλέτα)","Σχολή Πολιτικών Μηχανικών",{"$f":"'Σύνοψη - Πίνακες'!X187","v":20502.836168458784}]
[null,null,"Scope 3","Μετακίνηση Υπαλλήλων","Βενζίνη (Μοτοσυκλέτα)","Σχολή Χημικών Μηχανικών",{"$f":"'Σύνοψη - Πίνακες'!Z187","v":27006.887137864829}]
[null,null,"Scope 3","Μετακίνηση Υπαλλήλων","Βενζίνη (Μοτοσυκλέτα)","Σχολή Αρχιτεκτόνων Μηχανικών",{"$f":"'Σύνοψη - Πίνακες'!AB187","v":26188.496618535592}]
[null,null,"Scope 3","Μετακίνηση Υπαλλήλων","Πετρέλαιο Κίνησης (Λεωφορείο)","Βιβλιοθήκη",0]
[null,null,"Scope 3","Μετακίνηση Υπαλλήλων","Πετρέλαιο Κίνησης (Λεωφορείο)","Γυμναστήριο",0]
[null,null,"Scope 3","Μετακίνηση Υπαλλήλων","Πετρέλαιο Κίνησης (Λεωφορείο)","Διοίκηση",{"$f":"'Σύνοψη - Πίνακες'!J188","v":1185.4882850433462}]
[null,null,"Scope 3","Μετακίνηση Υπαλλήλων","Πετρέλαιο Κίνησης (Λεωφορείο)","Σχολή Αγρονόμων και Τοπογράφων Μηχανικών",{"$f":"'Σύνοψη - Πίνακες'!L188","v":1116.7299645108321}]
[null,null,"Scope 3","Μετακίνηση Υπαλλήλων","Πετρέλαιο Κίνησης (Λεωφορείο)","Σχολή Εφαρμοσμένων Μαθηματικών και Φυσικών Επιστημών",{"$f":"'Σύνοψη - Πίνακες'!N188","v":1128.5848473612655}]
[null,null,"Scope 3","Μετακίνηση Υπαλλήλων","Πετρέλαιο Κίνησης (Λεωφορείο)","Σχολή Ηλεκτρολόγων Μηχανικών και Μηχανικών Υπολογιστών",{"$f":"'Σύνοψη - Πίνακες'!P188","v":1813.7970761163197}]
[null,null,"Scope 3","Μετακίνηση Υπαλλήλων","Πετρέλαιο Κίνησης (Λεωφορείο)","Σχολή Μηχανικών Μεταλλείων Μεταλλουργών",{"$f":"'Σύνοψη - Πίνακες'!R188","v":2947.1238766177589}]
[null,null,"Scope 3","Μετακίνηση Υπαλλήλων","Πετρέλαιο Κίνησης (Λεωφορείο)","Σχολή Μηχανολόγων Μηχανικών",{"$f":"'Σύνοψη - Πίνακες'!T188","v":1185.4882850433462}]
[null,null,"Scope 3","Μετακίνηση Υπαλλήλων","Πετρέλαιο Κίνησης (Λεωφορείο)","Σχολή Ναυπηγών Μηχανολόγων Μηχανικών",{"$f":"'Σύνοψη - Πίνακες'!V188","v":1486.602309444356}]
[null,null,"Scope 3","Μετακίνηση Υπαλλήλων","Πετρέλαιο Κίνησης (Λεωφορείο)","Σχολή Πολιτικών Μηχανικών",{"$f":"'Σύνοψη - Πίνακες'!X188","v":1128.5848473612655}]
[null,null,"Scope 3","Μετακίνηση Υπαλλήλων","Πετρέλαιο Κίνησης (Λεωφορείο)","Σχολή Χημικών Μηχανικών",{"$f":"'Σύνοψη - Πίνακες'!Z188","v":1486.602309444356}]
[null,null,"Scope 3","Μετακίνηση Υπαλλήλων","Πετρέλαιο Κίνησης (Λεωφορείο)","Σχολή Αρχιτεκτόνων Μηχανικών",{"$f":"'Σύνοψη - Πίνακες'!AB188","v":1441.5537546127091}]
[null,null,"Scope 3","Μετακίνηση Υπαλλήλων","Φυσικό Αέριο Κίνησης (Λεωφορείο)","Βιβλιοθήκη",0]
[null,null,"Scope 3","Μετακίνηση Υπαλλήλων","Φυσικό Αέριο Κίνησης (Λεωφορείο)","Γυμναστήριο",0]
[null,null,"Scope 3","Μετακίνηση Υπαλλήλων","Φυσικό Αέριο Κίνησης (Λεωφορείο)","Διοίκηση",{"$f":"'Σύνοψη - Πίνακες'!J189","v":233.06319190635099}]
[null,null,"Scope 3","Μετακίνηση Υπαλλήλων","Φυσικό Αέριο Κίνησης (Λεωφορείο)","Σχολή Αγρονόμων και Τοπογράφων Μηχανικών",{"$f":"'Σύνοψη - Πίνακες'!L189","v":219.54552677578261}]
[null,null,"Scope 3","Μετακίνηση Υπαλλήλων","Φυσικό Αέριο Κίνησης (Λεωφορείο)","Σχολή Εφαρμοσμένων Μαθηματικών και Φυσικών Επιστημών",{"$f":"'Σύνοψη - Πίνακες'!N189","v":221.87615869484614}]
[null,null,"Scope 3","Μετακίνηση Υπαλλήλων","Φυσικό Αέριο Κίνησης (Λεωφορείο)","Σχολή Ηλεκτρολόγων Μηχανικών και Μηχανικών Υπολογιστών",{"$f":"'Σύνοψη - Πίνακες'!P189","v":356.58668361671698}]
[null,null,"Scope 3","Μετακίνηση Υπαλλήλων","Φυσικό Αέριο Κίνησης (Λεωφορείο)","Σχολή Μηχανικών Μεταλλείων Μεταλλουργών",{"$f":"'Σύνοψη - Πίνακες'!R189","v":579.39509507918854}]
[null,null,"Scope 3","Μετακίνηση Υπαλλήλων","Φυσικό Αέριο Κίνησης (Λεωφορείο)","Σχολή Μηχανολόγων Μηχανικών",{"$f":"'Σύνοψη - Πίνακες'!T189","v":233.06319190635099}]
[null,null,"Scope 3","Μετακίνηση Υπαλλήλων","Φυσικό Αέριο Κίνησης (Λεωφορείο)","Σχολή Ναυπηγών Μηχανολόγων Μηχανικών",{"$f":"'Σύνοψη - Πίνακες'!V189","v":292.2612426505641}]
[null,null,"Scope 3","Μετακίνηση Υπαλλήλων","Φυσικό Αέριο Κίνησης (Λεωφορείο)","Σχολή Πολιτικών Μηχανικών",{"$f":"'Σύνοψη - Πίνακες'!X189","v":221.87615869484614}]
[null,null,"Scope 3","Μετακίνηση Υπαλλήλων","Φυσικό Αέριο Κίνησης (Λεωφορείο)","Σχολή Χημικών Μηχανικών",{"$f":"'Σύνοψη - Πίνακες'!Z189","v":292.2612426505641}]
[null,null,"Scope 3","Μετακίνηση Υπαλλήλων","Φυσικό Αέριο Κίνησης (Λεωφορείο)","Σχολή Αρχιτεκτόνων Μηχανικών",{"$f":"'Σύνοψη - Πίνακες'!AB189","v":283.40484135812278}]
[null,null,"Scope 3","Μετακίνηση Υπαλλήλων","Ηλεκτρική Ενέργεια (Επιβατικό)","Βιβλιοθήκη",0]
[null,null,"Scope 3","Μετακίνηση Υπαλλήλων","Ηλεκτρική Ενέργεια (Επιβατικό)","Γυμναστήριο",0]
[null,null,"Scope 3","Μετακίνηση Υπαλλήλων","Ηλεκτρική Ενέργεια (Επιβατικό)","Διοίκηση",{"$f":"'Σύνοψη - Πίνακες'!J190","v":443.66756713808996}]
[null,null,"Scope 3","Μετακίνηση Υπαλλήλων","Ηλεκτρική Ενέργεια (Επιβατικό)","Σχολή Αγρονόμων και Τοπογράφων Μηχανικών",{"$f":"'Σύνοψη - Πίνακες'!L190","v":417.93484824408074}]
[null,null,"Scope 3","Μετακίνηση Υπαλλήλων","Ηλεκτρική Ενέργεια (Επιβατικό)","Σχολή Εφαρμοσμένων Μαθηματικών και Φυσικών Επιστημών",{"$f":"'Σύνοψη - Πίνακες'!N190","v":422.37152391546164}]
[null,null,"Scope 3","Μετακίνηση Υπαλλήλων","Ηλεκτρική Ενέργεια (Επιβατικό)","Σχολή Ηλεκτρολόγων Μηχανικών και Μηχανικών Υπολογιστών",{"$f":"'Σύνοψη - Πίνακες'!P190","v":678.81137772127761}]
[null,null,"Scope 3","Μετακίνηση Υπαλλήλων","Ηλεκτρική Ενέργεια (Επιβατικό)","Σχολή Μηχανικών Μεταλλείων Μεταλλουργών",{"$f":"'Σύνοψη - Πίνακες'!R190","v":1102.9575719052916}]
[null,null,"Scope 3","Μετακίνηση Υπαλλήλων","Ηλεκτρική Ενέργεια (Επιβατικό)","Σχολή Μηχανολόγων Μηχανικών",{"$f":"'Σύνοψη - Πίνακες'!T190","v":443.66756713808996}]
[null,null,"Scope 3","Μετακίνηση Υπαλλήλων","Ηλεκτρική Ενέργεια (Επιβατικό)","Σχολή Ναυπηγών Μηχανολόγων Μηχανικών",{"$f":"'Σύνοψη - Πίνακες'!V190","v":556.35912919116481}]
[null,null,"Scope 3","Μετακίνηση Υπαλλήλων","Ηλεκτρική Ενέργεια (Επιβατικό)","Σχολή Πολιτικών Μηχανικών",{"$f":"'Σύνοψη - Πίνακες'!X190","v":422.37152391546164}]
[null,null,"Scope 3","Μετακίνηση Υπαλλήλων","Ηλεκτρική Ενέργεια (Επιβατικό)","Σχολή Χημικών Μηχανικών",{"$f":"'Σύνοψη - Πίνακες'!Z190","v":556.35912919116481}]
[null,null,"Scope 3","Μετακίνηση Υπαλλήλων","Ηλεκτρική Ενέργεια (Επιβατικό)","Σχολή Αρχιτεκτόνων Μηχανικών",{"$f":"'Σύνοψη - Πίνακες'!AB190","v":539.49976163991732}]
[null,null,"Scope 3","Μετακίνηση Υπαλλήλων","Ηλεκτρική Ενέργεια (Λεωφορείο / Τρόλεϊ)","Βιβλιοθήκη",0]
[null,null,"Scope 3","Μετακίνηση Υπαλλήλων","Ηλεκτρική Ενέργεια (Λεωφορείο / Τρόλεϊ)","Γυμναστήριο",0]
[null,null,"Scope 3","Μετακίνηση Υπαλλήλων","Ηλεκτρική Ενέργεια (Λεωφορείο / Τρόλεϊ)","Διοίκηση",{"$f":"'Σύνοψη - Πίνακες'!J191","v":84.856189416812327}]
[null,null,"Scope 3","Μετακίνηση Υπαλλήλων","Ηλεκτρική Ενέργεια (Λεωφορείο / Τρόλεϊ)","Σχολή Αγρονόμων και Τοπογράφων Μηχανικών",{"$f":"'Σύνοψη - Πίνακες'!L191","v":79.93453043063721}]
[null,null,"Scope 3","Μετακίνηση Υπαλλήλων","Ηλεκτρική Ενέργεια (Λεωφορείο / Τρόλεϊ)","Σχολή Εφαρμοσμένων Μαθηματικών και Φυσικών Επιστημών",{"$f":"'Σύνοψη - Πίνακες'!N191","v":80.783092324805338}]
[null,null,"Scope 3","Μετακίνηση Υπαλλήλων","Ηλεκτρική Ενέργεια (Λεωφορείο / Τρόλεϊ)","Σχολή Ηλεκτρολόγων Μηχανικών και Μηχανικών Υπολογιστών",{"$f":"'Σύνοψη - Πίνακες'!P191","v":129.82996980772288}]
[null,null,"Scope 3","Μετακίνηση Υπαλλήλων","Ηλεκτρική Ενέργεια (Λεωφορείο / Τρόλεϊ)","Σχολή Μηχανικών Μεταλλείων Μεταλλουργών",{"$f":"'Σύνοψη - Πίνακες'!R191","v":210.95248689019544}]
[null,null,"Scope 3","Μετακίνηση Υπαλλήλων","Ηλεκτρική Ενέργεια (Λεωφορείο / Τρόλεϊ)","Σχολή Μηχανολόγων Μηχανικών",{"$f":"'Σύνοψη - Πίνακες'!T191","v":84.856189416812327}]
[null,null,"Scope 3","Μετακίνηση Υπαλλήλων","Ηλεκτρική Ενέργεια (Λεωφορείο / Τρόλεϊ)","Σχολή Ναυπηγών Μηχανολόγων Μηχανικών",{"$f":"'Σύνοψη - Πίνακες'!V191","v":106.40966152868266}]
[null,null,"Scope 3","Μετακίνηση Υπαλλήλων","Ηλεκτρική Ενέργεια (Λεωφορείο / Τρόλεϊ)","Σχολή Πολιτικών Μηχανικών",{"$f":"'Σύνοψη - Πίνακες'!X191","v":80.783092324805338}]
[null,null,"Scope 3","Μετακίνηση Υπαλλήλων","Ηλεκτρική Ενέργεια (Λεωφορείο / Τρόλεϊ)","Σχολή Χημικών Μηχανικών",{"$f":"'Σύνοψη - Πίνακες'!Z191","v":106.40966152868266}]
[null,null,"Scope 3","Μετακίνηση Υπαλλήλων","Ηλεκτρική Ενέργεια (Λεωφορείο / Τρόλεϊ)","Σχολή Αρχιτεκτόνων Μηχανικών",{"$f":"'Σύνοψη - Πίνακες'!AB191","v":103.1851263308438}]
[null,null,"Scope 3","Μετακίνηση Υπαλλήλων","Ηλεκτρική Ενέργεια (Συρμοί)","Βιβλιοθήκη",0]
[null,null,"Scope 3","Μετακίνηση Υπαλλήλων","Ηλεκτρική Ενέργεια (Συρμοί)","Γυμναστήριο",0]
[null,null,"Scope 3","Μετακίνηση Υπαλλήλων","Ηλεκτρική Ενέργεια (Συρμοί)","Διοίκηση",{"$f":"'Σύνοψη - Πίνακες'!J192","v":6936.2784045765138}]
[null,null,"Scope 3","Μετακίνηση Υπαλλήλων","Ηλεκτρική Ενέργεια (Συρμοί)","Σχολή Αγρονόμων και Τοπογράφων Μηχανικών",{"$f":"'Σύνοψη - Πίνακες'!L192","v":6533.9742571110755}]
[null,null,"Scope 3","Μετακίνηση Υπαλλήλων","Ηλεκτρική Ενέργεια (Συρμοί)","Σχολή Εφαρμοσμένων Μαθηματικών και Φυσικών Επιστημών",{"$f":"'Σύνοψη - Πίνακες'!N192","v":6603.3370411568412}]
[null,null,"Scope 3","Μετακίνηση Υπαλλήλων","Ηλεκτρική Ενέργεια (Συρμοί)","Σχολή Ηλεκτρολόγων Μηχανικών και Μηχανικών Υπολογιστών",{"$f":"'Σύνοψη - Πίνακες'!P192","v":10612.505959002066}]
[null,null,"Scope 3","Μετακίνηση Υπαλλήλων","Ηλεκτρική Ενέργεια (Συρμοί)","Σχολή Μηχανικών Μεταλλείων Μεταλλουργών",{"$f":"'Σύνοψη - Πίνακες'!R192","v":17243.588113777212}]
[null,null,"Scope 3","Μετακίνηση Υπαλλήλων","Ηλεκτρική Ενέργεια (Συρμοί)","Σχολή Μηχανολόγων Μηχανικών",{"$f":"'Σύνοψη - Πίνακες'!T192","v":6936.2784045765138}]
[null,null,"Scope 3","Μετακίνηση Υπαλλήλων","Ηλεκτρική Ενέργεια (Συρμοί)","Σχολή Ναυπηγών Μηχανολόγων Μηχανικών",{"$f":"'Σύνοψη - Πίνακες'!V192","v":8698.0931193389479}]
[null,null,"Scope 3","Μετακίνηση Υπαλλήλων","Ηλεκτρική Ενέργεια (Συρμοί)","Σχολή Πολιτικών Μηχανικών",{"$f":"'Σύνοψη - Πίνακες'!X192","v":6603.3370411568412}]
[null,null,"Scope 3","Μετακίνηση Υπαλλήλων","Ηλεκτρική Ενέργεια (Συρμοί)","Σχολή Χημικών Μηχανικών",{"$f":"'Σύνοψη - Πίνακες'!Z192","v":8698.0931193389479}]
[null,null,"Scope 3","Μετακίνηση Υπαλλήλων","Ηλεκτρική Ενέργεια (Συρμοί)","Σχολή Αρχιτεκτόνων Μηχανικών",{"$f":"'Σύνοψη - Πίνακες'!AB192","v":8434.514539965041}]
[null,null,"Scope 3","Επαγγελματικά Ταξίδια","Πετρέλαιο Κίνησης (Επιβατικό)","Βιβλιοθήκη",0]
[null,null,"Scope 3","Επαγγελματικά Ταξίδια","Πετρέλαιο Κίνησης (Επιβατικό)","Γυμναστήριο",0]
[null,null,"Scope 3","Επαγγελματικά Ταξίδια","Πετρέλαιο Κίνησης (Επιβατικό)","Διοίκηση",{"$f":"'Σύνοψη - Πίνακες'!J194","v":771.93579771174313}]
[null,null,"Scope 3","Επαγγελματικά Ταξίδια","Πετρέλαιο Κίνησης (Επιβατικό)","Σχολή Αγρονόμων και Τοπογράφων Μηχανικών",{"$f":"'Σύνοψη - Πίνακες'!L194","v":727.16352144446216}]
[null,null,"Scope 3","Επαγγελματικά Ταξίδια","Πετρέλαιο Κίνησης (Επιβατικό)","Σχολή Εφαρμοσμένων Μαθηματικών και Φυσικών Επιστημών",{"$f":"'Σύνοψη - Πίνακες'!N194","v":734.88287942157967}]
[null,null,"Scope 3","Επαγγελματικά Ταξίδια","Πετρέλαιο Κίνησης (Επιβατικό)","Σχολή Ηλεκτρολόγων Μηχανικών και Μηχανικών Υπολογιστών",{"$f":"'Σύνοψη - Πίνακες'!P194","v":1181.0617704989672}]
[null,null,"Scope 3","Επαγγελματικά Ταξίδια","Πετρέλαιο Κίνησης (Επιβατικό)","Σχολή Μηχανικών Μεταλλείων Μεταλλουργών",{"$f":"'Σύνοψη - Πίνακες'!R194","v":1919.0323931113937}]
[null,null,"Scope 3","Επαγγελματικά Ταξίδια","Πετρέλαιο Κίνησης (Επιβατικό)","Σχολή Μηχανολόγων Μηχανικών",{"$f":"'Σύνοψη - Πίνακες'!T194","v":771.93579771174313}]
[null,null,"Scope 3","Επαγγελματικά Ταξίδια","Πετρέλαιο Κίνησης (Επιβατικό)","Σχολή Ναυπηγών Μηχανολόγων Μηχανικών",{"$f":"'Σύνοψη - Πίνακες'!V194","v":968.00749033052591}]
[null,null,"Scope 3","Επαγγελματικά Ταξίδια","Πετρέλαιο Κίνησης (Επιβατικό)","Σχολή Πολιτικών Μηχανικών",{"$f":"'Σύνοψη - Πίνακες'!X194","v":734.88287942157967}]
[null,null,"Scope 3","Επαγγελματικά Ταξίδια","Πετρέλαιο Κίνησης (Επιβατικό)","Σχολή Χημικών Μηχανικών",{"$f":"'Σύνοψη - Πίνακες'!Z194","v":968.00749033052591}]
[null,null,"Scope 3","Επαγγελματικά Ταξίδια","Πετρέλαιο Κίνησης (Επιβατικό)","Σχολή Αρχιτεκτόνων Μηχανικών",{"$f":"'Σύνοψη - Πίνακες'!AB194","v":938.67393001747973}]
[null,null,"Scope 3","Επαγγελματικά Ταξίδια","Βενζίνη (Επιβατικό)","Βιβλιοθήκη",0]
[null,null,"Scope 3","Επαγγελματικά Ταξίδια","Βενζίνη (Επιβατικό)","Γυμναστήριο",0]
[null,null,"Scope 3","Επαγγελματικά Ταξίδια","Βενζίνη (Επιβατικό)","Διοίκηση",{"$f":"'Σύνοψη - Πίνακες'!J195","v":6917.4267620934652}]
[null,null,"Scope 3","Επαγγελματικά Ταξίδια","Βενζίνη (Επιβατικό)","Σχολή Αγρονόμων και Τοπογράφων Μηχανικών",{"$f":"'Σύνοψη - Πίνακες'!L195","v":6516.216009892044}]
[null,null,"Scope 3","Επαγγελματικά Ταξίδια","Βενζίνη (Επιβατικό)","Σχολή Εφαρμοσμένων Μαθηματικών και Φυσικών Επιστημών",{"$f":"'Σύνοψη - Πίνακες'!N195","v":6585.3902775129791}]
[null,null,"Scope 3","Επαγγελματικά Ταξίδια","Βενζίνη (Επιβατικό)","Σχολή Ηλεκτρολόγων Μηχανικών και Μηχανικών Υπολογιστών",{"$f":"'Σύνοψη - Πίνακες'!P195","v":10583.662946003002}]
[null,null,"Scope 3","Επαγγελματικά Ταξίδια","Βενζίνη (Επιβατικό)","Σχολή Μηχανικών Μεταλλείων Μεταλλουργών",{"$f":"'Σύνοψη - Πίνακες'!R195","v":17196.722930564352}]
[null,null,"Scope 3","Επαγγελματικά Ταξίδια","Βενζίνη (Επιβατικό)","Σχολή Μηχανολόγων Μηχανικών",{"$f":"'Σύνοψη - Πίνακες'!T195","v":6917.4267620934652}]
[null,null,"Scope 3","Επαγγελματικά Ταξίδια","Βενζίνη (Επιβατικό)","Σχολή Ναυπηγών Μηχανολόγων Μηχανικών",{"$f":"'Σύνοψη - Πίνακες'!V195","v":8674.453159665205}]
[null,null,"Scope 3","Επαγγελματικά Ταξίδια","Βενζίνη (Επιβατικό)","Σχολή Πολιτικών Μηχανικών",{"$f":"'Σύνοψη - Πίνακες'!X195","v":6585.3902775129791}]
[null,null,"Scope 3","Επαγγελματικά Ταξίδια","Βενζίνη (Επιβατικό)","Σχολή Χημικών Μηχανικών",{"$f":"'Σύνοψη - Πίνακες'!Z195","v":8674.453159665205}]
[null,null,"Scope 3","Επαγγελματικά Ταξίδια","Βενζίνη (Επιβατικό)","Σχολή Αρχιτεκτόνων Μηχανικών",{"$f":"'Σύνοψη - Πίνακες'!AB195","v":8411.590942705654}]
[null,null,"Scope 3","Επαγγελματικά Ταξίδια","Πετρέλαιο Κίνησης (Τρένο)","Βιβλιοθήκη",0]
[null,null,"Scope 3","Επαγγελματικά Ταξίδια","Πετρέλαιο Κίνησης (Τρένο)","Γυμναστήριο",0]
[null,null,"Scope 3","Επαγγελματικά Ταξίδια","Πετρέλαιο Κίνησης (Τρένο)","Διοίκηση",{"$f":"'Σύνοψη - Πίνακες'!J196","v":0}]
[null,null,"Scope 3","Επαγγελματικά Ταξίδια","Πετρέλαιο Κίνησης (Τρένο)","Σχολή Αγρονόμων και Τοπογράφων Μηχανικών",{"$f":"'Σύνοψη - Πίνακες'!L196","v":0}]
[null,null,"Scope 3","Επαγγελματικά Ταξίδια","Πετρέλαιο Κίνησης (Τρένο)","Σχολή Εφαρμοσμένων Μαθηματικών και Φυσικών Επιστημών",{"$f":"'Σύνοψη - Πίνακες'!N196","v":0}]
[null,null,"Scope 3","Επαγγελματικά Ταξίδια","Πετρέλαιο Κίνησης (Τρένο)","Σχολή Ηλεκτρολόγων Μηχανικών και Μηχανικών Υπολογιστών",{"$f":"'Σύνοψη - Πίνακες'!P196","v":0}]
[null,null,"Scope 3","Επαγγελματικά Ταξίδια","Πετρέλαιο Κίνησης (Τρένο)","Σχολή Μηχανικών Μεταλλείων Μεταλλουργών",{"$f":"'Σύνοψη - Πίνακες'!R196","v":0}]
[null,null,"Scope 3","Επαγγελματικά Ταξίδια","Πετρέλαιο Κίνησης (Τρένο)","Σχολή Μηχανολόγων Μηχανικών",{"$f":"'Σύνοψη - Πίνακες'!T196","v":0}]
[null,null,"Scope 3","Επαγγελματικά Ταξίδια","Πετρέλαιο Κίνησης (Τρένο)","Σχολή Ναυπηγών Μηχανολόγων Μηχανικών",{"$f":"'Σύνοψη - Πίνακες'!V196","v":0}]
[null,null,"Scope 3","Επαγγελματικά Ταξίδια","Πετρέλαιο Κίνησης (Τρένο)","Σχολή Πολιτικών Μηχανικών",{"$f":"'Σύνοψη - Πίνακες'!X196","v":0}]
[null,null,"Scope 3","Επαγγελματικά Ταξίδια","Πετρέλαιο Κίνησης (Τρένο)","Σχολή Χημικών Μηχανικών",{"$f":"'Σύνοψη - Πίνακες'!Z196","v":0}]
[null,null,"Scope 3","Επαγγελματικά Ταξίδια","Πετρέλαιο Κίνησης (Τρένο)","Σχολή Αρχιτεκτόνων Μηχανικών",{"$f":"'Σύνοψη - Πίνακες'!AB196","v":0}]
[null,null,"Scope 3","Επαγγελματικά Ταξίδια","Κηροζίνη (Αεροσκάφος)","Βιβλιοθήκη",0]
[null,null,"Scope 3","Επαγγελματικά Ταξίδια","Κηροζίνη (Αεροσκάφος)","Γυμναστήριο",0]
[null,null,"Scope 3","Επαγγελματικά Ταξίδια","Κηροζίνη (Αεροσκάφος)","Διοίκηση",{"$f":"'Σύνοψη - Πίνακες'!J197","v":143814.85906960117}]
[null,null,"Scope 3","Επαγγελματικά Ταξίδια","Κηροζίνη (Αεροσκάφος)","Σχολή Αγρονόμων και Τοπογράφων Μηχανικών",{"$f":"'Σύνοψη - Πίνακες'!L197","v":135473.59724356429}]
[null,null,"Scope 3","Επαγγελματικά Ταξίδια","Κηροζίνη (Αεροσκάφος)","Σχολή Εφαρμοσμένων Μαθηματικών και Φυσικών Επιστημών",{"$f":"'Σύνοψη - Πίνακες'!N197","v":136911.74583426031}]
[null,null,"Scope 3","Επαγγελματικά Ταξίδια","Κηροζίνη (Αεροσκάφος)","Σχολή Ηλεκτρολόγων Μηχανικών και Μηχανικών Υπολογιστών",{"$f":"'Σύνοψη - Πίνακες'!P197","v":220036.73437648977}]
[null,null,"Scope 3","Επαγγελματικά Ταξίδια","Κηροζίνη (Αεροσκάφος)","Σχολή Μηχανικών Μεταλλείων Μεταλλουργών",{"$f":"'Σύνοψη - Πίνακες'!R197","v":357523.73964702844}]
[null,null,"Scope 3","Επαγγελματικά Ταξίδια","Κηροζίνη (Αεροσκάφος)","Σχολή Μηχανολόγων Μηχανικών",{"$f":"'Σύνοψη - Πίνακες'!T197","v":143814.85906960117}]
[null,null,"Scope 3","Επαγγελματικά Ταξίδια","Κηροζίνη (Αεροσκάφος)","Σχολή Ναυπηγών Μηχανολόγων Μηχανικών",{"$f":"'Σύνοψη - Πίνακες'!V197","v":180343.83327327986}]
[null,null,"Scope 3","Επαγγελματικά Ταξίδια","Κηροζίνη (Αεροσκάφος)","Σχολή Πολιτικών Μηχανικών",{"$f":"'Σύνοψη - Πίνακες'!X197","v":136911.74583426031}]
[null,null,"Scope 3","Επαγγελματικά Ταξίδια","Κηροζίνη (Αεροσκάφος)","Σχολή Χημικών Μηχανικών",{"$f":"'Σύνοψη - Πίνακες'!Z197","v":180343.83327327986}]
[null,null,"Scope 3","Επαγγελματικά Ταξίδια","Κηροζίνη (Αεροσκάφος)","Σχολή Αρχιτεκτόνων Μηχανικών",{"$f":"'Σύνοψη - Πίνακες'!AB197","v":174878.86862863501}]
[null,null,"Scope 3","Επαγγελματικά Ταξίδια","Ηλεκτρική Ενέργεια (Επιβατικό)","Βιβλιοθήκη",0]
[null,null,"Scope 3","Επαγγελματικά Ταξίδια","Ηλεκτρική Ενέργεια (Επιβατικό)","Γυμναστήριο",0]
[null,null,"Scope 3","Επαγγελματικά Ταξίδια","Ηλεκτρική Ενέργεια (Επιβατικό)","Διοίκηση",{"$f":"'Σύνοψη - Πίνακες'!J198","v":18.913078023200381}]
[null,null,"Scope 3","Επαγγελματικά Ταξίδια","Ηλεκτρική Ενέργεια (Επιβατικό)","Σχολή Αγρονόμων και Τοπογράφων Μηχανικών",{"$f":"'Σύνοψη - Πίνακες'!L198","v":17.816119497854757}]
[null,null,"Scope 3","Επαγγελματικά Ταξίδια","Ηλεκτρική Ενέργεια (Επιβατικό)","Σχολή Εφαρμοσμένων Μαθηματικών και Φυσικών Επιστημών",{"$f":"'Σύνοψη - Πίνακες'!N198","v":18.005250278086763}]
[null,null,"Scope 3","Επαγγελματικά Ταξίδια","Ηλεκτρική Ενέργεια (Επιβατικό)","Σχολή Ηλεκτρολόγων Μηχανικών και Μηχανικών Υπολογιστών",{"$f":"'Σύνοψη - Πίνακες'!P198","v":28.937009375496583}]
[null,null,"Scope 3","Επαγγελματικά Ταξίδια","Ηλεκτρική Ενέργεια (Επιβατικό)","Σχολή Μηχανικών Μεταλλείων Μεταλλουργών",{"$f":"'Σύνοψη - Πίνακες'!R198","v":47.017911965676142}]
[null,null,"Scope 3","Επαγγελματικά Ταξίδια","Ηλεκτρική Ενέργεια (Επιβατικό)","Σχολή Μηχανολόγων Μηχανικών",{"$f":"'Σύνοψη - Πίνακες'!T198","v":18.913078023200381}]
[null,null,"Scope 3","Επαγγελματικά Ταξίδια","Ηλεκτρική Ενέργεια (Επιβατικό)","Σχολή Ναυπηγών Μηχανολόγων Μηχανικών",{"$f":"'Σύνοψη - Πίνακες'!V198","v":23.716999841093276}]
[null,null,"Scope 3","Επαγγελματικά Ταξίδια","Ηλεκτρική Ενέργεια (Επιβατικό)","Σχολή Πολιτικών Μηχανικών",{"$f":"'Σύνοψη - Πίνακες'!X198","v":18.005250278086763}]
[null,null,"Scope 3","Επαγγελματικά Ταξίδια","Ηλεκτρική Ενέργεια (Επιβατικό)","Σχολή Χημικών Μηχανικών",{"$f":"'Σύνοψη - Πίνακες'!Z198","v":23.716999841093276}]
[null,null,"Scope 3","Επαγγελματικά Ταξίδια","Ηλεκτρική Ενέργεια (Επιβατικό)","Σχολή Αρχιτεκτόνων Μηχανικών",{"$f":"'Σύνοψη - Πίνακες'!AB198","v":22.998302876211664}]
[null,null,"Scope 3","Επαγγελματικά Ταξίδια","Ηλεκτρική Ενέργεια (Τρένο)","Βιβλιοθήκη",0]
[null,null,"Scope 3","Επαγγελματικά Ταξίδια","Ηλεκτρική Ενέργεια (Τρένο)","Γυμναστήριο",0]
[null,null,"Scope 3","Επαγγελματικά Ταξίδια","Ηλεκτρική Ενέργεια (Τρένο)","Διοίκηση",{"$f":"'Σύνοψη - Πίνακες'!J199","v":0}]
[null,null,"Scope 3","Επαγγελματικά Ταξίδια","Ηλεκτρική Ενέργεια (Τρένο)","Σχολή Αγρονόμων και Τοπογράφων Μηχανικών",{"$f":"'Σύνοψη - Πίνακες'!L199","v":0}]
[null,null,"Scope 3","Επαγγελματικά Ταξίδια","Ηλεκτρική Ενέργεια (Τρένο)","Σχολή Εφαρμοσμένων Μαθηματικών και Φυσικών Επιστημών",{"$f":"'Σύνοψη - Πίνακες'!N199","v":0}]
[null,null,"Scope 3","Επαγγελματικά Ταξίδια","Ηλεκτρική Ενέργεια (Τρένο)","Σχολή Ηλεκτρολόγων Μηχανικών και Μηχανικών Υπολογιστών",{"$f":"'Σύνοψη - Πίνακες'!P199","v":0}]
[null,null,"Scope 3","Επαγγελματικά Ταξίδια","Ηλεκτρική Ενέργεια (Τρένο)","Σχολή Μηχανικών Μεταλλείων Μεταλλουργών",{"$f":"'Σύνοψη - Πίνακες'!R199","v":0}]
[null,null,"Scope 3","Επαγγελματικά Ταξίδια","Ηλεκτρική Ενέργεια (Τρένο)","Σχολή Μηχανολόγων Μηχανικών",{"$f":"'Σύνοψη - Πίνακες'!T199","v":0}]
[null,null,"Scope 3","Επαγγελματικά Ταξίδια","Ηλεκτρική Ενέργεια (Τρένο)","Σχολή Ναυπηγών Μηχανολόγων Μηχανικών",{"$f":"'Σύνοψη - Πίνακες'!V199","v":0}]
[null,null,"Scope 3","Επαγγελματικά Ταξίδια","Ηλεκτρική Ενέργεια (Τρένο)","Σχολή Πολιτικών Μηχανικών",{"$f":"'Σύνοψη - Πίνακες'!X199","v":0}]
[null,null,"Scope 3","Επαγγελματικά Ταξίδια","Ηλεκτρική Ενέργεια (Τρένο)","Σχολή Χημικών Μηχανικών",{"$f":"'Σύνοψη - Πίνακες'!Z199","v":0}]
[null,null,"Scope 3","Επαγγελματικά Ταξίδια","Ηλεκτρική Ενέργεια (Τρένο)","Σχολή Αρχιτεκτόνων Μηχανικών",{"$f":"'Σύνοψη - Πίνακες'!AB199","v":0}]

{"sheet":"Διάγραμμα 4","index":23,"n_rows":8,"n_cols":8,"rows_kept":8,"cut":false,"hidden":true,"merged":[]}
[]
[]
["Sum of Κατανάλωση Ενέργειας (kWh)","Column Labels"]
["Row Labels","Εισαγόμενη Ηλεκτρική Ενέργεια","Επαγγελματικά Ταξίδια","Κινητή Καύση","Μετακίνηση Υπαλλήλων","Μετακίνηση Φοιτητών","Σταθερή Καύση","Grand Total"]
["Scope 1",null,null,14382.127025462964,null,null,194999.30931096105,209381.43633642403]
["Scope 2",798779.26282175165,null,null,null,null,null,798779.26282175165]
["Scope 3",null,231830.3961023672,null,333651.96960903984,345479.58209493133,null,910961.94780633831]
["Grand Total",798779.26282175165,231830.3961023672,14382.127025462964,333651.96960903984,345479.58209493133,194999.30931096105,1919122.6469645139]

{"sheet":"Διάγραμμα 5","index":24,"n_rows":14,"n_cols":2,"rows_kept":14,"cut":false,"hidden":true,"merged":[]}
[]
[]
["Row Labels","Sum of Κατανάλωση Ενέργειας (kWh)"]
["Scope 3",2616161.0706875003]
["Μετακίνηση Φοιτητών",2616161.0706875003]
["Βενζίνη (Επιβατικό)",1428597.9346527776]
["Βενζίνη (Μοτοσυκλέτα)",328820.08186805551]
["Ηλεκτρική Ενέργεια (Επιβατικό)",3808]
["Ηλεκτρική Ενέργεια (Λεωφορείο / Τρόλεϊ)",6985.9999999999991]
["Ηλεκτρική Ενέργεια (Συρμοί)",572008]
["Πετρέλαιο Κίνησης (Επιβατικό)",158805.38750000001]
["Φυσικό Αέριο Κίνησης (Λεωφορείο)",19373.333333333336]
["Πετρέλαιο Κίνησης (Λεωφορείο)",97762.333333333328]
["Grand Total",2616161.0706875003]

{"sheet":"Διάγραμμα 6","index":25,"n_rows":16,"n_cols":2,"rows_kept":16,"cut":false,"hidden":true,"merged":[]}
[]
[]
["Row Labels","Sum of Κατανάλωση Ενέργειας (kWh)"]
["Βιβλιοθήκη",559754.76513314061]
["Γυμναστήριο",215718.10187609261]
["Διοίκηση",838086.17203253717]
["Σχολή Αγρονόμων και Τοπογράφων Μηχανικών",1502708.9539879204]
["Σχολή Αρχιτεκτόνων Μηχανικών",2422089.2474866072]
["Σχολή Εφαρμοσμένων Μαθηματικών και Φυσικών Επιστημών",2196773.7877058932]
["Σχολή Ηλεκτρολόγων Μηχανικών και Μηχανικών Υπολογιστών",1919122.6469645142]
["Σχολή Μηχανικών Μεταλλείων Μεταλλουργών",3029439.2527372222]
["Σχολή Μηχανολόγων Μηχανικών",2889647.8224086855]
["Σχολή Ναυπηγών Μηχανολόγων Μηχανικών",1272740.1144337961]
["Σχολή Πολιτικών Μηχανικών",1854820.0865606207]
["Σχολή Χημικών Μηχανικών",2755973.3951978986]
["Grand Total",21456874.346524928]